{"text_format":"1","workbook":"xlsx","n_sheets":7,"sheets":["Regelkreis","Übergabetabelle VBA","Parameter","Lageregelkreis","Drehzahlregelkreis","Stromregelkreis","Rechentabelle"],"not_rendered":{"charts":6,"images":19,"macros":1,"external_links":0,"defined_names":48,"comments":4,"pivot_tables":0},"unopened":[],"bounds":{"document_bytes":16777216,"sheet_cells":100000,"rows_first":2000,"rows_last":500,"rows_between":2000,"halvings":0,"cell_chars":16384,"cell_head_chars":4096},"cells_cut":0,"cells_raw":0,"read":"whole","date_system":"1900"}

{"sheet":"Regelkreis","index":0,"n_rows":0,"n_cols":0,"rows_kept":0,"cut":false,"hidden":false,"merged":[]}

{"sheet":"Übergabetabelle VBA","index":1,"n_rows":48,"n_cols":4,"rows_kept":48,"cut":false,"hidden":false,"merged":[]}
[]
["Fomelzeichen in Zeile 1","Formelzeichen in Excel","Wert","Einheit"]
[]
["T Ende Simulation","TE_SIM",0.1,"[s]"]
["T Abtast Simulation","TA_SIM",{"$f":"TE_SIM/SS_SIM","v":6.2500000000000001E-5},"[s]"]
[]
["J Motor EMS","JM_EMS",8.1299999999999997E-5,"[kgm2]"]
["J Last EMS","JL_EMS",4.0000000000000002E-4,"[kgm2]"]
["CZMS1","C_ZMS1",50]
["DZMS1","D_ZMS1",20]
[]
["φ Trajektorie","FI_T",6.28,"[rad]"]
["T Ende Trajektorie","TE_T",0.06,"[s]"]
["Typ Trajektorie","TYP_T","1/3 Trapez","-"]
["Stützstellen Trajektorie","SS_T",{"$f":"ROUND(TE_T/TA_SIM,0)","v":960}]
["Stützstellen Simulation","SS_SIM",1600]
[]
["KP Lageregler","KP_LR",1133.2015763960812]
["TN Lageregler","TN_LR",1.7649110640673446E-3]
["KP Drehzahlregler","KP_DR",2.3160300751879772]
["TN Drehzahlregler","TN_DR",5.9374999999999825E-4]
["KP Stromregler","KP_SR",70.193548387096769]
["TN Stromregler","TN_SR",2.3448275862068967E-3]
[]
[]
["U Zwischenkreis","U_ZWK",565,"[V]"]
["R Motor","R_M",2.9,"[Ω]"]
["L Motor","L_M",6.8,"[mH]"]
["T Motor","T_M",{"$f":"C28/1000/C27","v":2.3448275862068967E-3},"[s]"]
["KT Motor","KT_M",0.7,"[Nm/A]"]
["I Nenn Regler","IN_R",3,"[A]"]
["I Max Regler","IM_R",9,"[A]"]
[]
["KP Vorsteuerung Stromregler","KP_VSR",1,"-"]
["KP Vorsteuerung Drehzahlregler","KP_VDR",1,"-"]
[]
["KP Lageregler Optimum","KP_LR_SO",{"$f":"Lageregelkreis!$W$25","v":1133.2015763960812}]
["TN Lageregler Optimum","TN_LR_SO",{"$f":"Lageregelkreis!$Y$26","v":1.7649110640673446E-3},"[s]"]
["KP Drehzahlregler Sym. Optimum","KP_DR_SO",{"$f":"Drehzahlregelkreis!W25","v":2.3160300751879772}]
["TN Drehzahlregler Sym. Optimum","TN_DR_SO",{"$f":"Drehzahlregelkreis!Y26","v":5.9374999999999825E-4},"[s]"]
["KP Stromregler Betragsoptimum","KP_SR_BO",{"$f":"Stromregelkreis!$W$25","v":70.193548387096769}]
["TN Stromregler Betragsoptimum","TN_SR_BO",{"$f":"Stromregelkreis!$Y$26","v":2.3448275862068967E-3},"[s]"]
[]
["T Ersatz Stromregler","TE_SR",{"$f":"Stromregelkreis!Y39","v":9.9999999999999558E-5},"[s]"]
["T Ersatz Drehzahlregler","TE_DR",{"$f":"Drehzahlregelkreis!Y39","v":3.1622776601683615E-4},"[s]"]
[]
["φ Fenster","DF_LR",{"$f":"1/3437.74677","v":2.9088820873213997E-4},"[rad]"]
["φ Fenster","DF_LR",{"$f":"DF_LR*360/(2*PI())*60","v":1.0000000002283296},"[arcmin]"]

{"sheet":"Parameter","index":2,"n_rows":58,"n_cols":1,"rows_kept":58,"cut":false,"hidden":true,"merged":[]}
["ProfilAuswahl"]
["Nullprofil"]
["1/2 Trapez"]
["1/3 Trapez"]
["1/4 Trapez"]
["1/5 Trapez"]
["1/6 Trapez"]
["1/7 Trapez"]
["sym. Polynom 5. Ordnung"]
["unsym. Polynom 5. Ordnung"]
["sym. Polynom 7. Ordnung"]
["unsym. Polynom 7. Ordnung"]
["1/3 Trapez Polynom 7"]
["sym. Polynom 9. Ordnung"]
["geneigte Sinuslinie"]
["modifizierte Sinuslinie"]
["modifiziertes Beschl. Trapez"]
["1/2 ruckbegrenztes Trapez"]
["1/3 ruckbegrenztes Trapez"]
["1/4 ruckbegrenztes Trapez"]
["1/2 mod. ruckbegrenztes Trapez"]
["1/3 mod. ruckbegrenztes Trapez"]
["1/4 mod. ruckbegrenztes Trapez"]
["1/2 Profil für elastische Riemen"]
["1/3 Profil für elastische Riemen"]
["1/4 Profil für elastische Riemen"]
["1/2 Sin^2-Trapez"]
["1/3 Sin^2-Trapez"]
["1/4 Sin^2-Trapez"]
["1/5 Sin^2-Trapez"]
["1/6 Sin^2-Trapez"]
["1/7 Sin^2-Trapez"]
["1/2 Sin-Trapez"]
["1/3 Sin-Trapez"]
["1/4 Sin-Trapez"]
["1/5 Sin-Trapez"]
["1/6 Sin-Trapez"]
["1/7 Sin-Trapez"]
["Beschleunigung linear"]
["Beschleunigung Sin^2"]
["Beschleunigung quadratisch"]
["Beschleunigung konstante Leistung"]
["Konstantfahrt"]
["Bremsung linear"]
["Bremsung Sin^2"]
["Bremsung quadratisch"]
["Bremsung konstante Leistung"]
["EMK - Profil"]
["Polynom 7. Ordnung  TYP A"]
["Polynom 7. Ordnung  TYP B"]
["Polynom 7. Ordnung  TYP C"]
["Polynom 7. Ordnung  TYP D"]
["Polynom 7. Ordnung  TYP E"]
["Polynom 7. Ordnung  TYP F"]
["Polynom 7. Ordnung  TYP G"]
["Polynom 7. Ordnung  TYP H"]
["Polynom 7. Ordnung  TYP I"]
["Polynom 7. Ordnung  TYP J"]

{"sheet":"Lageregelkreis","index":3,"n_rows":104,"n_cols":47,"rows_kept":104,"cut":false,"hidden":false,"merged":[]}
[]
[null,null,null,null,null,null,null,null,null,null,null,null,null,null,null,null,null,null,null,null,null,"Funktion","gewählt","[   ]","umgerechnet","[   ]","f","[   ]",null,"ωx","ω","s=jω","Strecke H(jω)","Betrag Strecke [dB]","Phase Strecke [°]",null,"Regler H(jw)","Betrag Regler [dB]","Phase Regler [°]",null,"Regler+Strecke H(jw)","Betrag Regler+Strecke [dB]","Phase Regler+Strecke [°]","Anzeigen?","Geschlossener Kreis","Betrag Kreis [dB]","Phase Kreis [°]"]
[null,null,null,null,null,null,null,null,null,null,null,null,null,null,null,null,null,null,null,null,null,null,null,null,{"$f":"LEFT(W3,3)","v":""},null,null,null,null,{"$f":"$W$34","v":0},{"$f":"10^AD3","v":1},{"$f":"COMPLEX(0,AE3,\"j\")","v":"j"},{"$f":"IMPRODUCT(VS_LR,Drehzahlregelkreis!AS3,IMEXP(IMPRODUCT(AF3,TT_LR,-1)),IMDIV(1,AF3))","v":"-0,000125000100203192-1,000000168457j"},{"$f":"20*LOG10(IMABS(AG3))","v":1.5310573840535899E-6},{"$f":"IMARGUMENT(AG3)*180/PI()","v":-90.007161976936573},null,{"$f":"IMPRODUCT(KP_LR,IMSUM(1,IMDIV(1,IMPRODUCT(TN_LR,AF3))))","v":"1133,20157639608-642072,906373283j"},{"$f":"20*LOG10(IMABS(AK3))","v":116.15170041441145},{"$f":"IF(IMARGUMENT(AK3)*180/PI()>0,\"\",IMARGUMENT(AK3)*180/PI())","v":-89.898878149808098},null,{"$f":"IMPRODUCT(AK3,AG3)","v":"-642073,156185269-1052,9425896574j"},{"$f":"20*LOG10(IMABS(AO3))","v":116.15170194546884},{"$f":"AI3+AM3","v":-179.90604012674467},1,{"$f":"IMDIV(AO3,IMSUM(1,AO3))","v":"1,00000155745316-2,55408796547991E-09j"},{"$f":"20*LOG10(IMABS(AS3))","v":1.3527855729673192E-5},{"$f":"IMARGUMENT(AS3)*180/PI()","v":-1.463382330122105E-7}]
[null,null,null,null,null,null,null,null,null,null,null,null,null,null,null,null,null,null,null,null,null,null,null,null,null,null,null,null,null,{"$f":"AD3+$W$36","v":0.1},1.2589254117941673,"1,25892541179417j",{"$f":"IMPRODUCT(VS_LR,Drehzahlregelkreis!AS4,IMEXP(IMPRODUCT(AF4,TT_LR,-1)),IMDIV(1,AF4))","v":"-0,000125000158811356-0,794328446799063j"},-1.9999975734377888,-90.009016398075758,null,"1133,20157639608-510016,638283776j",114.15170832674848,{"$f":"IF(AM3=\"\",\"\",IF(IMARGUMENT(AK4)*180/PI()>0,\"\",IMARGUMENT(AK4)*180/PI()))","v":-89.872695210417319},null,"-405120,865780008-836,382087307042j",112.1517107533107,-179.88171160849308,1,"1,00000246839472-5,09607477399419E-09j",2.1440177659326003E-5,-2.9198285590401209E-7]
[null,null,null,null,null,null,null,null,null,null,null,null,null,null,null,null,null,null,null,null,null,"Abtastzeit",125,"[µs]",{"$f":"W5/1000000","v":1.25E-4},"[s]",{"$f":"1/Y5","v":8000},"[1/s]",null,0.2,1.5848931924611136,"1,58489319246111j",{"$f":"IMPRODUCT(VS_LR,Drehzahlregelkreis!AS5,IMEXP(IMPRODUCT(AF5,TT_LR,-1)),IMDIV(1,AF5))","v":"-0,000125000251699028-0,630957611466487j"},-3.9999961541586804,-90.011350979267959,null,"1133,20157639608-405120,615967967j",112.15172086692819,-89.839732919607613,null,"-255614,077857463-664,361980988467j",108.15172471276952,-179.85108389887557,1,"1,00000391213647-1,01680037602518E-08j",3.3980319160626052E-5,-5.8258142239754972E-7]
[null,null,null,null,null,null,null,null,null,null,null,null,null,null,null,null,null,null,null,null,null,"Totzeit Drehzahlregler",{"$f":"W5/2*2","v":125},"[µs]",{"$f":"W6/1000000","v":1.25E-4},"[s]",{"$f":"1/TT_DR","v":20645.16129032258},"[1/s]",null,0.30000000000000004,1.99526231496888,"1,99526231496888j",{"$f":"IMPRODUCT(VS_LR,Drehzahlregelkreis!AS6,IMEXP(IMPRODUCT(AF6,TT_LR,-1)),IMDIV(1,AF6))","v":"-0,000125000398916056-0,501187569743017j"},-5.9999939047539677,-90.014290049433015,null,"1133,20157639608-321798,743732248j",110.15174074169936,-89.798236007600508,null,"-161281,67196817-527,721572765691j",104.15174683694538,-179.81252605703352,1,"1,00000620030461-2,02878277955367E-08j",5.3854994607915061E-5,-1.1623997009402293E-6]
[null,null,null,null,null,null,null,null,null,null,null,null,null,null,null,null,null,null,null,null,null,null,null,null,null,null,null,null,null,0.4,2.5118864315095806,"2,51188643150958j",{"$f":"IMPRODUCT(VS_LR,Drehzahlregelkreis!AS7,IMEXP(IMPRODUCT(AF7,TT_LR,-1)),IMDIV(1,AF7))","v":"-0,000125000632239292-0,398107593697987j"},-7.9999903396901617,-90.017990132672139,null,"1133,20157639608-255613,828045327j",108.1517722409026,-89.745994796881789,null,"-101761,94764997-419,184262639037j",100.15178190121246,-179.76398492955394,1,"1,00000982678576-4,04795163508654E-08j",8.5353957239172294E-5,-2.3192826525416502E-6]
[null,null,null,null,null,null,null,null,null,null,null,null,null,null,null,null,null,null,null,null,null,null,null,null,null,null,null,null,null,0.5,3.1622776601683795,"3,16227766016838j",{"$f":"IMPRODUCT(VS_LR,Drehzahlregelkreis!AS8,IMEXP(IMPRODUCT(AF8,TT_LR,-1)),IMDIV(1,AF8))","v":"-0,000125001002031626-0,316228298723865j"},-9.9999846894509918,-90.022648287668105,null,"1133,20157639608-203041,280802361j",106.15182216330744,-89.680227620340432,null,"-64207,5404501777-332,970043060854j",96.151837473856432,-179.70287590800854,1,"1,00001557431844-8,07671842384517E-08j",1.3527575777392051E-4,-4.6275467091327725E-6]
[null,null,null,null,null,null,null,null,null,null,null,null,null,null,null,null,null,null,null,null,null,null,null,null,null,null,null,null,null,0.6,3.9810717055349727,"3,98107170553497j",{"$f":"IMPRODUCT(VS_LR,Drehzahlregelkreis!AS9,IMEXP(IMPRODUCT(AF9,TT_LR,-1)),IMDIV(1,AF9))","v":"-0,000125001588112793-0,251189313788726j"},-11.999975734440934,-90.028512609601307,null,"1133,20157639608-161281,422155897j",104.15190128381155,-89.597432869955924,null,"-40512,3114102063-264,487692456657j",92.151925549370617,-179.62594547955723,1,"1,00002468341168-1,61151499940994E-07j",2.1439474386874779E-4,-9.2330729050820225E-6]
[null,null,null,null,null,null,null,null,null,null,null,null,null,null,null,null,null,null,null,null,null,null,null,null,null,null,null,null,null,0.7,5.0118723362727229,"5,01187233627272j",{"$f":"IMPRODUCT(VS_LR,Drehzahlregelkreis!AS10,IMEXP(IMPRODUCT(AF10,TT_LR,-1)),IMDIV(1,AF10))","v":"-0,000125002516988376-0,199527075778527j"},-13.999961541745556,-90.035895457731584,null,"1133,20157639608-128110,387354916j",102.1520266784074,-89.493202887712968,null,"-25561,6326188301-210,090275934207j",88.152065136661847,-179.52909834544454,1,"1,00003912001955-3,21538822017955E-07j",3.3978552673451711E-4,-1.8422096778450211E-5]
[null,null,null,null,null,null,null,null,null,null,null,null,null,null,null,null,null,null,null,null,null,null,null,null,null,null,null,null,null,0.79999999999999993,6.3095734448019334,"6,30957344480193j",{"$f":"IMPRODUCT(VS_LR,Drehzahlregelkreis!AS11,IMEXP(IMPRODUCT(AF11,TT_LR,-1)),IMDIV(1,AF11))","v":"-0,000125003989155781-0,158490382131145j"},-15.999939047937666,-90.045190120810361,null,"1133,20157639608-101761,697837474j",100.15222540803262,-89.36198996853021,null,"-16128,3920312929-166,880932701681j",84.152286360094934,-179.40718008934056,1,"1,0000619996671-6,41552102988859E-07j",5.3850557440323851E-4,-3.6755948982398051E-5]
[null,null,null,null,null,null,null,null,null,null,null,null,null,null,null,null,null,null,null,null,null,null,null,null,null,null,null,null,null,0.89999999999999991,7.943282347242814,"7,94328234724281j",{"$f":"IMPRODUCT(VS_LR,Drehzahlregelkreis!AS12,IMEXP(IMPRODUCT(AF12,TT_LR,-1)),IMDIV(1,AF12))","v":"-0,000125006322380919-0,125893879267259j"},-17.99990339790131,-90.056891823277411,null,"1133,20157639608-80832,1898057859j",98.1525403546365,-89.19681237454337,null,"-10176,4196016794-132,558607666658j",80.152636956735236,-179.25370419782078,1,"1,00009825936978-0,0000012800578018674j",8.5342812096157066E-4,-7.3334703757981049E-5]
[null,null,null,null,null,null,null,null,null,null,null,null,null,null,null,null,null,null,null,null,null,null,null,null,null,null,null,null,null,0.99999999999999989,9.9999999999999982,"10j",{"$f":"IMPRODUCT(VS_LR,Drehzahlregelkreis!AS13,IMEXP(IMPRODUCT(AF13,TT_LR,-1)),IMDIV(1,AF13))","v":"-0,000125010020286114-0,100001684542537j"},-19.999846897021399,-90.071624221742283,null,"1133,20157639608-64207,2906373283j",96.153039464585319,-88.988885423810302,null,"-6420,97888519715-105,295511860778j",76.15319256756392,-179.0605096455526,1,"1,00015572186296-2,55402915833736E-06j",1.3524776417901292E-3,-1.4631230750066453E-4]
[null,null,null,null,null,null,null,null,null,null,null,null,null,null,null,null,null,null,null,null,null,null,null,null,null,null,null,null,null,1.0999999999999999,12.589254117941675,"12,5892541179417j",{"$f":"IMPRODUCT(VS_LR,Drehzahlregelkreis!AS14,IMEXP(IMPRODUCT(AF14,TT_LR,-1)),IMDIV(1,AF14))","v":"-0,000125015881052189-0,0794349441653837j"},-21.999757350718454,-90.090172864320238,null,"1133,20157639608-51001,6638283777j",94.153830383068779,-88.727159440379381,null,"-4051,45598674233-83,6397860105152j",72.154073032350311,-178.81733230469962,1,"1,00024678055612-5,09588870320215E-06j",2.143244343373543E-3,-2.9190088009782886E-4]
[null,null,null,null,null,null,null,null,null,null,null,null,null,null,null,null,null,null,null,null,null,null,null,null,null,null,null,null,null,1.2,15.848931924611136,"15,8489319246111j",{"$f":"IMPRODUCT(VS_LR,Drehzahlregelkreis!AS15,IMEXP(IMPRODUCT(AF15,TT_LR,-1)),IMDIV(1,AF15))","v":"-0,000125025169693484-0,0630984042014656j"},-23.999615433303475,-90.113527517412365,null,"1133,20157639608-40512,0615967967j",92.155083609416394,-88.397742813850726,null,"-2556,38811638874-66,4381837334055j",68.155468176112933,-178.51127033126309,1,"1,00039106564244-0,0000101674148196149j",3.3960894564873194E-3,-5.8232223148507983E-4]
[null,null,null,null,null,null,null,null,null,null,null,null,null,null,null,null,null,null,null,null,null,"Verstärkung der Stecke",1,null,null,null,null,null,null,1.3,19.952623149688804,"19,9526231496888j",{"$f":"IMPRODUCT(VS_LR,Drehzahlregelkreis!AS16,IMEXP(IMPRODUCT(AF16,TT_LR,-1)),IMDIV(1,AF16))","v":"-0,000125039891079876-0,0501220843017636j"},-25.999390519182114,-90.142935858855679,null,"1133,20157639608-32179,8743732248j",90.157069098843522,-87.983185123312651,null,"-1613,06407155662-52,7746569564236j",64.157678579661408,-178.12612098216835,1,"1,00061965863076-0,0000202859627265335j",5.3806213634904169E-3,-1.1615802641948016E-3]
[null,null,null,null,null,null,null,null,null,null,null,null,null,null,null,null,null,null,null,null,null,"Summenzeitkonstante TE_DR+TT_LR",{"$f":"TE_DR+TT_LR","v":4.4122776601683615E-4},"[s]",{"$f":"W17*1000","v":0.44122776601683616},"[ms]",{"$f":"1/W17","v":2266.4031527921625},"[1/s]",null,1.4000000000000001,25.118864315095809,"25,1188643150958j",{"$f":"IMPRODUCT(VS_LR,Drehzahlregelkreis!AS17,IMEXP(IMPRODUCT(AF17,TT_LR,-1)),IMDIV(1,AF17))","v":"-0,000125063222608635-0,0398149480644537j"},-27.99903407899512,-90.179971885174027,null,"1133,20157639608-25561,3828045327j",88.160214029341091,-87.461593432171384,null,"-1017,8668506591-41,9215730028992j",60.161179950345982,-177.6415653173454,1,"1,00098174434751-0,0000404736050819826j",8.5231470675375762E-3,-2.3166923519915956E-3]
[null,null,null,null,null,null,null,null,null,null,null,null,null,null,null,null,null,null,null,null,null,null,null,null,null,null,null,null,null,1.5000000000000002,31.622776601683817,"31,6227766016838j",{"$f":"IMPRODUCT(VS_LR,Drehzahlregelkreis!AS18,IMEXP(IMPRODUCT(AF18,TT_LR,-1)),IMDIV(1,AF18))","v":"-0,000125100199845383-0,0316281028024167j"},-29.998469221334027,-90.226623649650705,null,"1133,20157639608-20304,1280802361j",86.165193747981078,-86.805557052897171,null,"-642,322813978815-33,3009654735921j",56.166724526647045,-177.03218070254786,1,"1,00155508423805-0,0000807484240245606j",1.3496826687611336E-2,-4.619360394376641E-3]
[null,null,null,null,null,null,null,null,null,null,null,null,null,null,null,null,null,null,null,null,null,"Reglereinstellung:",null,null,null,null,null,null,null,1.6000000000000003,39.81071705534977,"39,8107170553498j",{"$f":"IMPRODUCT(VS_LR,Drehzahlregelkreis!AS19,IMEXP(IMPRODUCT(AF19,TT_LR,-1)),IMDIV(1,AF19))","v":"-0,000125158802946286-0,0251255689577804j"},-31.997574137880171,-90.285406944500821,null,"1133,20157639608-16128,1422155897j",84.173074392746742,-85.980867655341982,null,"-405,370579551487-26,4537553773545j",52.175500254866577,-176.2662745998428,1,"1,00246244055888-0,000161091838699451j",2.1362308295628532E-2,-9.2072101842404479E-3]
[null,null,null,null,null,null,null,null,null,null,null,null,null,null,null,null,null,null,null,null,null,"P-Anteil",{"$f":"B7","v":0},"[1]",{"$f":"W20","v":0},"[1]",null,null,null,1.7000000000000004,50.11872336272728,"50,1187233627273j",{"$f":"IMPRODUCT(VS_LR,Drehzahlregelkreis!AS20,IMEXP(IMPRODUCT(AF20,TT_LR,-1)),IMDIV(1,AF20))","v":"-0,000125251677904361-0,01996106250424j"},-33.996155916913715,-90.35951484726354,null,"1133,20157639608-12811,0387354915j",82.185535154475104,-84.945053118228245,null,"-255,863880342233-21,0153033990274j",48.189379237561383,-175.3045679654918,1,"1,00389716566741-0,000321348473494653j",3.3785006546561976E-2,-1.8340434941977381E-2]
[null,null,null,null,null,null,null,null,null,null,null,null,null,null,null,null,null,null,null,null,null,"Nachstellzeit Lageregler",{"$f":"TN_LR*1000","v":1.7649110640673447},"[ms]",{"$f":"TN_LR","v":1.7649110640673446E-3},"[s]",{"$f":"1/Y21","v":566.60078819804062},"[1/s]",null,1.8000000000000005,63.095734448019414,"63,0957344480194j",{"$f":"IMPRODUCT(VS_LR,Drehzahlregelkreis!AS21,IMEXP(IMPRODUCT(AF21,TT_LR,-1)),IMDIV(1,AF21))","v":"-0,000125398862990773-0,0158595538675227j"},-35.993909168919416,-90.453018788781876,null,"1133,20157639608-10176,1697837473j",80.205211186894331,-83.645815086283449,null,"-161,531615039617-16,6959913231323j",44.211302017974958,-174.09883387506534,1,"1,00616264180656-0,000640941749103851j",5.3365526419446752E-2,-3.6498326060034392E-2]
[null,null,null,null,null,null,null,null,null,null,null,null,null,null,null,null,null,null,null,null,null,null,null,null,null,null,null,null,null,1.9000000000000006,79.432823472428254,"79,4328234724283j",{"$f":"IMPRODUCT(VS_LR,Drehzahlregelkreis!AS22,IMEXP(IMPRODUCT(AF22,TT_LR,-1)),IMDIV(1,AF22))","v":"-0,000125632105975837-0,0126026212136836j"},-37.990350774299692,-90.571147136345658,null,"1133,20157639608-8083,2189805786j",78.236214137584824,-82.019607932492079,null,"-102,012113500028-13,265798402475j",40.245863363285167,-172.59075506883772,1,"1,00973195332334-0,00127808563128131j",8.4128955696776128E-2,-7.2523082169919012E-2]
[null,null,null,null,null,null,null,null,null,null,null,null,null,null,null,null,null,null,null,null,null,null,null,null,null,null,null,null,null,2.0000000000000004,100.00000000000013,"100j",{"$f":"IMPRODUCT(VS_LR,Drehzahlregelkreis!AS23,IMEXP(IMPRODUCT(AF23,TT_LR,-1)),IMDIV(1,AF23))","v":"-0,000126001696661036-0,0100168179235955j"},-39.984717270354714,-90.720686423984247,null,"1133,20157639608-6420,72906373283j",76.284901601902732,-79.990880102773161,null,"-64,4580592894344-10,5420511056598j",36.300184331548017,-170.71156652675739,1,"1,01533521923107-0,00254758287064969j",0.13221636031009504,-0.1437608361949004]
[null,null,null,null,null,null,null,null,null,null,null,null,null,null,null,null,null,null,null,null,null,"errechnete Standardwerte:",null,null,null,null,null,null,null,2.1000000000000005,125.89254117941688,"125,892541179417j",{"$f":"IMPRODUCT(VS_LR,Drehzahlregelkreis!AS24,IMEXP(IMPRODUCT(AF24,TT_LR,-1)),IMDIV(1,AF24))","v":"-0,000126587271039721-0,00796443439810281j"},-41.975804229690482,-90.910586408692112,null,"1133,20157639608-5100,16638283777j",74.360965106541499,-77.472998641457536,null,"-40,7633894706146-8,37969347078131j",32.38516087685101,-168.38358505014963,1,"1,02407937508065-0,00507446132812566j",0.20677902407035431,-0.28390654563861428]
[null,null,null,null,null,null,null,null,null,null,null,null,null,null,null,null,null,null,null,null,null,"P-Anteil",{"$f":"1/(2*VS_LR*W17)","v":1133.2015763960812},"[1]",{"$f":"W25","v":1133.2015763960812},"[1]",null,null,null,2.2000000000000006,158.48931924611168,"158,489319246112j",{"$f":"IMPRODUCT(VS_LR,Drehzahlregelkreis!AS25,IMEXP(IMPRODUCT(AF25,TT_LR,-1)),IMDIV(1,AF25))","v":"-0,000127514872559547-0,00633616146467655j"},-43.961716688640912,-91.152918522088328,null,"1133,20157639608-4051,20615967963j",72.478853474508441,-74.372654873471916,null,"-25,8135964090208-6,66355912290756j",28.517136785867532,-165.52557339556023,1,"1,03758966114547-0,0100945032442701j",0.32092375153829183,-0.55740164662850378]
[null,null,null,null,null,null,null,null,null,null,null,null,null,null,null,null,null,null,null,null,null,"Nachstellzeit Lageregler",{"$f":"4*Y17","v":1.7649110640673447},"[ms]",{"$f":"W26/1000","v":1.7649110640673446E-3},"[s]",{"$f":"1/Y26","v":566.60078819804062},"[1/s]",null,2.3000000000000007,199.52623149688836,"199,526231496888j",{"$f":"IMPRODUCT(VS_LR,Drehzahlregelkreis!AS26,IMEXP(IMPRODUCT(AF26,TT_LR,-1)),IMDIV(1,AF26))","v":"-0,000128983835403014-0,00504526316196751j"},-45.93948595698582,-91.46446671601781,null,"1133,20157639608-3217,98743732248j",70.659376439077008,-70.60048613033058,null,"-16,3817581588056-5,30223180653008j",24.71989048209117,-162.06495284634838,1,"1,05810748913648-0,0200301795097881j",0.49215179062650882,-1.0844906618965029]
[null,null,null,null,null,null,null,null,null,null,null,null,null,null,null,null,null,null,null,null,null,null,null,null,null,null,null,null,null,2.4000000000000008,251.18864315095851,"251,188643150959j",{"$f":"IMPRODUCT(VS_LR,Drehzahlregelkreis!AS27,IMEXP(IMPRODUCT(AF27,TT_LR,-1)),IMDIV(1,AF27))","v":"-0,000131308993987032-0,00402294553093761j"},-47.90449256909006,-91.869471277229806,null,"1133,20157639608-2556,13828045326j",68.930950395709971,-66.091063540132154,null,"-10,4320046307891-4,223164271316j",21.026457826619929,-157.96053481736197,1,"1,08831644635025-0,0395435408903909j",0.74083363081439213,-2.0809037160136761]
[null,null,null,null,null,null,null,null,null,null,null,null,null,null,null,null,null,null,null,null,null,null,null,null,null,null,null,null,null,2.5000000000000009,316.22776601683881,"316,227766016839j",{"$f":"IMPRODUCT(VS_LR,Drehzahlregelkreis!AS28,IMEXP(IMPRODUCT(AF28,TT_LR,-1)),IMDIV(1,AF28))","v":"-0,000134986568521572-0,00321466866009826j"},-49.849624811671717,-92.404484128583206,null,"1133,20157639608-2030,4128080236j",67.329340385168251,-60.833507274721697,null,"-6,68007141325651-3,36878913557707j",17.479715573496527,-153.2379914033049,1,"1,13024116596339-0,0772446317978251j",1.0836603690924056,-3.9097141926986922]
[null,null,null,null,null,null,null,null,null,null,null,null,null,null,null,null,null,null,null,null,null,null,null,null,null,null,null,null,null,2.600000000000001,398.10717055349835,"398,107170553498j",{"$f":"IMPRODUCT(VS_LR,Drehzahlregelkreis!AS29,IMEXP(IMPRODUCT(AF29,TT_LR,-1)),IMDIV(1,AF29))","v":"-0,000140795990912456-0,00257719325463942j"},-51.76411761791357,-93.127047133336163,null,"1133,20157639608-1612,81422155897j",65.894262935720676,-54.907211631749938,null,"-4,31608417164055-2,69340168235264j",14.130145317807106,-148.03425876508609,1,"1,18169501019444-0,147576967532361j",1.5173198677878146,-7.1185756938329394]
[null,null,null,null,null,null,null,null,null,null,null,null,null,null,null,null,null,null,null,null,null,"Bodediagramm:",null,null,null,null,null,null,null,2.7000000000000011,501.1872336272736,"501,187233627274j",{"$f":"IMPRODUCT(VS_LR,Drehzahlregelkreis!AS30,IMEXP(IMPRODUCT(AF30,TT_LR,-1)),IMDIV(1,AF30))","v":"-0,000149954547147843-0,00207617948178822j"},-53.63210548539557,-94.131082758969214,null,"1133,20157639608-1281,10387354915j",64.661812409297937,-48.505604619771169,null,"-2,82973030551785-2,1606225104362j",11.029706923902358,-142.63668737874039,1,"1,22825399898776-0,269531923269132j",1.990020061761216,-12.376982593655148]
[null,null,null,null,null,null,null,null,null,null,null,null,null,null,null,null,null,null,null,null,null,"untere Grenze von f",1,"[1/s]",null,null,null,null,null,2.8000000000000012,630.95734448019539,"630,957344480195j",{"$f":"IMPRODUCT(VS_LR,Drehzahlregelkreis!AS31,IMEXP(IMPRODUCT(AF31,TT_LR,-1)),IMDIV(1,AF31))","v":"-0,000164344614608119-0,00168415930405548j"},-55.431177194451465,-95.573424125517874,null,"1133,20157639608-1017,61697837473j",63.654299741415805,-41.923894182527029,null,"-1,90006467844075-1,74125210812812j",8.2231225469643281,-137.4973183080449,1,"1,23426523461022-0,453206134400064j",2.3774637911656487,-20.162578161511295]
[null,null,"KP_LR","TN_LR",null,null,"KP_VDR","KP_DR","TN_DR",null,null,null,null,null,"KP_VSR","KP_SR","TN_SR",null,null,null,null,"obere Grenze von f",100000,"[1/s]",null,null,null,null,null,2.9000000000000012,794.32823472428424,"794,328234724284j",{"$f":"IMPRODUCT(VS_LR,Drehzahlregelkreis!AS32,IMEXP(IMPRODUCT(AF32,TT_LR,-1)),IMDIV(1,AF32))","v":"-0,000186825031508439-0,00137866948110393j"},-57.131769530640987,-97.717206100148488,null,"1133,20157639608-808,32189805786j",62.872484589137159,-35.500571998205714,null,"-1,32611915197598-1,41129566524252j",5.7407150584961597,-133.21777809835419,1,"1,15543478805218-0,672651211303568j",2.52243426842869,-30.206374544717715]
[null,null,{"$f":"ROUND(KP_LR,1)","v":1133.2},{"$f":"ROUND(TN_LR*1000,2)&\"  ms\"","v":"1,76  ms"},{"$f":"\"=   \"&ROUND(1/TN_LR,0)&\"  Hz\"","v":"=   567  Hz"},null,{"$f":"KP_VDR","v":1},{"$f":"KP_DR","v":2.3160300751879772},{"$f":"ROUND(TN_DR*1000,2)&\"  ms\"","v":"0,59  ms"},null,null,null,null,null,{"$f":"KP_VSR","v":1},{"$f":"KP_SR","v":70.193548387096769},{"$f":"ROUND(TN_SR*1000,2)&\"  ms\"","v":"2,34  ms"},null,null,null,null,"feste Anzahl der Intervalle von f",50,"[1]",null,null,null,null,null,3.0000000000000013,1000.0000000000033,"1000j",{"$f":"IMPRODUCT(VS_LR,Drehzahlregelkreis!AS33,IMEXP(IMPRODUCT(AF33,TT_LR,-1)),IMDIV(1,AF33))","v":"-0,000221584963981572-0,00114022829198273j"},-58.699170835548237,-100.99743547037183,null,"1133,20157639608-642,072906373283j",62.29529141859669,-29.535925069999852,null,"-0,983210123851982-1,14983479609397j",3.5961205830484531,-130.53336054037169,1,"0,987303500238125-0,869504759064342j",2.382485746256537,-41.369933483441379]
[null,null,null,null,null,null,null,null,null,null,null,null,null,null,null,null,null,null,null,null,null,"untere Grenze für Exponent von ω",{"$f":"LOG10(W31)","v":0},"[1]",null,null,null,null,null,3.1000000000000014,1258.9254117941723,"1258,92541179417j",{"$f":"IMPRODUCT(VS_LR,Drehzahlregelkreis!AS34,IMEXP(IMPRODUCT(AF34,TT_LR,-1)),IMDIV(1,AF34))","v":"-0,000274278743060035-0,000949602895034111j"},-60.101167773599187,-106.11057904896708,null,"1133,20157639608-510,016638283777j",61.887212053014984,-24.230937786502427,null,"-0,795126380237407-0,936204775114757j",1.7860442794158065,-130.34151683546952,1,"0,776936094474736-1,01932837302574j",2.1554768900031087,-52.685207840099238]
[null,null,null,null,null,null,null,null,null,null,null,null,null,null,null,null,null,null,null,null,null,"obere Grenze für Exponent von ω",{"$f":"LOG10(W32)","v":5},"[1]",null,null,null,null,null,3.2000000000000015,{"$f":"10^AD35","v":1584.89319246112},{"$f":"COMPLEX(0,AE35,\"j\")","v":"1584,89319246112j"},{"$f":"IMPRODUCT(VS_LR,Drehzahlregelkreis!AS35,IMEXP(IMPRODUCT(AF35,TT_LR,-1)),IMDIV(1,AF35))","v":"-0,000350846907727381-0,00078341465114387j"},{"$f":"20*LOG10(IMABS(AG35))","v":-61.326314811041335},{"$f":"IMARGUMENT(AG35)*180/PI()","v":-114.12489588864595},null,{"$f":"IMPRODUCT(KP_LR,IMSUM(1,IMDIV(1,IMPRODUCT(TN_LR,AF35))))","v":"1133,20157639608-405,120615967963j"},{"$f":"20*LOG10(IMABS(AK35))","v":61.608490926949941},-19.672017169892225,null,{"$f":"IMPRODUCT(AK35,AG35)","v":"-0,71495769494009-0,745631402279047j"},{"$f":"20*LOG10(IMABS(AO35))","v":0.28217611590860425},{"$f":"AI35+AM35","v":-133.79691305853817},1,{"$f":"IMDIV(AO35,IMSUM(1,AO35))","v":"0,552675048154694-1,1701404500245j"},{"$f":"20*LOG10(IMABS(AS35))","v":2.2393141406414681},{"$f":"IMARGUMENT(AS35)*180/PI()","v":-64.717924928090781}]
[null,null,null,null,null,null,null,null,null,null,null,null,null,null,null,null,null,null,null,null,null,"Schrittweite Exponent von ω",{"$f":"ABS((W35-W34)/W33)","v":0.1},"[1]",null,null,null,null,null,{"$f":"AD35+$W$36","v":3.3000000000000016},1995.2623149688875,"1995,26231496889j",{"$f":"IMPRODUCT(VS_LR,Drehzahlregelkreis!AS36,IMEXP(IMPRODUCT(AF36,TT_LR,-1)),IMDIV(1,AF36))","v":"-0,000450990737960018-0,000607351099566203j"},-62.424005352923061,-126.59586554170912,null,"1133,20157639608-321,798743732245j",61.422956647190176,{"$f":"IF(AM35=\"\",\"\",IF(IMARGUMENT(AK36)*180/PI()>0,\"\",IMARGUMENT(AK36)*180/PI()))","v":-15.853119224124272},null,"-0,706508236041126-0,543122970543902j",-1.0010487057328921,-142.44898476583339,1,"0,229922906316385-1,42507085387196j",3.188334162385555,-80.834801455753933]
[null,null,null,null,null,null,null,null,null,null,null,null,null,null,null,null,null,null,null,null,null,null,null,null,null,null,null,null,null,3.4000000000000017,2511.8864315095921,"2511,88643150959j",{"$f":"IMPRODUCT(VS_LR,Drehzahlregelkreis!AS37,IMEXP(IMPRODUCT(AF37,TT_LR,-1)),IMDIV(1,AF37))","v":"-0,000545084336975159-0,000373980263847632j"},-63.595402562694801,-145.54613167405444,null,"1133,20157639608-255,613828045326j",61.301678175888981,-12.711346664048611,null,"-0,713284956784557-0,28446393055139j",-2.2937243868058186,-158.25747833810306,1,"-0,757637484871299-1,74383758111796j",5.5810638758320135,-113.48328949885159]
[null,null,null,null,null,null,null,null,null,null,null,null,null,null,null,null,null,null,null,null,null,"Nulldurchgang Betrag Regler+Strecke",{"$f":"MATCH(-0.5,AP3:AP52,-1)+1","v":34},"[Zeile]",null,null,null,null,null,3.5000000000000018,3162.2776601683972,"3162,2776601684j",{"$f":"IMPRODUCT(VS_LR,Drehzahlregelkreis!AS38,IMEXP(IMPRODUCT(AF38,TT_LR,-1)),IMDIV(1,AF38))","v":"-0,000535657557241872-0,0000702053873465791j"},-65.348286731452276,-172.53315013758271,null,"1133,20157639608-203,04128080236j",61.22337651943095,-10.158176109526689,null,"-0,621262580041038+0,0292037408812123j",-4.1249102120213212,-182.6913262471094,1,"-1,62474586136079+0,202389291299815j",4.2825802206548529,172.89942715340274]
[null,null,null,null,null,null,null,null,null,null,null,null,null,null,null,null,null,null,null,null,null,"f der Zeile",{"$f":"INDEX(AD2:AU52,W38,2)","v":1584.89319246112},"[1/s]",{"$f":"1/W39","v":6.3095734448019071E-4},"[s]",null,null,null,3.6000000000000019,3981.071705534991,"3981,07170553499j",{"$f":"IMPRODUCT(VS_LR,Drehzahlregelkreis!AS39,IMEXP(IMPRODUCT(AF39,TT_LR,-1)),IMDIV(1,AF39))","v":"-0,000342279713173435+0,000164809034022097j"},-68.406812444941949,154.28900113455416,null,"1133,20157639608-161,281422155895j",61.173235105865089,-8.1001464322498595,null,"-0,361291275145312+0,241965216073879j",-7.2335773390768567,146.1888547023043,1,"-0,369162272542797+0,518686581573459j",-3.9220565904664473,125.44041367579833]
[null,null,null,null,null,null,null,null,null,null,null,null,null,null,null,null,null,null,null,null,null,"Phase Regler+Strecke",{"$f":"INDEX(AD2:AU52,W38,14)","v":-133.79691305853817},"[°]",null,null,null,null,null,3.700000000000002,5011.8723362727505,"5011,87233627275j",{"$f":"IMPRODUCT(VS_LR,Drehzahlregelkreis!AS40,IMEXP(IMPRODUCT(AF40,TT_LR,-1)),IMDIV(1,AF40))","v":"-0,000114613311171311+0,000194454492856998j"},-72.928663738795834,120.51549833057224,null,"1133,20157639608-128,110387354915j",61.141297529475352,-6.4500009638710667,null,"-0,104968344492491+0,235039293533036j",-11.787366209320489,114.06549736670118,1,"-0,0452007305540435+0,27447436054129j",-11.113753120502876,99.351594981089775]
[null,null,null,null,null,null,null,null,null,null,null,null,null,null,null,null,null,null,null,null,null,"Punkt auf Nulldurchgang",-90,"[°]",null,null,null,null,null,3.800000000000002,6309.5734448019721,"6309,57344480197j",{"$f":"IMPRODUCT(VS_LR,Drehzahlregelkreis!AS41,IMEXP(IMPRODUCT(AF41,TT_LR,-1)),IMDIV(1,AF41))","v":"1,74163555132616E-06+0,000121196758578968j"},-78.32928315406744,89.176698291288645,null,"1133,20157639608-101,761697837473j",61.121024761129348,-5.1314071171072975,null,"0,0143068120776644+0,137163126085065j",-17.208258392938063,84.045291174181344,1,"0,0318100431097224+0,130926815781917j",-17.410346081500194,76.343989516449469]
[null,null,null,null,null,null,null,null,null,null,null,null,null,null,null,null,null,null,null,null,null,"180°-Durchgang Phase Regler+Strecke",{"$f":"MATCH(0,AR55:AR104,-1)","v":37},"[Zeile]",null,null,null,null,null,3.9000000000000021,7943.2823472428581,"7943,28234724286j",{"$f":"IMPRODUCT(VS_LR,Drehzahlregelkreis!AS42,IMEXP(IMPRODUCT(AF42,TT_LR,-1)),IMDIV(1,AF42))","v":"0,0000319645475119279+0,0000536776368559574j"},-84.085991124496843,59.226583873827856,null,"1133,20157639608-80,8321898057854j",61.108184645399348,-4.0800440315673798,null,"0,0405611565599709+0,0582438183308471j",-22.977806479097481,55.146539842260474,1,"0,0419815792426966+0,0536236150123653j",-23.336743980911542,51.942839237683003]
[null,null,null,null,null,null,null,null,null,null,null,null,null,null,null,null,null,null,null,null,null,"f der Zeile",{"$f":"INDEX(AD3:AU52,W42,2)","v":3981.071705534991},"[1/s]",null,null,null,null,null,4.0000000000000018,10000.000000000044,"10000j",{"$f":"IMPRODUCT(VS_LR,Drehzahlregelkreis!AS43,IMEXP(IMPRODUCT(AF43,TT_LR,-1)),IMDIV(1,AF43))","v":"0,0000278816068681845+0,0000151383731747797j"},-89.971627725565696,28.499834641709299,null,"1133,20157639608-64,2072906373283j",61.100063503556399,-3.2429160349879007,null,"0,0325674747816919+0,0153646259101112j",-28.871564222009297,25.256918606721399,1,"0,0317546713406086+0,0144075110124978j",-29.150894527367498,24.404419108197231]
[null,null,null,null,null,null,null,null,null,null,null,null,null,null,null,null,null,null,null,null,null,"Maxwert ω",{"$f":"W32","v":100000},"[1/s]",null,null,null,null,null,4.1000000000000014,12589.254117941715,"12589,2541179417j",{"$f":"IMPRODUCT(VS_LR,Drehzahlregelkreis!AS44,IMEXP(IMPRODUCT(AF44,TT_LR,-1)),IMDIV(1,AF44))","v":"0,000015955119881559-1,42023408256398E-06j"},-95.907722647374683,-5.0867378871663673,null,"1133,20157639608-51,0016638283777j",61.094931584628455,-2.5769549582882414,null,"0,0180079327001346-0,00242314916175368j",-34.812791062746228,-7.6636928454546087,1,"0,0176949489751386-0,00233816612279626j",-34.967838912740767,-7.5273128100577189]
[null,null,null,null,null,null,null,null,null,null,null,null,null,null,null,null,null,null,null,null,null,null,null,null,null,null,null,null,null,4.2000000000000011,15848.931924611175,"15848,9319246112j",{"$f":"IMPRODUCT(VS_LR,Drehzahlregelkreis!AS45,IMEXP(IMPRODUCT(AF45,TT_LR,-1)),IMDIV(1,AF45))","v":"0,0000058463693408147-5,55772835414467E-06j"},-101.86630012868608,-43.550136917801836,null,"1133,20157639608-40,5120615967963j",61.091690439667957,-2.0474574716768164,null,"0,00639995991978356-0,00653487500695064j",-40.774609689018114,-45.597594389478651,1,"0,0064011541909247-0,00645175330186846j",-40.83020501362337,-45.225559899880423]
[null,null,null,null,null,null,null,null,null,null,null,null,null,null,null,null,null,null,null,null,null,null,null,null,null,null,null,null,null,4.3000000000000007,19952.623149688861,"19952,6231496889j",{"$f":"IMPRODUCT(VS_LR,Drehzahlregelkreis!AS46,IMEXP(IMPRODUCT(AF46,TT_LR,-1)),IMDIV(1,AF46))","v":"6,75731575145575E-08-4,05680271849041E-06j"},-107.83511745713368,-89.045726646861596,null,"1133,20157639608-32,1798743732245j",61.089644170163034,-1.6266087648392358,null,"-0,0000539733932204198-0,00459934973144106j",-46.745473286970636,-90.672335411700828,1,"-0,0000328193105243506-0,00459974894298652j",-46.745096347060439,-90.408799718038395]
[null,null,null,null,null,null,null,null,null,null,null,null,null,null,null,null,null,null,null,null,null,null,null,null,null,null,null,null,null,4.4000000000000004,25118.86431509586,"25118,8643150959j",{"$f":"IMPRODUCT(VS_LR,Drehzahlregelkreis!AS47,IMEXP(IMPRODUCT(AF47,TT_LR,-1)),IMDIV(1,AF47))","v":"-1,65150346066236E-06-1,19771301062198E-06j"},-113.80699996847969,-144.04940688618706,null,"1133,20157639608-25,5613828045326j",61.088352565131252,-1.2921893739925649,null,"-0,00190210152580065-0,00131503555954592j",-52.718647403348427,-145.34159626017961,1,"-0,00190398718973339-0,00132005023998094j",-52.702117765710732,-145.26610672755106]
[null,null,null,null,null,null,null,null,null,null,null,null,null,null,null,null,null,null,null,null,null,null,null,null,null,null,null,null,null,4.5,31622.77660168384,"31622,7766016838j",{"$f":"IMPRODUCT(VS_LR,Drehzahlregelkreis!AS48,IMEXP(IMPRODUCT(AF48,TT_LR,-1)),IMDIV(1,AF48))","v":"-8,74644622344498E-07+5,36484498696717E-07j"},-119.77646355036116,148.47611881019148,null,"1133,20157639608-20,3041280802361j",61.087537419760089,-1.0264867277699701,null,"-0,00098025581485254+0,000625703976071953j",-58.688926130601075,147.44963208242152,1,"-0,000980825000269524+0,000626932236144452j",-58.680409264529629,147.41374671321387]
[null,null,null,null,null,null,null,null,null,null,null,null,null,null,null,null,null,null,null,null,null,null,null,null,null,null,null,null,null,4.5999999999999996,39810.717055349742,"39810,7170553497j",{"$f":"IMPRODUCT(VS_LR,Drehzahlregelkreis!AS49,IMEXP(IMPRODUCT(AF49,TT_LR,-1)),IMDIV(1,AF49))","v":"2,19057466674314E-07+4,67744061528212E-07j"},-125.73861902889553,64.905008972873745,null,"1133,20157639608-16,1281422155897j",61.087023019067772,-0.81539958429717474,null,"0,000255780109301489+0,000526515317897765j",-64.651596009827756,64.089609388576577,1,"0,000255991708258077+0,000526245931100337j",-64.653818606874992,64.059449999969942]
[null,null,null,null,null,null,null,null,null,null,null,null,null,null,null,null,null,null,null,null,null,null,null,null,null,null,null,null,null,4.6999999999999993,50118.723362727207,"50118,7233627272j",{"$f":"IMPRODUCT(VS_LR,Drehzahlregelkreis!AS50,IMEXP(IMPRODUCT(AF50,TT_LR,-1)),IMDIV(1,AF50))","v":"2,01581391344701E-07-0,0000001647421805172j"},-131.68930195786106,-39.257375512824211,null,"1133,20157639608-12,8110387354916j",61.086698422820582,-0.64771104941158841,null,"0,000226321831987955-0,00018926856567389j",-70.602603535040487,-39.905086562235802,1,"0,00022630642028363-0,000189182916758018j",-70.604569274582076,-39.894244726101853]
[null,null,null,null,null,null,null,null,null,null,null,null,null,null,null,null,null,null,null,null,null,null,null,null,null,null,null,null,null,4.7999999999999989,63095.734448019233,"63095,7344480192j",{"$f":"IMPRODUCT(VS_LR,Drehzahlregelkreis!AS51,IMEXP(IMPRODUCT(AF51,TT_LR,-1)),IMDIV(1,AF51))","v":"-1,29270100019316E-07-2,36737489379915E-08j"},-137.62677357234446,-169.62219281399797,null,"1133,20157639608-10,1761697837474j",61.086493603950842,-0.51450326275145153,null,"-0,000146729989211379-0,0000255116551299784j",-76.540279968393591,-170.13669607674942,1,"-0,000146750870929501-0,000025519143411225j",-76.539005397216727,-170.13523415207422]
[null,null,null,null,null,null,null,null,null,null,null,null,null,null,null,null,null,null,null,null,null,null,null,null,null,null,null,null,null,4.8999999999999986,79432.823472427961,"79432,823472428j",{"$f":"IMPRODUCT(VS_LR,Drehzahlregelkreis!AS52,IMEXP(IMPRODUCT(AF52,TT_LR,-1)),IMDIV(1,AF52))","v":"5,92798293924148E-08+2,99301881115015E-08j"},-143.55569847037145,26.789057830857612,null,"1133,20157639608-8,08321898057866j",61.086364367010376,-0.40868852238145831,null,"0,0000674179283806103+0,0000334377645076745j",-82.469334103361092,26.380369308476155,1,"0,0000674145013679367+0,0000334332563165735j",-82.469919673163176,26.378453594847695]
[null,null,null,null,null,null,null,null,null,null,null,null,null,null,null,null,null,null,null,null,null,null,null,null,null,null,null,null,null,null,null,null,null,null,null,null,null,null,null,null,null,null,null,1]
[null,null,null,null,null,null,null,null,null,null,null,null,null,null,null,null,null,null,null,null,null,null,null,null,null,null,null,null,null,"ωx","ω","s=jω","Strecke H(jω)","Betrag Strecke [dB]","Phase Strecke [°]",null,"Regler H(jw)","Betrag Regler [dB]","Phase Regler [°]",null,"Regler+Strecke H(jw)","Betrag Regler+Strecke [dB]","Phase Regler+Strecke [°]",1,"Geschlossener Kreis","Betrag Kreis [dB]","Phase Kreis [°]"]
[null,null,null,null,null,null,null,null,null,null,null,null,null,null,null,null,null,null,null,null,null,null,null,null,null,null,null,null,null,null,{"$f":"10^AD3","v":1},null,null,null,{"$f":"IMARGUMENT(AG3)*180/PI()","v":-90.007161976936573},null,null,null,{"$f":"IF(IMARGUMENT(AK3)*180/PI()>0,\"\",IMARGUMENT(AK3)*180/PI())","v":-89.898878149808098},null,null,null,{"$f":"AI3+AM3","v":-179.90604012674467},{"$f":"IF(AQ55<0,1,0)","v":1},null,null,{"$f":"IMARGUMENT(AS3)*180/PI()","v":-1.463382330122105E-7}]
[null,null,null,null,null,null,null,null,null,null,null,null,null,null,null,null,null,null,null,null,null,null,null,null,null,null,null,null,null,null,1.2589254117941673,null,null,null,-90.009016398075758,null,null,null,{"$f":"IF(AM3=\"\",\"\",IF(IMARGUMENT(AK4)*180/PI()>0,\"\",IMARGUMENT(AK4)*180/PI()))","v":-89.872695210417319},null,null,null,-179.88171160849308,{"$f":"IF(AR55=0,0,IF(AQ56<0,1,0))","v":1},null,null,-2.9198285590401209E-7]
[null,null,null,null,null,null,null,null,null,null,null,null,null,null,null,null,null,null,null,null,null,null,null,null,null,null,null,null,null,null,1.5848931924611136,null,null,null,-90.011350979267959,null,null,null,-89.839732919607613,null,null,null,-179.85108389887557,1,null,null,-5.8258142239754972E-7]
[null,null,null,null,null,null,null,null,null,null,null,null,null,null,null,null,null,null,null,null,null,null,null,null,null,null,null,null,null,null,1.99526231496888,null,null,null,-90.014290049433015,null,null,null,-89.798236007600508,null,null,null,-179.81252605703352,1,null,null,-1.1623997009402293E-6]
[null,null,null,null,null,null,null,null,null,null,null,null,null,null,null,null,null,null,null,null,null,null,null,null,null,null,null,null,null,null,2.5118864315095806,null,null,null,-90.017990132672139,null,null,null,-89.745994796881789,null,null,null,-179.76398492955394,1,null,null,-2.3192826525416502E-6]
[null,null,null,null,null,null,null,null,null,null,null,null,null,null,null,null,null,null,null,null,null,null,null,null,null,null,null,null,null,null,3.1622776601683795,null,null,null,-90.022648287668105,null,null,null,-89.680227620340432,null,null,null,-179.70287590800854,1,null,null,-4.6275467091327725E-6]
[null,null,null,null,null,null,null,null,null,null,null,null,null,null,null,null,null,null,null,null,null,null,null,null,null,null,null,null,null,null,3.9810717055349727,null,null,null,-90.028512609601307,null,null,null,-89.597432869955924,null,null,null,-179.62594547955723,1,null,null,-9.2330729050820225E-6]
[null,null,null,null,null,null,null,null,null,null,null,null,null,null,null,null,null,null,null,null,null,null,null,null,null,null,null,null,null,null,5.0118723362727229,null,null,null,-90.035895457731584,null,null,null,-89.493202887712968,null,null,null,-179.52909834544454,1,null,null,-1.8422096778450211E-5]
[null,null,null,null,null,null,null,null,null,null,null,null,null,null,null,null,null,null,null,null,null,null,null,null,null,null,null,null,null,null,6.3095734448019334,null,null,null,-90.045190120810361,null,null,null,-89.36198996853021,null,null,null,-179.40718008934056,1,null,null,-3.6755948982398051E-5]
[null,null,null,null,null,null,null,null,null,null,null,null,null,null,null,null,null,null,null,null,null,null,null,null,null,null,null,null,null,null,7.943282347242814,null,null,null,-90.056891823277411,null,null,null,-89.19681237454337,null,null,null,-179.25370419782078,1,null,null,-7.3334703757981049E-5]
[null,null,null,null,null,null,null,null,null,null,null,null,null,null,null,null,null,null,null,null,null,null,null,null,null,null,null,null,null,null,9.9999999999999982,null,null,null,-90.071624221742283,null,null,null,-88.988885423810302,null,null,null,-179.0605096455526,1,null,null,-1.4631230750066453E-4]
[null,null,null,null,null,null,null,null,null,null,null,null,null,null,null,null,null,null,null,null,null,null,null,null,null,null,null,null,null,null,12.589254117941675,null,null,null,-90.090172864320238,null,null,null,-88.727159440379381,null,null,null,-178.81733230469962,1,null,null,-2.9190088009782886E-4]
[null,null,null,null,null,null,null,null,null,null,null,null,null,null,null,null,null,null,null,null,null,null,null,null,null,null,null,null,null,null,15.848931924611136,null,null,null,-90.113527517412365,null,null,null,-88.397742813850726,null,null,null,-178.51127033126309,1,null,null,-5.8232223148507983E-4]
[null,null,null,null,null,null,null,null,null,null,null,null,null,null,null,null,null,null,null,null,null,null,null,null,null,null,null,null,null,null,19.952623149688804,null,null,null,-90.142935858855679,null,null,null,-87.983185123312651,null,null,null,-178.12612098216835,1,null,null,-1.1615802641948016E-3]
[null,null,null,null,null,null,null,null,null,null,null,null,null,null,null,null,null,null,null,null,null,null,null,null,null,null,null,null,null,null,25.118864315095809,null,null,null,-90.179971885174027,null,null,null,-87.461593432171384,null,null,null,-177.6415653173454,1,null,null,-2.3166923519915956E-3]
[null,null,null,null,null,null,null,null,null,null,null,null,null,null,null,null,null,null,null,null,null,null,null,null,null,null,null,null,null,null,31.622776601683817,null,null,null,-90.226623649650705,null,null,null,-86.805557052897171,null,null,null,-177.03218070254786,1,null,null,-4.619360394376641E-3]
[null,null,null,null,null,null,null,null,null,null,null,null,null,null,null,null,null,null,null,null,null,null,null,null,null,null,null,null,null,null,39.81071705534977,null,null,null,-90.285406944500821,null,null,null,-85.980867655341982,null,null,null,-176.2662745998428,1,null,null,-9.2072101842404479E-3]
[null,null,null,null,null,null,null,null,null,null,null,null,null,null,null,null,null,null,null,null,null,null,null,null,null,null,null,null,null,null,50.11872336272728,null,null,null,-90.35951484726354,null,null,null,-84.945053118228245,null,null,null,-175.3045679654918,1,null,null,-1.8340434941977381E-2]
[null,null,null,null,null,null,null,null,null,null,null,null,null,null,null,null,null,null,null,null,null,null,null,null,null,null,null,null,null,null,63.095734448019414,null,null,null,-90.453018788781876,null,null,null,-83.645815086283449,null,null,null,-174.09883387506534,1,null,null,-3.6498326060034392E-2]
[null,null,null,null,null,null,null,null,null,null,null,null,null,null,null,null,null,null,null,null,null,null,null,null,null,null,null,null,null,null,79.432823472428254,null,null,null,-90.571147136345658,null,null,null,-82.019607932492079,null,null,null,-172.59075506883772,1,null,null,-7.2523082169919012E-2]
[null,null,null,null,null,null,null,null,null,null,null,null,null,null,null,null,null,null,null,null,null,null,null,null,null,null,null,null,null,null,100.00000000000013,null,null,null,-90.720686423984247,null,null,null,-79.990880102773161,null,null,null,-170.71156652675739,1,null,null,-0.1437608361949004]
[null,null,null,null,null,null,null,null,null,null,null,null,null,null,null,null,null,null,null,null,null,null,null,null,null,null,null,null,null,null,125.89254117941688,null,null,null,-90.910586408692112,null,null,null,-77.472998641457536,null,null,null,-168.38358505014963,1,null,null,-0.28390654563861428]
[null,null,null,null,null,null,null,null,null,null,null,null,null,null,null,null,null,null,null,null,null,null,null,null,null,null,null,null,null,null,158.48931924611168,null,null,null,-91.152918522088328,null,null,null,-74.372654873471916,null,null,null,-165.52557339556023,1,null,null,-0.55740164662850378]
[null,null,null,null,null,null,null,null,null,null,null,null,null,null,null,null,null,null,null,null,null,null,null,null,null,null,null,null,null,null,199.52623149688836,null,null,null,-91.46446671601781,null,null,null,-70.60048613033058,null,null,null,-162.06495284634838,1,null,null,-1.0844906618965029]
[null,null,null,null,null,null,null,null,null,null,null,null,null,null,null,null,null,null,null,null,null,null,null,null,null,null,null,null,null,null,251.18864315095851,null,null,null,-91.869471277229806,null,null,null,-66.091063540132154,null,null,null,-157.96053481736197,1,null,null,-2.0809037160136761]
[null,null,null,null,null,null,null,null,null,null,null,null,null,null,null,null,null,null,null,null,null,null,null,null,null,null,null,null,null,null,316.22776601683881,null,null,null,-92.404484128583206,null,null,null,-60.833507274721697,null,null,null,-153.2379914033049,1,null,null,-3.9097141926986922]
[null,null,null,null,null,null,null,null,null,null,null,null,null,null,null,null,null,null,null,null,null,null,null,null,null,null,null,null,null,null,398.10717055349835,null,null,null,-93.127047133336163,null,null,null,-54.907211631749938,null,null,null,-148.03425876508609,1,null,null,-7.1185756938329394]
[null,null,null,null,null,null,null,null,null,null,null,null,null,null,null,null,null,null,null,null,null,null,null,null,null,null,null,null,null,null,501.1872336272736,null,null,null,-94.131082758969214,null,null,null,-48.505604619771169,null,null,null,-142.63668737874039,1,null,null,-12.376982593655148]
[null,null,null,null,null,null,null,null,null,null,null,null,null,null,null,null,null,null,null,null,null,null,null,null,null,null,null,null,null,null,630.95734448019539,null,null,null,-95.573424125517874,null,null,null,-41.923894182527029,null,null,null,-137.4973183080449,1,null,null,-20.162578161511295]
[null,null,null,null,null,null,null,null,null,null,null,null,null,null,null,null,null,null,null,null,null,null,null,null,null,null,null,null,null,null,794.32823472428424,null,null,null,-97.717206100148488,null,null,null,-35.500571998205714,null,null,null,-133.21777809835419,1,null,null,-30.206374544717715]
[null,null,null,null,null,null,null,null,null,null,null,null,null,null,null,null,null,null,null,null,null,null,null,null,null,null,null,null,null,null,1000.0000000000033,null,null,null,-100.99743547037183,null,null,null,-29.535925069999852,null,null,null,-130.53336054037169,1,null,null,-41.369933483441379]
[null,null,null,null,null,null,null,null,null,null,null,null,null,null,null,null,null,null,null,null,null,null,null,null,null,null,null,null,null,null,1258.9254117941723,null,null,null,-106.11057904896708,null,null,null,-24.230937786502427,null,null,null,-130.34151683546952,1,null,null,-52.685207840099238]
[null,null,null,null,null,null,null,null,null,null,null,null,null,null,null,null,null,null,null,null,null,null,null,null,null,null,null,null,null,null,{"$f":"10^AD35","v":1584.89319246112},null,null,null,{"$f":"IMARGUMENT(AG35)*180/PI()","v":-114.12489588864595},null,null,null,-19.672017169892225,null,null,null,{"$f":"AI35+AM35","v":-133.79691305853817},1,null,null,{"$f":"IMARGUMENT(AS35)*180/PI()","v":-64.717924928090781}]
[null,null,null,null,null,null,null,null,null,null,null,null,null,null,null,null,null,null,null,null,null,null,null,null,null,null,null,null,null,null,1995.2623149688875,null,null,null,-126.59586554170912,null,null,null,{"$f":"IF(AM35=\"\",\"\",IF(IMARGUMENT(AK36)*180/PI()>0,\"\",IMARGUMENT(AK36)*180/PI()))","v":-15.853119224124272},null,null,null,-142.44898476583339,{"$f":"IF(AR87=0,0,IF(AQ88<0,1,0))","v":1},null,null,-80.834801455753933]
[null,null,null,null,null,null,null,null,null,null,null,null,null,null,null,null,null,null,null,null,null,null,null,null,null,null,null,null,null,null,2511.8864315095921,null,null,null,-145.54613167405444,null,null,null,-12.711346664048611,null,null,null,-158.25747833810306,1,null,null,-113.48328949885159]
[null,null,null,null,null,null,null,null,null,null,null,null,null,null,null,null,null,null,null,null,null,null,null,null,null,null,null,null,null,null,3162.2776601683972,null,null,null,-172.53315013758271,null,null,null,-10.158176109526689,null,null,null,-182.6913262471094,1,null,null,172.89942715340274]
[null,null,null,null,null,null,null,null,null,null,null,null,null,null,null,null,null,null,null,null,null,null,null,null,null,null,null,null,null,null,3981.071705534991,null,null,null,154.28900113455416,null,null,null,-8.1001464322498595,null,null,null,146.1888547023043,0,null,null,125.44041367579833]
[null,null,null,null,null,null,null,null,null,null,null,null,null,null,null,null,null,null,null,null,null,null,null,null,null,null,null,null,null,null,5011.8723362727505,null,null,null,120.51549833057224,null,null,null,-6.4500009638710667,null,null,null,114.06549736670118,0,null,null,99.351594981089775]
[null,null,null,null,null,null,null,null,null,null,null,null,null,null,null,null,null,null,null,null,null,null,null,null,null,null,null,null,null,null,6309.5734448019721,null,null,null,89.176698291288645,null,null,null,-5.1314071171072975,null,null,null,84.045291174181344,0,null,null,76.343989516449469]
[null,null,null,null,null,null,null,null,null,null,null,null,null,null,null,null,null,null,null,null,null,null,null,null,null,null,null,null,null,null,7943.2823472428581,null,null,null,59.226583873827856,null,null,null,-4.0800440315673798,null,null,null,55.146539842260474,0,null,null,51.942839237683003]
[null,null,null,null,null,null,null,null,null,null,null,null,null,null,null,null,null,null,null,null,null,null,null,null,null,null,null,null,null,null,10000.000000000044,null,null,null,28.499834641709299,null,null,null,-3.2429160349879007,null,null,null,25.256918606721399,0,null,null,24.404419108197231]
[null,null,null,null,null,null,null,null,null,null,null,null,null,null,null,null,null,null,null,null,null,null,null,null,null,null,null,null,null,null,12589.254117941715,null,null,null,-5.0867378871663673,null,null,null,-2.5769549582882414,null,null,null,-7.6636928454546087,0,null,null,-7.5273128100577189]
[null,null,null,null,null,null,null,null,null,null,null,null,null,null,null,null,null,null,null,null,null,null,null,null,null,null,null,null,null,null,15848.931924611175,null,null,null,-43.550136917801836,null,null,null,-2.0474574716768164,null,null,null,-45.597594389478651,0,null,null,-45.225559899880423]
[null,null,null,null,null,null,null,null,null,null,null,null,null,null,null,null,null,null,null,null,null,null,null,null,null,null,null,null,null,null,19952.623149688861,null,null,null,-89.045726646861596,null,null,null,-1.6266087648392358,null,null,null,-90.672335411700828,0,null,null,-90.408799718038395]
[null,null,null,null,null,null,null,null,null,null,null,null,null,null,null,null,null,null,null,null,null,null,null,null,null,null,null,null,null,null,25118.86431509586,null,null,null,-144.04940688618706,null,null,null,-1.2921893739925649,null,null,null,-145.34159626017961,0,null,null,-145.26610672755106]
[null,null,null,null,null,null,null,null,null,null,null,null,null,null,null,null,null,null,null,null,null,null,null,null,null,null,null,null,null,null,31622.77660168384,null,null,null,148.47611881019148,null,null,null,-1.0264867277699701,null,null,null,147.44963208242152,0,null,null,147.41374671321387]
[null,null,null,null,null,null,null,null,null,null,null,null,null,null,null,null,null,null,null,null,null,null,null,null,null,null,null,null,null,null,39810.717055349742,null,null,null,64.905008972873745,null,null,null,-0.81539958429717474,null,null,null,64.089609388576577,0,null,null,64.059449999969942]
[null,null,null,null,null,null,null,null,null,null,null,null,null,null,null,null,null,null,null,null,null,null,null,null,null,null,null,null,null,null,50118.723362727207,null,null,null,-39.257375512824211,null,null,null,-0.64771104941158841,null,null,null,-39.905086562235802,0,null,null,-39.894244726101853]
[null,null,null,null,null,null,null,null,null,null,null,null,null,null,null,null,null,null,null,null,null,null,null,null,null,null,null,null,null,null,63095.734448019233,null,null,null,-169.62219281399797,null,null,null,-0.51450326275145153,null,null,null,-170.13669607674942,0,null,null,-170.13523415207422]
[null,null,null,null,null,null,null,null,null,null,null,null,null,null,null,null,null,null,null,null,null,null,null,null,null,null,null,null,null,null,79432.823472427961,null,null,null,26.789057830857612,null,null,null,-0.40868852238145831,null,null,null,26.380369308476155,0,null,null,26.378453594847695]

{"sheet":"Drehzahlregelkreis","index":4,"n_rows":104,"n_cols":47,"rows_kept":104,"cut":false,"hidden":false,"merged":[]}
[]
[null,null,null,null,null,null,null,null,null,null,null,null,null,null,null,null,null,null,null,null,null,"Funktion","gewählt","[   ]","umgerechnet","[   ]","ω","[   ]",null,"ωx","ω","s=jω","Strecke H(jω)","Betrag Strecke [dB]","Phase Strecke [°]",null,"Regler H(jw)","Betrag Regler [dB]","Phase Regler [°]",null,"Regler+Strecke H(jw)","Betrag Regler+Strecke [dB]","Phase Regler+Strecke [°]","Anzeigen?","Geschlossener Kreis","Betrag Kreis [dB]","Phase Kreis [°]"]
[null,null,null,null,null,null,null,null,null,null,null,null,null,null,null,null,null,null,null,null,null,"Reglertyp:",null,null,{"$f":"LEFT(W3,3)","v":""},null,null,null,null,{"$f":"$W$34","v":0},{"$f":"10^AD3","v":1},{"$f":"COMPLEX(0,AE3,\"j\")","v":"j"},{"$f":"IMPRODUCT(VS_DR,Stromregelkreis!AS3,IMDIV(1,IMPRODUCT(AF3,JM_EMS+JL_EMS)),IMEXP(IMPRODUCT(AF3,TT_DR,-1)))","v":"-0,215886658769088-1454,39432534429j"},{"$f":"20*LOG10(IMABS(AG3))","v":63.253643523308504},{"$f":"IMARGUMENT(AG3)*180/PI()","v":-90.008504842252364},null,{"$f":"IMPRODUCT(KP_DR,IMSUM(1,IMDIV(1,IMPRODUCT(TN_DR,AF3))))","v":"2,31603007518798-3900,68223189557j"},{"$f":"20*LOG10(IMABS(AK3))","v":71.822812972282264},{"$f":"IF(IMARGUMENT(AK3)*180/PI()>0,\"\",IMARGUMENT(AK3)*180/PI())","v":-89.96598063491183},null,{"$f":"IMPRODUCT(AK3,AG3)","v":"-5673130,60304021-2526,31574471622j"},{"$f":"20*LOG10(IMABS(AO3))","v":135.07645649559075},{"$f":"AI3+AM3","v":-179.97448547716419},1,{"$f":"IMDIV(AO3,IMSUM(1,AO3))","v":"1,00000017626951-7,84950250186524E-11j"},{"$f":"20*LOG10(IMABS(AS3))","v":1.5310573763389716E-6},{"$f":"IMARGUMENT(AS3)*180/PI()","v":-4.4974328535823029E-9}]
[null,null,null,null,null,null,null,null,null,null,null,null,null,null,null,null,null,null,null,null,null,"Motortyp:",null,null,null,null,null,null,null,{"$f":"AD3+$W$36","v":0.1},1.2589254117941673,"1,25892541179417j",{"$f":"IMPRODUCT(VS_DR,Stromregelkreis!AS4,IMDIV(1,IMPRODUCT(AF4,JM_EMS+JL_EMS)),IMEXP(IMPRODUCT(AF4,TT_DR,-1)))","v":"-0,215886657390478-1155,26646622104j"},61.253643497906921,-90.010706962020748,null,"2,31603007518798-3098,42203148197j",69.822813867787048,{"$f":"IF(AM3=\"\",\"\",IF(IMARGUMENT(AK4)*180/PI()>0,\"\",IMARGUMENT(AK4)*180/PI()))","v":-89.957172159741049},null,"-3579503,57117158-2006,72390506241j",131.07645736569395,-179.9678791217618,1,"1,00000027936834-1,56618164653296E-10j",2.426562230805401E-6,-8.9735573227910569E-9]
[null,null,null,null,null,null,null,null,null,null,null,null,null,null,null,null,null,null,null,null,null,"Abtastzeit",62.5,"[µs]",{"$f":"W5/1000000","v":6.2500000000000001E-5},"[s]",{"$f":"1/Y5","v":16000},"[1/s]",null,0.2,1.5848931924611136,"1,58489319246111j",{"$f":"IMPRODUCT(VS_DR,Stromregelkreis!AS5,IMDIV(1,IMPRODUCT(AF5,JM_EMS+JL_EMS)),IMEXP(IMPRODUCT(AF5,TT_DR,-1)))","v":"-0,215886655205528-917,660759124543j"},59.253643457648124,-90.013479266542973,null,"2,31603007518798-2461,16410269791j",67.822815287066206,-89.946082949439145,null,"-2258514,21881183-1593,99743090891j",127.07645874471436,-179.95956221598212,1,"1,00000044276894-3,12494319555038E-10j",3.8458412962170356E-6,-1.7904597704716398E-8]
[null,null,null,null,null,null,null,null,null,null,null,null,null,null,null,null,null,null,null,null,null,"Totzeit Drehzahlregler",{"$f":"W5/2*1.55","v":48.4375},"[µs]",{"$f":"W6/1000000","v":4.8437499999999998E-5},"[s]",{"$f":"1/TT_DR","v":20645.16129032258},"[1/s]",null,0.30000000000000004,1.99526231496888,"1,99526231496888j",{"$f":"IMPRODUCT(VS_DR,Stromregelkreis!AS6,IMDIV(1,IMPRODUCT(AF6,JM_EMS+JL_EMS)),IMEXP(IMPRODUCT(AF6,TT_DR,-1)))","v":"-0,215886651742618-728,923833718315j"},57.253643393842211,-90.016969391127304,null,"2,31603007518798-1954,97213706278j",65.822817536470964,-89.932122466638873,null,"-1425026,28496027-1266,15713249235j",123.07646093031317,-179.94909185776618,1,"1,00000070174138-6,23508132255236E-10j",6.0952460415777452E-6,-3.5724359401048509E-8]
[null,null,null,null,null,null,null,null,null,null,null,null,null,null,null,null,null,null,null,null,null,"Reglernennstrom",null,"[A]",{"$f":"W7","v":0},null,null,null,null,0.4,2.5118864315095806,"2,51188643150958j",{"$f":"IMPRODUCT(VS_DR,Stromregelkreis!AS7,IMDIV(1,IMPRODUCT(AF7,JM_EMS+JL_EMS)),IMEXP(IMPRODUCT(AF7,TT_DR,-1)))","v":"-0,215886646254276-579,004760491798j"},55.253643292716703,-90.021363197601147,null,"2,31603007518798-1552,88956656824j",63.822821101535034,-89.914547271744127,null,"-899130,951561022-1005,74431844634j",119.07646439425173,-179.93591046934529,1,"1,00000111218489-1,2440622571393E-09j",9.6603098393091953E-6,-7.1279437509687487E-8]
[null,null,null,null,null,null,null,null,null,null,null,null,null,null,null,null,null,null,null,null,null,"interner Faktor",1,"[s/rad]",null,"[1]",null,null,null,0.5,3.1622776601683795,"3,16227766016838j",{"$f":"IMPRODUCT(VS_DR,Stromregelkreis!AS8,IMDIV(1,IMPRODUCT(AF8,JM_EMS+JL_EMS)),IMEXP(IMPRODUCT(AF8,TT_DR,-1)))","v":"-0,215886637555838-459,919802113008j"},53.253643132443507,-90.026894672114366,null,"2,31603007518798-1233,5040281339j",61.822826751774727,-89.892421435545359,null,"-567313,428524887-798,891056822821j",115.07646988421824,-179.91931610765971,1,"1,00000176269365-2,48223046861244E-09j",1.5310549015123559E-5,-1.4222107893808063E-7]
[null,null,null,null,null,null,null,null,null,null,null,null,null,null,null,null,null,null,null,null,null,null,null,null,null,null,null,null,null,0.6,3.9810717055349727,"3,98107170553497j",{"$f":"IMPRODUCT(VS_DR,Stromregelkreis!AS9,IMDIV(1,IMPRODUCT(AF9,JM_EMS+JL_EMS)),IMEXP(IMPRODUCT(AF9,TT_DR,-1)))","v":"-0,215886623769744-365,327250302784j"},51.253642878427655,-90.033858385721956,null,"2,31603007518798-979,807077192896j",59.822835706786194,-89.864566704530162,null,"-357950,725338002-634,5816571461j",111.07647858521386,-179.89842509025212,1,"1,00000279367963-4,95270068723247E-09j",2.4265559055861814E-5,-2.8376805381293128E-7]
[null,null,null,null,null,null,null,null,null,null,null,null,null,null,null,null,null,null,null,null,null,"KT Faktor",{"$f":"KT_M","v":0.7},"[Nm/A]",{"$f":"W10","v":0.7},null,null,null,null,0.7,5.0118723362727229,"5,01187233627272j",{"$f":"IMPRODUCT(VS_DR,Stromregelkreis!AS10,IMDIV(1,IMPRODUCT(AF10,JM_EMS+JL_EMS)),IMEXP(IMPRODUCT(AF10,TT_DR,-1)))","v":"-0,215886601920262-290,189706743748j"},49.253642475839705,-90.042625181300394,null,"2,31603007518798-778,28842599699j",57.822849899485014,-89.829499768461275,null,"-225851,790101983-504,066044726141j",107.07649237532472,-179.87212494976166,1,"1,00000442767997-9,88193633145655E-09j",3.8458254431717465E-5,-5.6619073829806099E-7]
[null,null,null,null,null,null,null,null,null,null,null,null,null,null,null,null,null,null,null,null,null,"Trägheitsmoment Motor",{"$f":"JM_EMS*10000","v":0.81299999999999994},"[kgcm^2]",{"$f":"JM_EMS","v":8.1299999999999997E-5},"[kgm^2]",null,null,null,0.79999999999999993,6.3095734448019334,"6,30957344480193j",{"$f":"IMPRODUCT(VS_DR,Stromregelkreis!AS11,IMDIV(1,IMPRODUCT(AF11,JM_EMS+JL_EMS)),IMEXP(IMPRODUCT(AF11,TT_DR,-1)))","v":"-0,215886567291175-230,505823250949j"},47.253641837780862,-90.053661922150965,null,"2,31603007518798-618,21647152853j",55.822872393301779,-89.785353296379867,null,"-142502,996716763-400,393787274006j",103.07651423108261,-179.83901521853085,1,"1,00000701739013-1,97170529263882E-08j",6.0952062357212576E-5,-1.1296959896006253E-6]
[null,null,null,null,null,null,null,null,null,null,null,null,null,null,null,null,null,null,null,null,null,"Trägheitsmoment Last",{"$f":"JL_EMS*10000","v":4},"[kgcm^2]",{"$f":"JL_EMS","v":4.0000000000000002E-4},"[kgm^2]",null,null,null,0.89999999999999991,7.943282347242814,"7,94328234724281j",{"$f":"IMPRODUCT(VS_DR,Stromregelkreis!AS12,IMDIV(1,IMPRODUCT(AF12,JM_EMS+JL_EMS)),IMEXP(IMPRODUCT(AF12,TT_DR,-1)))","v":"-0,215886512407791-183,097215390026j"},45.253640826525931,-90.067556353909112,null,"2,31603007518798-491,066798506732j",53.822908043360187,-89.729776549654602,null,"-89913,4633767332-318,043959037594j",99.076548869886111,-179.7973329035637,1,"1,00001112178946-3,93406855968951E-08j",9.6602098642447896E-5,-2.2540301790041067E-6]
[null,null,null,null,null,null,null,null,null,null,null,null,null,null,null,null,null,null,null,null,null,null,null,null,null,null,null,null,null,0.99999999999999989,9.9999999999999982,"10j",{"$f":"IMPRODUCT(VS_DR,Stromregelkreis!AS13,IMDIV(1,IMPRODUCT(AF13,JM_EMS+JL_EMS)),IMEXP(IMPRODUCT(AF13,TT_DR,-1)))","v":"-0,215886425423543-145,439201916048j"},43.253639223795346,-90.085048403616156,null,"2,31603007518798-390,068223189554j",51.822964544295537,-89.659810306775341,null,"-56731,7110729537-252,631131373199j",95.076603768090877,-179.7448587103915,1,"1,00001762678716-7,84949650621341E-08j",1.5310297862051333E-4,-4.4973509372393712E-6]
[null,null,null,null,null,null,null,null,null,null,null,null,null,null,null,null,null,null,null,null,null,null,null,null,null,null,null,null,null,1.0999999999999999,12.589254117941675,"12,5892541179417j",{"$f":"IMPRODUCT(VS_DR,Stromregelkreis!AS14,IMDIV(1,IMPRODUCT(AF14,JM_EMS+JL_EMS)),IMEXP(IMPRODUCT(AF14,TT_DR,-1)))","v":"-0,215886287562929-115,526356290936j"},41.253636683639684,-90.107069582481927,null,"2,31603007518798-309,842203148197j",49.823054090737813,-89.571729493875978,null,"-35795,440754002-200,671832678707j",91.076690774377496,-179.6787990763579,1,"1,00002793642113-1,56617975012042E-07j",2.4264928156302832E-4,-8.9732982822355849E-6]
[null,null,null,null,null,null,null,null,null,null,null,null,null,null,null,null,null,null,null,null,null,null,null,null,null,null,null,null,null,1.2,15.848931924611136,"15,8489319246111j",{"$f":"IMPRODUCT(VS_DR,Stromregelkreis!AS15,IMDIV(1,IMPRODUCT(AF15,JM_EMS+JL_EMS)),IMEXP(IMPRODUCT(AF15,TT_DR,-1)))","v":"-0,215886069068914-91,7657104075165j"},39.25363265776749,-90.134792590157375,null,"2,31603007518798-246,116410269791j",47.823196008502649,-89.460845249599231,null,"-22585,5472299839-159,399040828302j",87.076828666270117,-179.59563783975659,1,"1,00004427585723-3,12493719831581E-07j",3.8456669650843841E-4,-1.7903778565548957E-5]
[null,null,null,null,null,null,null,null,null,null,null,null,null,null,null,null,null,null,null,null,null,"Verstärkung der Stecke",{"$f":"W8*W10","v":0.7},"[Nm*s/rad]",null,null,null,null,null,1.3,19.952623149688804,"19,9526231496888j",{"$f":"IMPRODUCT(VS_DR,Stromregelkreis!AS16,IMDIV(1,IMPRODUCT(AF16,JM_EMS+JL_EMS)),IMEXP(IMPRODUCT(AF16,TT_DR,-1)))","v":"-0,215885722780069-72,891923229069j"},37.253626277197625,-90.169693761085085,null,"2,31603007518798-195,497213706278j",45.823420923502766,-89.321256101174612,null,"-14250,6678908017-126,614829154348j",83.077047200700406,-179.4909498622597,1,"1,000070171534-6,23506235848686E-07j",6.0948081789448448E-4,-3.572176916287424E-5]
[null,null,null,null,null,null,null,null,null,null,null,null,null,null,null,null,null,null,null,null,null,"Summenzeitkonstante T_Ersatz_I+T_s",{"$f":"1/Stromregelkreis!W39+TT_DR","v":1.4843749999999956E-4},"[s]",{"$f":"W17*1000","v":0.14843749999999956},"[ms]",{"$f":"1/W17","v":6736.8421052631775},"[1/s]",null,1.4000000000000001,25.118864315095809,"25,1188643150958j",{"$f":"IMPRODUCT(VS_DR,Stromregelkreis!AS17,IMDIV(1,IMPRODUCT(AF17,JM_EMS+JL_EMS)),IMEXP(IMPRODUCT(AF17,TT_DR,-1)))","v":"-0,215885173951323-57,8998967651435j"},35.253616164695124,-90.213631676347262,null,"2,31603007518798-155,288956656824j",43.823777365897513,-89.145535434965083,null,"-8991,71455575261-100,573318837774j",79.07739353059263,-179.35916711131233,1,"1,00011121194816-1,24405625959055E-06j",9.6592100488908416E-4,-7.1271246937113623E-5]
[null,null,null,null,null,null,null,null,null,null,null,null,null,null,null,null,null,null,null,null,null,null,null,null,null,null,null,null,null,1.5000000000000002,31.622776601683817,"31,6227766016838j",{"$f":"IMPRODUCT(VS_DR,Stromregelkreis!AS18,IMDIV(1,IMPRODUCT(AF18,JM_EMS+JL_EMS)),IMEXP(IMPRODUCT(AF18,TT_DR,-1)))","v":"-0,215884304121623-45,9912509386612j"},33.253600137506922,-90.268946123236432,null,"2,31603007518798-123,35040281339j",41.824342229104346,-88.924339483502166,null,"-5673,53932371667-79,8877044949662j",75.077942366611282,-179.19328560673858,1,"1,00017625293449-2,48221150060915E-06j",1.5307786659634593E-3,-1.421951805256091E-4]
[null,null,null,null,null,null,null,null,null,null,null,null,null,null,null,null,null,null,null,null,null,"Reglereinstellung:",null,null,null,null,null,null,null,1.6000000000000003,39.81071705534977,"39,8107170553498j",{"$f":"IMPRODUCT(VS_DR,Stromregelkreis!AS19,IMDIV(1,IMPRODUCT(AF19,JM_EMS+JL_EMS)),IMEXP(IMPRODUCT(AF19,TT_DR,-1)))","v":"-0,215882925547622-36,5318069359155j"},31.253574736246577,-90.338582664241699,null,"2,31603007518798-97,9807077192891j",39.825237326490274,-88.645916677398205,null,"-3579,91228919372-63,4564017348745j",71.078812062736858,-178.98449934163989,1,"1,00027932668992-4,95264069593076E-06j",2.4258621198446264E-3,-2.8368616820090899E-4]
[null,null,null,null,null,null,null,null,null,null,null,null,null,null,null,null,null,null,null,null,null,"P-Anteil",{"$f":"B7","v":0},"[1]",{"$f":"W20","v":0},"[1]",null,null,null,1.7000000000000004,50.11872336272728,"50,1187233627273j",{"$f":"IMPRODUCT(VS_DR,Stromregelkreis!AS20,IMDIV(1,IMPRODUCT(AF20,JM_EMS+JL_EMS)),IMEXP(IMPRODUCT(AF20,TT_DR,-1)))","v":"-0,215880740688158-29,0178148730157j"},29.253534478266403,-90.426249432713405,null,"2,31603007518798-77,828842599699j",37.826655582459061,-88.295495667555116,null,"-2258,92293262723-50,4043837748163j",67.080190060725457,-178.72174510026852,1,"1,0004426643187-9,88174657375065E-06j",3.8440830862888171E-3,-5.6593185503632081E-4]
[null,null,null,null,null,null,null,null,null,null,null,null,null,null,null,null,null,null,null,null,null,"Nachstellzeit Drehzahlregler",{"$f":"TN_DR*1000","v":0.59374999999999822},"[ms]",{"$f":"TN_DR","v":5.9374999999999825E-4},"[s]",{"$f":"1/Y21","v":1684.2105263157944},"[1/s]",null,1.8000000000000005,63.095734448019414,"63,0957344480194j",{"$f":"IMPRODUCT(VS_DR,Stromregelkreis!AS21,IMDIV(1,IMPRODUCT(AF21,JM_EMS+JL_EMS)),IMEXP(IMPRODUCT(AF21,TT_DR,-1)))","v":"-0,215877278002367-23,0491272792698j"},27.253470674432055,-90.536614472248047,null,"2,31603007518798-61,8216471528528j",35.828902418400638,-87.854526258871061,null,"-1425,43499210862-40,0365830766439j",63.082373092832725,-178.39114073111909,1,"1,0007014785695-0,0000197164526143879j",6.0908310805756795E-3,-1.1288776381571729E-3]
[null,null,null,null,null,null,null,null,null,null,null,null,null,null,null,null,null,null,null,null,null,null,null,null,null,null,null,null,null,1.9000000000000006,79.432823472428254,"79,4328234724283j",{"$f":"IMPRODUCT(VS_DR,Stromregelkreis!AS22,IMDIV(1,IMPRODUCT(AF22,JM_EMS+JL_EMS)),IMEXP(IMPRODUCT(AF22,TT_DR,-1)))","v":"-0,215871790223954-18,3078897884863j"},25.253369554089339,-90.675554063202043,null,"2,31603007518798-49,1066798506729j",33.832461034036115,-87.299746396581014,null,"-899,539648143144-31,8008764720418j",59.085830588125461,-177.97530045978306,1,"1,00111152467695-0,0000393387860182061j",9.6492257003304386E-3,-2.2514438734272699E-3]
[null,null,null,null,null,null,null,null,null,null,null,null,null,null,null,null,null,null,null,null,null,null,null,null,null,null,null,null,null,2.0000000000000004,100.00000000000013,"100j",{"$f":"IMPRODUCT(VS_DR,Stromregelkreis!AS23,IMDIV(1,IMPRODUCT(AF23,JM_EMS+JL_EMS)),IMEXP(IMPRODUCT(AF23,TT_DR,-1)))","v":"-0,215863093205565-14,5416142414164j"},23.253209293969313,-90.85046512969997,null,"2,31603007518798-39,0068223189556j",31.838095093553811,-86.602052375362035,null,"-567,722108361711-25,2586826030126j",55.091304387523124,-177.45251750506202,1,"1,00176103500772-0,0000784889519158892j",1.5282729645277687E-2,-4.489180070722857E-3]
[null,null,null,null,null,null,null,null,null,null,null,null,null,null,null,null,null,null,null,null,null,"errechnete Standardwerte:",null,null,null,null,null,null,null,2.1000000000000005,125.89254117941688,"125,892541179417j",{"$f":"IMPRODUCT(VS_DR,Stromregelkreis!AS24,IMDIV(1,IMPRODUCT(AF24,JM_EMS+JL_EMS)),IMEXP(IMPRODUCT(AF24,TT_DR,-1)))","v":"-0,215849310677049-11,5497327835432j"},21.252955310909172,-91.070658102805936,null,"2,31603007518798-30,9842203148197j",29.847009531370357,-85.725165039864478,null,"-358,359378637835-20,061605890251j",51.099964842279533,-176.79582314267043,1,"1,00278951227698-0,000156598928899482j",2.4195770309527496E-2,-8.9474984724354101E-3]
[null,null,null,null,null,null,null,null,null,null,null,null,null,null,null,null,null,null,null,null,null,"P-Anteil",{"$f":"(JM_EMS+JL_EMS)/(2*VS_DR*(W17))","v":2.3160300751879772},"[1]",{"$f":"W25","v":2.3160300751879772},"[1]",null,null,null,2.2000000000000006,158.48931924611168,"158,489319246112j",{"$f":"IMPRODUCT(VS_DR,Stromregelkreis!AS25,IMDIV(1,IMPRODUCT(AF25,JM_EMS+JL_EMS)),IMEXP(IMPRODUCT(AF25,TT_DR,-1)))","v":"-0,215827470148269-9,17291692132622j"},19.252552805309303,-91.34785064048954,null,"2,31603007518798-24,6116410269789j",27.86110058834403,-84.624124527799822,null,"-226,260401349897-15,9328832479421j",47.113653393653351,-175.97197516828936,1,"1,00441720795212-0,000312433335647308j",3.828331135912056E-2,-1.7822385750364777E-2]
[null,null,null,null,null,null,null,null,null,null,null,null,null,null,null,null,null,null,null,null,null,"Nachstellzeit Drehzahlregler",{"$f":"4*Y17","v":0.59374999999999822},"[ms]",{"$f":"W26/1000","v":5.9374999999999825E-4},"[s]",{"$f":"1/Y26","v":1684.2105263157944},"[1/s]",null,2.3000000000000007,199.52623149688836,"199,526231496888j",{"$f":"IMPRODUCT(VS_DR,Stromregelkreis!AS26,IMDIV(1,IMPRODUCT(AF26,JM_EMS+JL_EMS)),IMEXP(IMPRODUCT(AF26,TT_DR,-1)))","v":"-0,215792863546807-7,28459275050561j"},17.25191495332804,-91.696787458611212,null,"2,31603007518798-19,5497213706278j",25.883340177219605,-83.243733743817259,null,"-142,911541332865-12,6526455395573j",43.135255130547634,-174.94052120242847,1,"1,00699106931826-0,000623314504201556j",6.0514043014173374E-2,-3.5465345152558496E-2]
[null,null,null,null,null,null,null,null,null,null,null,null,null,null,null,null,null,null,null,null,null,null,null,null,null,null,null,null,null,2.4000000000000008,251.18864315095851,"251,188643150959j",{"$f":"IMPRODUCT(VS_DR,Stromregelkreis!AS27,IMDIV(1,IMPRODUCT(AF27,JM_EMS+JL_EMS)),IMEXP(IMPRODUCT(AF27,TT_DR,-1)))","v":"-0,215738036628403-5,78420053693786j"},15.25090421792294,-92.136017212621169,null,"2,31603007518798-15,5288956656824j",23.918355915406124,-81.517248007886124,null,"-90,3219024286855-10,0462089425449j",39.169260133329061,-173.65326522050731,1,"1,01105560959446-0,00124344601887297j",9.5507430909953991E-2,-7.0465137958855104E-2]
[null,null,null,null,null,null,null,null,null,null,null,null,null,null,null,null,null,null,null,null,null,null,null,null,null,null,null,null,null,2.5000000000000009,316.22776601683881,"316,227766016839j",{"$f":"IMPRODUCT(VS_DR,Stromregelkreis!AS28,IMDIV(1,IMPRODUCT(AF28,JM_EMS+JL_EMS)),IMEXP(IMPRODUCT(AF28,TT_DR,-1)))","v":"-0,215651194148966-4,59183974875862j"},13.249302791944723,-92.688863683399958,null,"2,31603007518798-12,335040281339j",21.973280219924916,-79.365941366365377,null,"-57,1399829177903-7,97477279202223j",35.222583011869631,-172.05480504976532,1,"1,01746029165319-0,00248026186649488j",0.15037518832830285,-0.13966958388129588]
[null,null,null,null,null,null,null,null,null,null,null,null,null,null,null,null,null,null,null,null,null,null,null,null,null,null,null,null,null,2.600000000000001,398.10717055349835,"398,107170553498j",{"$f":"IMPRODUCT(VS_DR,Stromregelkreis!AS29,IMDIV(1,IMPRODUCT(AF29,JM_EMS+JL_EMS)),IMEXP(IMPRODUCT(AF29,TT_DR,-1)))","v":"-0,215513689386519-3,64401446888288j"},11.246765911794739,-93.384634797556842,null,"2,31603007518798-9,79807077192891j",20.058931067447947,-76.700751578160393,null,"-36,2034478462813-6,32802872342428j",31.30569697924269,-170.08538637571723,1,"1,0275171683529-0,00494637435755689j",0.23588238208643034,-0.27581455000988203]
[null,null,null,null,null,null,null,null,null,null,null,null,null,null,null,null,null,null,null,null,null,"Bodediagramm:",null,null,null,null,null,null,null,2.7000000000000011,501.1872336272736,"501,187233627274j",{"$f":"IMPRODUCT(VS_DR,Stromregelkreis!AS30,IMDIV(1,IMPRODUCT(AF30,JM_EMS+JL_EMS)),IMEXP(IMPRODUCT(AF30,TT_DR,-1)))","v":"-0,215296088196483-2,89025281438034j"},9.2427482607383329,-94.260117617262949,null,"2,31603007518798-7,78288425996988j",18.191310458257604,-73.428051696075656,null,"-22,9931353517078-5,01828790694407j",27.434058718995949,-167.68816931333862,1,"1,04321860319308-0,00986141313143865j",0.36789451460445566,-0.54159360488424391]
[null,null,null,null,null,null,null,null,null,null,null,null,null,null,null,null,null,null,null,null,null,"untere Grenze von f",1,"[1/s]",null,null,null,null,null,2.8000000000000012,630.95734448019539,"630,957344480195j",{"$f":"IMPRODUCT(VS_DR,Stromregelkreis!AS31,IMDIV(1,IMPRODUCT(AF31,JM_EMS+JL_EMS)),IMEXP(IMPRODUCT(AF31,TT_DR,-1)))","v":"-0,214952037939015-2,29042072545887j"},7.2363883164500056,-95.361406771797832,null,"2,31603007518798-6,18216471528526j",16.393186745093548,-69.462496460267147,null,"-14,6575935766796-3,97581438057138j",23.629575061543552,-164.82390323206499,1,"1,06749925185098-0,019649471532464j",0.56882280554852949,-1.0545250140807587]
[null,null,"KP_LR","TN_LR",null,null,"KP_VDR","KP_DR","TN_DR",null,null,null,null,null,"KP_VSR","KP_SR","TN_SR",null,null,null,null,"obere Grenze von f",100000,"[1/s]",null,null,null,null,null,2.9000000000000012,794.32823472428424,"794,328234724284j",{"$f":"IMPRODUCT(VS_DR,Stromregelkreis!AS32,IMDIV(1,IMPRODUCT(AF32,JM_EMS+JL_EMS)),IMEXP(IMPRODUCT(AF32,TT_DR,-1)))","v":"-0,21440881607286-1,81258783564859j"},5.2263275233885391,-96.7461004515458,null,"2,31603007518798-4,91066798506729j",14.695076698500191,-64.749917011873393,null,"-9,39759432105213-3,14511743247685j",19.921404221888729,-161.49601746341921,1,"1,104432942596-0,0391128525296979j",0.86823046935904979,-2.0282491754261849]
[null,null,{"$f":"KP_LR","v":1133.2015763960812},{"$f":"ROUND(TN_LR*1000,2)&\"  ms\"","v":"1,76  ms"},null,null,{"$f":"KP_VDR","v":1},{"$f":"KP_DR","v":2.3160300751879772},{"$f":"ROUND(TN_DR*1000,2)&\"  ms\"","v":"0,59  ms"},{"$f":"\"=   \"&ROUND(1/TN_DR,0)&\"  Hz\"","v":"=   1684  Hz"},null,null,null,null,{"$f":"KP_VSR","v":1},{"$f":"KP_SR","v":70.193548387096769},{"$f":"ROUND(TN_SR*1000,2)&\"  ms\"","v":"2,34  ms"},null,null,null,null,"feste Anzahl der Intervalle von f",50,"[1]",null,null,null,null,null,3.0000000000000013,1000.0000000000033,"1000j",{"$f":"IMPRODUCT(VS_DR,Stromregelkreis!AS33,IMDIV(1,IMPRODUCT(AF33,JM_EMS+JL_EMS)),IMEXP(IMPRODUCT(AF33,TT_DR,-1)))","v":"-0,213553006162165-1,43133323781408j"},3.2104298289115385,-98.485857457664551,null,"2,31603007518798-3,90068223189557j",13.134309608831369,-59.300277449185742,null,"-6,07777131358132-2,48200840968896j",16.344739437742916,-157.78613490685029,1,"1,15895789772072-0,0776984260543703j",1.300829164451732,-3.8354630312365634]
[null,null,null,null,null,null,null,null,null,null,null,null,null,null,null,null,null,null,null,null,null,"untere Grenze für Exponent von ω",{"$f":"LOG10(W31)","v":0},"[1]",null,null,null,null,null,3.1000000000000014,1258.9254117941723,"1258,92541179417j",{"$f":"IMPRODUCT(VS_DR,Stromregelkreis!AS34,IMDIV(1,IMPRODUCT(AF34,JM_EMS+JL_EMS)),IMEXP(IMPRODUCT(AF34,TT_DR,-1)))","v":"-0,212209395958268-1,12640367318494j"},1.1853522836133861,-100.66921367361098,null,"2,31603007518798-3,09842203148197j",11.750539217672344,-53.22236486246257,null,"-3,98155730061526-1,95127051617396j",12.935891501285735,-153.89157853607355,1,"1,2348211619422-0,153677948693783j",1.8988322264008324,-7.0941899467702134]
[null,null,null,null,null,null,null,null,null,null,null,null,null,null,null,null,null,null,null,null,null,"obere Grenze für Exponent von ω",{"$f":"LOG10(W32)","v":5},"[1]",null,null,null,null,null,3.2000000000000015,{"$f":"10^AD35","v":1584.89319246112},{"$f":"COMPLEX(0,AE35,\"j\")","v":"1584,89319246112j"},{"$f":"IMPRODUCT(VS_DR,Stromregelkreis!AS35,IMDIV(1,IMPRODUCT(AF35,JM_EMS+JL_EMS)),IMEXP(IMPRODUCT(AF35,TT_DR,-1)))","v":"-0,210111373702895-0,881657659566418j"},{"$f":"20*LOG10(IMABS(AG35))","v":-0.85409868838160796},{"$f":"IMARGUMENT(AG35)*180/PI()","v":-103.40435949924112},null,{"$f":"IMPRODUCT(KP_DR,IMSUM(1,IMDIV(1,IMPRODUCT(TN_DR,AF35))))","v":"2,31603007518798-2,46116410269789j"},{"$f":"20*LOG10(IMABS(AK35))","v":10.577164536555333},-46.740144942094666,null,{"$f":"IMPRODUCT(AK35,AG35)","v":"-2,65652844322847-1,52482708504956j"},{"$f":"20*LOG10(IMABS(AO35))","v":9.7230658481737198},{"$f":"AI35+AM35","v":-150.14450444133578},1,{"$f":"IMDIV(AO35,IMSUM(1,AO35))","v":"1,32678403529819-0,300803255157721j"},{"$f":"20*LOG10(IMABS(AS35))","v":2.6736851889586895},{"$f":"IMARGUMENT(AS35)*180/PI()","v":-12.773934525266334}]
[null,null,null,null,null,null,null,null,null,null,null,null,null,null,null,null,null,null,null,null,null,"Schrittweite Exponent von ω",{"$f":"ABS((W35-W34)/W33)","v":0.1},"[1]",null,null,null,null,null,{"$f":"AD35+$W$36","v":3.3000000000000016},1995.2623149688875,"1995,26231496889j",{"$f":"IMPRODUCT(VS_DR,Stromregelkreis!AS36,IMDIV(1,IMPRODUCT(AF36,JM_EMS+JL_EMS)),IMEXP(IMPRODUCT(AF36,TT_DR,-1)))","v":"-0,206862982106128-0,684247733473345j"},-2.9158993260573829,-106.82120950997064,null,"2,31603007518798-1,95497213706278j",9.6312225062898111,{"$f":"IF(AM35=\"\",\"\",IF(IMARGUMENT(AK36)*180/PI()>0,\"\",IMARGUMENT(AK36)*180/PI()))","v":-40.167872779488519},null,"-1,81678614178961-1,18032696339628j",6.7153231802324163,-146.98908228945916,1,"1,39643821065441-0,572887669630052j",3.5759946470769655,-22.3058518330567]
[null,null,null,null,null,null,null,null,null,null,null,null,null,null,null,null,null,null,null,null,null,null,null,null,null,null,null,null,null,3.4000000000000017,2511.8864315095921,"2511,88643150959j",{"$f":"IMPRODUCT(VS_DR,Stromregelkreis!AS37,IMDIV(1,IMPRODUCT(AF37,JM_EMS+JL_EMS)),IMEXP(IMPRODUCT(AF37,TT_DR,-1)))","v":"-0,201898846596357-0,524009766563833j"},-5.0120801892231306,-111.07147241326419,null,"2,31603007518798-1,55288956656824j",8.9072616498797732,-33.841706060512905,null,"-1,28133310013976-0,900095766672425j",3.8951814606566297,-144.91317847377709,1,"1,31634605983591-1,01211606142451j",4.4045974373052221,-37.556070281344844]
[null,null,null,null,null,null,null,null,null,null,null,null,null,null,null,null,null,null,null,null,null,"Nulldurchgang Betrag Regler+Strecke",{"$f":"MATCH(-0.5,AP3:AP52,-1)+1","v":37},"[Zeile]",null,null,null,null,null,3.5000000000000018,3162.2776601683972,"3162,2776601684j",{"$f":"IMPRODUCT(VS_DR,Stromregelkreis!AS38,IMDIV(1,IMPRODUCT(AF38,JM_EMS+JL_EMS)),IMEXP(IMPRODUCT(AF38,TT_DR,-1)))","v":"-0,194462456714563-0,393040687642483j"},-7.1602832848443416,-116.32455697451233,null,"2,31603007518798-1,2335040281339j",8.3793721693662206,-28.039502946506328,null,"-0,935198169673389-0,670423829674328j",1.2190888845218786,-144.36405992101865,1,"0,857160042899888-1,47778713327868j",4.6517132685477733,-59.88500469056337]
[null,null,null,null,null,null,null,null,null,null,null,null,null,null,null,null,null,null,null,null,null,"ω der Zeile",{"$f":"INDEX(AD2:AU52,W38,2)","v":3162.2776601683972},"[1/s]",{"$f":"1/W39","v":3.1622776601683615E-4},"[s]",null,null,null,3.6000000000000019,3981.071705534991,"3981,07170553499j",{"$f":"IMPRODUCT(VS_DR,Stromregelkreis!AS39,IMDIV(1,IMPRODUCT(AF39,JM_EMS+JL_EMS)),IMEXP(IMPRODUCT(AF39,TT_DR,-1)))","v":"-0,183648816938768-0,285444172799849j"},-9.3852767746958765,-122.75638240669849,null,"2,31603007518798-0,979807077192891j",8.0099304366666608,-22.931013495205917,null,"-0,705016403955641-0,481156878436898j",-1.3753463380292192,-145.68739590190441,1,"0,0739141362399375-1,51056733101973j",3.5931875550580812,-87.198673032182938]
[null,null,null,null,null,null,null,null,null,null,null,null,null,null,null,null,null,null,null,null,null,"Phase Regler+Strecke",{"$f":"INDEX(AD2:AU52,W38,14)","v":-144.36405992101865},"[°]",null,null,null,null,null,3.700000000000002,5011.8723362727505,"5011,87233627275j",{"$f":"IMPRODUCT(VS_DR,Stromregelkreis!AS40,IMDIV(1,IMPRODUCT(AF40,JM_EMS+JL_EMS)),IMEXP(IMPRODUCT(AF40,TT_DR,-1)))","v":"-0,168585379110807-0,197187921601824j"},-11.719584370349011,-130.5287145828722,null,"2,31603007518798-0,778288425996983j",7.7595455705620004,-18.57462298824473,null,"-0,543917885386696-0,325485107539379j",-3.9600387997870197,-149.10333757111692,1,"-0,45271542426975-1,03673707199296j",1.071336261204213,-113.58961012857766]
[null,null,null,null,null,null,null,null,null,null,null,null,null,null,null,null,null,null,null,null,null,"Punkt auf Nulldurchgang",-90,"[°]",null,null,null,null,null,3.800000000000002,6309.5734448019721,"6309,57344480197j",{"$f":"IMPRODUCT(VS_DR,Stromregelkreis!AS41,IMDIV(1,IMPRODUCT(AF41,JM_EMS+JL_EMS)),IMEXP(IMPRODUCT(AF41,TT_DR,-1)))","v":"-0,148812286413626-0,125930256442498j"},-14.201761064355001,-139.76091163161237,null,"2,31603007518798-0,618216471528523j",7.5937974883400603,-14.945469285225387,null,"-0,422505889688009-0,199660054670236j",-6.6079635760149351,-154.70638091683776,1,"-0,546733890783292-0,534760385741871j",-2.3292831540674097,-135.63431059433975]
[null,null,null,null,null,null,null,null,null,null,null,null,null,null,null,null,null,null,null,null,null,"180°-Durchgang Phase Regler+Strecke",{"$f":"MATCH(0,AR55:AR104,-1)","v":43},"[Zeile]",null,null,null,null,null,3.9000000000000021,7943.2823472428581,"7943,28234724286j",{"$f":"IMPRODUCT(VS_DR,Stromregelkreis!AS42,IMDIV(1,IMPRODUCT(AF42,JM_EMS+JL_EMS)),IMEXP(IMPRODUCT(AF42,TT_DR,-1)))","v":"-0,124790806592345-0,0705865200966207j"},-16.870782461205497,-150.50581603550893,null,"2,31603007518798-0,491066798506727j",7.4858661244397009,-11.971106250596293,null,"-0,323681957616416-0,102199881570259j",-9.3849163367657891,-162.47692228610521,1,"-0,445584538944665-0,218445405003923j",-6.0859911244967808,-153.88384687894887]
[null,null,null,null,null,null,null,null,null,null,null,null,null,null,null,null,null,null,null,null,null,"f der Zeile",{"$f":"INDEX(AD3:AU52,W42,2)","v":15848.931924611175},"[1/s]",null,null,null,null,null,4.0000000000000018,10000.000000000044,"10000j",{"$f":"IMPRODUCT(VS_DR,Stromregelkreis!AS43,IMDIV(1,IMPRODUCT(AF43,JM_EMS+JL_EMS)),IMEXP(IMPRODUCT(AF43,TT_DR,-1)))","v":"-0,0982168140637768-0,0304921636150728j"},-19.756656389901813,-162.75264320164916,null,"2,31603007518798-0,390068223189556j",7.4163595148251771,-9.5600964808863349,null,"-0,23936711934339-0,0323095098408648j",-12.340296875076618,-172.31273968253549,1,"-0,312326836731189-0,0557438915987898j",-9.9716277255656909,-169.88044096693795]
[null,null,null,null,null,null,null,null,null,null,null,null,null,null,null,null,null,null,null,null,null,"Maxwert f",{"$f":"W32","v":100000},"[1/s]",null,null,null,null,null,4.1000000000000014,12589.254117941715,"12589,2541179417j",{"$f":"IMPRODUCT(VS_DR,Stromregelkreis!AS44,IMDIV(1,IMPRODUCT(AF44,JM_EMS+JL_EMS)),IMEXP(IMPRODUCT(AF44,TT_DR,-1)))","v":"-0,0717198813368258-0,00441497210725143j"},-22.870782461205433,-176.47739981880278,null,"2,31603007518798-0,309842203148197j",7.3719244385405194,-7.6198769032756406,null,"-0,16747334684955+0,011996637861419j",-15.498858022664928,-184.09727672207842,1,"-0,200913380598042+0,0173050590938421j",-13.907722647374673,175.07715313480244]
[null,null,null,null,null,null,null,null,null,null,null,null,null,null,null,null,null,null,null,null,null,null,null,null,null,null,null,null,null,4.2000000000000011,15848.931924611175,"15848,9319246112j",{"$f":"IMPRODUCT(VS_DR,Stromregelkreis!AS45,IMDIV(1,IMPRODUCT(AF45,JM_EMS+JL_EMS)),IMEXP(IMPRODUCT(AF45,TT_DR,-1)))","v":"-0,0479444965271475+0,0099591988681526j"},-26.201761064354955,168.26520229169716,null,"2,31603007518798-0,246116410269789j",7.3436520545607396,-6.0658572778359305,null,"-0,108589773622027+0,0348657314808734j",-18.858109009794187,162.19934501386123,1,"-0,120104392109896+0,0438106472308871j",-17.866300128686046,159.95947671599507]
[null,null,null,null,null,null,null,null,null,null,null,null,null,null,null,null,null,null,null,null,null,null,null,null,null,null,null,null,null,4.3000000000000007,19952.623149688861,"19952,6231496889j",{"$f":"IMPRODUCT(VS_DR,Stromregelkreis!AS46,IMDIV(1,IMPRODUCT(AF46,JM_EMS+JL_EMS)),IMEXP(IMPRODUCT(AF46,TT_DR,-1)))","v":"-0,0286330039725642+0,0157114380400203j"},-29.719584370349004,151.2456409897645,null,"2,31603007518798-0,195497213706277j",7.3257182183155507,-4.824926617510009,null,"-0,0632433559832928+0,0419858355218166j",-22.393866152033453,146.42071437225448,1,"-0,0653729150546981+0,0477504720853489j",-21.835117457133649,143.85441043966293]
[null,null,null,null,null,null,null,null,null,null,null,null,null,null,null,null,null,null,null,null,null,null,null,null,null,null,null,null,null,4.4000000000000004,25118.86431509586,"25118,8643150959j",{"$f":"IMPRODUCT(VS_DR,Stromregelkreis!AS47,IMDIV(1,IMPRODUCT(AF47,JM_EMS+JL_EMS)),IMEXP(IMPRODUCT(AF47,TT_DR,-1)))","v":"-0,0143290197520573+0,0159160173656162j"},-33.385276774695889,131.99636824955948,null,"2,31603007518798-0,155288956656824j",7.3143645092334602,-3.8359192986568398,null,"-0,0307148589628889+0,0390871134231933j",-26.070912265462422,128.16044895090263,1,"-0,0300131868297615+0,0415360151068882j",-25.806999968479655,125.85120704090888]
[null,null,null,null,null,null,null,null,null,null,null,null,null,null,null,null,null,null,null,null,null,null,null,null,null,null,null,null,null,4.5,31622.77660168384,"31622,7766016838j",{"$f":"IMPRODUCT(VS_DR,Stromregelkreis!AS48,IMDIV(1,IMPRODUCT(AF48,JM_EMS+JL_EMS)),IMEXP(IMPRODUCT(AF48,TT_DR,-1)))","v":"-0,00469431707366554+0,0130483721753265j"},-37.160283284844262,109.78683700659306,null,"2,31603007518798-0,12335040281339j",7.3071855006573427,-3.0486592008396531,null,"-0,00926265756119226+0,0307994682922726j",-29.853097784186922,106.73817780575341,1,"-0,00837473523812874+0,0313477693373749j",-29.776463550361157,104.95757328038292]
[null,null,null,null,null,null,null,null,null,null,null,null,null,null,null,null,null,null,null,null,null,null,null,null,null,null,null,null,null,4.5999999999999996,39810.717055349742,"39810,7170553497j",{"$f":"IMPRODUCT(VS_DR,Stromregelkreis!AS49,IMDIV(1,IMPRODUCT(AF49,JM_EMS+JL_EMS)),IMEXP(IMPRODUCT(AF49,TT_DR,-1)))","v":"0,000989762186564285+0,00884491682392819j"},-41.012080189223006,83.615061019696071,null,"2,31603007518798-0,0979807077192896j",7.3026497388438427,-2.4224795382453106,null,"0,00315895020149344+0,0203881157772405j",-33.709430450379145,81.192581481450759,1,"0,0035605933768478+0,0202515483544828j",-33.738619028895542,80.028267305501345]
[null,null,null,null,null,null,null,null,null,null,null,null,null,null,null,null,null,null,null,null,null,null,null,null,null,null,null,null,null,4.6999999999999993,50118.723362727207,"50118,7233627272j",{"$f":"IMPRODUCT(VS_DR,Stromregelkreis!AS50,IMDIV(1,IMPRODUCT(AF50,JM_EMS+JL_EMS)),IMEXP(IMPRODUCT(AF50,TT_DR,-1)))","v":"0,00348085850722505+0,00448606064889245j"},-44.9158993260573,52.191124477074752,null,"2,31603007518798-0,077828842599699j",7.2997854272828269,-1.9246670575944611,null,"0,00841091789834251+0,0101189401930816j",-37.616113898774458,50.26645741948029,1,"0,00844060651505574+0,00994984288892231j",-37.68930195786109,49.691539895673969]
[null,null,null,null,null,null,null,null,null,null,null,null,null,null,null,null,null,null,null,null,null,null,null,null,null,null,null,null,null,4.7999999999999989,63095.734448019233,"63095,7344480192j",{"$f":"IMPRODUCT(VS_DR,Stromregelkreis!AS51,IMDIV(1,IMPRODUCT(AF51,JM_EMS+JL_EMS)),IMEXP(IMPRODUCT(AF51,TT_DR,-1)))","v":"0,00350259757371002+0,000866709342129599j"},-48.854098688381519,13.898521402742919,null,"2,31603007518798-0,061821647152853j",7.297977196377234,-1.5290296068090907,null,"0,00816570272112607+0,0017907885514982j",-41.556121492004287,12.369491795933827,1,"0,00810269370776568+0,001761891260113j",-41.626773572344497,12.267718329714679]
[null,null,null,null,null,null,null,null,null,null,null,null,null,null,null,null,null,null,null,null,null,null,null,null,null,null,null,null,null,4.8999999999999986,79432.823472427961,"79432,823472428j",{"$f":"IMPRODUCT(VS_DR,Stromregelkreis!AS52,IMDIV(1,IMPRODUCT(AF52,JM_EMS+JL_EMS)),IMEXP(IMPRODUCT(AF52,TT_DR,-1)))","v":"0,001912117375393-0,00125467567855049j"},-52.814647716386474,-33.271717936478559,null,"2,31603007518798-0,0491066798506732j",7.296835892306186,-1.2146577939852743,null,"0,00436690839183669-0,00299976434192015j",-45.51781182408029,-34.486375730463834,1,"0,00435680305835444-0,0029737090444797j",-45.555698470371482,-34.31524969691435]
[null,null,null,null,null,null,null,null,null,null,null,null,null,null,null,null,null,null,null,null,null,null,null,null,null,null,null,null,null,null,null,null,null,null,null,null,null,null,null,null,null,null,null,1]
[null,null,null,null,null,null,null,null,null,null,null,null,null,null,null,null,null,null,null,null,null,null,null,null,null,null,null,null,null,"ωx","ω","s=jω","Strecke H(jω)","Betrag Strecke [dB]","Phase Strecke [°]",null,"Regler H(jw)","Betrag Regler [dB]","Phase Regler [°]",null,"Regler+Strecke H(jw)","Betrag Regler+Strecke [dB]","Phase Regler+Strecke [°]",1,"Geschlossener Kreis","Betrag Kreis [dB]","Phase Kreis [°]"]
[null,null,null,null,null,null,null,null,null,null,null,null,null,null,null,null,null,null,null,null,null,null,null,null,null,null,null,null,null,null,{"$f":"10^AD3","v":1},null,null,null,{"$f":"IMARGUMENT(AG3)*180/PI()","v":-90.008504842252364},null,null,null,{"$f":"IF(IMARGUMENT(AK3)*180/PI()>0,\"\",IMARGUMENT(AK3)*180/PI())","v":-89.96598063491183},null,null,null,{"$f":"AI3+AM3","v":-179.97448547716419},{"$f":"IF(AQ55<0,1,0)","v":1},null,null,{"$f":"IMARGUMENT(AS3)*180/PI()","v":-4.4974328535823029E-9}]
[null,null,null,null,null,null,null,null,null,null,null,null,null,null,null,null,null,null,null,null,null,null,null,null,null,null,null,null,null,null,1.2589254117941673,null,null,null,-90.010706962020748,null,null,null,{"$f":"IF(AM3=\"\",\"\",IF(IMARGUMENT(AK4)*180/PI()>0,\"\",IMARGUMENT(AK4)*180/PI()))","v":-89.957172159741049},null,null,null,-179.9678791217618,{"$f":"IF(AR55=0,0,IF(AQ56<0,1,0))","v":1},null,null,-8.9735573227910569E-9]
[null,null,null,null,null,null,null,null,null,null,null,null,null,null,null,null,null,null,null,null,null,null,null,null,null,null,null,null,null,null,1.5848931924611136,null,null,null,-90.013479266542973,null,null,null,-89.946082949439145,null,null,null,-179.95956221598212,1,null,null,-1.7904597704716398E-8]
[null,null,null,null,null,null,null,null,null,null,null,null,null,null,null,null,null,null,null,null,null,null,null,null,null,null,null,null,null,null,1.99526231496888,null,null,null,-90.016969391127304,null,null,null,-89.932122466638873,null,null,null,-179.94909185776618,1,null,null,-3.5724359401048509E-8]
[null,null,null,null,null,null,null,null,null,null,null,null,null,null,null,null,null,null,null,null,null,null,null,null,null,null,null,null,null,null,2.5118864315095806,null,null,null,-90.021363197601147,null,null,null,-89.914547271744127,null,null,null,-179.93591046934529,1,null,null,-7.1279437509687487E-8]
[null,null,null,null,null,null,null,null,null,null,null,null,null,null,null,null,null,null,null,null,null,null,null,null,null,null,null,null,null,null,3.1622776601683795,null,null,null,-90.026894672114366,null,null,null,-89.892421435545359,null,null,null,-179.91931610765971,1,null,null,-1.4222107893808063E-7]
[null,null,null,null,null,null,null,null,null,null,null,null,null,null,null,null,null,null,null,null,null,null,null,null,null,null,null,null,null,null,3.9810717055349727,null,null,null,-90.033858385721956,null,null,null,-89.864566704530162,null,null,null,-179.89842509025212,1,null,null,-2.8376805381293128E-7]
[null,null,null,null,null,null,null,null,null,null,null,null,null,null,null,null,null,null,null,null,null,null,null,null,null,null,null,null,null,null,5.0118723362727229,null,null,null,-90.042625181300394,null,null,null,-89.829499768461275,null,null,null,-179.87212494976166,1,null,null,-5.6619073829806099E-7]
[null,null,null,null,null,null,null,null,null,null,null,null,null,null,null,null,null,null,null,null,null,null,null,null,null,null,null,null,null,null,6.3095734448019334,null,null,null,-90.053661922150965,null,null,null,-89.785353296379867,null,null,null,-179.83901521853085,1,null,null,-1.1296959896006253E-6]
[null,null,null,null,null,null,null,null,null,null,null,null,null,null,null,null,null,null,null,null,null,null,null,null,null,null,null,null,null,null,7.943282347242814,null,null,null,-90.067556353909112,null,null,null,-89.729776549654602,null,null,null,-179.7973329035637,1,null,null,-2.2540301790041067E-6]
[null,null,null,null,null,null,null,null,null,null,null,null,null,null,null,null,null,null,null,null,null,null,null,null,null,null,null,null,null,null,9.9999999999999982,null,null,null,-90.085048403616156,null,null,null,-89.659810306775341,null,null,null,-179.7448587103915,1,null,null,-4.4973509372393712E-6]
[null,null,null,null,null,null,null,null,null,null,null,null,null,null,null,null,null,null,null,null,null,null,null,null,null,null,null,null,null,null,12.589254117941675,null,null,null,-90.107069582481927,null,null,null,-89.571729493875978,null,null,null,-179.6787990763579,1,null,null,-8.9732982822355849E-6]
[null,null,null,null,null,null,null,null,null,null,null,null,null,null,null,null,null,null,null,null,null,null,null,null,null,null,null,null,null,null,15.848931924611136,null,null,null,-90.134792590157375,null,null,null,-89.460845249599231,null,null,null,-179.59563783975659,1,null,null,-1.7903778565548957E-5]
[null,null,null,null,null,null,null,null,null,null,null,null,null,null,null,null,null,null,null,null,null,null,null,null,null,null,null,null,null,null,19.952623149688804,null,null,null,-90.169693761085085,null,null,null,-89.321256101174612,null,null,null,-179.4909498622597,1,null,null,-3.572176916287424E-5]
[null,null,null,null,null,null,null,null,null,null,null,null,null,null,null,null,null,null,null,null,null,null,null,null,null,null,null,null,null,null,25.118864315095809,null,null,null,-90.213631676347262,null,null,null,-89.145535434965083,null,null,null,-179.35916711131233,1,null,null,-7.1271246937113623E-5]
[null,null,null,null,null,null,null,null,null,null,null,null,null,null,null,null,null,null,null,null,null,null,null,null,null,null,null,null,null,null,31.622776601683817,null,null,null,-90.268946123236432,null,null,null,-88.924339483502166,null,null,null,-179.19328560673858,1,null,null,-1.421951805256091E-4]
[null,null,null,null,null,null,null,null,null,null,null,null,null,null,null,null,null,null,null,null,null,null,null,null,null,null,null,null,null,null,39.81071705534977,null,null,null,-90.338582664241699,null,null,null,-88.645916677398205,null,null,null,-178.98449934163989,1,null,null,-2.8368616820090899E-4]
[null,null,null,null,null,null,null,null,null,null,null,null,null,null,null,null,null,null,null,null,null,null,null,null,null,null,null,null,null,null,50.11872336272728,null,null,null,-90.426249432713405,null,null,null,-88.295495667555116,null,null,null,-178.72174510026852,1,null,null,-5.6593185503632081E-4]
[null,null,null,null,null,null,null,null,null,null,null,null,null,null,null,null,null,null,null,null,null,null,null,null,null,null,null,null,null,null,63.095734448019414,null,null,null,-90.536614472248047,null,null,null,-87.854526258871061,null,null,null,-178.39114073111909,1,null,null,-1.1288776381571729E-3]
[null,null,null,null,null,null,null,null,null,null,null,null,null,null,null,null,null,null,null,null,null,null,null,null,null,null,null,null,null,null,79.432823472428254,null,null,null,-90.675554063202043,null,null,null,-87.299746396581014,null,null,null,-177.97530045978306,1,null,null,-2.2514438734272699E-3]
[null,null,null,null,null,null,null,null,null,null,null,null,null,null,null,null,null,null,null,null,null,null,null,null,null,null,null,null,null,null,100.00000000000013,null,null,null,-90.85046512969997,null,null,null,-86.602052375362035,null,null,null,-177.45251750506202,1,null,null,-4.489180070722857E-3]
[null,null,null,null,null,null,null,null,null,null,null,null,null,null,null,null,null,null,null,null,null,null,null,null,null,null,null,null,null,null,125.89254117941688,null,null,null,-91.070658102805936,null,null,null,-85.725165039864478,null,null,null,-176.79582314267043,1,null,null,-8.9474984724354101E-3]
[null,null,null,null,null,null,null,null,null,null,null,null,null,null,null,null,null,null,null,null,null,null,null,null,null,null,null,null,null,null,158.48931924611168,null,null,null,-91.34785064048954,null,null,null,-84.624124527799822,null,null,null,-175.97197516828936,1,null,null,-1.7822385750364777E-2]
[null,null,null,null,null,null,null,null,null,null,null,null,null,null,null,null,null,null,null,null,null,null,null,null,null,null,null,null,null,null,199.52623149688836,null,null,null,-91.696787458611212,null,null,null,-83.243733743817259,null,null,null,-174.94052120242847,1,null,null,-3.5465345152558496E-2]
[null,null,null,null,null,null,null,null,null,null,null,null,null,null,null,null,null,null,null,null,null,null,null,null,null,null,null,null,null,null,251.18864315095851,null,null,null,-92.136017212621169,null,null,null,-81.517248007886124,null,null,null,-173.65326522050731,1,null,null,-7.0465137958855104E-2]
[null,null,null,null,null,null,null,null,null,null,null,null,null,null,null,null,null,null,null,null,null,null,null,null,null,null,null,null,null,null,316.22776601683881,null,null,null,-92.688863683399958,null,null,null,-79.365941366365377,null,null,null,-172.05480504976532,1,null,null,-0.13966958388129588]
[null,null,null,null,null,null,null,null,null,null,null,null,null,null,null,null,null,null,null,null,null,null,null,null,null,null,null,null,null,null,398.10717055349835,null,null,null,-93.384634797556842,null,null,null,-76.700751578160393,null,null,null,-170.08538637571723,1,null,null,-0.27581455000988203]
[null,null,null,null,null,null,null,null,null,null,null,null,null,null,null,null,null,null,null,null,null,null,null,null,null,null,null,null,null,null,501.1872336272736,null,null,null,-94.260117617262949,null,null,null,-73.428051696075656,null,null,null,-167.68816931333862,1,null,null,-0.54159360488424391]
[null,null,null,null,null,null,null,null,null,null,null,null,null,null,null,null,null,null,null,null,null,null,null,null,null,null,null,null,null,null,630.95734448019539,null,null,null,-95.361406771797832,null,null,null,-69.462496460267147,null,null,null,-164.82390323206499,1,null,null,-1.0545250140807587]
[null,null,null,null,null,null,null,null,null,null,null,null,null,null,null,null,null,null,null,null,null,null,null,null,null,null,null,null,null,null,794.32823472428424,null,null,null,-96.7461004515458,null,null,null,-64.749917011873393,null,null,null,-161.49601746341921,1,null,null,-2.0282491754261849]
[null,null,null,null,null,null,null,null,null,null,null,null,null,null,null,null,null,null,null,null,null,null,null,null,null,null,null,null,null,null,1000.0000000000033,null,null,null,-98.485857457664551,null,null,null,-59.300277449185742,null,null,null,-157.78613490685029,1,null,null,-3.8354630312365634]
[null,null,null,null,null,null,null,null,null,null,null,null,null,null,null,null,null,null,null,null,null,null,null,null,null,null,null,null,null,null,1258.9254117941723,null,null,null,-100.66921367361098,null,null,null,-53.22236486246257,null,null,null,-153.89157853607355,1,null,null,-7.0941899467702134]
[null,null,null,null,null,null,null,null,null,null,null,null,null,null,null,null,null,null,null,null,null,null,null,null,null,null,null,null,null,null,{"$f":"10^AD35","v":1584.89319246112},null,null,null,{"$f":"IMARGUMENT(AG35)*180/PI()","v":-103.40435949924112},null,null,null,-46.740144942094666,null,null,null,{"$f":"AI35+AM35","v":-150.14450444133578},1,null,null,{"$f":"IMARGUMENT(AS35)*180/PI()","v":-12.773934525266334}]
[null,null,null,null,null,null,null,null,null,null,null,null,null,null,null,null,null,null,null,null,null,null,null,null,null,null,null,null,null,null,1995.2623149688875,null,null,null,-106.82120950997064,null,null,null,{"$f":"IF(AM35=\"\",\"\",IF(IMARGUMENT(AK36)*180/PI()>0,\"\",IMARGUMENT(AK36)*180/PI()))","v":-40.167872779488519},null,null,null,-146.98908228945916,{"$f":"IF(AR87=0,0,IF(AQ88<0,1,0))","v":1},null,null,-22.3058518330567]
[null,null,null,null,null,null,null,null,null,null,null,null,null,null,null,null,null,null,null,null,null,null,null,null,null,null,null,null,null,null,2511.8864315095921,null,null,null,-111.07147241326419,null,null,null,-33.841706060512905,null,null,null,-144.91317847377709,1,null,null,-37.556070281344844]
[null,null,null,null,null,null,null,null,null,null,null,null,null,null,null,null,null,null,null,null,null,null,null,null,null,null,null,null,null,null,3162.2776601683972,null,null,null,-116.32455697451233,null,null,null,-28.039502946506328,null,null,null,-144.36405992101865,1,null,null,-59.88500469056337]
[null,null,null,null,null,null,null,null,null,null,null,null,null,null,null,null,null,null,null,null,null,null,null,null,null,null,null,null,null,null,3981.071705534991,null,null,null,-122.75638240669849,null,null,null,-22.931013495205917,null,null,null,-145.68739590190441,1,null,null,-87.198673032182938]
[null,null,null,null,null,null,null,null,null,null,null,null,null,null,null,null,null,null,null,null,null,null,null,null,null,null,null,null,null,null,5011.8723362727505,null,null,null,-130.5287145828722,null,null,null,-18.57462298824473,null,null,null,-149.10333757111692,1,null,null,-113.58961012857766]
[null,null,null,null,null,null,null,null,null,null,null,null,null,null,null,null,null,null,null,null,null,null,null,null,null,null,null,null,null,null,6309.5734448019721,null,null,null,-139.76091163161237,null,null,null,-14.945469285225387,null,null,null,-154.70638091683776,1,null,null,-135.63431059433975]
[null,null,null,null,null,null,null,null,null,null,null,null,null,null,null,null,null,null,null,null,null,null,null,null,null,null,null,null,null,null,7943.2823472428581,null,null,null,-150.50581603550893,null,null,null,-11.971106250596293,null,null,null,-162.47692228610521,1,null,null,-153.88384687894887]
[null,null,null,null,null,null,null,null,null,null,null,null,null,null,null,null,null,null,null,null,null,null,null,null,null,null,null,null,null,null,10000.000000000044,null,null,null,-162.75264320164916,null,null,null,-9.5600964808863349,null,null,null,-172.31273968253549,1,null,null,-169.88044096693795]
[null,null,null,null,null,null,null,null,null,null,null,null,null,null,null,null,null,null,null,null,null,null,null,null,null,null,null,null,null,null,12589.254117941715,null,null,null,-176.47739981880278,null,null,null,-7.6198769032756406,null,null,null,-184.09727672207842,1,null,null,175.07715313480244]
[null,null,null,null,null,null,null,null,null,null,null,null,null,null,null,null,null,null,null,null,null,null,null,null,null,null,null,null,null,null,15848.931924611175,null,null,null,168.26520229169716,null,null,null,-6.0658572778359305,null,null,null,162.19934501386123,0,null,null,159.95947671599507]
[null,null,null,null,null,null,null,null,null,null,null,null,null,null,null,null,null,null,null,null,null,null,null,null,null,null,null,null,null,null,19952.623149688861,null,null,null,151.2456409897645,null,null,null,-4.824926617510009,null,null,null,146.42071437225448,0,null,null,143.85441043966293]
[null,null,null,null,null,null,null,null,null,null,null,null,null,null,null,null,null,null,null,null,null,null,null,null,null,null,null,null,null,null,25118.86431509586,null,null,null,131.99636824955948,null,null,null,-3.8359192986568398,null,null,null,128.16044895090263,0,null,null,125.85120704090888]
[null,null,null,null,null,null,null,null,null,null,null,null,null,null,null,null,null,null,null,null,null,null,null,null,null,null,null,null,null,null,31622.77660168384,null,null,null,109.78683700659306,null,null,null,-3.0486592008396531,null,null,null,106.73817780575341,0,null,null,104.95757328038292]
[null,null,null,null,null,null,null,null,null,null,null,null,null,null,null,null,null,null,null,null,null,null,null,null,null,null,null,null,null,null,39810.717055349742,null,null,null,83.615061019696071,null,null,null,-2.4224795382453106,null,null,null,81.192581481450759,0,null,null,80.028267305501345]
[null,null,null,null,null,null,null,null,null,null,null,null,null,null,null,null,null,null,null,null,null,null,null,null,null,null,null,null,null,null,50118.723362727207,null,null,null,52.191124477074752,null,null,null,-1.9246670575944611,null,null,null,50.26645741948029,0,null,null,49.691539895673969]
[null,null,null,null,null,null,null,null,null,null,null,null,null,null,null,null,null,null,null,null,null,null,null,null,null,null,null,null,null,null,63095.734448019233,null,null,null,13.898521402742919,null,null,null,-1.5290296068090907,null,null,null,12.369491795933827,0,null,null,12.267718329714679]
[null,null,null,null,null,null,null,null,null,null,null,null,null,null,null,null,null,null,null,null,null,null,null,null,null,null,null,null,null,null,79432.823472427961,null,null,null,-33.271717936478559,null,null,null,-1.2146577939852743,null,null,null,-34.486375730463834,0,null,null,-34.31524969691435]

{"sheet":"Stromregelkreis","index":5,"n_rows":104,"n_cols":47,"rows_kept":104,"cut":false,"hidden":false,"merged":[]}
[]
[null,null,null,null,null,null,null,null,null,null,null,null,null,null,null,null,null,null,null,null,null,"Funktion","gewählt","[   ]","umgerechnet","[   ]","f","[   ]",null,"ωx","ω","s=jω","Strecke H(jω)","Betrag Strecke [dB]","Phase Strecke [°]",null,"Regler H(jw)","Betrag Regler [dB]","Phase Regler [°]",null,"Regler+Strecke H(jw)","Betrag Regler+Strecke [dB]","Phase Regler+Strecke [°]","Anzeigen?","Geschlossener Kreis","Betrag Kreis [dB]","Phase Kreis [°]"]
[null,null,null,null,null,null,null,null,null,null,null,null,null,null,null,null,null,null,null,null,null,null,null,null,null,null,null,null,null,{"$f":"$W$34","v":0},{"$f":"10^AD3","v":1},{"$f":"COMPLEX(0,AE3,\"j\")","v":"j"},{"$f":"IMPRODUCT(VS_SR,IMDIV(1,(IMSUM(1,IMPRODUCT(AF3,T_M)))),IMEXP(IMPRODUCT(AF3,TT_SR,-1)))","v":"0,344825650711645-0,000825259284420774j"},{"$f":"20*LOG10(IMABS(AG3))","v":-9.2479838363639448},{"$f":"IMARGUMENT(AG3)*180/PI()","v":-0.13712374247036024},null,{"$f":"IMPRODUCT(KP_SR,IMSUM(1,IMDIV(1,IMPRODUCT(TN_SR,AF3))))","v":"70,1935483870968-29935,4838709677j"},{"$f":"20*LOG10(IMABS(AK3))","v":89.523749526076585},{"$f":"IF(IMARGUMENT(AK3)*180/PI()>0,\"\",IMARGUMENT(AK3)*180/PI())","v":-89.865651521849799},null,{"$f":"IMPRODUCT(AK3,AG3)","v":"-0,499999999804434-10322,5806330519j"},{"$f":"20*LOG10(IMABS(AO3))","v":80.275765689712642},{"$f":"AI3+AM3","v":-90.002775264320164},1,{"$f":"IMDIV(1,IMSUM(1,IMPRODUCT(AF3,TE_SR)))","v":"0,99999999-0,0000999999989999996j"},{"$f":"20*LOG10(IMABS(AS3))","v":-4.3429448999285063E-8},{"$f":"IMARGUMENT(AS3)*180/PI()","v":-5.7295779322096172E-3}]
[null,null,null,null,null,null,null,null,null,null,null,null,null,null,null,null,null,null,null,null,null,null,null,null,null,null,null,null,null,{"$f":"AD3+$W$36","v":0.1},1.2589254117941673,"1,25892541179417j","0,344824518663513-0,00103893654270734j",-9.2479978026078218,-0.17262838265242367,null,"70,1935483870968-23778,6000588429j",87.523763492320441,{"$f":"IF(AM3=\"\",\"\",IF(IMARGUMENT(AK4)*180/PI()>0,\"\",IMARGUMENT(AK4)*180/PI()))","v":-89.830865468124671},null,"-0,499999999690136-8199,51724642517j",78.275765689712642,-90.00349385077709,1,"0,999999984151068-0,000125892539184154j",-6.8831038113127889E-8,-7.2131112436507726E-3]
[null,null,null,null,null,null,null,null,null,null,null,null,null,null,null,null,null,null,null,null,null,null,null,null,null,null,null,null,null,{"$f":"AD4+$W$36","v":0.2},1.5848931924611136,"1,58489319246111j","0,344822724503049-0,00130793694720542j",-9.2480199375206791,-0.21732589597116186,null,"70,1935483870968-18888,0134089555j",85.523785627233352,-89.787072601557156,null,"-0,499999999508976-6513,10805286155j",76.275765689712671,-90.004398497528314,1,"0,999999974881136-0,000158489315265038j",-1.0908984235175354E-7,-9.0807690146707462E-3]
[null,null,null,null,null,null,null,null,null,null,null,null,null,null,null,null,null,null,null,null,null,null,null,null,null,null,null,null,null,0.30000000000000004,1.99526231496888,"1,99526231496888j","0,344819880987807-0,00164658175632504j",-9.2480550187622583,-0.27359637130477643,null,"70,1935483870968-15003,2823485842j",83.523820708474972,-89.731941009007329,null,"-0,49999999922165-5173,54561328146j",74.275765689712713,-90.005537380312106,1,"0,999999960189285-0,000199526223553605j",-1.7289573994119124E-7,-1.143201081521634E-2]
[null,null,null,null,null,null,null,null,null,null,null,null,null,null,null,null,null,null,null,null,null,"Reglernennstrom",{"$f":"IN_R","v":3},"[A]",{"$f":"W7","v":3},"[A]",null,null,null,0.4,2.5118864315095806,"2,51188643150958j","0,344815374413954-0,00207289707214377j",-9.2481106182028014,-0.34443598429932931,null,"70,1935483870968-11917,5307830209j",81.523876307915529,-89.662535164490365,null,"-0,499999998766494-4109,49334303811j",72.275765689712728,-90.006971148789688,1,"0,99999993690427-0,000251188627302026j",-2.7402127984511526E-7,-1.4392048811475242E-2]
[null,null,null,null,null,null,null,null,null,null,null,null,null,null,null,null,null,null,null,null,null,"Abtastzeit Tt",62.5,"[µs]",{"$f":"W8/1000000","v":6.2500000000000001E-5},"[s]",{"$f":"1/Y8","v":16000},"[1/s]",null,0.5,3.1622776601683795,"3,16227766016838j","0,344808232212088-0,00260956984068181j",-9.2481987359196012,-0.43361634002875538,null,"70,1935483870968-9466,43118914922j",79.523964425632258,-89.575159816331961,null,"-0,499999998044938-3264,2865786548j",70.275765689712671,-90.00877615636071,1,"0,99999990000001-0,000316227734394064j",-4.3429445926272154E-7,-1.8118515753664792E-2]
[null,null,null,null,null,null,null,null,null,null,null,null,null,null,null,null,null,null,null,null,null,"Totzeit Stromregler",{"$f":"W8/2*1.55","v":48.4375},"[µs]",{"$f":"W9/1000000","v":4.8437499999999998E-5},"[s]",{"$f":"1/TT_SR","v":20645.16129032258},"[1/s]",null,0.6,3.9810717055349727,"3,98107170553497j","0,34479691317863-0,00328514812378559j",-9.2483383894268609,-0.54588489654075323,null,"70,1935483870968-7519,45357561574j",77.524104079139491,-89.46516362971964,null,"-0,499999996901117-2592,9149778661j",68.275765689712614,-90.011048526260396,1,"0,999999841510706-0,000398107107457771j",-6.8831031310105132E-7,-2.2809859461570482E-2]
[null,null,null,null,null,null,null,null,null,null,null,null,null,null,null,null,null,null,null,null,null,"UCC",{"$f":"U_ZWK","v":565},"[V]",{"$f":"U_ZWK","v":565},"[V]",null,null,null,0.7,5.0118723362727229,"5,01187233627272j","0,344778975210602-0,00413554564765924j",-9.2485597161214379,-0.68721693011961649,null,"70,1935483870968-5972,91428481006j",75.524325405834091,-89.326692340352466,null,"-0,499999995088906-2059,6255547611j",66.275765689712642,-90.013909270472084,1,"0,99999974881142-0,00050118710773476j",-1.0908982797705558E-6,-2.8715910828309644E-2]
[null,null,null,null,null,null,null,null,null,null,null,null,null,null,null,null,null,null,null,null,null,null,null,null,null,null,null,null,null,0.79999999999999993,6.3095734448019334,"6,30957344480193j","0,344750549191912-0,00520592294784745j",-9.2489104721901505,-0.86513203663599558,null,"70,1935483870968-4744,45446001264j",73.524676161902846,-89.152378697420829,null,"-0,499999992216313-1636,01870290971j",64.275765689712671,-90.017510734056827,1,"0,999999601892988-0,000630957093291647j",-1.7289571299775816E-6,-3.6151188094148343E-2]
[null,null,null,null,null,null,null,null,null,null,null,null,null,null,null,null,null,null,null,null,null,"Verstärkung der Stecke",null,null,{"$f":"1/R_M","v":0.34482758620689657},"[1]",null,null,null,0.89999999999999991,7.943282347242814,"7,94328234724281j","0,34470550639228-0,00655302973926879j",-9.2494663250740512,-1.089091179082017,null,"70,1935483870968-3768,65413595158j",71.525232014786724,-88.932953529001281,null,"-0,499999987663823-1299,53581276064j",62.275765689712699,-90.0220447080833,1,"0,999999369043054-0,00079432773353736j",-2.7402120640247717E-6,-4.5511645825810632E-2]
[null,null,null,null,null,null,null,null,null,null,null,null,null,null,null,null,null,null,null,null,null,null,null,null,null,null,null,null,null,0.99999999999999989,9.9999999999999982,"10j","0,344634141977531-0,00824810228811431j",-9.2503471468219587,-1.3709937420327676,null,"70,1935483870968-2993,54838709677j",69.526112836534608,-88.656758901168899,null,"-0,499999980448361-1032,25794342238j",60.275765689712657,-90.027752643201666,1,"0,999999000001-0,000999999000000996j",-4.3429426478763223E-6,-5.72957604145004E-2]
[null,null,null,null,null,null,null,null,null,null,null,null,null,null,null,null,null,null,null,null,null,"Motortyp:",null,null,null,null,null,null,null,1.0999999999999999,12.589254117941675,"12,5892541179417j","0,344521096273793-0,0103804084973891j",-9.2517427893817779,-1.7257977103633173,null,"70,1935483870968-2377,86000588429j",67.527508479094408,-88.309140797407707,null,"-0,499999969012851-819,951573719003j",58.275765689712635,-90.034938507771031,1,"0,999998415109319-0,00125892341653501j",-6.8830982296370472E-6,-7.2131074710907753E-2]
[null,null,null,null,null,null,null,null,null,null,null,null,null,null,null,null,null,null,null,null,null,"R ph-ph",{"$f":"R_M","v":2.9},"[Ω]",{"$f":"R_M","v":2.9},"[Ω]",null,null,null,1.2,15.848931924611136,"15,8489319246111j","0,344342079636722-0,0130615072349987j",-9.2539538154778018,-2.1722893297103596,null,"70,1935483870968-1888,80134089555j",65.529719505190485,-87.871695645572743,null,"-0,499999950888689-651,310615284711j",56.275765689712678,-90.043984975283109,1,"0,999997488119878-0,00158488921139939j",-1.090897046254233E-5,-9.0807614874281781E-2]
[null,null,null,null,null,null,null,null,null,null,null,null,null,null,null,null,null,null,null,null,null,"L ph-ph",{"$f":"L_M","v":6.8},"[mH]",{"$f":"L_M/1000","v":6.7999999999999996E-3},"[H]",null,null,null,1.3,19.952623149688804,"19,9526231496888j","0,344058730367205-0,0164302067290785j",-9.2574557515458107,-2.734029992286247,null,"70,1935483870968-1500,32823485842j",63.533221441258505,-87.32134381083479,null,"-0,499999922163788-517,354322130505j",54.275765689712685,-90.055373803121043,1,"0,999996018944143-0,00199525437171815j",-1.7289540324418308E-5,-0.11431995796406326]
[null,null,null,null,null,null,null,null,null,null,null,null,null,null,null,null,null,null,null,null,null,"Zeitkonstante Anker",{"$f":"T_M*1000","v":2.3448275862068968},"[ms]",{"$f":"T_M","v":2.3448275862068967E-3},"[s]",{"$f":"1/T_M","v":426.47058823529409},"[1/s]",null,1.4000000000000001,25.118864315095809,"25,1188643150958j","0,343610586496686-0,0206580093263004j",-9.2630001684362604,-3.4405045481256651,null,"70,1935483870968-1191,75307830209j",61.538765858148992,-86.629206939771109,null,"-0,499999876637947-410,949033171839j",52.275765689712735,-90.069711487896768,1,"0,999993690466366-0,00251187058267764j",-2.7402042852066459E-5,-0.14392018845051804]
[null,null,null,null,null,null,null,null,null,null,null,null,null,null,null,null,null,null,null,null,null,null,null,null,null,null,null,null,null,1.5000000000000002,31.622776601683817,"31,6227766016838j","0,342902663967901-0,0259544003953062j",-9.27177300363293,-4.3284804938439239,null,"70,1935483870968-946,643118914922j",59.547538693345601,-85.759281069763276,null,"-0,499999804484091-326,428278762815j",50.275765689712671,-90.087761563607202,1,"0,999990000099999-0,00316224603770799j",-4.3429231044003767E-5,-0.18118455962923105]
[null,null,null,null,null,null,null,null,null,null,null,null,null,null,null,null,null,null,null,null,null,"Reglereinstellung:",null,null,null,null,null,null,null,1.6000000000000003,39.81071705534977,"39,8107170553498j","0,341786516275277-0,0325704624838361j",-9.2856408118844858,-5.4435492236429592,null,"70,1935483870968-751,945357561574j",57.561406501597119,-84.666936038960912,null,"-0,499999690128064-259,291020524687j",48.275765689712628,-90.110485262603873,1,"0,99998415131926-0,0039810086108005j",-6.8830491347388262E-5,-0.22809740163779785]
[null,null,null,null,null,null,null,null,null,null,null,null,null,null,null,null,null,null,null,null,null,"P-Anteil",{"$f":"KP_SR","v":70.193548387096769},"[1]",{"$f":"KP_SR","v":70.193548387096769},"[1]",null,null,null,1.7000000000000004,50.11872336272728,"50,1187233627273j","0,340032046015203-0,0407975976584651j",-9.3075294997450531,-6.8417355831336213,null,"70,1935483870968-597,291428481006j",55.583295189457694,-83.297357121587169,null,"-0,499999508886294-205,961954639057j",46.275765689712671,-90.139092704720795,1,"0,999974881766627-0,00501174644689373j",-1.0908847154830474E-4,-0.287156727992607]
[null,null,null,null,null,null,null,null,null,null,null,null,null,null,null,null,null,null,null,null,null,"Nachstellzeit Stromregler",{"$f":"TN_SR*1000","v":2.3448275862068968},"[ms]",{"$f":"TN_SR","v":2.3448275862068967E-3},"[s]",{"$f":"1/Y21","v":426.47058823529409},"[1/s]",null,1.8000000000000005,63.095734448019414,"63,0957344480194j","0,337287247618999-0,0509550426956106j",-9.3419963242161632,-8.5908893673152917,null,"70,1935483870968-474,445446001261j",53.617762013928811,-81.584217973252905,null,"-0,499999221637367-163,601113882155j",44.275765689712657,-90.175107340568189,1,"0,999960190867775-0,00630932226615836j",-1.7289230591495007E-4,-0.36150713167985299]
[null,null,null,null,null,null,null,null,null,null,null,null,null,null,null,null,null,null,null,null,null,null,null,null,null,null,null,null,null,1.9000000000000006,79.432823472428254,"79,4328234724283j","0,333024824560594-0,0633546938561096j",-9.3960683529739661,-10.771246882935616,null,"70,1935483870968-376,865413595155j",51.671834042686569,-79.449200197897397,null,"-0,499998766378695-129,952629014221j",42.275765689712621,-90.220447080833011,1,"0,999936908246372-0,00794278119162994j",-2.7401264860420579E-4,-0.45510698236905833]
[null,null,null,null,null,null,null,null,null,null,null,null,null,null,null,null,null,null,null,null,null,null,null,null,null,null,null,null,null,2.0000000000000004,100.00000000000013,"100j","0,326481250075596-0,0782244762451104j",-9.4804111315426827,-13.473989624234992,null,"70,1935483870968-299,354838709677j",49.756176821255323,-76.803536807781512,null,"-0,499998044842791-103,22459551648j",40.275765689712628,-90.277526432016501,1,"0,999900009999-0,00999900009998996j",-4.3427276862828968E-4,-0.5729386976834836]
[null,null,null,null,null,null,null,null,null,null,null,null,null,null,null,null,null,null,null,null,null,"errechnete Standardwerte:",null,null,null,null,null,null,null,2.1000000000000005,125.89254117941688,"125,892541179417j","0,316610729978719-0,0955650351142993j",-9.6108181376068842,-16.795790669918311,null,"70,1935483870968-237,786000588429j",47.886583827319519,-73.55359440779182,null,"-0,499996901286764-81,9936481414328j",38.275765689712635,-90.349385077710139,1,"0,999841535795638-0,0125872591718043j",-6.8825582873243969E-4,-0.72127302509581626]
[null,null,null,null,null,null,null,null,null,null,null,null,null,null,null,null,null,null,null,null,null,"P-Anteil",{"$f":"T_M/(2*VS_SR*TT_SR)","v":70.193548387096769},"[1]",{"$f":"W25","v":70.193548387096769},"[1]",null,null,null,2.2000000000000006,158.48931924611168,"158,489319246112j","0,302109619599287-0,114920192084014j",-9.8097983515689897,-20.826432584246238,null,"70,1935483870968-188,880134089554j",46.085564041281643,-69.613417168584789,null,"-0,499995088875906-65,1291615233612j",36.275765689712649,-90.439849752831023,1,"0,999748874436739-0,0158449518526544j",-1.090761428660556E-3,-0.908000887658578]
[null,null,null,null,null,null,null,null,null,null,null,null,null,null,null,null,null,null,null,null,null,"Nachstellzeit Stromregler",{"$f":"T_M*1000","v":2.3448275862068968},"[ms]",{"$f":"T_M","v":2.3448275862068967E-3},"[s]",{"$f":"1/Y26","v":426.47058823529409},"[1/s]",null,2.3000000000000007,199.52623149688836,"199,526231496888j","0,281611066707969-0,135085588492084j",-10.107597750458282,-25.626498228355928,null,"70,1935483870968-150,032823485842j",44.38336344017096,-64.927239802854345,null,"-0,499992216406163-51,7330402552749j",34.275765689712678,-90.553738031210273,1,"0,999602051255695-0,0199446830283607j",-1.7286134099044309E-3,-1.1430494274009253]
[null,null,null,null,null,null,null,null,null,null,null,null,null,null,null,null,null,null,null,null,null,null,null,null,null,null,null,null,null,2.4000000000000008,251.18864315095851,"251,188643150959j","0,254159507646369-0,153893836699922j",-10.541358636518158,-31.194947306201524,null,"70,1935483870968-119,175307830208j",42.817124326230783,-59.502167572766034,null,"-0,499987663868861-41,0918920346021j",32.275765689712628,-90.697114878967554,1,"0,99936944051166-0,0251030253768656j",-2.7393488149656539E-3,-1.4389023336536775]
[null,null,null,null,null,null,null,null,null,null,null,null,null,null,null,null,null,null,null,null,null,null,null,null,null,null,null,null,null,2.5000000000000009,316.22776601683881,"316,227766016839j","0,219941966920643-0,168368493126544j",-11.150777166595818,-37.434535268892475,null,"70,1935483870968-94,6643118914916j",41.426542856308444,-53.443080367179377,null,"-0,499980448634224-32,6390369237445j",30.275765689712621,-90.877615636071852,1,"0,999000999000999-0,0315911854162675j",-4.3407747931863642E-3,-1.8112480473279702]
[null,null,null,null,null,null,null,null,null,null,null,null,null,null,null,null,null,null,null,null,null,null,null,null,null,null,null,null,null,2.600000000000001,398.10717055349835,"398,107170553498j","0,180910081094444-0,175527242926317j",-11.96964611099175,-44.134797493843251,null,"70,1935483870968-75,1945357561574j",40.245411800704389,-46.970055132195675,null,"-0,49996901338621-25,9243295811076j",28.275765689712621,-91.104852626038934,1,"0,998417614719198-0,0397477211626631j",-6.8776549431885919E-3,-2.2797821715179047]
[null,null,null,null,null,null,null,null,null,null,null,null,null,null,null,null,null,null,null,null,null,"Bodediagramm:",null,null,null,null,null,null,null,2.7000000000000011,501.1872336272736,"501,187233627274j","0,140645373004818-0,173656412781179j",-13.015717192623502,-50.995779228487017,null,"70,1935483870968-59,7291428481006j",39.29148288233614,-40.395147818720879,null,"-0,499950890060795-20,5901873884145j",26.275765689712639,-91.390927047207896,1,"0,997494407332714-0,0499931462569758j",-1.0895305999614108E-2,-2.8691905700550144]
[null,null,null,null,null,null,null,null,null,null,null,null,null,null,null,null,null,null,null,null,null,"untere Grenze von f",1,null,null,null,null,null,null,2.8000000000000012,630.95734448019539,"630,957344480195j","0,10319526214186-0,163212943849952j",-14.284340877616923,-57.695906381491319,null,"70,1935483870968-47,4445446001261j",38.560106567329569,-34.05516702419051,null,"-0,499922167333136-16,3525478887433j",24.275765689712646,-91.751073405681836,1,"0,996034714380848-0,0628455418395826j",-1.7255250287926162E-2,-3.6103333661159334]
[null,null,"KP_LR","TN_LR",null,null,"KP_VDR","KP_DR","TN_DR",null,null,null,null,null,"KP_VSR","KP_SR","TN_SR",null,null,null,null,"obere Grenze von f",100000,null,null,null,null,null,null,2.9000000000000012,794.32823472428424,"794,328234724284j","0,0715724355381858-0,146572215564774j",-15.750199577653731,-63.973357138818827,null,"70,1935483870968-37,6865413595156j",38.02596526736636,-28.231113669511085,null,"-0,499876646905681-12,985741457561j",22.275765689712589,-92.204470808329916,1,"0,993729987658566-0,078934778688941j",-2.7316043349390539E-2,-4.5416296432158836]
[null,null,{"$f":"KP_LR","v":1133.2015763960812},{"$f":"ROUND(TN_LR*1000,2)&\"  ms\"","v":"1,76  ms"},null,null,{"$f":"KP_VDR","v":1},{"$f":"KP_DR","v":2.3160300751879772},{"$f":"ROUND(TN_DR*1000,2)&\"  ms\"","v":"0,59  ms"},null,null,null,null,null,{"$f":"KP_VSR","v":1},{"$f":"KP_SR","v":70.193548387096769},{"$f":"ROUND(TN_SR*1000,2)&\"  ms\"","v":"2,34  ms"},{"$f":"\"=   \"&ROUND(1/TN_SR,0)&\"  Hz\"","v":"=   426  Hz"},null,null,null,"feste Anzahl der Intervalle von f",50,null,null,null,null,null,null,3.0000000000000013,1000.0000000000033,"1000j","0,0469780872566151-0,12685157067554j",-17.375901662857252,-69.678442402004066,null,"70,1935483870968-29,9354838709677j",37.651667352569881,-23.096821918160806,null,"-0,49980450698408-10,3104736375521j",20.275765689712664,-92.775264320164865,1,"0,99009900990099-0,0990099009900986j",-4.3213737826427526E-2,-5.7105931374996208]
[null,null,null,null,null,null,null,null,null,null,null,null,"f  Ersatz SR =",{"$f":"ROUND(W39,0)&\" Hz\"","v":"10000 Hz"},null,null,null,null,null,null,null,"untere Grenze für Exponent von ω",{"$f":"LOG10(W31)","v":0},null,null,null,null,null,null,3.1000000000000014,1258.9254117941723,"1258,92541179417j","0,0290457894470019-0,106756377853025j",-19.121979289666474,-74.77964824523589,null,"70,1935483870968-23,7786000588429j",37.397744979379084,-18.714202531865325,null,"-0,499690185708242-8,18427718511112j",18.275765689712614,-93.493850777101215,1,"0,984398337758171-0,123928408273169j",-6.8291283124526342E-2,-7.1753628965096503]
[null,null,null,null,null,null,null,null,null,null,null,null,"T Ersatz SR =",{"$f":"ROUND(TE_SR*1000000,0)&\" µs\"","v":"100 µs"},null,null,null,null,null,null,null,"obere Grenze für Exponent von ω",{"$f":"LOG10(W32)","v":5},null,null,null,null,null,null,3.2000000000000015,1584.89319246112,{"$f":"COMPLEX(0,AE35,\"j\")","v":"1584,89319246112j"},{"$f":"IMPRODUCT(VS_SR,IMDIV(1,(IMSUM(1,IMPRODUCT(AF35,T_M)))),IMEXP(IMPRODUCT(AF35,TT_SR,-1)))","v":"0,0165777519882255-0,0880537424003721j"},{"$f":"20*LOG10(IMABS(AG35))","v":-20.953773045998069},{"$f":"IMARGUMENT(AG35)*180/PI()","v":-79.337810502779547},null,{"$f":"IMPRODUCT(KP_SR,IMSUM(1,IMDIV(1,IMPRODUCT(TN_SR,AF35))))","v":"70,1935483870968-18,8880134089554j"},{"$f":"20*LOG10(IMABS(AK35))","v":37.229538735710719},-15.060687025530083,null,{"$f":"IMPRODUCT(AK35,AG35)","v":"-0,499509030832136-6,49392542968942j"},{"$f":"20*LOG10(IMABS(AO35))","v":16.275765689712657},-94.398497528309633,1,{"$f":"IMDIV(1,IMSUM(1,IMPRODUCT(AF35,TE_SR)))","v":"0,975496632449664-0,154605797203821j"},{"$f":"20*LOG10(IMABS(AS35))","v":-0.10774225511957099},{"$f":"IMARGUMENT(AS35)*180/PI()","v":-9.0058619709314893}]
[null,null,null,null,null,null,null,null,null,null,null,null,null,null,null,null,null,"HILFE",null,null,null,"Schrittweite Exponent von ω",{"$f":"ABS((W35-W34)/W33)","v":0.1},null,null,null,null,null,null,3.3000000000000016,1995.2623149688875,"1995,26231496889j","0,0081936874152673-0,0716087299765888j",-22.844189020666622,-83.47243254351838,null,"70,1935483870968-15,003282348584j",37.11995471037924,{"$f":"IF(AM35=\"\",\"\",IF(IMARGUMENT(AK36)*180/PI()>0,\"\",IMARGUMENT(AK36)*180/PI()))","v":-12.064947768584437},null,"-0,499222000409961-5,14940305831753j",14.275765689712618,-95.537380312102812,1,"0,961713496117745-0,191887069660071j",-0.16954289279533147,-11.283829197867837]
[null,null,null,null,null,null,null,null,null,null,null,null,"TM  Anker   =",{"$f":"ROUND(T_M*1000,2)&\" ms\"","v":"2,34 ms"},null,null,null,null,null,null,null,null,null,null,null,null,null,null,null,3.4000000000000017,2511.8864315095921,"2511,88643150959j","0,00268342487582864-0,057656776130731j",-24.773595823680878,-87.335299289527896,null,"70,1935483870968-11,9175307830208j",37.049361513393507,-9.6358495001471258,null,"-0,498767290523109-4,07911350373809j",12.275765689712641,-96.971148789675027,1,"0,940649056897232-0,236280360283244j",-0.26572375596102771,-14.100323623589206]
[null,null,null,null,null,null,null,null,null,null,null,null,null,null,null,null,null,null,null,null,null,"Nulldurchgang Betrag Regler+Strecke",{"$f":"MATCH(-0.5,AP3:AP52,-1)+1","v":42},"[Zeile]",null,null,null,null,null,3.5000000000000018,3162.2776601683972,"3162,2776601684j","-0,00088111722486973-0,0460784407057838j",-26.728456786801015,-91.095482953298344,null,"70,1935483870968-9,46643118914916j",37.004222476513654,-7.6806734074216836,null,"-0,49804713280319-3,2260682217046j",10.27576568971263,-98.776156360720023,1,"0,909090909090909-0,287479787288035j",-0.41392685158225112,-17.548400613792332]
[null,null,null,null,null,null,null,null,null,null,null,null,null,null,null,null,null,null,null,null,null,"f der Zeile",{"$f":"INDEX(AD2:AU52,W38,2)","v":10000.000000000044},"[1/s]",{"$f":"1/W39","v":9.9999999999999558E-5},"[s]",null,null,null,3.6000000000000019,3981.071705534991,"3981,07170553499j","-0,00315906186105484-0,0365932541212957j",-28.699732674956731,-94.934058671168501,null,"70,1935483870968-7,51945357561574j",36.975498364669349,-6.1144675892208218,null,"-0,496907037147577-2,5448559347978j",8.2757656897126246,-101.04852626038932,1,"0,86319311139679-0,343643367219446j",-0.63892034143379539,-21.70785614630908]
[null,null,null,null,null,null,null,null,null,null,null,null,null,null,null,null,null,null,null,null,null,"Phase Regler+Strecke",{"$f":"INDEX(AD2:AU52,W38,14)","v":-117.75264320164921},"[°]",null,null,null,null,null,3.700000000000002,5011.8723362727505,"5011,87233627275j","-0,00459655206499036-0,0288728424076427j",-30.681510744525671,-99.045570250394519,null,"70,1935483870968-5,97291428481001j",36.957276434238253,-4.8637002216848586,null,"-0,495103312647388-1,99923244912403j",6.2757656897125607,-103.90927047207938,1,"0,799239991086898-0,400568880137129j",-0.97322793708695365,-26.619444110792912]
[null,null,null,null,null,null,null,null,null,null,null,null,null,null,null,null,null,null,null,null,null,"Punkt auf Nulldurchgang",-90,"[°]",null,null,null,null,null,3.800000000000002,6309.5734448019721,"6309,57344480197j","-0,00548537019205542-0,0225979705198817j",-32.66997402039393,-103.64393451709678,null,"70,1935483870968-4,74445446001261j",36.945739710106579,-3.8667995397221917,null,"-0,492252640017467-1,56020664806499j",4.2757656897126735,-107.51073405681898,1,"0,715252751049198-0,451293976434155j",-1.455404631092942,-32.250177574793476]
[null,null,null,null,null,null,null,null,null,null,null,null,null,null,null,null,null,null,null,null,null,null,null,null,null,null,null,null,null,3.9000000000000021,7943.2823472428581,"7943,28234724286j","-0,00601007107314427-0,0174827799808057j",-34.662679039316323,-108.97147892674208,null,"70,1935483870968-3,76865413595155j",36.938444729028944,-3.0732291565569416,null,"-0,487754765765237-1,20452848331648j",2.2757656897125909,-112.04470808329903,1,"0,613136820153143-0,487031887996705j",-2.1244260279434006,-38.461107952209915]
[null,null,null,null,null,null,null,null,null,null,null,null,null,null,null,null,null,null,null,null,null,"Maxwert f",{"$f":"W32","v":100000},"[1/s]",null,null,null,null,null,4.0000000000000018,10000.000000000044,"10000j","-0,00628143055426119-0,0132820927225515j",-36.658069904554644,-115.31062649528394,null,"70,1935483870968-2,99354838709677j",36.933835594267329,-2.4420167063652594,null,"-0,480676486797585-0,913513451897956j",0.27576568971267879,-117.75264320164921,1,"0,500000000000002-0,5j",-3.0102999566397948,-44.999999999999886]
[null,null,null,null,null,null,null,null,null,null,null,null,null,null,null,null,null,null,null,null,null,null,null,null,null,null,null,null,null,4.1000000000000014,12589.254117941715,"12589,2541179417j","-0,00635815475903199-0,00979133146121773j",-38.655159218202805,-122.99831146774828,null,"70,1935483870968-2,37786000588429j",36.930924907915454,-1.9401963032646212,null,"-0,469583859216748-0,672169496784365j",-1.7242343102873479,-124.93850777101291,1,"0,38686317984686-0,487031887996706j",-4.1244260279433647,-51.538892047789894]
[null,null,null,null,null,null,null,null,null,null,null,null,null,null,null,null,null,null,null,null,null,null,null,null,null,null,null,null,null,4.2000000000000011,15848.931924611175,"15848,9319246112j","-0,00625965364078934-0,00684472670829504j",-40.653321695029057,-132.44360517941681,null,"70,1935483870968-1,88880134089554j",36.929087384741678,-1.5413701036794689,null,"-0,452315629705904-0,468632413204897j",-3.7242343102873838,-133.98497528309628,1,"0,284747248950802-0,451293976434156j",-5.4554046310929198,-57.749822425206538]
[null,null,null,null,null,null,null,null,null,null,null,null,null,null,null,null,null,null,null,null,null,null,null,null,null,null,null,null,null,4.3000000000000007,19952.623149688861,"19952,6231496889j","-0,00597268664584104-0,00431567044395339j",-42.652161896127978,-144.14934032473732,null,"70,1935483870968-1,5003282348584j",36.9279275858406,-1.2244627962910164,null,"-0,425718991295217-0,293971231717689j",-5.7242343102873843,-145.37380312102835,1,"0,200760008913102-0,400568880137128j",-6.9732279370869579,-63.380555889207095]
[null,null,null,null,null,null,null,null,null,null,null,null,null,null,null,null,null,null,null,null,null,null,null,null,null,null,null,null,null,4.4000000000000004,25118.86431509586,"25118,8643150959j","-0,00545525532167459-0,00212265964168378j",-44.651429953095835,-158.73880788020497,null,"70,1935483870968-1,19175307830208j",36.927195642808478,-0.97268001654476488,null,"-0,385453414548097-0,142495694945338j",-7.7242343102873621,-159.71148789674973,1,"0,13680688860321-0,343643367219446j",-8.6389203414337938,-68.292143853690945]
[null,null,null,null,null,null,null,null,null,null,null,null,null,null,null,null,null,null,null,null,null,null,null,null,null,null,null,null,null,4.5,31622.77660168384,"31622,7766016838j","-0,00464356564093013-0,000244260315726504j",-46.650968064783811,-176.98890901477102,null,"70,1935483870968-0,946643118914922j",36.926733754496453,-0.77265459242833034,null,"-0,326179576852396-0,0127496988297796j",-9.724234310287347,-177.76156360719935,1,"0,0909090909090914-0,287479787288035j",-10.413926851582232,-72.451599386207647]
[null,null,null,null,null,null,null,null,null,null,null,null,null,null,null,null,null,null,null,null,null,null,null,null,null,null,null,null,null,4.5999999999999996,39810.717055349742,"39810,7170553497j","-0,00347380344079253+0,00125554579300815j",-48.65067660768333,160.12849248447893,null,"70,1935483870968-0,751945357561574j",36.926442297395987,-0.61375508837213244,null,"-0,242894488078275+0,0907433247441188j",-11.724234310287363,159.5147373961068,1,"0,0593509431027682-0,236280360283245j",-12.265723755960989,-75.89967637641071]
[null,null,null,null,null,null,null,null,null,null,null,null,null,null,null,null,null,null,null,null,null,null,null,null,null,null,null,null,null,4.6999999999999993,50118.723362727207,"50118,7233627272j","-0,00194015838138437+0,00220107842836385j",-50.650492700620518,131.3948251568176,null,"70,1935483870968-0,597291428481006j",36.926258390333174,-0.48752987761070626,null,"-0,134871915943659+0,155660345136249j",-13.724234310287365,130.90729527920689,1,"0,0382865038822551-0,191887069660072j",-14.16954289279527,-78.716170802132154]
[null,null,null,null,null,null,null,null,null,null,null,null,null,null,null,null,null,null,null,null,null,null,null,null,null,null,null,null,null,4.7999999999999989,63095.734448019233,"63095,7344480192j","-0,000214472278522068+0,00232078301909522j",-52.650376659101298,95.27992162803784,null,"70,1935483870968-0,474445446001264j",36.926142348814004,-0.3872621962264986,null,"-0,0139534853255629+0,163005750542651j",-15.724234310287313,94.892659431811339,1,"0,0245033675503363-0,154605797203822j",-16.107742255119533,-80.994138029068424]
[null,null,null,null,null,null,null,null,null,null,null,null,null,null,null,null,null,null,null,null,null,null,null,null,null,null,null,null,null,4.8999999999999986,79432.823472427961,"79432,823472428j","0,00119346327152378+0,00141530343125639j",-54.650303440257161,49.860534192440078,null,"70,1935483870968-0,376865413595158j",36.926069129969846,-0.30761502542853242,null,"0,0843068008109104+0,0988953948548861j",-17.724234310287322,49.552919167011545,1,"0,0156016622418298-0,123928408273171j",-18.068291283124445,-82.824637103490275]
[null,null,null,null,null,null,null,null,null,null,null,null,null,null,null,null,null,null,null,null,null,null,null,null,null,null,null,null,null,null,null,null,null,null,null,null,null,null,null,null,null,null,null,1]
[null,null,null,null,null,null,null,null,null,null,null,null,null,null,null,null,null,null,null,null,null,null,null,null,null,null,null,null,null,"ωx","ω","s=jω","Strecke H(jω)","Betrag Strecke [dB]","Phase Strecke [°]",null,"Regler H(jw)","Betrag Regler [dB]","Phase Regler [°]",null,"Regler+Strecke H(jw)","Betrag Regler+Strecke [dB]","Phase Regler+Strecke [°]",1,"Geschlossener Kreis","Betrag Kreis [dB]","Phase Kreis [°]"]
[null,null,null,null,null,null,null,null,null,null,null,null,null,null,null,null,null,null,null,null,null,null,null,null,null,null,null,null,null,null,{"$f":"10^AD3","v":1},null,null,null,{"$f":"IMARGUMENT(AG3)*180/PI()","v":-0.13712374247036024},null,null,null,{"$f":"IF(IMARGUMENT(AK3)*180/PI()>0,\"\",IMARGUMENT(AK3)*180/PI())","v":-89.865651521849799},null,null,null,{"$f":"AI55+AM55","v":-90.002775264320164},{"$f":"IF(AQ55<0,1,0)","v":1}]
[null,null,null,null,null,null,null,null,null,null,null,null,null,null,null,null,null,null,null,null,null,null,null,null,null,null,null,null,null,null,1.2589254117941673,null,null,null,-0.17262838265242367,null,null,null,-89.830865468124671,null,null,null,-90.00349385077709,{"$f":"IF(AR55=0,0,IF(AQ56<0,1,0))","v":1}]
[null,null,null,null,null,null,null,null,null,null,null,null,null,null,null,null,null,null,null,null,null,null,null,null,null,null,null,null,null,null,1.5848931924611136,null,null,null,-0.21732589597116186,null,null,null,-89.787072601557156,null,null,null,-90.004398497528314,1]
[null,null,null,null,null,null,null,null,null,null,null,null,null,null,null,null,null,null,null,null,null,null,null,null,null,null,null,null,null,null,1.99526231496888,null,null,null,-0.27359637130477643,null,null,null,-89.731941009007329,null,null,null,-90.005537380312106,1]
[null,null,null,null,null,null,null,null,null,null,null,null,null,null,null,null,null,null,null,null,null,null,null,null,null,null,null,null,null,null,2.5118864315095806,null,null,null,-0.34443598429932931,null,null,null,-89.662535164490365,null,null,null,-90.006971148789688,1]
[null,null,null,null,null,null,null,null,null,null,null,null,null,null,null,null,null,null,null,null,null,null,null,null,null,null,null,null,null,null,3.1622776601683795,null,null,null,-0.43361634002875538,null,null,null,-89.575159816331961,null,null,null,-90.00877615636071,1]
[null,null,null,null,null,null,null,null,null,null,null,null,null,null,null,null,null,null,null,null,null,null,null,null,null,null,null,null,null,null,3.9810717055349727,null,null,null,-0.54588489654075323,null,null,null,-89.46516362971964,null,null,null,-90.011048526260396,1]
[null,null,null,null,null,null,null,null,null,null,null,null,null,null,null,null,null,null,null,null,null,null,null,null,null,null,null,null,null,null,5.0118723362727229,null,null,null,-0.68721693011961649,null,null,null,-89.326692340352466,null,null,null,-90.013909270472084,1]
[null,null,null,null,null,null,null,null,null,null,null,null,null,null,null,null,null,null,null,null,null,null,null,null,null,null,null,null,null,null,6.3095734448019334,null,null,null,-0.86513203663599558,null,null,null,-89.152378697420829,null,null,null,-90.017510734056827,1]
[null,null,null,null,null,null,null,null,null,null,null,null,null,null,null,null,null,null,null,null,null,null,null,null,null,null,null,null,null,null,7.943282347242814,null,null,null,-1.089091179082017,null,null,null,-88.932953529001281,null,null,null,-90.0220447080833,1]
[null,null,null,null,null,null,null,null,null,null,null,null,null,null,null,null,null,null,null,null,null,null,null,null,null,null,null,null,null,null,9.9999999999999982,null,null,null,-1.3709937420327676,null,null,null,-88.656758901168899,null,null,null,-90.027752643201666,1]
[null,null,null,null,null,null,null,null,null,null,null,null,null,null,null,null,null,null,null,null,null,null,null,null,null,null,null,null,null,null,12.589254117941675,null,null,null,-1.7257977103633173,null,null,null,-88.309140797407707,null,null,null,-90.034938507771031,1]
[null,null,null,null,null,null,null,null,null,null,null,null,null,null,null,null,null,null,null,null,null,null,null,null,null,null,null,null,null,null,15.848931924611136,null,null,null,-2.1722893297103596,null,null,null,-87.871695645572743,null,null,null,-90.043984975283109,1]
[null,null,null,null,null,null,null,null,null,null,null,null,null,null,null,null,null,null,null,null,null,null,null,null,null,null,null,null,null,null,19.952623149688804,null,null,null,-2.734029992286247,null,null,null,-87.32134381083479,null,null,null,-90.055373803121043,1]
[null,null,null,null,null,null,null,null,null,null,null,null,null,null,null,null,null,null,null,null,null,null,null,null,null,null,null,null,null,null,25.118864315095809,null,null,null,-3.4405045481256651,null,null,null,-86.629206939771109,null,null,null,-90.069711487896768,1]
[null,null,null,null,null,null,null,null,null,null,null,null,null,null,null,null,null,null,null,null,null,null,null,null,null,null,null,null,null,null,31.622776601683817,null,null,null,-4.3284804938439239,null,null,null,-85.759281069763276,null,null,null,-90.087761563607202,1]
[null,null,null,null,null,null,null,null,null,null,null,null,null,null,null,null,null,null,null,null,null,null,null,null,null,null,null,null,null,null,39.81071705534977,null,null,null,-5.4435492236429592,null,null,null,-84.666936038960912,null,null,null,-90.110485262603873,1]
[null,null,null,null,null,null,null,null,null,null,null,null,null,null,null,null,null,null,null,null,null,null,null,null,null,null,null,null,null,null,50.11872336272728,null,null,null,-6.8417355831336213,null,null,null,-83.297357121587169,null,null,null,-90.139092704720795,1]
[null,null,null,null,null,null,null,null,null,null,null,null,null,null,null,null,null,null,null,null,null,null,null,null,null,null,null,null,null,null,63.095734448019414,null,null,null,-8.5908893673152917,null,null,null,-81.584217973252905,null,null,null,-90.175107340568189,1]
[null,null,null,null,null,null,null,null,null,null,null,null,null,null,null,null,null,null,null,null,null,null,null,null,null,null,null,null,null,null,79.432823472428254,null,null,null,-10.771246882935616,null,null,null,-79.449200197897397,null,null,null,-90.220447080833011,1]
[null,null,null,null,null,null,null,null,null,null,null,null,null,null,null,null,null,null,null,null,null,null,null,null,null,null,null,null,null,null,100.00000000000013,null,null,null,-13.473989624234992,null,null,null,-76.803536807781512,null,null,null,-90.277526432016501,1]
[null,null,null,null,null,null,null,null,null,null,null,null,null,null,null,null,null,null,null,null,null,null,null,null,null,null,null,null,null,null,125.89254117941688,null,null,null,-16.795790669918311,null,null,null,-73.55359440779182,null,null,null,-90.349385077710139,1]
[null,null,null,null,null,null,null,null,null,null,null,null,null,null,null,null,null,null,null,null,null,null,null,null,null,null,null,null,null,null,158.48931924611168,null,null,null,-20.826432584246238,null,null,null,-69.613417168584789,null,null,null,-90.439849752831023,1]
[null,null,null,null,null,null,null,null,null,null,null,null,null,null,null,null,null,null,null,null,null,null,null,null,null,null,null,null,null,null,199.52623149688836,null,null,null,-25.626498228355928,null,null,null,-64.927239802854345,null,null,null,-90.553738031210273,1]
[null,null,null,null,null,null,null,null,null,null,null,null,null,null,null,null,null,null,null,null,null,null,null,null,null,null,null,null,null,null,251.18864315095851,null,null,null,-31.194947306201524,null,null,null,-59.502167572766034,null,null,null,-90.697114878967554,1]
[null,null,null,null,null,null,null,null,null,null,null,null,null,null,null,null,null,null,null,null,null,null,null,null,null,null,null,null,null,null,316.22776601683881,null,null,null,-37.434535268892475,null,null,null,-53.443080367179377,null,null,null,-90.877615636071852,1]
[null,null,null,null,null,null,null,null,null,null,null,null,null,null,null,null,null,null,null,null,null,null,null,null,null,null,null,null,null,null,398.10717055349835,null,null,null,-44.134797493843251,null,null,null,-46.970055132195675,null,null,null,-91.104852626038934,1]
[null,null,null,null,null,null,null,null,null,null,null,null,null,null,null,null,null,null,null,null,null,null,null,null,null,null,null,null,null,null,501.1872336272736,null,null,null,-50.995779228487017,null,null,null,-40.395147818720879,null,null,null,-91.390927047207896,1]
[null,null,null,null,null,null,null,null,null,null,null,null,null,null,null,null,null,null,null,null,null,null,null,null,null,null,null,null,null,null,630.95734448019539,null,null,null,-57.695906381491319,null,null,null,-34.05516702419051,null,null,null,-91.751073405681836,1]
[null,null,null,null,null,null,null,null,null,null,null,null,null,null,null,null,null,null,null,null,null,null,null,null,null,null,null,null,null,null,794.32823472428424,null,null,null,-63.973357138818827,null,null,null,-28.231113669511085,null,null,null,-92.204470808329916,1]
[null,null,null,null,null,null,null,null,null,null,null,null,null,null,null,null,null,null,null,null,null,null,null,null,null,null,null,null,null,null,1000.0000000000033,null,null,null,-69.678442402004066,null,null,null,-23.096821918160806,null,null,null,-92.775264320164865,1]
[null,null,null,null,null,null,null,null,null,null,null,null,null,null,null,null,null,null,null,null,null,null,null,null,null,null,null,null,null,null,1258.9254117941723,null,null,null,-74.77964824523589,null,null,null,-18.714202531865325,null,null,null,-93.493850777101215,1]
[null,null,null,null,null,null,null,null,null,null,null,null,null,null,null,null,null,null,null,null,null,null,null,null,null,null,null,null,null,null,1584.89319246112,null,null,null,{"$f":"IMARGUMENT(AG35)*180/PI()","v":-79.337810502779547},null,null,null,{"$f":"IF(IMARGUMENT(AK35)*180/PI()>0,\"\",IMARGUMENT(AK35)*180/PI())","v":-15.060687025530083},null,null,null,-94.398497528309633,1]
[null,null,null,null,null,null,null,null,null,null,null,null,null,null,null,null,null,null,null,null,null,null,null,null,null,null,null,null,null,null,1995.2623149688875,null,null,null,-83.47243254351838,null,null,null,-12.064947768584437,null,null,null,-95.537380312102812,{"$f":"IF(AR87=0,0,IF(AQ88<0,1,0))","v":1}]
[null,null,null,null,null,null,null,null,null,null,null,null,null,null,null,null,null,null,null,null,null,null,null,null,null,null,null,null,null,null,2511.8864315095921,null,null,null,-87.335299289527896,null,null,null,-9.6358495001471258,null,null,null,-96.971148789675027,1]
[null,null,null,null,null,null,null,null,null,null,null,null,null,null,null,null,null,null,null,null,null,null,null,null,null,null,null,null,null,null,3162.2776601683972,null,null,null,-91.095482953298344,null,null,null,-7.6806734074216836,null,null,null,-98.776156360720023,1]
[null,null,null,null,null,null,null,null,null,null,null,null,null,null,null,null,null,null,null,null,null,null,null,null,null,null,null,null,null,null,3981.071705534991,null,null,null,-94.934058671168501,null,null,null,-6.1144675892208218,null,null,null,-101.04852626038932,1]
[null,null,null,null,null,null,null,null,null,null,null,null,null,null,null,null,null,null,null,null,null,null,null,null,null,null,null,null,null,null,5011.8723362727505,null,null,null,-99.045570250394519,null,null,null,-4.8637002216848586,null,null,null,-103.90927047207938,1]
[null,null,null,null,null,null,null,null,null,null,null,null,null,null,null,null,null,null,null,null,null,null,null,null,null,null,null,null,null,null,6309.5734448019721,null,null,null,-103.64393451709678,null,null,null,-3.8667995397221917,null,null,null,-107.51073405681898,1]
[null,null,null,null,null,null,null,null,null,null,null,null,null,null,null,null,null,null,null,null,null,null,null,null,null,null,null,null,null,null,7943.2823472428581,null,null,null,-108.97147892674208,null,null,null,-3.0732291565569416,null,null,null,-112.04470808329903,1]
[null,null,null,null,null,null,null,null,null,null,null,null,null,null,null,null,null,null,null,null,null,null,null,null,null,null,null,null,null,null,10000.000000000044,null,null,null,-115.31062649528394,null,null,null,-2.4420167063652594,null,null,null,-117.75264320164921,1]
[null,null,null,null,null,null,null,null,null,null,null,null,null,null,null,null,null,null,null,null,null,null,null,null,null,null,null,null,null,null,12589.254117941715,null,null,null,-122.99831146774828,null,null,null,-1.9401963032646212,null,null,null,-124.93850777101291,1]
[null,null,null,null,null,null,null,null,null,null,null,null,null,null,null,null,null,null,null,null,null,null,null,null,null,null,null,null,null,null,15848.931924611175,null,null,null,-132.44360517941681,null,null,null,-1.5413701036794689,null,null,null,-133.98497528309628,1]
[null,null,null,null,null,null,null,null,null,null,null,null,null,null,null,null,null,null,null,null,null,null,null,null,null,null,null,null,null,null,19952.623149688861,null,null,null,-144.14934032473732,null,null,null,-1.2244627962910164,null,null,null,-145.37380312102835,1]
[null,null,null,null,null,null,null,null,null,null,null,null,null,null,null,null,null,null,null,null,null,null,null,null,null,null,null,null,null,null,25118.86431509586,null,null,null,-158.73880788020497,null,null,null,-0.97268001654476488,null,null,null,-159.71148789674973,1]
[null,null,null,null,null,null,null,null,null,null,null,null,null,null,null,null,null,null,null,null,null,null,null,null,null,null,null,null,null,null,31622.77660168384,null,null,null,-176.98890901477102,null,null,null,-0.77265459242833034,null,null,null,-177.76156360719935,1]
[null,null,null,null,null,null,null,null,null,null,null,null,null,null,null,null,null,null,null,null,null,null,null,null,null,null,null,null,null,null,39810.717055349742,null,null,null,160.12849248447893,null,null,null,-0.61375508837213244,null,null,null,159.5147373961068,0]
[null,null,null,null,null,null,null,null,null,null,null,null,null,null,null,null,null,null,null,null,null,null,null,null,null,null,null,null,null,null,50118.723362727207,null,null,null,131.3948251568176,null,null,null,-0.48752987761070626,null,null,null,130.90729527920689,0]
[null,null,null,null,null,null,null,null,null,null,null,null,null,null,null,null,null,null,null,null,null,null,null,null,null,null,null,null,null,null,63095.734448019233,null,null,null,95.27992162803784,null,null,null,-0.3872621962264986,null,null,null,94.892659431811339,0]
[null,null,null,null,null,null,null,null,null,null,null,null,null,null,null,null,null,null,null,null,null,null,null,null,null,null,null,null,null,null,79432.823472427961,null,null,null,49.860534192440078,null,null,null,-0.30761502542853242,null,null,null,49.552919167011545,0]

{"sheet":"Rechentabelle","index":6,"n_rows":1602,"n_cols":42,"rows_kept":1602,"cut":false,"hidden":false,"merged":[]}
["t [s]","dt [s]","φ Trajektorie [rad]","ω Trajektorie [rad/s]","α Trajektorie [mrad/s2]",null,"α Trajektorie [rad/s2]",null,"φ Soll [rad]","φ Ist [rad]","φ Diff [rad]","LR ua(t)",null,"ω Soll [rad/s]","ω Ist [rad/s]","ω Vorsteuerung [rad/s]","ω Diff [rad/s]","DR ua(t)",null,"I Soll DR [A]","I Vorsteuerung [A]","I Add [A]","I Lim [A]","I Ist [A]","I Diff [A]","SR ua(t)","U Lim [V]",null,null,"Wicklung ua(t)","Totzeit","I Ist [A]",null,"M Motor [Nm]","α Motor+Last [rad/s2]","ω Motor+Last [rad/s]","n Motor+Last [1/min]","φ Motor+Last [rad]","φ Fenster- [rad]","φ Fenster+ [rad]","dφ Zielpos [rad]",{"$f":"K1","v":"φ Diff [rad]"}]
[0,6.2499995692633092E-5,0,0,7850001.5,5887501413957.4248,{"$f":"E2/1000","v":7850.0015000000003},null,{"$f":"C2","v":0},0,{"$f":"I2-J2","v":0},{"$f":"0+KP_LR*(1+2*TA_SIM/TN_LR)*K2-KP_LR*0","v":0},"-",{"$f":"L2","v":0},0,{"$f":"D2*KP_VDR","v":0},{"$f":"N2-O2+P2","v":0},{"$f":"0+KP_DR*(1+2*TA_SIM/TN_DR)*Q2-KP_DR*0","v":0},"-",{"$f":"R2","v":0},{"$f":"G2*(JM_EMS+JL_EMS)/KT_M*KP_VSR","v":5.3974367456428585},{"$f":"T2+U2","v":5.3974367456428585},{"$f":"IF(V2<-IM_R,-IM_R,IF(V2>IM_R,IM_R,V2))","v":5.3974367456428585},0,{"$f":"W2-X2","v":5.3974367456428585},{"$f":"0+KP_SR*(1+TA_SIM/TN_SR)*Y2-KP_SR*0","v":388.96366741181117},{"$f":"IF(Z2<-U_ZWK,-U_ZWK,IF(Z2>U_ZWK,U_ZWK,Z2))","v":388.96366741181117},{"$f":"AA2","v":388.96366741181117},"-",{"$f":"(1/R_M*AB2+0*T_M/TA_SIM)/(1+T_M/TA_SIM)","v":3.4822172552534574},{"$f":"AD2","v":3.4822172552534574},{"$f":"AE2","v":3.4822172552534574},"-",{"$f":"AF2*KT_M","v":2.4375520786774199},{"$f":"AH2/(JM_EMS+JL_EMS)","v":5064.5170967741942},{"$f":"0+AI2*TA_SIM","v":0.31653231854838715},{"$f":"AJ2/(2*PI())*60","v":3.0226609887188549},{"$f":"0+AJ2*TA_SIM","v":1.9783269909274198E-5},{"$f":"-DF_LR","v":-2.9088820873213997E-4},{"$f":"DF_LR","v":2.9088820873213997E-4},{"$f":"FI_T-Rechentabelle!AL2","v":6.2799802167300909},{"$f":"K2","v":0}]
[6.2499995692633092E-5,6.2499995692633092E-5,1.5332031683465071E-5,0.4906250536441803,7850001.5,5795509204364.3398,{"$f":"E3/1000","v":7850.0015000000003},null,null,null,null,null,"-",{"$f":"N2+(L4-L2)/2","v":2.520652530777422E-2},{"$f":"AJ2","v":0.31653231854838715},{"$f":"D3*KP_VDR","v":0.4906250536441803},{"$f":"N3-O3+P3","v":0.19929926040356738},{"$f":"R2+KP_DR*(1+TA_SIM/TN_DR)*Q3-KP_DR*Q2","v":0.51017077380026488},"-",{"$f":"R3","v":0.51017077380026488},5.3974367456428585,{"$f":"T3+U3","v":5.9076075194431237},5.9076075194431237,{"$f":"AF2","v":3.4822172552534574},{"$f":"W3-X3","v":2.4253902641896663},{"$f":"Z2+KP_SR*(1+TA_SIM/TN_SR)*Y3-KP_SR*Y2","v":184.88300585312913},184.88300585312913,{"$f":"AA3","v":184.88300585312913},"-",{"$f":"(1/R_M*AB3+AD2*T_M/TA_SIM)/(1+T_M/TA_SIM)","v":5.0469851676338875},{"$f":"AD3","v":5.0469851676338875},{"$f":"AE3","v":5.0469851676338875},"-",3.532889617343721,7340.3067054720977,{"$f":"AJ2+AI3*TA_SIM","v":0.77530148764039319},7.4035838486681147,{"$f":"AL2+AJ3*TA_SIM","v":6.8239612886798775E-5},-2.9088820873213997E-4,2.9088820873213997E-4,{"$f":"FI_T-Rechentabelle!AL3","v":6.2799317603871136},{"$f":"AP2","v":0}]
[1.2499999138526618E-4,6.2499995692633092E-5,6.1328126733860283E-5,0.9812501072883606,7850001.5,5703516994771.2549,7850.0015000000003,null,{"$f":"C4","v":6.1328126733860283E-5},{"$f":"AL2","v":1.9783269909274198E-5},{"$f":"I4-J4","v":4.1544856824586089E-5},{"$f":"L2+KP_LR*(1+2*TA_SIM/TN_LR)*K4-KP_LR*K2","v":5.041305061554844E-2},"-",{"$f":"L4","v":5.041305061554844E-2},{"$f":"AJ3","v":0.77530148764039319},{"$f":"D4*KP_VDR","v":0.9812501072883606},{"$f":"N4-O4+P4","v":0.25636167026351586},0.70482811945710622,"-",0.70482811945710622,5.3974367456428585,6.1022648650999649,6.1022648650999649,{"$f":"AF3","v":5.0469851676338875},1.0552796974660774,90.684477764822816,90.684477764822816,90.684477764822816,"-",5.7278107789023256,5.7278107789023256,5.7278107789023256,"-",4.0094675452316277,8330.4956269096765,1.295957464322248,12.375482189023462,1.492369544069393E-4,-2.9088820873213997E-4,2.9088820873213997E-4,{"$f":"FI_T-Rechentabelle!AL4","v":6.2798507630455935},{"$f":"K4","v":4.1544856824586089E-5}]
[1.8749998707789928E-4,6.2499995692633092E-5,1.3798828515118564E-4,1.4718751907348633,7850001.5,5611524785178.1699,7850.0015000000003,null,null,null,null,null,"-",{"$f":"N4+(L6-L4)/2","v":8.5165655110086752E-2},1.295957464322248,1.4718751907348633,0.26108338152270205,0.7794139514490358,"-",0.7794139514490358,5.3974367456428585,6.1768506970918944,6.1768506970918944,5.7278107789023256,0.44903991818956879,48.97049568576837,48.97049568576837,48.97049568576837,"-",6.0175139519278549,6.0175139519278549,6.0175139519278549,"-",4.2122597663494981,8751.8382845408214,1.8429473571060493,17.598850904494331,2.6442116422606735E-4,-2.9088820873213997E-4,2.9088820873213997E-4,{"$f":"FI_T-Rechentabelle!AL5","v":6.2797355788357745},{"$f":"AP4","v":4.1544856824586089E-5}]
[2.4999998277053237E-4,6.2499995692633092E-5,2.4531250693544113E-4,1.9625002145767212,7850001.5,5519532575585.085,7850.0015000000003,null,{"$f":"C6","v":2.4531250693544113E-4},{"$f":"AL4","v":1.492369544069393E-4},{"$f":"I6-J6","v":9.6075552528501838E-5},{"$f":"L4+KP_LR*(1+2*TA_SIM/TN_LR)*K6-KP_LR*K4","v":0.11991825960462504},"-",{"$f":"L6","v":0.11991825960462504},1.8429473571060493,1.9625002145767212,0.239471117075297,0.78774059271016672,"-",0.78774059271016672,5.3974367456428585,6.1851773383530251,6.1851773383530251,6.0175139519278549,0.1676633864251702,29.533371275875741,29.533371275875741,29.533371275875741,"-",6.1256838786537715,6.1256838786537715,6.1256838786537715,"-",4.2879787150576396,8909.1600146637011,2.3997698580225304,22.916114111233298,4.1440678035247554E-4,-2.9088820873213997E-4,2.9088820873213997E-4,{"$f":"FI_T-Rechentabelle!AL6","v":6.2795855932196476},{"$f":"K6","v":9.6075552528501838E-5}]
[3.1249999301508069E-4,6.2499995692633092E-5,3.833007920866268E-4,2.4531252384185791,7850001.5,5427540365992.001,7850.0015000000003,null,null,null,null,null,"-",{"$f":"N6+(L8-L6)/2","v":0.1489353264036348},2.3997698580225304,2.4531252384185791,0.20229070679968331,0.75094662965971215,"-",0.75094662965971215,5.3974367456428585,6.1483833753025703,6.1483833753025703,6.1256838786537715,2.2699496648798778E-2,19.400311490464325,19.400311490464325,19.400311490464325,"-",6.1403287152013846,6.1403287152013846,6.1403287152013846,"-",4.2982301006409687,8930.4593821752933,2.9579235694084862,28.246089441563011,5.9927700344050597E-4,-2.9088820873213997E-4,2.9088820873213997E-4,{"$f":"FI_T-Rechentabelle!AL7","v":6.2794007229965594},{"$f":"AP6","v":9.6075552528501838E-5}]
[3.7499997415579855E-4,6.2499995692633092E-5,5.5195314060474258E-4,2.9437503814697266,7850001.5,5335548156398.916,7850.0015000000003,null,{"$f":"C8","v":5.5195314060474258E-4},{"$f":"AL6","v":4.1440678035247554E-4},{"$f":"I8-J8","v":1.3754636025226704E-4},{"$f":"L6+KP_LR*(1+2*TA_SIM/TN_LR)*K8-KP_LR*K6","v":0.17795239320264455},"-",{"$f":"L8","v":0.17795239320264455},2.9579235694084862,2.9437503814697266,0.1637792052638849,0.70168099860758071,"-",0.70168099860758071,5.3974367456428585,6.0991177442504387,6.0991177442504387,6.1403287152013846,-4.1210970950945836E-2,14.837104593296614,14.837104593296614,14.837104593296614,"-",6.1137409920072265,6.1137409920072265,6.1137409920072265,"-",4.279618694405058,8891.790347818529,3.5136604661471442,33.552985892033476,8.1888078257470243E-4,-2.9088820873213997E-4,2.9088820873213997E-4,{"$f":"FI_T-Rechentabelle!AL8","v":6.2791811192174256},{"$f":"K8","v":1.3754636025226704E-4}]
[4.3749995529651642E-4,6.2499995692633092E-5,7.5126955248978856E-4,3.4343752861022949,7850001.5,5243555946805.8311,7850.0015000000003,null,null,null,null,null,"-",{"$f":"N8+(L10-L8)/2","v":0.19853286518259494},3.5136604661471442,3.4343752861022949,0.11924768513774575,0.62761636661482112,"-",0.62761636661482112,5.3974367456428585,6.0250531122576794,6.0250531122576794,6.1137409920072265,-8.8687879749547172E-2,11.338599736160154,11.338599736160154,11.338599736160154,"-",6.0565230050720356,6.0565230050720356,6.0565230050720356,"-",4.2395661035504242,8808.5728309794795,4.0641962680833617,38.810215545666054,1.0728930493299127E-3,-2.9088820873213997E-4,2.9088820873213997E-4,{"$f":"FI_T-Rechentabelle!AL9","v":6.27892710695067},{"$f":"AP8","v":1.3754636025226704E-4}]
[4.9999996554106474E-4,6.2499995692633092E-5,9.8125002774176453E-4,3.9250004291534424,7850001.5,5151563737212.7461,7850.0015000000003,null,{"$f":"C10","v":9.8125002774176453E-4},{"$f":"AL8","v":8.1888078257470243E-4},{"$f":"I10-J10","v":1.623692451670621E-4},{"$f":"L8+KP_LR*(1+2*TA_SIM/TN_LR)*K10-KP_LR*K8","v":0.2191133371625453},"-",{"$f":"L10","v":0.2191133371625453},4.0641962680833617,3.9250004291534424,7.9917498232625839E-2,0.55600976871564578,"-",0.55600976871564578,5.3974367456428585,5.9534465143585038,5.9534465143585038,6.0565230050720356,-0.10307649071353175,10.13575928715966,10.13575928715966,10.13575928715966,"-",5.9900220433213693,5.9900220433213693,5.9900220433213693,"-",4.1930154303249587,8711.8542080302486,4.608687156085252,44.009720523305838,1.3609359965852409E-3,-2.9088820873213997E-4,2.9088820873213997E-4,{"$f":"FI_T-Rechentabelle!AL10","v":6.2786390640034151},{"$f":"K10","v":1.623692451670621E-4}]
[5.6249997578561306E-4,6.2499995692633092E-5,1.2418945663606709E-3,4.4156255722045898,7850001.5,5059571527619.6621,7850.0015000000003,null,null,null,null,null,"-",{"$f":"N10+(L12-L10)/2","v":0.23163451540018909},4.608687156085252,4.4156255722045898,3.8572931519526676E-2,0.46965830555063875,"-",0.46965830555063875,5.3974367456428585,5.8670950511934974,5.8670950511934974,5.9900220433213693,-0.12292699212787195,8.5123897187396338,8.5123897187396338,8.5123897187396338,"-",5.910714306464679,5.910714306464679,5.910714306464679,"-",4.1375000145252754,8596.5094837425204,5.1459689988191597,49.140384189583266,1.6825590590114385E-3,-2.9088820873213997E-4,2.9088820873213997E-4,{"$f":"FI_T-Rechentabelle!AL11","v":6.278317440940989},{"$f":"AP10","v":1.623692451670621E-4}]
[6.2499998603016138E-4,6.2499995692633092E-5,1.5332031683465072E-3,4.9062504768371582,7850001.5,4967579318026.5771,7850.0015000000003,null,{"$f":"C12","v":1.5332031683465072E-3},{"$f":"AL10","v":1.3609359965852409E-3},{"$f":"I12-J12","v":1.7226717176126627E-4},{"$f":"L10+KP_LR*(1+2*TA_SIM/TN_LR)*K12-KP_LR*K10","v":0.2441556936378329},"-",{"$f":"L12","v":0.2441556936378329},5.1459689988191597,4.9062504768371582,4.4371716558311292E-3,0.39168060885678591,"-",0.39168060885678591,5.3974367456428585,5.7891173544996448,5.7891173544996448,5.910714306464679,-0.12159695196503417,8.3782459826223121,8.3782459826223121,8.3782459826223121,"-",5.8322646600356256,5.8322646600356256,5.8322646600356256,"-",4.0825852620249377,8482.4127613233686,5.6761197964018706,54.202951390747216,2.0373165462865554E-3,-2.9088820873213997E-4,2.9088820873213997E-4,{"$f":"FI_T-Rechentabelle!AL12","v":6.2779626834537137},{"$f":"K12","v":1.7226717176126627E-4}]
[6.8749993806704879E-4,6.2499995692633092E-5,1.8551758336992738E-3,5.3968753814697266,7850001.5,4875587108433.4922,7850.0015000000003,null,null,null,null,null,"-",{"$f":"N12+(L14-L12)/2","v":0.24999408500020467},5.6761197964018706,5.3968753814697266,-2.9250329931939767E-2,0.30652832688140325,"-",0.30652832688140325,5.3974367456428585,5.7039650725242614,5.7039650725242614,5.8322646600356256,-0.12829958751136417,7.6677198205425317,7.6677198205425317,7.6677198205425317,"-",5.7494907326089395,5.7494907326089395,5.7494907326089395,"-",4.0246435128262572,8362.0268290593322,6.1987464732180788,59.193668531166615,2.4247382008626855E-3,-2.9088820873213997E-4,2.9088820873213997E-4,{"$f":"FI_T-Rechentabelle!AL13","v":6.2775752617991376},{"$f":"AP12","v":1.7226717176126627E-4}]
[7.4999994831159711E-4,6.2499995692633092E-5,2.2078125624189703E-3,5.8875007629394531,7850001.5,4783594898840.4072,7850.0015000000003,null,{"$f":"C14","v":2.2078125624189703E-3},{"$f":"AL12","v":2.0373165462865554E-3},{"$f":"I14-J14","v":1.7049601613241486E-4},{"$f":"L12+KP_LR*(1+2*TA_SIM/TN_LR)*K14-KP_LR*K12","v":0.25583247636257644},"-",{"$f":"L14","v":0.25583247636257644},6.1987464732180788,5.8875007629394531,-5.541323391604891E-2,0.23242491584068839,"-",0.23242491584068839,5.3974367456428585,5.6298616614835471,5.6298616614835471,5.7494907326089395,-0.11962907112539245,8.0525119989490364,8.0525119989490364,8.0525119989490364,"-",5.6723106867215893,5.6723106867215893,5.6723106867215893,"-",3.9706174807051124,8249.7766064930656,6.7143575111238958,64.117391254893818,2.8443855453079291E-3,-2.9088820873213997E-4,2.9088820873213997E-4,{"$f":"FI_T-Rechentabelle!AL14","v":6.2771556144546921},{"$f":"K14","v":1.7049601613241486E-4}]
[8.1249995855614543E-4,6.2499995692633092E-5,2.5911133545055971E-3,6.3781256675720215,7850001.5,4691602689247.3223,7850.0015000000003,null,null,null,null,null,"-",{"$f":"N14+(L16-L14)/2","v":0.25672641507544441},6.7143575111238958,6.3781256675720215,-7.9505428476429607E-2,0.15724383039923828,"-",0.15724383039923828,5.3974367456428585,5.554680576042097,5.554680576042097,5.6723106867215893,-0.11763011067949236,7.9727439831705844,7.9727439831705844,7.9727439831705844,"-",5.5964202927348214,5.5964202927348214,5.5964202927348214,"-",3.9174942049143748,8139.4020463627148,7.2230701390215657,68.97523901548476,3.2958274289967768E-3,-2.9088820873213997E-4,2.9088820873213997E-4,{"$f":"FI_T-Rechentabelle!AL15","v":6.2767041725710033},{"$f":"AP14","v":1.7049601613241486E-4}]
[8.7499991059303284E-4,6.2499995692633092E-5,3.0050782099591542E-3,6.8687505722045898,7850001.5,4599610479654.2383,7850.0015000000003,null,{"$f":"C16","v":3.0050782099591542E-3},{"$f":"AL14","v":2.8443855453079291E-3},{"$f":"I16-J16","v":1.6069266465122516E-4},{"$f":"L14+KP_LR*(1+2*TA_SIM/TN_LR)*K16-KP_LR*K14","v":0.25762035378831238},"-",{"$f":"L16","v":0.25762035378831238},7.2230701390215657,6.8687505722045898,-9.6699213028663245E-2,9.3847951888763381E-2,"-",9.3847951888763381E-2,5.3974367456428585,5.4912846975316221,5.4912846975316221,5.5964202927348214,-0.10513559520319937,8.6530730526747135,8.6530730526747135,8.6530730526747135,"-",5.5285908764746932,5.5285908764746932,5.5285908764746932,"-",3.8700136135322851,8040.7513266824944,7.7256170969392217,73.77420896478813,3.7786784975554783E-3,-2.9088820873213997E-4,2.9088820873213997E-4,{"$f":"FI_T-Rechentabelle!AL16","v":6.2762213215024447},{"$f":"K16","v":1.6069266465122516E-4}]
[9.3749992083758116E-4,6.2499995692633092E-5,3.4497071287796412E-3,7.3593759536743164,7850001.5,4507618270061.1533,7850.0015000000003,null,null,null,null,null,"-",{"$f":"N16+(L18-L16)/2","v":0.25534952630296998},7.7256170969392217,7.3593759536743164,-0.11089161696193539,3.3943357543239655E-2,"-",3.3943357543239655E-2,5.3974367456428585,5.4313801031860978,5.4313801031860978,5.5285908764746932,-9.7210773288595398E-2,9.0274662022050265,9.0274662022050265,9.0274662022050265,"-",5.4658742485465677,5.4658742485465677,5.4658742485465677,"-",3.8261119739825973,7949.5366174581277,8.2224631355303544,78.518739144632463,4.2925824435261252E-3,-2.9088820873213997E-4,2.9088820873213997E-4,{"$f":"FI_T-Rechentabelle!AL17","v":6.2757074175564744},{"$f":"AP16","v":1.6069266465122516E-4}]
[9.9999993108212948E-4,6.2499995692633092E-5,3.9250001109670581E-3,7.8500008583068848,7850001.5,4415626060468.0684,7850.0015000000003,null,{"$f":"C18","v":3.9250001109670581E-3},{"$f":"AL16","v":3.7786784975554783E-3},{"$f":"I18-J18","v":1.4632161341157982E-4},{"$f":"L16+KP_LR*(1+2*TA_SIM/TN_LR)*K18-KP_LR*K16","v":0.25307869881762757},"-",{"$f":"L18","v":0.25307869881762757},8.2224631355303544,7.8500008583068848,-0.11938357840584235,-1.4829118249921724E-2,"-",-1.4829118249921724E-2,5.3974367456428585,5.3826076273929369,5.3826076273929369,5.4658742485465677,-8.3266621153630815E-2,9.8504665576492947,9.8504665576492947,9.8504665576492947,"-",5.4121538478022906,5.4121538478022906,5.4121538478022906,"-",3.7885076934616033,7871.4059702090235,8.7144260086684184,83.216638529289284,4.8372340690679017E-3,-2.9088820873213997E-4,2.9088820873213997E-4,{"$f":"FI_T-Rechentabelle!AL18","v":6.2751627659309319},{"$f":"K18","v":1.4632161341157982E-4}]
[1.0624999413266778E-3,6.2499995692633092E-5,4.4309571565214062E-3,8.3406257629394531,7850001.5,4323633850874.9834,7850.0015000000003,null,null,null,null,null,"-",{"$f":"N18+(L20-L18)/2","v":0.24925653654341201},8.7144260086684184,8.3406257629394531,-0.12454370918555391,-5.7142975922290395E-2,"-",-5.7142975922290395E-2,5.3974367456428585,5.3402937697205681,5.3402937697205681,5.4121538478022906,-7.1860078081722456E-2,10.516684402672929,10.516684402672929,10.516684402672929,"-",5.3657925071044055,5.3657925071044055,5.3657925071044055,"-",3.7560547549730834,7803.9782983026862,9.2021746523123369,87.874294986627106,5.4123699848374228E-3,-2.9088820873213997E-4,2.9088820873213997E-4,{"$f":"FI_T-Rechentabelle!AL19","v":6.2745876300151631},{"$f":"AP18","v":1.4632161341157982E-4}]
[1.1249999515712261E-3,6.2499995692633092E-5,4.9675782654426837E-3,8.8312511444091797,7850001.5,4231641641281.8989,7850.0015000000003,null,{"$f":"C20","v":4.9675782654426837E-3},{"$f":"AL18","v":4.8372340690679017E-3},{"$f":"I20-J20","v":1.3034419637478201E-4},{"$f":"L18+KP_LR*(1+2*TA_SIM/TN_LR)*K20-KP_LR*K18","v":0.24543437426919643},"-",{"$f":"L20","v":0.24543437426919643},9.2021746523123369,8.8312511444091797,-0.12548913363396075,-8.9925934494990922E-2,"-",-8.9925934494990922E-2,5.3974367456428585,5.3075108111478677,5.3075108111478677,5.3657925071044055,-5.828169595653776E-2,11.360756052315597,11.360756052315597,11.360756052315597,"-",5.3281914129388976,5.3281914129388976,5.3281914129388976,"-",3.7297339890572281,7749.2914794457256,9.6865053697776951,92.499312653178464,6.0177765704485285E-3,-2.9088820873213997E-4,2.9088820873213997E-4,{"$f":"FI_T-Rechentabelle!AL20","v":6.2739822234295515},{"$f":"K20","v":1.3034419637478201E-4}]
[1.1874999618157744E-3,6.2499995692633092E-5,5.5348634377308907E-3,9.3218755722045898,7850001.5,4139649431688.814,7850.0015000000003,null,null,null,null,null,"-",{"$f":"N20+(L22-L20)/2","v":0.24137714427125695},9.6865053697776951,9.3218755722045898,-0.12325265330184898,-0.11479426845628521,"-",-0.11479426845628521,5.3974367456428585,5.282642477186573,5.282642477186573,5.3281914129388976,-4.554893575232466E-2,12.169293082339239,12.169293082339239,12.169293082339239,"-",5.298805002776108,5.298805002776108,5.298805002776108,"-",3.7091635019432752,7706.5520505781733,10.168164872938831,97.09882210209534,6.6532868750072052E-3,-2.9088820873213997E-4,2.9088820873213997E-4,{"$f":"FI_T-Rechentabelle!AL21","v":6.2733467131249929},{"$f":"AP20","v":1.3034419637478201E-4}]
[1.2499999720603228E-3,6.2499995692633092E-5,6.1328126733860289E-3,9.8125009536743164,7850001.5,4047657222095.7295,7850.0015000000003,null,{"$f":"C22","v":6.1328126733860289E-3},{"$f":"AL20","v":6.0177765704485285E-3},{"$f":"I22-J22","v":1.1503610293750032E-4},{"$f":"L20+KP_LR*(1+2*TA_SIM/TN_LR)*K22-KP_LR*K20","v":0.23731991427331747},"-",{"$f":"L22","v":0.23731991427331747},10.168164872938831,9.8125009536743164,-0.11834400499119724,-0.13227708868532773,"-",-0.13227708868532773,5.3974367456428585,5.2651596569575307,5.2651596569575307,5.298805002776108,-3.3645345818577255E-2,12.941898941641075,12.941898941641075,12.941898941641075,"-",5.2770983280544455,5.2770983280544455,5.2770983280544455,"-",3.6939688296381115,7674.9819855352398,10.647851247034783,101.67948955636727,7.318777577946879E-3,-2.9088820873213997E-4,2.9088820873213997E-4,{"$f":"FI_T-Rechentabelle!AL22","v":6.2726812224220536},{"$f":"K22","v":1.1503610293750032E-4}]
[1.3124998658895493E-3,6.2499995692633092E-5,6.7614259724080965E-3,10.303126335144043,7850001.5,3955665012502.6445,7850.0015000000003,null,null,null,null,null,"-",{"$f":"N22+(L24-L22)/2","v":0.23398181728015793},10.647851247034783,10.303126335144043,-0.11074309461058185,-0.141671502985803,"-",-0.141671502985803,5.3974367456428585,5.2557652426570556,5.2557652426570556,5.2770983280544455,-2.1333085397389873E-2,13.766226674655755,13.766226674655755,13.766226674655755,"-",5.2633350471529035,5.2633350471529035,5.2633350471529035,"-",3.6843345330070321,7654.9647475733054,11.126286543758114,106.24821010175661,8.0141704869317616E-3,-2.9088820873213997E-4,2.9088820873213997E-4,{"$f":"FI_T-Rechentabelle!AL23","v":6.2719858295130688},{"$f":"AP22","v":1.1503610293750032E-4}]
[1.3749998761340976E-3,6.2499995692633092E-5,7.4207033347970953E-3,10.793750762939453,7850001.5,3863672802909.5596,7850.0015000000003,null,{"$f":"C24","v":7.4207033347970953E-3},{"$f":"AL22","v":7.318777577946879E-3},{"$f":"I24-J24","v":1.0192575685021629E-4},{"$f":"L22+KP_LR*(1+2*TA_SIM/TN_LR)*K24-KP_LR*K22","v":0.23064372028699837},"-",{"$f":"L24","v":0.23064372028699837},11.126286543758114,10.793750762939453,-0.10189206053166266,-0.14601277624295511,"-",-0.14601277624295511,5.3974367456428585,5.2514239693999034,5.2514239693999034,5.2633350471529035,-1.1911077753000043E-2,14.405305581898279,14.405305581898279,14.405305581898279,"-",5.2556504808606457,5.2556504808606457,5.2556504808606457,"-",3.6789553366024519,7643.788357786103,11.604023316119745,110.81026023084388,8.7394219441892448E-3,-2.9088820873213997E-4,2.9088820873213997E-4,{"$f":"FI_T-Rechentabelle!AL24","v":6.2712605780558111},{"$f":"K24","v":1.0192575685021629E-4}]
[1.4374998863786459E-3,6.2499995692633092E-5,8.1106447605530218E-3,11.28437614440918,7850001.5,3771680593316.4751,7850.0015000000003,null,null,null,null,null,"-",{"$f":"N24+(L26-L24)/2","v":0.22860752557254876},11.604023316119745,11.28437614440918,-9.1039646138016295E-2,-0.14307305374940585,"-",-0.14307305374940585,5.3974367456428585,5.2543636918934524,5.2543636918934524,5.2556504808606457,-1.2867889671932531E-3,15.148654570215001,15.148654570215001,15.148654570215001,"-",5.2548202944301989,5.2548202944301989,5.2548202944301989,"-",3.6783742061011391,7642.5809393333448,12.08168462482808,115.3715897351244,9.4945272332410003E-3,-2.9088820873213997E-4,2.9088820873213997E-4,{"$f":"FI_T-Rechentabelle!AL25","v":6.2705054727667591},{"$f":"AP24","v":1.0192575685021629E-4}]
[1.4999998966231942E-3,6.2499995692633092E-5,8.8312502496758812E-3,11.775001525878906,7850001.5,3679688383723.3901,7850.0015000000003,null,{"$f":"C26","v":8.8312502496758812E-3},{"$f":"AL24","v":8.7394219441892448E-3},{"$f":"I26-J26","v":9.1828305486636383E-5},{"$f":"L24+KP_LR*(1+2*TA_SIM/TN_LR)*K26-KP_LR*K24","v":0.22657133085809916},"-",{"$f":"L26","v":0.22657133085809916},12.08168462482808,11.775001525878906,-8.0111768091073898E-2,-0.13729441893211261,"-",-0.13729441893211261,5.3974367456428585,5.2601423267107457,5.2601423267107457,5.2548202944301989,5.3220322805467291E-3,15.622508534968352,15.622508534968352,15.622508534968352,"-",5.2582538636434553,5.2582538636434553,5.2582538636434553,"-",3.6807777045504184,7647.5747029927652,12.559658043765127,119.93589967254626,1.0279505860976321E-2,-2.9088820873213997E-4,2.9088820873213997E-4,{"$f":"FI_T-Rechentabelle!AL26","v":6.2697204941390243},{"$f":"K26","v":9.1828305486636383E-5}]
[1.5624999068677425E-3,6.2499995692633092E-5,9.5825198021656701E-3,12.265625953674316,7850001.5,3587696174130.3057,7850.0015000000003,null,null,null,null,null,"-",{"$f":"N26+(L28-L26)/2","v":0.22608160117089776},12.559658043765127,12.265625953674316,-6.7950488919912289E-2,-0.12569435966760251,"-",-0.12569435966760251,5.3974367456428585,5.2717423859752559,5.2717423859752559,5.2582538636434553,1.3488522331800645E-2,16.220980039702965,16.220980039702965,16.220980039702965,"-",5.2669561361155859,5.2669561361155859,5.2669561361155859,"-",3.6868692952809097,7660.2312388965493,13.038422496196162,124.50776342341129,1.1094407266988581E-2,-2.9088820873213997E-4,2.9088820873213997E-4,{"$f":"FI_T-Rechentabelle!AL27","v":6.2689055927330113},{"$f":"AP26","v":9.1828305486636383E-5}]
[1.6249999171122909E-3,6.2499995692633092E-5,1.0364453418022388E-2,12.756251335144043,7850001.5,3495703964537.2207,7850.0015000000003,null,{"$f":"C28","v":1.0364453418022388E-2},{"$f":"AL26","v":1.0279505860976321E-2},{"$f":"I28-J28","v":8.4947557046067407E-5},{"$f":"L26+KP_LR*(1+2*TA_SIM/TN_LR)*K28-KP_LR*K26","v":0.22559187148369639},"-",{"$f":"L28","v":0.22559187148369639},13.038422496196162,12.756251335144043,-5.6579289568423619E-2,-0.11315193432314818,"-",-0.11315193432314818,5.3974367456428585,5.2842848113197105,5.2842848113197105,5.2669561361155859,1.7328675204124622E-2,16.522955388477683,16.522955388477683,16.522955388477683,"-",5.2781359265698606,5.2781359265698606,5.2781359265698606,"-",3.6946951485989024,7676.4910629522174,13.518203187630675,129.08933154192232,1.1939294966215498E-2,-2.9088820873213997E-4,2.9088820873213997E-4,{"$f":"FI_T-Rechentabelle!AL28","v":6.2680607050337844},{"$f":"K28","v":8.4947557046067407E-5}]
[1.6874999273568392E-3,6.2499995692633092E-5,1.1177051097246036E-2,13.24687671661377,7850001.5,3403711754944.1362,7850.0015000000003,null,null,null,null,null,"-",{"$f":"N28+(L30-L28)/2","v":0.22661652110675784},13.518203187630675,13.24687671661377,-4.4709949910147984E-2,-9.6562143402176337E-2,"-",-9.6562143402176337E-2,5.3974367456428585,5.3008746022406825,5.3008746022406825,5.2781359265698606,2.2738675670821884E-2,16.945245846685456,16.945245846685456,16.945245846685456,"-",5.2928060399058756,5.2928060399058756,5.2928060399058756,"-",3.7049642279341128,7697.8271928820122,13.999317387185801,133.68363372497623,1.281425230291461E-2,-2.9088820873213997E-4,2.9088820873213997E-4,{"$f":"FI_T-Rechentabelle!AL29","v":6.267185747697086},{"$f":"AP28","v":8.4947557046067407E-5}]
[1.7499998211860657E-3,6.2499995692633092E-5,1.2020312839836617E-2,13.73750114440918,7850001.5,3311719545351.0513,7850.0015000000003,null,{"$f":"C30","v":1.2020312839836617E-2},{"$f":"AL28","v":1.1939294966215498E-2},{"$f":"I30-J30","v":8.1017873621119091E-5},{"$f":"L28+KP_LR*(1+2*TA_SIM/TN_LR)*K30-KP_LR*K28","v":0.22764117072981932},"-",{"$f":"L30","v":0.22764117072981932},13.999317387185801,13.73750114440918,-3.4175072046801702E-2,-8.0494680451403663E-2,"-",-8.0494680451403663E-2,5.3974367456428585,5.316942065191455,5.316942065191455,5.2928060399058756,2.4136025285579343E-2,17.088488499210481,17.088488499210481,17.088488499210481,"-",5.308377669122379,5.308377669122379,5.308377669122379,"-",3.7158643683856649,7720.4744824135978,14.481847042336652,138.29145251331735,1.3719367743060651E-2,-2.9088820873213997E-4,2.9088820873213997E-4,{"$f":"FI_T-Rechentabelle!AL30","v":6.2662806322569393},{"$f":"K30","v":8.1017873621119091E-5}]
[1.812499831430614E-3,6.2499995692633092E-5,1.2894238645794125E-2,14.228126525878906,7850001.5,3219727335757.9663,7850.0015000000003,null,null,null,null,null,"-",{"$f":"N30+(L32-L30)/2","v":0.22994764131042106},14.481847042336652,14.228126525878906,-2.3772875147324513E-2,-6.219853156470237E-2,"-",-6.219853156470237E-2,5.3974367456428585,5.3352382140781565,5.3352382140781565,5.308377669122379,2.6860544955777499E-2,17.3299874156552,17.3299874156552,17.3299874156552,"-",5.3257070529648169,5.3257070529648169,5.3257070529648169,"-",3.7279949370753718,7745.6782403394382,14.965951932357866,142.91431368662745,1.4654739738833017E-2,-2.9088820873213997E-4,2.9088820873213997E-4,{"$f":"FI_T-Rechentabelle!AL31","v":6.2653452602611672},{"$f":"AP30","v":8.1017873621119091E-5}]
[1.8749998416751623E-3,6.2499995692633092E-5,1.3798828515118565E-2,14.718751907348633,7850001.5,3127735126164.8818,7850.0015000000003,null,{"$f":"C32","v":1.3798828515118565E-2},{"$f":"AL30","v":1.3719367743060651E-2},{"$f":"I32-J32","v":7.9460772057914075E-5},{"$f":"L30+KP_LR*(1+2*TA_SIM/TN_LR)*K32-KP_LR*K30","v":0.2322541118910228},"-",{"$f":"L32","v":0.2322541118910228},14.965951932357866,14.718751907348633,-1.4945913118211251E-2,-4.5398725641462585E-2,"-",-4.5398725641462585E-2,5.3974367456428585,5.3520380200013955,5.3520380200013955,5.3257070529648169,2.6330967036578556E-2,17.342078852298577,17.342078852298577,17.342078852298577,"-",5.3426947736335775,5.3426947736335775,5.3426947736335775,"-",3.739886341543504,7770.3850852763426,15.451601000187637,147.55192067181218,1.5620464801344745E-2,-2.9088820873213997E-4,2.9088820873213997E-4,{"$f":"FI_T-Rechentabelle!AL32","v":6.2643795351986551},{"$f":"K32","v":7.9460772057914075E-5}]
[1.9374998519197106E-3,6.2499995692633092E-5,1.4734082447809936E-2,15.209376335144043,7850001.5,3035742916571.7969,7850.0015000000003,null,null,null,null,null,"-",{"$f":"N32+(L34-L32)/2","v":0.23548826362803732},15.451601000187637,15.209376335144043,-6.7364014155568697E-3,-2.8027534717293544E-2,"-",-2.8027534717293544E-2,5.3974367456428585,5.3694092109255651,5.3694092109255651,5.3426947736335775,2.6714437291987636E-2,17.418977840643915,17.418977840643915,17.418977840643915,"-",5.3599298944671183,5.3599298944671183,5.3599298944671183,"-",3.7519509261269826,7795.4517476147566,15.938816734413559,152.20448821906436,1.6616640847245592E-2,-2.9088820873213997E-4,2.9088820873213997E-4,{"$f":"FI_T-Rechentabelle!AL33","v":6.2633833591527548},{"$f":"AP32","v":7.9460772057914075E-5}]
[1.999999862164259E-3,6.2499995692633092E-5,1.5700000443868233E-2,15.70000171661377,7850001.5,2943750706978.7124,7850.0015000000003,null,{"$f":"C34","v":1.5700000443868233E-2},{"$f":"AL32","v":1.5620464801344745E-2},{"$f":"I34-J34","v":7.9535642523487909E-5},{"$f":"L32+KP_LR*(1+2*TA_SIM/TN_LR)*K34-KP_LR*K32","v":0.23872241536505184},"-",{"$f":"L34","v":0.23872241536505184},15.938816734413559,15.70000171661377,-9.2602434737187878E-5,-1.266287225620003E-2,"-",-1.266287225620003E-2,5.3974367456428585,5.3847738733866581,5.3847738733866581,5.3599298944671183,2.4843978919539822E-2,17.334166013511233,17.334166013511233,17.334166013511233,"-",5.375958267963596,5.375958267963596,5.375958267963596,"-",3.7631707875745168,7818.7633234459099,16.427489442128927,156.87096883828445,1.7643358937378648E-2,-2.9088820873213997E-4,2.9088820873213997E-4,{"$f":"FI_T-Rechentabelle!AL34","v":6.2623566410626212},{"$f":"K34","v":7.9535642523487909E-5}]
[2.0624997559934855E-3,6.2499995692633092E-5,1.6696582503293464E-2,16.19062614440918,7850001.5,2851758497385.6274,7850.0015000000003,null,null,null,null,null,"-",{"$f":"N34+(L36-L34)/2","v":0.24248085960026999},16.427489442128927,16.19062614440918,5.6175618805234251E-3,1.9315602705794286E-3,"-",1.9315602705794286E-3,5.3974367456428585,5.3993683059134376,5.3993683059134376,5.375958267963596,2.3410037949841644E-2,17.277312034512121,17.277312034512121,17.277312034512121,"-",5.3910615182538164,5.3910615182538164,5.3910615182538164,"-",3.7737430627776711,7840.7294053140886,16.917535029961059,161.55055949691589,1.8700704876751215E-2,-2.9088820873213997E-4,2.9088820873213997E-4,{"$f":"FI_T-Rechentabelle!AL35","v":6.2612992951232487},{"$f":"AP34","v":7.9535642523487909E-5}]
[2.1249998826533556E-3,6.2499995692633092E-5,1.7723828626085625E-2,16.681251525878906,7850001.5,2759766287792.5425,7850.0015000000003,null,{"$f":"C36","v":1.7723828626085625E-2},{"$f":"AL34","v":1.7643358937378648E-2},{"$f":"I36-J36","v":8.0469688706976544E-5},{"$f":"L34+KP_LR*(1+2*TA_SIM/TN_LR)*K36-KP_LR*K34","v":0.24623930383548814},"-",{"$f":"L36","v":0.24623930383548814},16.917535029961059,16.681251525878906,9.9557997533352705E-3,1.4406200357465239E-2,"-",1.4406200357465239E-2,5.3974367456428585,5.4118429460003235,5.4118429460003235,5.3910615182538164,2.0781427746507042E-2,17.131681937958614,17.131681937958614,17.131681937958614,"-",5.404468890993499,5.404468890993499,5.404468890993499,"-",3.7831282236954489,7860.2290124567808,17.408799343239608,166.24178812629148,1.9788754835703692E-2,-2.9088820873213997E-4,2.9088820873213997E-4,{"$f":"FI_T-Rechentabelle!AL36","v":6.2602112451642968},{"$f":"K36","v":8.0469688706976544E-5}]
[2.1874997764825821E-3,6.2499995692633092E-5,1.8781738812244712E-2,17.171876907348633,7850001.5,2667774078199.458,7850.0015000000003,null,null,null,null,null,"-",{"$f":"N36+(L38-L36)/2","v":0.25012896541477925},17.408799343239608,17.171876907348633,1.3206529523802857E-2,2.5154642963333446E-2,"-",2.5154642963333446E-2,5.3974367456428585,5.4225913886061923,5.4225913886061923,5.404468890993499,1.8122497612693245E-2,16.9789488053895,16.9789488053895,16.9789488053895,"-",5.4161608249371724,5.4161608249371724,5.4161608249371724,"-",3.7913125774560203,7877.2336951091211,17.901126449183927,170.94316567804142,2.0907575238777686E-2,-2.9088820873213997E-4,2.9088820873213997E-4,{"$f":"FI_T-Rechentabelle!AL37","v":6.2590924247612225},{"$f":"AP36","v":8.0469688706976544E-5}]
[2.2499999031424522E-3,6.2499995692633092E-5,1.9870313061770735E-2,17.662502288818359,7850001.5,2575781868606.373,7850.0015000000003,null,{"$f":"C38","v":1.9870313061770735E-2},{"$f":"AL36","v":1.9788754835703692E-2},{"$f":"I38-J38","v":8.1558226067042494E-5},{"$f":"L36+KP_LR*(1+2*TA_SIM/TN_LR)*K38-KP_LR*K36","v":0.2540186269940703},"-",{"$f":"L38","v":0.2540186269940703},17.901126449183927,17.662502288818359,1.5394466628503523E-2,3.3975028753396933E-2,"-",3.3975028753396933E-2,5.3974367456428585,5.4314117743962553,5.4314117743962553,5.4161608249371724,1.5250949459082896E-2,16.805918685595007,16.805918685595007,16.805918685595007,"-",5.4260001471688382,5.4260001471688382,5.4260001471688382,"-",3.7982001030181864,7891.5439497572952,18.394347946043759,175.65308403390699,2.2057221985405422E-2,-2.9088820873213997E-4,2.9088820873213997E-4,{"$f":"FI_T-Rechentabelle!AL38","v":6.2579427780145949},{"$f":"K38","v":8.1558226067042494E-5}]
[2.3124997969716787E-3,6.2499995692633092E-5,2.0989551374663684E-2,18.153127670288086,7850001.5,2483789659013.2886,7850.0015000000003,null,null,null,null,null,"-",{"$f":"N38+(L40-L38)/2","v":0.2577001792705973},18.394347946043759,18.153127670288086,1.6479903514923677E-2,4.0506612403565394E-2,"-",4.0506612403565394E-2,5.3974367456428585,5.4379433580464243,5.4379433580464243,5.4260001471688382,1.1943210877586097E-2,16.596082139709939,16.596082139709939,16.596082139709939,"-",5.4337054445092168,5.4337054445092168,5.4337054445092168,"-",3.8035938111564516,7902.7504906637259,18.888269851710241,180.36969080119835,2.3237738851137314E-2,-2.9088820873213997E-4,2.9088820873213997E-4,{"$f":"FI_T-Rechentabelle!AL39","v":6.2567622611488627},{"$f":"AP38","v":8.1558226067042494E-5}]
[2.3749999236315489E-3,6.2499995692633092E-5,2.2139453750923563E-2,18.64375114440918,7850001.5,2391797449420.2036,7850.0015000000003,null,{"$f":"C40","v":2.2139453750923563E-2},{"$f":"AL38","v":2.2057221985405422E-2},{"$f":"I40-J40","v":8.2231765518140515E-5},{"$f":"L38+KP_LR*(1+2*TA_SIM/TN_LR)*K40-KP_LR*K38","v":0.26138173154712435},"-",{"$f":"L40","v":0.26138173154712435},18.888269851710241,18.64375114440918,1.6863024246063674E-2,4.5505012730103919E-2,"-",4.5505012730103919E-2,5.3974367456428585,5.442941758372962,5.442941758372962,5.4337054445092168,9.236313863745238E-3,16.423356278483475,16.423356278483475,16.423356278483475,"-",5.4396643566793745,5.4396643566793745,5.4396643566793745,"-",3.8077650496755617,7911.4170988480391,19.382733420388245,185.09147006923615,2.4449159689911581E-2,-2.9088820873213997E-4,2.9088820873213997E-4,{"$f":"FI_T-Rechentabelle!AL40","v":6.2555508403100886},{"$f":"K40","v":8.2231765518140515E-5}]
[2.4374998174607754E-3,6.2499995692633092E-5,2.3320020190550374E-2,19.134376525878906,7850001.5,2299805239827.1191,7850.0015000000003,null,null,null,null,null,"-",{"$f":"N40+(L42-L40)/2","v":0.2645962513323819},19.382733420388245,19.134376525878906,1.6239356823042783E-2,4.8019615885038475E-2,"-",4.8019615885038475E-2,5.3974367456428585,5.4454563615278966,5.4454563615278966,5.4396643566793745,5.7920048485220477E-3,{"$f":"Z40+KP_SR*(1+TA_SIM/TN_SR)*Y41-KP_SR*Y40","v":16.192424661196011},16.192424661196011,16.192424661196011,"-",5.443401134001002,5.443401134001002,5.443401134001002,"-",3.810380793800701,7916.8518466667374,19.877536660804918,189.81649296344821,2.569150573121189E-2,-2.9088820873213997E-4,2.9088820873213997E-4,{"$f":"FI_T-Rechentabelle!AL41","v":6.2543084942687885},{"$f":"AP40","v":8.2231765518140515E-5}]
[2.4999999441206455E-3,6.2499995692633092E-5,2.4531250693544115E-2,19.625001907348633,7850001.5,2207813030234.0342,7850.0015000000003,null,{"$f":"C42","v":2.4531250693544115E-2},{"$f":"AL40","v":2.4449159689911581E-2},{"$f":"I42-J42","v":8.2091003632534659E-5},{"$f":"L40+KP_LR*(1+2*TA_SIM/TN_LR)*K42-KP_LR*K40","v":0.26781077111763946},"-",{"$f":"L42","v":0.26781077111763946},19.877536660804918,19.625001907348633,1.5276017661353336E-2,4.9512674080569558E-2,"-",4.9512674080569558E-2,5.3974367456428585,5.4469494197234276,5.4469494197234276,5.443401134001002,3.5482857224256037E-3,{"$f":"Z41+KP_SR*(1+TA_SIM/TN_SR)*Y42-KP_SR*Y41","v":16.041568782277135},16.041568782277135,16.041568782277135,"-",5.4456903505961156,5.4456903505961156,5.4456903505961156,"-",3.8119832454172808,7920.1812703454816,20.372547990201511,194.5435029610457,2.6964789980599483E-2,-2.9088820873213997E-4,2.9088820873213997E-4,{"$f":"FI_T-Rechentabelle!AL42","v":6.2530352100194007},{"$f":"K42","v":8.2091003632534659E-5}]
[2.562499837949872E-3,6.2499995692633092E-5,2.5773145259904786E-2,20.115627288818359,7850001.5,2115820820640.9495,7850.0015000000003,null,null,null,null,null,"-",{"$f":"N42+(L44-L42)/2","v":0.27039086768587817},20.372547990201511,20.115627288818359,1.3470166302727904E-2,4.861419542003205E-2,"-",4.861419542003205E-2,5.3974367456428585,5.4460509410628903,5.4460509410628903,5.4456903505961156,3.6059046677472395E-4,{"$f":"Z42+KP_SR*(1+TA_SIM/TN_SR)*Y43-KP_SR*Y42","v":15.81848779423767},15.81848779423767,15.81848779423767,"-",5.445922989606939,5.445922989606939,5.445922989606939,"-",3.8121460927248569,7920.5196192080957,20.867580466402018,199.27071489574561,2.826901375974961E-2,-2.9088820873213997E-4,2.9088820873213997E-4,{"$f":"FI_T-Rechentabelle!AL43","v":6.2517309862402506},{"$f":"AP42","v":8.2091003632534659E-5}]
[2.6249997317790985E-3,6.2499995692633092E-5,2.7045703889632386E-2,20.606252670288086,7850001.5,2023828611047.8647,7850.0015000000003,null,{"$f":"C44","v":2.7045703889632386E-2},{"$f":"AL42","v":2.6964789980599483E-2},{"$f":"I44-J44","v":8.0913909032902936E-5},{"$f":"L42+KP_LR*(1+2*TA_SIM/TN_LR)*K44-KP_LR*K42","v":0.27297096425411688},"-",{"$f":"L44","v":0.27297096425411688},20.867580466402018,20.606252670288086,1.1643168140185622E-2,4.7221331421233109E-2,"-",4.7221331421233109E-2,5.3974367456428585,5.4446580770640916,5.4446580770640916,5.445922989606939,-1.2649125428474406E-3,15.702021359514349,15.702021359514349,15.702021359514349,"-",5.4451069169986503,5.4451069169986503,5.4451069169986503,"-",3.8115748418990552,7919.3327278185225,21.362538761890676,203.99721845682714,2.9604172432367779E-2,-2.9088820873213997E-4,2.9088820873213997E-4,{"$f":"FI_T-Rechentabelle!AL44","v":6.2503958275676323},{"$f":"K44","v":8.0913909032902936E-5}]
[2.6874998584389687E-3,6.2499995692633092E-5,2.8348926582726919E-2,21.09687614440918,7850001.5,1931836401454.7798,7850.0015000000003,null,null,null,null,null,"-",{"$f":"N44+(L46-L44)/2","v":0.27483890413418505},21.362538761890676,21.09687614440918,9.176286652689214E-3,4.3745070848074788E-2,"-",4.3745070848074788E-2,5.3974367456428585,5.4411818164909329,5.4411818164909329,5.4451069169986503,-3.9251005077174383E-3,15.50794959044968,15.50794959044968,15.50794959044968,"-",5.4425745940904457,5.4425745940904457,5.4425745940904457,"-",3.8098022158633116,7915.6497316918994,21.857266870121418,208.72152389151262,3.0970251611750366E-2,-2.9088820873213997E-4,2.9088820873213997E-4,{"$f":"FI_T-Rechentabelle!AL45","v":6.2490297483882502},{"$f":"AP44","v":8.0913909032902936E-5}]
[2.7499997522681952E-3,6.2499995692633092E-5,2.9682813339188381E-2,21.587501525878906,7850001.5,1839844191861.6951,7850.0015000000003,null,{"$f":"C46","v":2.9682813339188381E-2},{"$f":"AL44","v":2.9604172432367779E-2},{"$f":"I46-J46","v":7.8640906820602596E-5},{"$f":"L44+KP_LR*(1+2*TA_SIM/TN_LR)*K46-KP_LR*K44","v":0.27670684401425322},"-",{"$f":"L46","v":0.27670684401425322},21.857266870121418,21.587501525878906,6.9414997717416327E-3,4.0261523771560878E-2,"-",4.0261523771560878E-2,5.3974367456428585,5.4376982694144189,5.4376982694144189,5.4425745940904457,-4.8763246760268331E-3,15.432056344596427,15.432056344596427,15.432056344596427,"-",5.4394285781704284,5.4394285781704284,5.4394285781704284,"-",3.8076000047192995,7911.0741839170978,22.351709006616236,213.44309849727671,3.2367233424663883E-2,-2.9088820873213997E-4,2.9088820873213997E-4,{"$f":"FI_T-Rechentabelle!AL46","v":6.2476327665753359},{"$f":"K46","v":7.8640906820602596E-5}]
[2.8124998789280653E-3,6.2499995692633092E-5,3.1047364159016769E-2,22.078126907348633,7850001.5,1747851982268.6104,7850.0015000000003,null,null,null,null,null,"-",{"$f":"N46+(L48-L46)/2","v":0.2778633167427802},22.351709006616236,22.078126907348633,4.2812174751780674E-3,3.5143959272748757E-2,"-",3.5143959272748757E-2,5.3974367456428585,5.4325807049156074,5.4325807049156074,5.4394285781704284,-6.8478732548209464E-3,15.280854204072698,15.280854204072698,15.280854204072698,"-",5.4350105954253838,5.4350105954253838,5.4350105954253838,"-",3.8045074167977684,7904.6486947803196,22.845749550040004,218.16083817169863,3.3795092771541385E-2,-2.9088820873213997E-4,2.9088820873213997E-4,{"$f":"FI_T-Rechentabelle!AL47","v":6.2462049072284591},{"$f":"AP46","v":7.8640906820602596E-5}]
[2.8749997727572918E-3,6.2499995692633092E-5,3.2442579042212094E-2,22.568752288818359,7850001.5,1655859772675.5256,7850.0015000000003,null,{"$f":"C48","v":3.2442579042212094E-2},{"$f":"AL46","v":3.2367233424663883E-2},{"$f":"I48-J48","v":7.5345617548211452E-5},{"$f":"L46+KP_LR*(1+2*TA_SIM/TN_LR)*K48-KP_LR*K46","v":0.27901978947130723},"-",{"$f":"L48","v":0.27901978947130723},22.845749550040004,22.568752288818359,2.022528249661093E-3,3.0405844596383392E-2,"-",3.0405844596383392E-2,5.3974367456428585,5.4278425902392415,5.4278425902392415,5.4350105954253838,-7.1680051861422456E-3,15.244971901383943,15.244971901383943,15.244971901383943,"-",5.4303860759504534,5.4303860759504534,5.4303860759504534,"-",3.8012702531653173,7897.9228197908105,23.339369726276932,222.87456363517859,3.5253803379433693E-2,-2.9088820873213997E-4,2.9088820873213997E-4,{"$f":"FI_T-Rechentabelle!AL48","v":6.2447461966205662},{"$f":"K48","v":7.5345617548211452E-5}]
[2.9374998994171619E-3,6.2499995692633092E-5,3.3868457988774345E-2,23.059377670288086,7850001.5,1563867563082.4409,7850.0015000000003,null,null,null,null,null,"-",{"$f":"N48+(L50-L48)/2","v":0.27952665927304821},23.339369726276932,23.059377670288086,-4.6539671579637343E-4,2.4530275257817299E-2,"-",2.4530275257817299E-2,5.3974367456428585,5.4219670209006754,5.4219670209006754,5.4303860759504534,-8.4190550497780237E-3,15.141404491830439,15.141404491830439,15.141404491830439,"-",5.424954427531242,5.424954427531242,5.424954427531242,"-",3.7974680992718692,7890.0230610261142,23.832496167591064,227.58357427744619,3.6743334389908136E-2,-2.9088820873213997E-4,2.9088820873213997E-4,{"$f":"FI_T-Rechentabelle!AL49","v":6.2432566656100921},{"$f":"AP48","v":7.5345617548211452E-5}]
[2.9999997932463884E-3,6.2499995692633092E-5,3.5325000998703525E-2,23.550003051757813,7850001.5,1471875353489.3562,7850.0015000000003,null,{"$f":"C50","v":3.5325000998703525E-2},{"$f":"AL48","v":3.5253803379433693E-2},{"$f":"I50-J50","v":7.1197619269831869E-5},{"$f":"L48+KP_LR*(1+2*TA_SIM/TN_LR)*K50-KP_LR*K48","v":0.28003352907478918},"-",{"$f":"L50","v":0.28003352907478918},23.832496167591064,23.550003051757813,-2.4595867584622511E-3,1.9312041995454027E-2,"-",1.9312041995454027E-2,5.3974367456428585,5.4167487876383129,5.4167487876383129,5.424954427531242,-8.2056398929291063E-3,15.141032371427645,15.141032371427645,15.141032371427645,"-",5.4196604663099981,5.4196604663099981,5.4196604663099981,"-",3.7937623264169984,7882.3235537440223,24.325141389700065,232.28798961480129,3.8263655726764392E-2,-2.9088820873213997E-4,2.9088820873213997E-4,{"$f":"FI_T-Rechentabelle!AL50","v":6.2417363442732361},{"$f":"K50","v":7.1197619269831869E-5}]
[3.0624996870756149E-3,6.2499995692633092E-5,3.6812208071999634E-2,24.040626525878906,7850001.5,1379883143896.2712,7850.0015000000003,null,null,null,null,null,"-",{"$f":"N50+(L52-L50)/2","v":0.27999404395672345},24.325141389700065,24.040626525878906,-4.5208198644353104E-3,1.3436021522622091E-2,"-",1.3436021522622091E-2,5.3974367456428585,5.4108727671654808,5.4108727671654808,5.4196604663099981,-8.7876991445172692E-3,15.083734065561908,15.083734065561908,15.083734065561908,"-",5.4139909829909545,5.4139909829909545,5.4139909829909545,"-",3.7897936880936678,7874.0778892451017,24.817271257777882,236.98748368366614,3.981473518037551E-2,-2.9088820873213997E-4,2.9088820873213997E-4,{"$f":"FI_T-Rechentabelle!AL51","v":6.2401852648196243},{"$f":"AP50","v":7.1197619269831869E-5}]
[3.1249998137354851E-3,6.2499995692633092E-5,3.833007920866268E-2,24.531251907348633,7850001.5,1287890934303.1865,7850.0015000000003,null,{"$f":"C52","v":3.833007920866268E-2},{"$f":"AL50","v":3.8263655726764392E-2},{"$f":"I52-J52","v":6.6423481898288117E-5},{"$f":"L50+KP_LR*(1+2*TA_SIM/TN_LR)*K52-KP_LR*K50","v":0.27995455883865772},"-",{"$f":"L52","v":0.27995455883865772},24.817271257777882,24.531251907348633,-6.0647915905924776E-3,8.3815850197538431E-3,"-",8.3815850197538431E-3,5.3974367456428585,5.405818330662612,5.405818330662612,5.4139909829909545,-8.1726523283425223E-3,15.111615615141016,15.111615615141016,15.111615615141016,"-",5.4087183040694429,5.4087183040694429,5.4087183040694429,"-",3.7861028128486098,7866.4093348194674,25.3089218412041,241.68240092124393,4.1396542795450769E-2,-2.9088820873213997E-4,2.9088820873213997E-4,{"$f":"FI_T-Rechentabelle!AL52","v":6.2386034572045492},{"$f":"K52","v":6.6423481898288117E-5}]
[3.1874997075647116E-3,6.2499995692633092E-5,3.9878614408692649E-2,25.021877288818359,7850001.5,1195898724710.1018,7850.0015000000003,null,null,null,null,null,"-",{"$f":"N52+(L54-L52)/2","v":0.27949386175231861},25.3089218412041,25.021877288818359,-7.5506906334226187E-3,3.0993953483454736E-3,"-",3.0993953483454736E-3,5.3974367456428585,5.4005361409912043,5.4005361409912043,5.4087183040694429,-8.1821630782386023E-3,15.095639458679347,15.095639458679347,15.095639458679347,"-",5.4034394891802577,5.4034394891802577,5.4034394891802577,"-",3.7824076424261803,7858.7318562771243,25.800092582221421,246.37273600134489,4.3009048581839605E-2,-2.9088820873213997E-4,2.9088820873213997E-4,{"$f":"FI_T-Rechentabelle!AL53","v":6.2369909514181607},{"$f":"AP52","v":6.6423481898288117E-5}]
[3.2499998342245817E-3,6.2499995692633092E-5,4.1457813672089554E-2,25.512502670288086,7850001.5,1103906515117.0171,7850.0015000000003,null,{"$f":"C54","v":4.1457813672089554E-2},{"$f":"AL52","v":4.1396542795450769E-2},{"$f":"I54-J54","v":6.1270876638784555E-5},{"$f":"L52+KP_LR*(1+2*TA_SIM/TN_LR)*K54-KP_LR*K52","v":0.27903316466597944},"-",{"$f":"L54","v":0.27903316466597944},25.800092582221421,25.512502670288086,-8.5567472673560019E-3,-1.3167340749738916E-3,"-",-1.3167340749738916E-3,5.3974367456428585,5.3961200115678842,5.3961200115678842,5.4034394891802577,-7.3194776123735039E-3,15.142499906169824,15.142499906169824,15.142499906169824,"-",5.3987172455593715,5.3987172455593715,5.3987172455593715,"-",3.7791020718915598,7851.8638518420103,26.290834072961545,251.05897204323946,4.46522257113997E-2,-2.9088820873213997E-4,2.9088820873213997E-4,{"$f":"FI_T-Rechentabelle!AL54","v":6.2353477742886003},{"$f":"K54","v":6.1270876638784555E-5}]
[3.3124997280538082E-3,6.2499995692633092E-5,4.3067676998853388E-2,26.003128051757813,7850001.5,1011914305523.9324,7850.0015000000003,null,null,null,null,null,"-",{"$f":"N54+(L56-L54)/2","v":0.27828100002371337},26.290834072961545,26.003128051757813,-9.4250211800179784E-3,-5.6254333609586302E-3,"-",-5.6254333609586302E-3,5.3974367456428585,5.3918113122818996,5.3918113122818996,5.3987172455593715,-6.9059332774719095E-3,15.158607272061841,15.158607272061841,15.158607272061841,"-",5.394261804735196,5.394261804735196,5.394261804735196,"-",3.7759832633146369,7845.3838838866332,26.781170565704461,255.74134063914215,4.6326048871756231E-2,-2.9088820873213997E-4,2.9088820873213997E-4,{"$f":"FI_T-Rechentabelle!AL55","v":6.2336739511282442},{"$f":"AP54","v":6.1270876638784555E-5}]
[3.3749998547136784E-3,6.2499995692633092E-5,4.4708204388984145E-2,26.493753433227539,7850001.5,919922095930.84753,7850.0015000000003,null,{"$f":"C56","v":4.4708204388984145E-2},{"$f":"AL54","v":4.46522257113997E-2},{"$f":"I56-J56","v":5.597867758444508E-5},{"$f":"L54+KP_LR*(1+2*TA_SIM/TN_LR)*K56-KP_LR*K54","v":0.27752883538144735},"-",{"$f":"L56","v":0.27752883538144735},26.781170565704461,26.493753433227539,-9.8882970954754512E-3,-9.109088363269971E-3,"-",-9.109088363269971E-3,5.3974367456428585,5.3883276572795884,5.3883276572795884,5.394261804735196,-5.9341474556076079E-3,15.215717768705437,15.215717768705437,15.215717768705437,"-",5.3904333225057712,5.3904333225057712,5.3904333225057712,"-",3.7733033257540396,7839.815760968293,27.271159050764979,260.42038600647163,4.803049631242904E-2,-2.9088820873213997E-4,2.9088820873213997E-4,{"$f":"FI_T-Rechentabelle!AL56","v":6.2319695036875711},{"$f":"K56","v":5.597867758444508E-5}]
[3.4374997485429049E-3,6.2499995692633092E-5,4.6379395842481845E-2,26.984376907348633,7850001.5,827929886337.76282,7850.0015000000003,null,null,null,null,null,"-",{"$f":"N56+(L58-L56)/2","v":0.27660589965872151},27.271159050764979,26.984376907348633,-1.0176243757623382E-2,-1.2256874818654544E-2,"-",-1.2256874818654544E-2,5.3974367456428585,5.3851798708242038,5.3851798708242038,5.3904333225057712,-5.2534516815674337E-3,15.253669181827389,15.253669181827389,15.253669181827389,"-",5.3870439988402445,5.3870439988402445,5.3870439988402445,"-",3.7709307991881711,7834.886347783442,27.760839447501443,265.09648934702011,4.9765548777897878E-2,-2.9088820873213997E-4,2.9088820873213997E-4,{"$f":"FI_T-Rechentabelle!AL57","v":6.2302344512221026},{"$f":"AP56","v":5.597867758444508E-5}]
[3.4999996423721313E-3,6.2499995692633092E-5,4.8081251359346468E-2,27.475002288818359,7850001.5,735937676744.6781,7850.0015000000003,null,{"$f":"C58","v":4.8081251359346468E-2},{"$f":"AL56","v":4.803049631242904E-2},{"$f":"I58-J58","v":5.0755046917427826E-5},{"$f":"L56+KP_LR*(1+2*TA_SIM/TN_LR)*K58-KP_LR*K56","v":0.27568296393599562},"-",{"$f":"L58","v":0.27568296393599562},27.760839447501443,27.475002288818359,-1.0154194747087786E-2,-1.4681326586449241E-2,"-",-1.4681326586449241E-2,5.3974367456428585,5.3827554190564095,5.3827554190564095,5.3870439988402445,-4.2885797838350115E-3,15.313373169633948,15.313373169633948,15.313373169633948,"-",5.3842771731732553,5.3842771731732553,5.3842771731732553,"-",3.7689940212212782,7830.8622921697024,28.250268340762048,269.77019100628536,5.1531190549195506E-2,-2.9088820873213997E-4,2.9088820873213997E-4,{"$f":"FI_T-Rechentabelle!AL58","v":6.2284688094508045},{"$f":"K58","v":5.0755046917427826E-5}]
[3.5624997690320015E-3,6.2499995692633092E-5,4.981377093957802E-2,27.965627670288086,7850001.5,643945467151.59326,7850.0015000000003,null,null,null,null,null,"-",{"$f":"N58+(L60-L58)/2","v":0.27469154246640282},28.250268340762048,27.965627670288086,-9.9491280075589827E-3,-1.6631910027901025E-2,"-",-1.6631910027901025E-2,5.3974367456428585,5.3808048356149571,5.3808048356149571,5.3842771731732553,-3.472337558298122E-3,15.364171476227076,15.364171476227076,15.364171476227076,"-",5.3820369553937075,5.3820369553937075,5.3820369553937075,"-",3.7674258687755948,7827.6041320914073,28.739493599017759,274.44194809449368,5.3327408899134114E-2,-2.9088820873213997E-4,2.9088820873213997E-4,{"$f":"FI_T-Rechentabelle!AL59","v":6.2266725911008658},{"$f":"AP58","v":5.0755046917427826E-5}]
[3.624999662861228E-3,6.2499995692633092E-5,5.1576954583176501E-2,28.456253051757813,7850001.5,551953257558.50854,7850.0015000000003,null,{"$f":"C60","v":5.1576954583176501E-2},{"$f":"AL58","v":5.1531190549195506E-2},{"$f":"I60-J60","v":4.5764033980995322E-5},{"$f":"L58+KP_LR*(1+2*TA_SIM/TN_LR)*K60-KP_LR*K58","v":0.27370012099681001},"-",{"$f":"L60","v":0.27370012099681001},28.739493599017759,28.456253051757813,-9.5404262631362258E-3,-1.8011230196618953E-2,"-",-1.8011230196618953E-2,5.3974367456428585,5.3794255154462398,5.3794255154462398,5.3820369553937075,-2.6114399474677086E-3,15.419715014427524,15.419715014427524,15.419715014427524,"-",5.3803521554275999,5.3803521554275999,5.3803521554275999,"-",3.7662465087993198,7825.1537685421135,29.228565709551642,279.11224272968491,5.5154194255981094E-2,-2.9088820873213997E-4,2.9088820873213997E-4,{"$f":"FI_T-Rechentabelle!AL60","v":6.2248458057440192},{"$f":"K60","v":4.5764033980995322E-5}]
[3.6874997895210981E-3,6.2499995692633092E-5,5.3370802290141912E-2,28.946878433227539,7850001.5,459961047965.42377,7850.0015000000003,null,null,null,null,null,"-",{"$f":"N60+(L62-L60)/2","v":0.27271881643220997},29.228565709551642,28.946878433227539,-8.9684598918928771E-3,-1.8872983388059129E-2,"-",-1.8872983388059129E-2,5.3974367456428585,5.3785637622547995,5.3785637622547995,5.3803521554275999,-1.7883931728004399E-3,15.474141562093767,15.474141562093767,15.474141562093767,"-",5.379198353380632,5.379198353380632,5.379198353380632,"-",3.765438847366442,7823.4756853655554,29.71753293988699,283.78153583275434,5.7011540064724031E-2,-2.9088820873213997E-4,2.9088820873213997E-4,{"$f":"FI_T-Rechentabelle!AL61","v":6.2229884599352765},{"$f":"AP60","v":4.5764033980995322E-5}]
[3.7499996833503246E-3,6.2499995692633092E-5,5.519531406047426E-2,29.437503814697266,7850001.5,367968838372.33905,7850.0015000000003,null,{"$f":"C62","v":5.519531406047426E-2},{"$f":"AL60","v":5.5154194255981094E-2},{"$f":"I62-J62","v":4.1119804493165713E-5},{"$f":"L60+KP_LR*(1+2*TA_SIM/TN_LR)*K62-KP_LR*K60","v":0.27173751186760986},"-",{"$f":"L62","v":0.27173751186760986},29.71753293988699,29.437503814697266,-8.2916133221146993E-3,-1.9326820673622628E-2,"-",-1.9326820673622628E-2,5.3974367456428585,5.3781099249692357,5.3781099249692357,5.379198353380632,-1.0884284113963361E-3,15.521238157995519,15.521238157995519,15.521238157995519,"-",5.3784961415023123,5.3784961415023123,5.3784961415023123,"-",3.7649472990516184,7822.4543923781803,30.206436339410626,288.45021939647143,5.8899442335937198E-2,-2.9088820873213997E-4,2.9088820873213997E-4,{"$f":"FI_T-Rechentabelle!AL62","v":6.2211005576640632},{"$f":"K62","v":4.1119804493165713E-5}]
[3.8124998100101948E-3,6.2499995692633092E-5,5.705048989417353E-2,29.928127288818359,7850001.5,275976628779.25427,7850.0015000000003,null,null,null,null,null,"-",{"$f":"N62+(L64-L62)/2","v":0.27081973670745108},30.206436339410626,29.928127288818359,-7.4893138848146634E-3,-1.9294510647503427E-2,"-",-1.9294510647503427E-2,5.3974367456428585,5.3781422349953552,5.3781422349953552,5.3784961415023123,-3.5390650695710235E-4,15.57213470917798,15.57213470917798,15.57213470917798,"-",5.3782678147236309,5.3782678147236309,5.3782678147236309,"-",3.7647874703065414,7822.1223152016228,30.695318984110727,293.118704766223,6.0817899772444117E-2,-2.9088820873213997E-4,2.9088820873213997E-4,{"$f":"FI_T-Rechentabelle!AL63","v":6.219182100227556},{"$f":"AP62","v":4.1119804493165713E-5}]
[3.8749997038394213E-3,6.2499995692633092E-5,5.8936329791239743E-2,30.418752670288086,7850001.5,183984419186.16953,7850.0015000000003,null,{"$f":"C64","v":5.8936329791239743E-2},{"$f":"AL62","v":5.8899442335937198E-2},{"$f":"I64-J64","v":3.6887455302545002E-5},{"$f":"L62+KP_LR*(1+2*TA_SIM/TN_LR)*K64-KP_LR*K62","v":0.26990196154729224},"-",{"$f":"L64","v":0.26990196154729224},30.695318984110727,30.418752670288086,-6.6643522753508933E-3,-1.9008594780831976E-2,"-",-1.9008594780831976E-2,5.3974367456428585,5.3784281508620264,5.3784281508620264,5.3782678147236309,1.6033613839550043E-4,15.608531208930051,15.608531208930051,15.608531208930051,"-",5.3783712573935629,5.3783712573935629,5.3783712573935629,"-",3.7648598801754938,7822.2727616361799,31.184211031712987,297.7872799270761,6.2766912961926186E-2,-2.9088820873213997E-4,2.9088820873213997E-4,{"$f":"FI_T-Rechentabelle!AL64","v":6.2172330870380739},{"$f":"K64","v":3.6887455302545002E-5}]
[3.9374995976686478E-3,6.2499995692633092E-5,6.0852833751672872E-2,30.909378051757813,7850001.5,91992209593.084763,7850.0015000000003,null,null,null,null,null,"-",{"$f":"N64+(L66-L64)/2","v":0.26907748755202376},31.184211031712987,30.909378051757813,-5.7554924031499866E-3,-1.8306794667231736E-2,"-",-1.8306794667231736E-2,5.3974367456428585,5.379129950975627,5.379129950975627,5.3783712573935629,7.5869358206404058E-4,15.651951532323034,15.651951532323034,15.651951532323034,"-",5.3788607371239276,5.3788607371239276,5.3788607371239276,"-",3.7652025159867493,7822.9846581897964,31.673147572849849,302.45627996988725,6.4746484685229297E-2,-2.9088820873213997E-4,2.9088820873213997E-4,{"$f":"FI_T-Rechentabelle!AL65","v":6.215253515314771},{"$f":"AP64","v":3.6887455302545002E-5}]
[3.9999997243285179E-3,6.2499995692633092E-5,6.280000177547293E-2,31.400003433227539,7850001.5,0,7850.0015000000003,null,{"$f":"C66","v":6.280000177547293E-2},{"$f":"AL64","v":6.2766912961926186E-2},{"$f":"I66-J66","v":3.3088813546744422E-5},{"$f":"L64+KP_LR*(1+2*TA_SIM/TN_LR)*K66-KP_LR*K64","v":0.26825301355675529},"-",{"$f":"L66","v":0.26825301355675529},31.673147572849849,31.400003433227539,-4.8911260655550848E-3,-1.7497316766998852E-2,"-",-1.7497316766998852E-2,{"$f":"G66*(JM_EMS+JL_EMS)/KT_M*KP_VSR","v":5.3974367456428585},5.3799394288758595,{"$f":"IF(V66<-IM_R,-IM_R,IF(V66>IM_R,IM_R,V66))","v":5.3799394288758595},5.3788607371239276,1.0786917519318706E-3,15.676431536814789,{"$f":"IF(Z66<-U_ZWK,-U_ZWK,IF(Z66>U_ZWK,U_ZWK,Z66))","v":15.676431536814789},15.676431536814789,"-",5.3795566672864643,5.3795566672864643,5.3795566672864643,"-",{"$f":"AF66*KT_M","v":3.7656896671005247},{"$f":"AH66/(JM_EMS+JL_EMS)","v":7823.9968150852364},32.162147373792678,{"$f":"AJ66/(2*PI())*60","v":307.1258840993475},6.6756618896091344E-2,{"$f":"-DF_LR","v":-2.9088820873213997E-4},{"$f":"DF_LR","v":2.9088820873213997E-4},{"$f":"FI_T-Rechentabelle!AL66","v":6.2132433811039087},{"$f":"K66","v":3.3088813546744422E-5}]
[4.0624998509883881E-3,6.2499995692633092E-5,6.4777833862639925E-2,31.890628814697266,7850001.5,null,{"$f":"E67/1000","v":7850.0015000000003},null,null,null,null,null,"-",{"$f":"N66+(L68-L66)/2","v":0.26753150203387532},32.162147373792678,31.890628814697266,-3.9870570615363476E-3,{"$f":"R66+KP_DR*(1+TA_SIM/TN_DR)*Q67-KP_DR*Q66","v":-1.6375480928489249E-2},"-",{"$f":"R67","v":-1.6375480928489249E-2},5.3974367456428585,{"$f":"T67+U67","v":5.3810612647143694},5.3810612647143694,5.3795566672864643,{"$f":"W67-X67","v":1.5045974279050967E-3},15.709142420741765,15.709142420741765,{"$f":"AA67","v":15.709142420741765},"-",{"$f":"(1/R_M*AB67+AD66*T_M/TA_SIM)/(1+T_M/TA_SIM)","v":5.3805273753044682},{"$f":"AD67","v":5.3805273753044682},{"$f":"AE67","v":5.3805273753044682},"-",3.7663691627131275,7825.4086073407998,{"$f":"AJ66+AI67*TA_SIM","v":32.651235411751479},311.79633083024311,{"$f":"AL66+AJ67*TA_SIM","v":6.8797321109325807E-2},-2.9088820873213997E-4,2.9088820873213997E-4,{"$f":"FI_T-Rechentabelle!AL67","v":6.2112026788906745},{"$f":"AP66","v":3.3088813546744422E-5}]
[4.1249995119869709E-3,6.2499995692633092E-5,6.6786330013173856E-2,32.381252288818359,7850001.5,null,7850.0015000000003,null,{"$f":"C68","v":6.6786330013173856E-2},{"$f":"AL66","v":6.6756618896091344E-2},{"$f":"I68-J68","v":2.9711117082512062E-5},{"$f":"L66+KP_LR*(1+2*TA_SIM/TN_LR)*K68-KP_LR*K66","v":0.26680999051099541},"-",{"$f":"L68","v":0.26680999051099541},{"$f":"AJ67","v":32.651235411751479},{"$f":"D68*KP_VDR","v":32.381252288818359},{"$f":"N68-O68+P68","v":-3.1731324221269119E-3},-1.5263993313333097E-2,"-",-1.5263993313333097E-2,5.3974367456428585,5.3821727523295255,5.3821727523295255,{"$f":"AF67","v":5.3805273753044682},1.645377025057293E-3,15.722102687543588,15.722102687543588,15.722102687543588,"-",5.3815889088690216,5.3815889088690216,5.3815889088690216,"-",3.7671122362083147,7826.952495757977,33.140419942736351,316.46769900166305,7.0868597355746826E-2,-2.9088820873213997E-4,2.9088820873213997E-4,{"$f":"FI_T-Rechentabelle!AL68","v":6.2091314026442532},{"$f":"K68","v":2.9711117082512062E-5}]
[4.187499638646841E-3,6.2499995692633092E-5,6.8825490227074709E-2,32.871879577636719,7850001.5,null,7850.0015000000003,null,null,null,null,null,"-",{"$f":"N68+(L70-L68)/2","v":0.2661857529345642},33.140419942736351,32.871879577636719,-2.3546121650710461E-3,-1.3942312895547228E-2,"-",-1.3942312895547228E-2,5.3974367456428585,5.3834944327473115,5.3834944327473115,5.3815889088690216,1.9055238782899053E-3,15.743928491981491,15.743928491981491,15.743928491981491,"-",5.3828182791130796,5.3828182791130796,5.3828182791130796,"-",3.7679727953791553,7828.7404848933202,33.62971622304218,321.14013430049204,7.2970454619686959E-2,-2.9088820873213997E-4,2.9088820873213997E-4,{"$f":"FI_T-Rechentabelle!AL69","v":6.2070295453803137},{"$f":"AP68","v":2.9711117082512062E-5}]
[4.2499997653067112E-3,6.2499995692633092E-5,7.0895314504342499E-2,33.362503051757813,7850001.5,null,7850.0015000000003,null,{"$f":"C70","v":7.0895314504342499E-2},{"$f":"AL68","v":7.0868597355746826E-2},{"$f":"I70-J70","v":2.6717148595672979E-5},{"$f":"L68+KP_LR*(1+2*TA_SIM/TN_LR)*K70-KP_LR*K68","v":0.26556151535813299},"-",{"$f":"L70","v":0.26556151535813299},33.62971622304218,33.362503051757813,-1.6516559262385044E-3,-1.2716906662662758E-2,"-",-1.2716906662662758E-2,5.3974367456428585,5.384719838980196,5.384719838980196,5.3828182791130796,1.9015598671163758E-3,15.747208001142109,15.747208001142109,15.747208001142109,"-",5.3840450919305738,5.3840450919305738,5.3840450919305738,"-",3.7688315643514012,7830.5247545219217,34.119124020199799,325.81363450681312,7.5102899870949452E-2,-2.9088820873213997E-4,2.9088820873213997E-4,{"$f":"FI_T-Rechentabelle!AL70","v":6.2048971001290507},{"$f":"K70","v":2.6717148595672979E-5}]
[4.3124998919665813E-3,6.2499995692633092E-5,7.2995802844977212E-2,33.853126525878906,7850001.5,null,7850.0015000000003,null,null,null,null,null,"-",{"$f":"N70+(L72-L70)/2","v":0.26501868571260484},34.119124020199799,33.853126525878906,-9.7880860828780669E-4,-1.1397198372452792E-2,"-",-1.1397198372452792E-2,5.3974367456428585,5.3860395472704052,5.3860395472704052,5.3840450919305738,1.9944553398314468E-3,15.757460225604632,15.757460225604632,15.757460225604632,"-",5.3853318373111101,5.3853318373111101,5.3853318373111101,"-",3.7697322861177769,7832.3961897315112,34.608648782058019,330.48825164375023,7.726594041982808E-2,-2.9088820873213997E-4,2.9088820873213997E-4,{"$f":"FI_T-Rechentabelle!AL71","v":6.2027340595801723},{"$f":"AP70","v":2.6717148595672979E-5}]
[4.3749995529651642E-3,6.2499995692633092E-5,7.5126955248978847E-2,34.343753814697266,7850001.5,null,7850.0015000000003,null,{"$f":"C72","v":7.5126955248978847E-2},{"$f":"AL70","v":7.5102899870949452E-2},{"$f":"I72-J72","v":2.4055378029394503E-5},{"$f":"L70+KP_LR*(1+2*TA_SIM/TN_LR)*K72-KP_LR*K70","v":0.26447585606707669},"-",{"$f":"L72","v":0.26447585606707669},34.608648782058019,34.343753814697266,-4.1911129367377953E-4,-1.0203098807331012E-2,"-",-1.0203098807331012E-2,5.3974367456428585,5.3872336468355275,5.3872336468355275,5.3853318373111101,1.9018095244174305E-3,15.754515311348998,15.754515311348998,15.754515311348998,"-",5.3865588111978306,5.3865588111978306,5.3865588111978306,"-",3.7705911678384814,7834.1806936182857,35.098285075409159,335.16393382799185,7.9459583237041151E-2,-2.9088820873213997E-4,2.9088820873213997E-4,{"$f":"FI_T-Rechentabelle!AL72","v":6.2005404167629594},{"$f":"K72","v":2.4055378029394503E-5}]
[4.4374996796250343E-3,6.2499995692633092E-5,7.7288771716347432E-2,34.834377288818359,7850001.5,null,7850.0015000000003,null,null,null,null,null,"-",{"$f":"N72+(L74-L72)/2","v":0.26399330585035391},35.098285075409159,34.834377288818359,8.5519259556576799E-5,-9.0135103031759346E-3,"-",-9.0135103031759346E-3,5.3974367456428585,5.3884232353396824,5.3884232353396824,5.3865588111978306,1.8644241418517282E-3,15.755379376115592,15.755379376115592,15.755379376115592,"-",5.3877616654828966,5.3877616654828966,5.3877616654828966,"-",3.7714331658380273,7835.9301180927214,35.588030707789954,339.84066012305607,8.1683835156278028E-2,-2.9088820873213997E-4,2.9088820873213997E-4,{"$f":"FI_T-Rechentabelle!AL73","v":6.1983161648437219},{"$f":"AP72","v":2.4055378029394503E-5}]
[4.4999998062849045E-3,6.2499995692633092E-5,7.948125224708294E-2,35.325004577636719,7850001.5,null,7850.0015000000003,null,{"$f":"C74","v":7.948125224708294E-2},{"$f":"AL72","v":7.9459583237041151E-2},{"$f":"I74-J74","v":2.1669010041788783E-5},{"$f":"L72+KP_LR*(1+2*TA_SIM/TN_LR)*K74-KP_LR*K72","v":0.26351075563363113},"-",{"$f":"L74","v":0.26351075563363113},35.588030707789954,35.325004577636719,4.8462548039651665E-4,-7.9710201674843602E-3,"-",-7.9710201674843602E-3,5.3974367456428585,5.3894657254753744,5.3894657254753744,5.3877616654828966,1.7040599924778022E-3,15.747311088713206,15.747311088713206,15.747311088713206,"-",5.3888610590264303,5.3888610590264303,5.3888610590264303,"-",3.7722027413185009,7837.5290698493673,36.077876274655537,344.51834072215456,8.3938702423444006E-2,-2.9088820873213997E-4,2.9088820873213997E-4,{"$f":"FI_T-Rechentabelle!AL74","v":6.1960612975765565},{"$f":"K74","v":2.1669010041788783E-5}]
[4.5624994672834873E-3,6.2499995692633092E-5,8.170439684118537E-2,35.815628051757813,7850001.5,null,7850.0015000000003,null,null,null,null,null,"-",{"$f":"N74+(L76-L74)/2","v":0.26306618501265361},36.077876274655537,35.815628051757813,8.1796211492957127E-4,-6.99958935373952E-3,"-",-6.99958935373952E-3,5.3974367456428585,5.3904371562891189,5.3904371562891189,5.3888610590264303,1.5760972626885916E-3,15.741277757784646,15.741277757784646,15.741277757784646,"-",5.389877895970101,5.389877895970101,5.389877895970101,"-",3.7729145271790703,7839.0079517537297,36.567814271640145,349.19690396387313,8.6224190815421514E-2,-2.9088820873213997E-4,2.9088820873213997E-4,{"$f":"FI_T-Rechentabelle!AL75","v":6.1937758091845785},{"$f":"AP74","v":2.1669010041788783E-5}]
[4.6249995939433575E-3,6.2499995692633092E-5,8.3958205498654737E-2,36.306255340576172,7850001.5,null,7850.0015000000003,null,{"$f":"C76","v":8.3958205498654737E-2},{"$f":"AL74","v":8.3938702423444006E-2},{"$f":"I76-J76","v":1.950307521073058E-5},{"$f":"L74+KP_LR*(1+2*TA_SIM/TN_LR)*K76-KP_LR*K74","v":0.26262161439167608},"-",{"$f":"L76","v":0.26262161439167608},36.567814271640145,36.306255340576172,1.0626833277029846E-3,-6.1737332915134018E-3,"-",-6.1737332915134018E-3,5.3974367456428585,5.3912630123513452,5.3912630123513452,5.389877895970101,1.3851163812441669E-3,15.7304636401101,15.7304636401101,15.7304636401101,"-",5.3907715194418717,5.3907715194418717,5.3907715194418717,"-",3.7735400636093099,7840.3076326808841,37.057833498682697,353.87624289550666,8.8540305409089179E-2,-2.9088820873213997E-4,2.9088820873213997E-4,{"$f":"FI_T-Rechentabelle!AL76","v":6.1914596945909111},{"$f":"K76","v":1.950307521073058E-5}]
[4.6874997206032276E-3,6.2499995692633092E-5,8.624267821949104E-2,36.796878814697266,7850001.5,null,7850.0015000000003,null,null,null,null,null,"-",{"$f":"N76+(L78-L76)/2","v":0.26219475897784617},37.057833498682697,36.796878814697266,1.2400749924168508E-3,-5.4605677053772743E-3,"-",-5.4605677053772743E-3,5.3974367456428585,5.3919761779374813,5.3919761779374813,5.3907715194418717,1.2046584956095785E-3,15.720050537968309,15.720050537968309,15.720050537968309,"-",5.3915487184712978,5.3915487184712978,5.3915487184712978,"-",3.7740841029299084,7841.43798655705,37.547923372842511,358.55625645741583,9.0887050619891829E-2,-2.9088820873213997E-4,2.9088820873213997E-4,{"$f":"FI_T-Rechentabelle!AL77","v":6.1891129493801085},{"$f":"AP76","v":1.950307521073058E-5}]
[4.7499998472630978E-3,6.2499995692633092E-5,8.8557815003694251E-2,37.287502288818359,7850001.5,null,7850.0015000000003,null,{"$f":"C78","v":8.8557815003694251E-2},{"$f":"AL76","v":8.8540305409089179E-2},{"$f":"I78-J78","v":1.7509594605072398E-5},{"$f":"L76+KP_LR*(1+2*TA_SIM/TN_LR)*K78-KP_LR*K76","v":0.2617679035640163},"-",{"$f":"L78","v":0.2617679035640163},37.547923372842511,37.287502288818359,1.346819539861599E-3,-4.8849994325886655E-3,"-",-4.8849994325886655E-3,5.3974367456428585,5.3925517462102697,5.3925517462102697,5.3915487184712978,1.0030277389718734E-3,15.707773992239817,15.707773992239817,15.707773992239817,"-",5.3921958331416029,5.3921958331416029,5.3921958331416029,"-",3.7745370831991218,7842.3791464764627,38.038072069497289,363.23683173277527,9.3264430124235409E-2,-2.9088820873213997E-4,2.9088820873213997E-4,{"$f":"FI_T-Rechentabelle!AL78","v":6.1867355698757649},{"$f":"K78","v":1.7509594605072398E-5}]
[4.8124995082616806E-3,6.2499995692633092E-5,9.0903615851264413E-2,37.778129577636719,7850001.5,null,7850.0015000000003,null,null,null,null,null,"-",{"$f":"N78+(L80-L78)/2","v":0.26134267042998482},38.038072069497289,37.778129577636719,1.4001785694119917E-3,-4.4200650861679694E-3,"-",-4.4200650861679694E-3,5.3974367456428585,5.3930166805566904,5.3930166805566904,5.3921958331416029,8.2084741508747783E-4,15.69652188789474,15.69652188789474,15.69652188789474,"-",5.3927254121190789,5.3927254121190789,5.3927254121190789,"-",3.7749077884833548,7843.1493631484618,38.528268904694066,367.9178666973495,9.5672446930778782E-2,-2.9088820873213997E-4,2.9088820873213997E-4,{"$f":"FI_T-Rechentabelle!AL79","v":6.1843275530692212},{"$f":"AP78","v":1.7509594605072398E-5}]
[4.8749996349215508E-3,6.2499995692633092E-5,9.3280080762201498E-2,38.268753051757813,7850001.5,null,7850.0015000000003,null,{"$f":"C80","v":9.3280080762201498E-2},{"$f":"AL78","v":9.3264430124235409E-2},{"$f":"I80-J80","v":1.5650637966088676E-5},{"$f":"L78+KP_LR*(1+2*TA_SIM/TN_LR)*K80-KP_LR*K78","v":0.26091743729595329},"-",{"$f":"L80","v":0.26091743729595329},38.528268904694066,38.268753051757813,1.4015843596979494E-3,-4.0751132830627538E-3,"-",-4.0751132830627538E-3,5.3974367456428585,5.3933616323597962,5.3933616323597962,5.3927254121190789,6.362202407173001E-4,15.684752598944161,15.684752598944161,15.684752598944161,"-",5.3931358767905095,5.3931358767905095,5.3931358767905095,"-",3.7751951137533566,7843.7463406469069,39.018503050984499,372.59925795662298,9.8111103371465308E-2,-2.9088820873213997E-4,2.9088820873213997E-4,{"$f":"FI_T-Rechentabelle!AL80","v":6.1818888966285348},{"$f":"K80","v":1.5650637966088676E-5}]
[4.9374997615814209E-3,6.2499995692633092E-5,9.5687209736505519E-2,38.759380340576172,7850001.5,null,7850.0015000000003,null,null,null,null,null,"-",{"$f":"N80+(L82-L80)/2","v":0.26048296288866224},39.018503050984499,38.759380340576172,1.3602524803317806E-3,-3.839219616181215E-3,"-",-3.839219616181215E-3,5.3974367456428585,5.3935975260266771,5.3935975260266771,5.3931358767905095,4.6164923616753839E-4,15.673362571518272,15.673362571518272,15.673362571518272,"-",5.393433715007391,5.393433715007391,5.393433715007391,"-",3.7754036005051734,7844.1795148663477,39.508764270663647,377.28090774771482,0.10058040113838179,-2.9088820873213997E-4,2.9088820873213997E-4,{"$f":"FI_T-Rechentabelle!AL81","v":6.1794195988616183},{"$f":"AP80","v":1.5650637966088676E-5}]
[4.999999888241291E-3,6.2499995692633092E-5,9.8125002774176462E-2,39.250003814697266,7850001.5,null,7850.0015000000003,null,{"$f":"C82","v":9.8125002774176462E-2},{"$f":"AL80","v":9.8111103371465308E-2},{"$f":"I82-J82","v":1.3899402711153863E-5},{"$f":"L80+KP_LR*(1+2*TA_SIM/TN_LR)*K82-KP_LR*K80","v":0.26004848848137119},"-",{"$f":"L82","v":0.26004848848137119},39.508764270663647,39.250003814697266,1.2880325149922101E-3,-3.692470381353328E-3,"-",-3.692470381353328E-3,5.3974367456428585,5.393744275261505,5.393744275261505,5.393433715007391,3.1056025411402288E-4,15.663338147963117,15.663338147963117,15.663338147963117,"-",5.3936340764616579,5.3936340764616579,5.3936340764616579,"-",3.7755438535231605,7844.470919433119,39.999043703128216,381.96273145809636,0.1030803413698273,-2.9088820873213997E-4,2.9088820873213997E-4,{"$f":"FI_T-Rechentabelle!AL82","v":6.1769196586301733},{"$f":"K82","v":1.3899402711153863E-5}]
[5.0624995492398739E-3,6.2499995692633092E-5,0.10059345987521434,39.740627288818359,7850001.5,null,7850.0015000000003,null,null,null,null,null,"-",{"$f":"N82+(L84-L82)/2","v":0.25959925502336079},39.999043703128216,39.740627288818359,1.182840713504163E-3,-3.647729897617327E-3,"-",-3.647729897617327E-3,5.3974367456428585,5.3937890157452415,5.3937890157452415,5.3936340764616579,1.5493928358356612E-4,15.652704446239683,15.652704446239683,15.652704446239683,"-",5.3937340372897769,5.3937340372897769,5.3937340372897769,"-",3.7756138261028434,7844.6163018966199,40.489332221996754,386.64464193724427,0.1056109246337021,-2.9088820873213997E-4,2.9088820873213997E-4,{"$f":"FI_T-Rechentabelle!AL83","v":6.1743890753662978},{"$f":"AP82","v":1.3899402711153863E-5}]
[5.124999675899744E-3,6.2499995692633092E-5,0.10309258103961914,40.231254577636719,7850001.5,null,7850.0015000000003,null,{"$f":"C84","v":0.10309258103961914},{"$f":"AL82","v":0.1030803413698273},{"$f":"I84-J84","v":1.223966979184421E-5},{"$f":"L82+KP_LR*(1+2*TA_SIM/TN_LR)*K84-KP_LR*K82","v":0.25915002156535033},"-",{"$f":"L84","v":0.25915002156535033},40.489332221996754,40.231254577636719,1.0723772053111702E-3,-3.6421290353876286E-3,"-",-3.6421290353876286E-3,5.3974367456428585,5.3937946166074706,5.3937946166074706,5.3937340372897769,6.0579317693765233E-5,15.646194327357426,15.646194327357426,15.646194327357426,"-",5.3937731207205477,5.3937731207205477,5.3937731207205477,"-",3.7756411845043831,7844.6731446174581,40.979624293535345,391.32658634189215,0.10817215115204806,-2.9088820873213997E-4,2.9088820873213997E-4,{"$f":"FI_T-Rechentabelle!AL84","v":6.1718278488479523},{"$f":"K84","v":1.223966979184421E-5}]
[5.1874998025596142E-3,6.2499995692633092E-5,0.10562236626739088,40.721878051757813,7850001.5,null,7850.0015000000003,null,null,null,null,null,"-",{"$f":"N84+(L86-L84)/2","v":0.25868543403609845},40.979624293535345,40.721878051757813,9.3919225856353705E-4,-3.7216212179104159E-3,"-",-3.7216212179104159E-3,5.3974367456428585,5.3937151244249479,5.3937151244249479,5.3937731207205477,-5.7996295599771486E-5,15.637762575109958,15.637762575109958,15.637762575109958,"-",5.3937357037556444,5.3937357037556444,5.3937357037556444,"-",3.7756149926289506,7844.61872559516,41.469912963885044,396.00849826757866,0.11076402071229088,-2.9088820873213997E-4,2.9088820873213997E-4,{"$f":"FI_T-Rechentabelle!AL85","v":6.1692359792877092},{"$f":"AP84","v":1.223966979184421E-5}]
[5.249999463558197E-3,6.2499995692633092E-5,0.10818281555852954,41.212505340576172,7850001.5,null,7850.0015000000003,null,{"$f":"C86","v":0.10818281555852954},{"$f":"AL84","v":0.10817215115204806},{"$f":"I86-J86","v":1.0664406481480926E-5},{"$f":"L84+KP_LR*(1+2*TA_SIM/TN_LR)*K86-KP_LR*K84","v":0.25822084650684657},"-",{"$f":"L86","v":0.25822084650684657},41.469912963885044,41.212505340576172,8.132231979729454E-4,-3.8151115208502561E-3,"-",-3.8151115208502561E-3,5.3974367456428585,5.3936216341220078,5.3936216341220078,5.3937357037556444,-1.1406963363658207E-4,15.633613167938377,15.633613167938377,15.633613167938377,"-",5.3936621104436204,5.3936621104436204,5.3936621104436204,"-",3.7755634773105342,7844.5116918980548,41.960194944628675,400.69034631223269,0.11338653289633017,-2.9088820873213997E-4,2.9088820873213997E-4,{"$f":"FI_T-Rechentabelle!AL86","v":6.1666134671036703},{"$f":"K86","v":1.0664406481480926E-5}]
[5.3124995902180672E-3,6.2499995692633092E-5,0.11077392891303516,41.703128814697266,7850001.5,null,7850.0015000000003,null,null,null,null,null,"-",{"$f":"N86+(L88-L86)/2","v":0.25774418651340747},41.960194944628675,41.703128814697266,6.7805658199660002E-4,-3.962856264761983E-3,"-",-3.962856264761983E-3,5.3974367456428585,5.3934738893780967,5.3934738893780967,5.3936621104436204,-1.8822106552374152E-4,15.628056060274286,15.628056060274286,15.628056060274286,"-",5.3935406774981214,5.3935406774981214,5.3935406774981214,"-",3.7754784742486849,7844.3350805083828,42.450465887160448,405.37208894972792,0.11603968701427771,-2.9088820873213997E-4,2.9088820873213997E-4,{"$f":"FI_T-Rechentabelle!AL87","v":6.1639603129857221},{"$f":"AP86","v":1.0664406481480926E-5}]
[5.3749997168779373E-3,6.2499995692633092E-5,0.11339570633090768,42.193752288818359,7850001.5,null,7850.0015000000003,null,{"$f":"C88","v":0.11339570633090768},{"$f":"AL86","v":0.11338653289633017},{"$f":"I88-J88","v":9.1734345775001946E-6},{"$f":"L86+KP_LR*(1+2*TA_SIM/TN_LR)*K88-KP_LR*K86","v":0.25726752651996843},"-",{"$f":"L88","v":0.25726752651996843},42.450465887160448,42.193752288818359,5.5392817787947024E-4,-4.1152977693072971E-3,"-",-4.1152977693072971E-3,5.3974367456428585,5.3933214478735509,5.3933214478735509,5.3935406774981214,-2.1922962457043838E-4,15.62546928792878,15.62546928792878,15.62546928792878,"-",5.3933992390306571,5.3933992390306571,5.3933992390306571,"-",3.7753794673214598,7844.1293732006225,42.940723972985488,410.05370881471748,0.1187234822625893,-2.9088820873213997E-4,2.9088820873213997E-4,{"$f":"FI_T-Rechentabelle!AL88","v":6.1612765177374111},{"$f":"K88","v":9.1734345775001946E-6}]
[5.4374998435378075E-3,6.2499995692633092E-5,0.11604814781214713,42.684379577636719,7850001.5,null,7850.0015000000003,null,null,null,null,null,"-",{"$f":"N88+(L90-L88)/2","v":0.25678480989996555},42.940723972985488,42.684379577636719,4.404145511998081E-4,-4.2708289167327209E-3,"-",-4.2708289167327209E-3,5.3974367456428585,5.3931659167261259,5.3931659167261259,5.3933992390306571,-2.3332230453121383E-4,15.624043534210797,15.624043534210797,15.624043534210797,"-",5.3932487085116048,5.3932487085116048,5.3932487085116048,"-",3.7752740959581232,7843.9104424644147,43.430968375639516,414.73519801504881,0.12143791778606677,-2.9088820873213997E-4,2.9088820873213997E-4,{"$f":"FI_T-Rechentabelle!AL89","v":6.1585620822139333},{"$f":"AP88","v":9.1734345775001946E-6}]
[5.4999995045363903E-3,6.2499995692633092E-5,0.11873125335675352,43.175003051757813,7850001.5,null,7850.0015000000003,null,{"$f":"C90","v":0.11873125335675352},{"$f":"AL88","v":0.1187234822625893},{"$f":"I90-J90","v":7.7710941642217257E-6},{"$f":"L88+KP_LR*(1+2*TA_SIM/TN_LR)*K90-KP_LR*K88","v":0.25630209327996262},"-",{"$f":"L90","v":0.25630209327996262},43.430968375639516,43.175003051757813,3.3676939825966201E-4,-4.4287723075872058E-3,"-",-4.4287723075872058E-3,5.3974367456428585,5.3930079733352709,5.3930079733352709,5.3932487085116048,-2.4073517633382835E-4,15.623072790685963,15.623072790685963,15.623072790685963,"-",5.3930933954946152,5.3930933954946152,5.3930933954946152,"-",3.7751653768462305,7843.6845560902348,43.921198660395156,419.41655239938126,0.12418299270234147,-2.9088820873213997E-4,2.9088820873213997E-4,{"$f":"FI_T-Rechentabelle!AL90","v":6.1558170072976583},{"$f":"K90","v":7.7710941642217257E-6}]
[5.5624996311962605E-3,6.2499995692633092E-5,0.12144502296472684,43.665630340576172,7850001.5,null,7850.0015000000003,null,null,null,null,null,"-",{"$f":"N90+(L92-L90)/2","v":0.25582084993975618},43.921198660395156,43.665630340576172,2.5253012077541825E-4,-4.5623080230573747E-3,"-",-4.5623080230573747E-3,5.3974367456428585,5.3928744376198008,5.3928744376198008,5.3930933954946152,-2.1895787481440721E-4,15.624191753633287,15.624191753633287,15.624191753633287,"-",5.3929521323495733,5.3929521323495733,5.3929521323495733,"-",3.7750664926447008,7843.4791037704144,44.411416104380805,424.0977841633927,0.12695870620886526,-2.9088820873213997E-4,2.9088820873213997E-4,{"$f":"FI_T-Rechentabelle!AL91","v":6.1530412937911354},{"$f":"AP90","v":7.7710941642217257E-6}]
[5.6249997578561306E-3,6.2499995692633092E-5,0.12418945663606708,44.156253814697266,7850001.5,null,7850.0015000000003,null,{"$f":"C92","v":0.12418945663606708},{"$f":"AL90","v":0.12418299270234147},{"$f":"I92-J92","v":6.4639337256089391E-6},{"$f":"L90+KP_LR*(1+2*TA_SIM/TN_LR)*K92-KP_LR*K90","v":0.2553396065995498},"-",{"$f":"L92","v":0.2553396065995498},44.411416104380805,44.156253814697266,1.7731691600886279E-4,-4.6932755083673458E-3,"-",-4.6932755083673458E-3,5.3974367456428585,5.3927434701344907,5.3927434701344907,5.3929521323495733,-2.0866221508253346E-4,15.624524042249472,15.624524042249472,15.624524042249472,"-",5.3928175115656494,5.3928175115656494,5.3928175115656494,"-",3.7749722580959544,7843.2833120630667,44.901621311384744,428.77889907283645,0.12976505754082682,-2.9088820873213997E-4,2.9088820873213997E-4,{"$f":"FI_T-Rechentabelle!AL92","v":6.1502349424591731},{"$f":"K92","v":6.4639337256089391E-6}]
[5.6874994188547134E-3,6.2499995692633092E-5,0.12696455437077425,44.646881103515625,7850001.5,null,7850.0015000000003,null,null,null,null,null,"-",{"$f":"N92+(L94-L92)/2","v":0.25486770584868257},44.901621311384744,44.646881103515625,1.2749797956246312E-4,-4.7775745945234684E-3,"-",-4.7775745945234684E-3,5.3974367456428585,5.3926591710483347,5.3926591710483347,5.3928175115656494,-1.5834051731467014E-4,15.627760050776525,15.627760050776525,15.627760050776525,"-",5.3927153563931887,5.3927153563931887,5.3927153563931887,"-",3.7749007494752318,7843.1347381575551,45.391817232519593,433.45992530876219,0.13260204611785928,-2.9088820873213997E-4,2.9088820873213997E-4,{"$f":"FI_T-Rechentabelle!AL93","v":6.1473979538821411},{"$f":"AP92","v":6.4639337256089391E-6}]
[5.7499995455145836E-3,6.2499995692633092E-5,0.12977031616884835,45.137504577636719,7850001.5,null,7850.0015000000003,null,{"$f":"C94","v":0.12977031616884835},{"$f":"AL92","v":0.12976505754082682},{"$f":"I94-J94","v":5.2586280215316528E-6},{"$f":"L92+KP_LR*(1+2*TA_SIM/TN_LR)*K94-KP_LR*K92","v":0.25439580509781534},"-",{"$f":"L94","v":0.25439580509781534},45.391817232519593,45.137504577636719,8.3150214940985734E-5,-4.8600139407792547E-3,"-",-4.8600139407792547E-3,5.3974367456428585,5.3925767317020794,5.3925767317020794,5.3927153563931887,-1.3862469110925701E-4,15.628884612251966,15.628884612251966,15.628884612251966,"-",5.3926259211086016,5.3926259211086016,5.3926259211086016,"-",3.7748381447760209,7843.0046639850834,45.88200502401866,438.14087391238473,0.13546967143186045,-2.9088820873213997E-4,2.9088820873213997E-4,{"$f":"FI_T-Rechentabelle!AL94","v":6.1445303285681394},{"$f":"K94","v":5.2586280215316528E-6}]
[5.8124996721744537E-3,6.2499995692633092E-5,0.13260674203028941,45.628128051757813,7850001.5,null,7850.0015000000003,null,null,null,null,null,"-",{"$f":"N94+(L96-L94)/2","v":0.25394057801425851},45.88200502401866,45.628128051757813,6.3605753410911348E-5,-4.8897728869752447E-3,"-",-4.8897728869752447E-3,5.3974367456428585,5.3925469727558832,5.3925469727558832,5.3926259211086016,-7.8948352718377635E-5,15.632925796377156,15.632925796377156,15.632925796377156,"-",5.3925749866874932,5.3925749866874932,5.3925749866874932,"-",3.7748024906812452,7842.9305852508724,46.372188185596841,442.82177830351958,0.13836793319346025,-2.9088820873213997E-4,2.9088820873213997E-4,{"$f":"FI_T-Rechentabelle!AL95","v":6.1416320668065403},{"$f":"AP94","v":5.2586280215316528E-6}]
[5.8749997988343239E-3,6.2499995692633092E-5,0.13547383195509738,46.118755340576172,7850001.5,null,7850.0015000000003,null,{"$f":"C96","v":0.13547383195509738},{"$f":"AL94","v":0.13546967143186045},{"$f":"I96-J96","v":4.160523236929059E-6},{"$f":"L94+KP_LR*(1+2*TA_SIM/TN_LR)*K96-KP_LR*K94","v":0.25348535093070168},"-",{"$f":"L96","v":0.25348535093070168},46.372188185596841,46.118755340576172,5.2505910034028602E-5,-4.9026799036697788E-3,"-",-4.9026799036697788E-3,5.3974367456428585,5.3925340657391887,5.3925340657391887,5.3925749866874932,-4.0920948304545846E-5,15.635518513054667,15.635518513054667,15.635518513054667,"-",5.3925485860756837,5.3925485860756837,5.3925485860756837,"-",3.7747840102529784,7842.8921883502553,46.862368947368729,447.50265977819242,0.14129683125267078,-2.9088820873213997E-4,2.9088820873213997E-4,{"$f":"FI_T-Rechentabelle!AL96","v":6.1387031687473295},{"$f":"K96","v":4.160523236929059E-6}]
[5.9374994598329067E-3,6.2499995692633092E-5,0.13837158594327229,46.609378814697266,7850001.5,null,7850.0015000000003,null,null,null,null,null,"-",{"$f":"N96+(L98-L96)/2","v":0.25305299412006338},46.862368947368729,46.609378814697266,6.2861448597573144E-5,-4.8633710064358553E-3,"-",-4.8633710064358553E-3,5.3974367456428585,5.3925733746364228,5.3925733746364228,5.3925485860756837,2.4788560739175125E-5,15.640177275254732,15.640177275254732,15.640177275254732,"-",5.3925645786955156,5.3925645786955156,5.3925645786955156,"-",3.7747952050868605,7842.9154479261588,47.352551162864117,452.18355513490212,0.1442563657003498,-2.9088820873213997E-4,2.9088820873213997E-4,{"$f":"FI_T-Rechentabelle!AL97","v":6.1357436342996508},{"$f":"AP96","v":4.160523236929059E-6}]
[5.9999995864927769E-3,6.2499995692633092E-5,0.1413000039948141,47.100006103515625,7850001.5,null,7850.0015000000003,null,{"$f":"C98","v":0.1413000039948141},{"$f":"AL96","v":0.14129683125267078},{"$f":"I98-J98","v":3.1727421433147551E-6},{"$f":"L96+KP_LR*(1+2*TA_SIM/TN_LR)*K98-KP_LR*K96","v":0.25262063730942508},"-",{"$f":"L98","v":0.25262063730942508},47.352551162864117,47.100006103515625,7.5577960934936073E-5,-4.8154938308271611E-3,"-",-4.8154938308271611E-3,5.3974367456428585,5.3926212518120309,5.3926212518120309,5.3925645786955156,5.6673116515248978E-5,15.642521398936235,15.642521398936235,15.642521398936235,"-",5.3926011419964928,5.3926011419964928,5.3926011419964928,"-",3.7748207993975447,7842.9686253844675,47.842736701950649,456.86448222956926,0.14724653674422172,-2.9088820873213997E-4,2.9088820873213997E-4,{"$f":"FI_T-Rechentabelle!AL98","v":6.1327534632557787},{"$f":"K98","v":3.1727421433147551E-6}]
[6.062499713152647E-3,6.2499995692633092E-5,0.14425908610972288,47.590629577636719,7850001.5,null,7850.0015000000003,null,null,null,null,null,"-",{"$f":"N98+(L100-L98)/2","v":0.25221573517759044},47.842736701950649,47.590629577636719,1.086108636627614E-4,-4.7125101055087489E-3,"-",-4.7125101055087489E-3,5.3974367456428585,5.3927242355373499,5.3927242355373499,5.3926011419964928,1.230935408571554E-4,15.647413988250355,15.647413988250355,15.647413988250355,"-",5.3926805571841427,5.3926805571841427,5.3926805571841427,"-",3.7748763900288997,7843.0841263845823,48.332929459849687,461.54547825881815,0.15026734483546234,-2.9088820873213997E-4,2.9088820873213997E-4,{"$f":"FI_T-Rechentabelle!AL99","v":6.1297326551645384},{"$f":"AP98","v":3.1727421433147551E-6}]
[6.1249993741512299E-3,6.2499995692633092E-5,0.14724883228799854,48.081253051757813,7850001.5,null,7850.0015000000003,null,{"$f":"C100","v":0.14724883228799854},{"$f":"AL98","v":0.14724653674422172},{"$f":"I100-J100","v":2.2955437768146236E-6},{"$f":"L98+KP_LR*(1+2*TA_SIM/TN_LR)*K100-KP_LR*K98","v":0.25181083304575586},"-",{"$f":"L100","v":0.25181083304575586},48.332929459849687,48.081253051757813,1.3442495388460429E-4,-4.6199520818700291E-3,"-",-4.6199520818700291E-3,5.3974367456428585,5.3928167935609883,5.3928167935609883,5.3926805571841427,1.3623637684556655E-4,15.648591424410606,15.648591424410606,15.648591424410606,"-",5.3927684516208174,5.3927684516208174,5.3927684516208174,"-",3.7749379161345717,7843.2119595565582,48.823130207321974,466.22655058287148,0.15331879047341995,-2.9088820873213997E-4,2.9088820873213997E-4,{"$f":"FI_T-Rechentabelle!AL100","v":6.1266812095265806},{"$f":"K100","v":2.2955437768146236E-6}]
[6.1874995008111E-3,6.2499995692633092E-5,0.15026924252964119,48.571880340576172,7850001.5,null,7850.0015000000003,null,null,null,null,null,"-",{"$f":"N100+(L102-L100)/2","v":0.2514362658083743},48.823130207321974,48.571880340576172,1.8639906257078565E-4,-4.4541357635585034E-3,"-",-4.4541357635585034E-3,5.3974367456428585,5.3929826098792999,5.3929826098792999,5.3927684516208174,2.1415825848247749E-4,15.654461720972989,15.654461720972989,15.654461720972989,"-",5.3929066182391932,5.3929066182391932,5.3929066182391932,"-",3.7750346327674351,7843.412908305495,49.313343514091066,470.90774283937503,0.15640087444305065,-2.9088820873213997E-4,2.9088820873213997E-4,{"$f":"FI_T-Rechentabelle!AL101","v":6.1235991255569493},{"$f":"AP100","v":2.2955437768146236E-6}]
[6.2499996274709702E-3,6.2499995692633092E-5,0.15332031683465072,49.062503814697266,7850001.5,null,7850.0015000000003,null,{"$f":"C102","v":0.15332031683465072},{"$f":"AL100","v":0.15331879047341995},{"$f":"I102-J102","v":1.5263612307692132E-6},{"$f":"L100+KP_LR*(1+2*TA_SIM/TN_LR)*K102-KP_LR*K100","v":0.25106169857099281},"-",{"$f":"L102","v":0.25106169857099281},49.313343514091066,49.062503814697266,2.2199917719234463E-4,-4.3175630620417328E-3,"-",-4.3175630620417328E-3,5.3974367456428585,5.3931191825808167,5.3931191825808167,5.3929066182391932,2.1256434162353344E-4,15.654747539319089,15.654747539319089,15.654747539319089,"-",5.3930437565241114,5.3930437565241114,5.3930437565241114,"-",3.7751306295668776,7843.612361452062,49.803569286681821,475.5890541357067,0.15951359752346825,-2.9088820873213997E-4,2.9088820873213997E-4,{"$f":"FI_T-Rechentabelle!AL102","v":6.1204864024765318},{"$f":"K102","v":1.5263612307692132E-6}]
[6.3124997541308403E-3,6.2499995692633092E-5,0.15640205520302719,49.553131103515625,7850001.5,null,7850.0015000000003,null,null,null,null,null,"-",{"$f":"N102+(L104-L102)/2","v":0.2507187167216437},49.803569286681821,49.553131103515625,2.8053355544699343E-4,-4.113603665622626E-3,"-",-4.113603665622626E-3,5.3974367456428585,5.3933231419772358,5.3933231419772358,5.3930437565241114,2.7938545312444774E-4,15.65996067141287,15.65996067141287,15.65996067141287,"-",5.3932240052035469,5.3932240052035469,5.3932240052035469,"-",3.7752568036424825,7843.874514112782,50.293811443813873,480.27052189288275,0.16265696073870661,-2.9088820873213997E-4,2.9088820873213997E-4,{"$f":"FI_T-Rechentabelle!AL103","v":6.1173430392612937},{"$f":"AP102","v":1.5263612307692132E-6}]
[6.3749994151294231E-3,6.2499995692633092E-5,0.1595144576347706,50.043754577636719,7850001.5,null,7850.0015000000003,null,{"$f":"C104","v":0.1595144576347706},{"$f":"AL102","v":0.15951359752346825},{"$f":"I104-J104","v":8.6011130234764366E-7},{"$f":"L102+KP_LR*(1+2*TA_SIM/TN_LR)*K104-KP_LR*K102","v":0.25037573487229459},"-",{"$f":"L104","v":0.25037573487229459},50.293811443813873,50.043754577636719,3.1886869513897409E-4,-3.9470804883196967E-3,"-",-3.9470804883196967E-3,5.3974367456428585,5.3934896651545392,5.3934896651545392,5.3932240052035469,2.6565995099225859E-4,15.659494270913447,15.659494270913447,15.659494270913447,"-",5.3933953987203163,5.3933953987203163,5.3933953987203163,"-",3.7753767791042212,7844.1237878749653,50.78406918055606,484.95213842437653,0.16583096506249137,-2.9088820873213997E-4,2.9088820873213997E-4,{"$f":"FI_T-Rechentabelle!AL104","v":6.1141690349375093},{"$f":"K104","v":8.6011130234764366E-7}]
[6.4374995417892933E-3,6.2499995692633092E-5,0.16265752412988094,50.534378051757813,7850001.5,null,7850.0015000000003,null,null,null,null,null,"-",{"$f":"N104+(L106-L104)/2","v":0.25006411993251365},50.78406918055606,50.534378051757813,3.7299113426314534E-4,-3.730798798435909E-3,"-",-3.730798798435909E-3,5.3974367456428585,5.3937059468444222,5.3937059468444222,5.3933953987203163,3.1054812410591381E-4,15.663226156587429,15.663226156587429,15.663226156587429,"-",5.3935957523487721,5.3935957523487721,5.3935957523487721,"-",3.77551702664414,7844.4151810599205,51.274345129372307,489.63392886836698,0.16903561163307715,-2.9088820873213997E-4,2.9088820873213997E-4,{"$f":"FI_T-Rechentabelle!AL105","v":6.1109643883669227},{"$f":"AP104","v":8.6011130234764366E-7}]
[6.4999996684491634E-3,6.2499995692633092E-5,0.16583125468835822,51.025005340576172,7850001.5,null,7850.0015000000003,null,{"$f":"C106","v":0.16583125468835822},{"$f":"AL104","v":0.16583096506249137},{"$f":"I106-J106","v":2.8962586684500025E-7},{"$f":"L104+KP_LR*(1+2*TA_SIM/TN_LR)*K106-KP_LR*K104","v":0.24975250499273272},"-",{"$f":"L106","v":0.24975250499273272},51.274345129372307,51.025005340576172,4.1271619659966063E-4,-3.5381771883950842E-3,"-",-3.5381771883950842E-3,5.3974367456428585,5.3938985684544631,5.3938985684544631,5.3935957523487721,3.0281610569105055E-4,15.663249977944181,15.663249977944181,15.663249977944181,"-",5.3937911175782505,5.3937911175782505,5.3937911175782505,"-",3.7756537823047749,7844.699319145594,51.764638836818904,494.3158888947857,0.17227090156037833,-2.9088820873213997E-4,2.9088820873213997E-4,{"$f":"FI_T-Rechentabelle!AL106","v":6.1077290984396218},{"$f":"K106","v":2.8962586684500025E-7}]
[6.5624993294477463E-3,6.2499995692633092E-5,0.16903564931020243,51.515628814697266,7850001.5,null,7850.0015000000003,null,null,null,null,null,"-",{"$f":"N106+(L108-L106)/2","v":0.24947096101046534},51.764638836818904,51.515628814697266,4.6093888882836609E-4,-3.3141184745342136E-3,"-",-3.3141184745342136E-3,5.3974367456428585,5.3941226271683247,5.3941226271683247,5.3937911175782505,3.3150959007421932E-4,{"$f":"Z106+KP_SR*(1+TA_SIM/TN_SR)*Y107-KP_SR*Y106","v":15.665884319177797},15.665884319177797,15.665884319177797,"-",5.3940049947331374,5.3940049947331374,5.3940049947331374,"-",3.7758034963131961,7845.0103808709655,52.254951985623336,498.99803457249635,0.17553683605947978,-2.9088820873213997E-4,2.9088820873213997E-4,{"$f":"FI_T-Rechentabelle!AL107","v":6.1044631639405207},{"$f":"AP106","v":2.8962586684500025E-7}]
[6.6249994561076164E-3,6.2499995692633092E-5,0.17227070799541355,52.006256103515625,7850001.5,null,7850.0015000000003,null,{"$f":"C108","v":0.17227070799541355},{"$f":"AL106","v":0.17227090156037833},{"$f":"I108-J108","v":-1.9356496477884733E-7},{"$f":"L106+KP_LR*(1+2*TA_SIM/TN_LR)*K108-KP_LR*K106","v":0.249189417028198},"-",{"$f":"L108","v":0.249189417028198},52.254951985623336,52.006256103515625,4.9353492048709313E-4,-3.1183049039330731E-3,"-",-3.1183049039330731E-3,5.3974367456428585,5.3943184407389255,5.3943184407389255,5.3940049947331374,3.1344600578808723E-4,15.665202819465833,15.665202819465833,15.665202819465833,"-",5.3942072179626788,5.3942072179626788,5.3942072179626788,"-",3.7759450525738747,7845.3044931931736,52.745283516447913,503.68035578556919,0.17883341627925778,-2.9088820873213997E-4,2.9088820873213997E-4,{"$f":"FI_T-Rechentabelle!AL108","v":6.1011665837207421},{"$f":"K108","v":-1.9356496477884733E-7}]
[6.6874995827674866E-3,6.2499995692633092E-5,0.17553643074399161,52.496879577636719,7850001.5,null,7850.0015000000003,null,null,null,null,null,"-",{"$f":"N108+(L110-L108)/2","v":0.24893582748267057},52.745283516447913,52.496879577636719,5.3188867147468954E-4,-2.8998059200140386E-3,"-",-2.8998059200140386E-3,5.3974367456428585,5.3945369397228449,5.3945369397228449,5.3942072179626788,3.2972176016610177E-4,15.666962171195388,15.666962171195388,15.666962171195388,"-",5.3944199416789154,5.3944199416789154,5.3944199416789154,"-",3.7760939591752405,7845.6138773638895,53.235634383783157,508.3628616487174,0.18216064342824423,-2.9088820873213997E-4,2.9088820873213997E-4,{"$f":"FI_T-Rechentabelle!AL109","v":6.0978393565717557},{"$f":"AP108","v":-1.9356496477884733E-7}]
[6.7499997094273567E-3,6.2499995692633092E-5,0.17883281755593658,52.987506866455078,7850001.5,null,7850.0015000000003,null,{"$f":"C110","v":0.17883281755593658},{"$f":"AL108","v":0.17883341627925778},{"$f":"I110-J110","v":-5.9872332119903504E-7},{"$f":"L108+KP_LR*(1+2*TA_SIM/TN_LR)*K110-KP_LR*K108","v":0.24868223793714311},"-",{"$f":"L110","v":0.24868223793714311},53.235634383783157,52.987506866455078,5.5472060906680554E-4,-2.7116896644100597E-3,"-",-2.7116896644100597E-3,5.3974367456428585,5.3947250559784488,5.3947250559784488,5.3944199416789154,3.0511429953339331E-4,15.665805745228813,15.665805745228813,15.665805745228813,"-",5.3946167896140986,5.3946167896140986,5.3946167896140986,"-",3.7762317527298688,7845.9001718883619,53.726003144526182,513.04553838132324,0.18551851862477711,-2.9088820873213997E-4,2.9088820873213997E-4,{"$f":"FI_T-Rechentabelle!AL110","v":6.0944814813752233},{"$f":"K110","v":-5.9872332119903504E-7}]
[6.8124993704259396E-3,6.2499995692633092E-5,0.18215986843124854,53.478130340576172,7850001.5,null,7850.0015000000003,null,null,null,null,null,"-",{"$f":"N110+(L112-L110)/2","v":0.24845402754534984},53.726003144526182,53.478130340576172,5.8122359533996359E-4,-2.5086099166753161E-3,"-",-2.5086099166753161E-3,5.3974367456428585,5.3949281357261833,5.3949281357261833,5.3946167896140986,3.1134611208472052E-4,15.666825696796961,15.666825696796961,15.666825696796961,"-",5.3948176580735083,5.3948176580735083,5.3948176580735083,"-",3.7763723606514557,7846.1923138405473,54.216390164141217,517.72838947331331,0.18890704301003594,-2.9088820873213997E-4,2.9088820873213997E-4,{"$f":"FI_T-Rechentabelle!AL111","v":6.0910929569899643},{"$f":"AP110","v":-5.9872332119903504E-7}]
[6.8749994970858097E-3,6.2499995692633092E-5,0.18551758336992738,53.968753814697266,7850001.5,null,7850.0015000000003,null,{"$f":"C112","v":0.18551758336992738},{"$f":"AL110","v":0.18551851862477711},{"$f":"I112-J112","v":-9.3525484973211448E-7},{"$f":"L110+KP_LR*(1+2*TA_SIM/TN_LR)*K112-KP_LR*K110","v":0.24822581715355654},"-",{"$f":"L112","v":0.24822581715355654},54.216390164141217,53.968753814697266,5.8946770960233152E-4,-2.345808411280262E-3,"-",-2.345808411280262E-3,5.3974367456428585,5.3950909372315783,5.3950909372315783,5.3948176580735083,2.7327915806996117E-4,15.664664938707668,15.664664938707668,15.664664938707668,"-",5.3949939672077472,5.3949939672077472,5.3949939672077472,"-",3.7764957770454228,7846.4487368489972,54.706793210194277,522.41139360651346,0.19232621758567309,-2.9088820873213997E-4,2.9088820873213997E-4,{"$f":"FI_T-Rechentabelle!AL112","v":6.0876737824143268},{"$f":"K112","v":-9.3525484973211448E-7}]
[6.9374996237456799E-3,6.2499995692633092E-5,0.18890596237197316,54.459381103515625,7850001.5,null,7850.0015000000003,null,null,null,null,null,"-",{"$f":"N112+(L114-L112)/2","v":0.24802028614027313},54.706793210194277,54.459381103515625,6.081794616221714E-4,-2.1542017546082653E-3,"-",-2.1542017546082653E-3,5.3974367456428585,5.3952825438882499,5.3952825438882499,5.3949939672077472,2.8857668050275009E-4,15.666278643749052,15.666278643749052,15.666278643749052,"-",5.395180145711298,5.395180145711298,5.395180145711298,"-",3.7766261019979082,7846.7195138123998,55.197213179807555,527.09455934780931,0.19577604340941107,-2.9088820873213997E-4,2.9088820873213997E-4,{"$f":"FI_T-Rechentabelle!AL113","v":6.0842239565905896},{"$f":"AP112","v":-9.3525484973211448E-7}]
[6.9999992847442627E-3,6.2499995692633092E-5,0.19232500543738587,54.950004577636719,7850001.5,null,7850.0015000000003,null,{"$f":"C114","v":0.19232500543738587},{"$f":"AL112","v":0.19232621758567309},{"$f":"I114-J114","v":-1.2121482872162748E-6},{"$f":"L112+KP_LR*(1+2*TA_SIM/TN_LR)*K114-KP_LR*K112","v":0.24781475512698972},"-",{"$f":"L114","v":0.24781475512698972},55.197213179807555,54.950004577636719,6.0615295615207287E-4,-2.0111195731074617E-3,"-",-2.0111195731074617E-3,5.3974367456428585,5.3954256260697511,5.3954256260697511,5.395180145711298,2.4548035845306515E-4,15.663712845813897,15.663712845813897,15.663712845813897,"-",5.3953385201361064,5.3953385201361064,5.3953385201361064,"-",3.7767369640952744,7846.9498526808102,55.687647545600107,531.77786256249067,0.19925652138101108,-2.9088820873213997E-4,2.9088820873213997E-4,{"$f":"FI_T-Rechentabelle!AL114","v":6.0807434786189889},{"$f":"K114","v":-1.2121482872162748E-6}]
[7.0624994114041328E-3,6.2499995692633092E-5,0.19577471256616552,55.440631866455078,7850001.5,null,7850.0015000000003,null,null,null,null,null,"-",{"$f":"N114+(L116-L114)/2","v":0.24762930998601826},55.687647545600107,55.440631866455078,6.1363084098786658E-4,-1.8442018845299404E-3,"-",-1.8442018845299404E-3,5.3974367456428585,5.3955925437583288,5.3955925437583288,5.3953385201361064,2.5402362222237684E-4,15.66478779781554,15.66478779781554,15.66478779781554,"-",5.3955024063439918,5.3955024063439918,5.3955024063439918,"-",3.776851684440794,7847.1882078553781,56.178096808591071,536.46130803493804,0.20276765243154801,-2.9088820873213997E-4,2.9088820873213997E-4,{"$f":"FI_T-Rechentabelle!AL115","v":6.0772323475684527},{"$f":"AP114","v":-1.2121482872162748E-6}]
[7.124999538064003E-3,6.2499995692633092E-5,0.19925508375831208,55.931255340576172,7850001.5,null,7850.0015000000003,null,{"$f":"C116","v":0.19925508375831208},{"$f":"AL114","v":0.19925652138101108},{"$f":"I116-J116","v":-1.4376226989964991E-6},{"$f":"L114+KP_LR*(1+2*TA_SIM/TN_LR)*K116-KP_LR*K114","v":0.2474438648450468},"-",{"$f":"L116","v":0.2474438648450468},56.178096808591071,55.931255340576172,6.0239683014629009E-4,-1.7233602782601547E-3,"-",-1.7233602782601547E-3,5.3974367456428585,5.3957133853645987,5.3957133853645987,5.3955024063439918,2.1097902060684959E-4,15.662161079431018,15.662161079431018,15.662161079431018,"-",5.3956385218411578,5.3956385218411578,5.3956385218411578,"-",3.7769469652888104,7847.3861734652191,56.668558444432648,541.14487165940534,0.20630943733432505,-2.9088820873213997E-4,2.9088820873213997E-4,{"$f":"FI_T-Rechentabelle!AL116","v":6.073690562665675},{"$f":"K116","v":-1.4376226989964991E-6}]
[7.1874996647238731E-3,6.2499995692633092E-5,0.20276611901382557,56.421878814697266,7850001.5,null,7850.0015000000003,null,null,null,null,null,"-",{"$f":"N116+(L118-L116)/2","v":0.24727612558879869},56.668558444432648,56.421878814697266,5.9649585341503553E-4,-1.5916058192917621E-3,"-",-1.5916058192917621E-3,5.3974367456428585,5.3958451398235665,5.3958451398235665,5.3956385218411578,2.0661798240872997E-4,15.66224153826523,15.66224153826523,15.66224153826523,"-",5.3957718237652932,5.3957718237652932,5.3957718237652932,"-",3.777040276635705,7847.5800470303438,57.159032197372042,545.82855099363371,0.20988187684666079,-2.9088820873213997E-4,2.9088820873213997E-4,{"$f":"FI_T-Rechentabelle!AL117","v":6.0701181231533399},{"$f":"AP116","v":-1.4376226989964991E-6}]
[7.249999325722456E-3,6.2499995692633092E-5,0.20630781833270601,56.912506103515625,7850001.5,null,7850.0015000000003,null,{"$f":"C118","v":0.20630781833270601},{"$f":"AL116","v":0.20630943733432505},{"$f":"I118-J118","v":-1.6190016190464895E-6},{"$f":"L116+KP_LR*(1+2*TA_SIM/TN_LR)*K118-KP_LR*K116","v":0.24710838633255058},"-",{"$f":"L118","v":0.24710838633255058},57.159032197372042,56.912506103515625,5.8229247613184043E-4,-1.4825426485355127E-3,"-",-1.4825426485355127E-3,5.3974367456428585,5.3959542029943233,5.3959542029943233,5.3957718237652932,1.8237922903008297E-4,15.660881359811416,15.660881359811416,15.660881359811416,"-",5.3958894877840224,5.3958894877840224,5.3958894877840224,"-",3.7771226414488153,7847.751176914222,57.649516645929182,550.51233246348795,0.21348497163703137,-2.9088820873213997E-4,2.9088820873213997E-4,{"$f":"FI_T-Rechentabelle!AL118","v":6.0665150283629687},{"$f":"K118","v":-1.6190016190464895E-6}]
[7.3124994523823261E-3,6.2499995692633092E-5,0.20988018171495337,57.403129577636719,7850001.5,null,7850.0015000000003,null,null,null,null,null,"-",{"$f":"N118+(L120-L118)/2","v":0.24695636597338094},57.649516645929182,57.403129577636719,5.6929768091862343E-4,-1.3738484007815685E-3,"-",-1.3738484007815685E-3,5.3974367456428585,5.3960628972420768,5.3960628972420768,5.3958894877840224,1.7340945805432995E-4,15.660576183260574,15.660576183260574,15.660576183260574,"-",5.3960013648537339,5.3960013648537339,5.3960013648537339,"-",3.7772009553976136,7847.9138902921532,58.140011264072442,555.19621104573616,0.21711872234103591,-2.9088820873213997E-4,2.9088820873213997E-4,{"$f":"FI_T-Rechentabelle!AL119","v":6.0628812776589642},{"$f":"AP118","v":-1.6190016190464895E-6}]
[7.3749995790421963E-3,6.2499995692633092E-5,0.21348320916056765,57.893756866455078,7850001.5,null,7850.0015000000003,null,{"$f":"C120","v":0.21348320916056765},{"$f":"AL118","v":0.21348497163703137},{"$f":"I120-J120","v":-1.7624764637180768E-6},{"$f":"L118+KP_LR*(1+2*TA_SIM/TN_LR)*K120-KP_LR*K118","v":0.24680434561421133},"-",{"$f":"L120","v":0.24680434561421133},58.140011264072442,57.893756866455078,5.4994799684493501E-4,-1.2845895773066424E-3,"-",-1.2845895773066424E-3,5.3974367456428585,5.3961521560655514,5.3961521560655514,5.3960013648537339,1.5079121181749144E-4,15.659270653791994,15.659270653791994,15.659270653791994,"-",5.3960986495065191,5.3960986495065191,5.3960986495065191,"-",3.7772690546545631,7848.0553805413729,58.630514725356278,559.88017407375662,0.22078312951137066,-2.9088820873213997E-4,2.9088820873213997E-4,{"$f":"FI_T-Rechentabelle!AL120","v":6.0592168704886298},{"$f":"K120","v":-1.7624764637180768E-6}]
[7.4374997057020664E-3,6.2499995692633092E-5,0.21711690066954889,58.384380340576172,7850001.5,null,7850.0015000000003,null,null,null,null,null,"-",{"$f":"N120+(L122-L120)/2","v":0.24666639673401275},58.630514725356278,58.384380340576172,5.3201195390784051E-4,-1.1964293936935443E-3,"-",-1.1964293936935443E-3,5.3974367456428585,5.3962403162491652,5.3962403162491652,5.3960986495065191,1.4166674264615153E-4,15.658895228829305,15.658895228829305,15.658895228829305,"-",5.3961900474050006,5.3961900474050006,5.3961900474050006,"-",3.7773330331835,7848.1883091284017,59.121026494676805,564.5642164376834,0.22447819366728797,-2.9088820873213997E-4,2.9088820873213997E-4,{"$f":"FI_T-Rechentabelle!AL121","v":6.0555218063327123},{"$f":"AP120","v":-1.7624764637180768E-6}]
[7.4999993667006493E-3,6.2499995692633092E-5,0.22078125624189704,58.875007629394531,7850001.5,null,7850.0015000000003,null,{"$f":"C122","v":0.22078125624189704},{"$f":"AL120","v":0.22078312951137066},{"$f":"I122-J122","v":-1.873269473623429E-6},{"$f":"L120+KP_LR*(1+2*TA_SIM/TN_LR)*K122-KP_LR*K120","v":0.2465284478538142},"-",{"$f":"L122","v":0.2465284478538142},59.121026494676805,58.875007629394531,5.0958257153865816E-4,-1.1241440376731811E-3,"-",-1.1241440376731811E-3,5.3974367456428585,5.3963126016051852,5.3963126016051852,5.3961900474050006,1.2255420018458807E-4,15.657782946610412,15.657782946610412,15.657782946610412,"-",5.3962691146309263,5.3962691146309263,5.3962691146309263,"-",3.7773883802416481,7848.3033040549508,59.611545451180241,569.24832743415141,0.22820391525798672,-2.9088820873213997E-4,2.9088820873213997E-4,{"$f":"FI_T-Rechentabelle!AL122","v":6.0517960847420138},{"$f":"K122","v":-1.873269473623429E-6}]
[7.5624994933605194E-3,6.2499995692633092E-5,0.22447627587761212,59.365631103515625,7850001.5,null,7850.0015000000003,null,null,null,null,null,"-",{"$f":"N122+(L124-L122)/2","v":0.24640327262900558},59.611545451180241,59.365631103515625,4.8892496438668331E-4,-1.0527913695364917E-3,"-",-1.0527913695364917E-3,5.3974367456428585,5.3963839542733218,5.3963839542733218,5.3962691146309263,1.1483964239555888E-4,15.657456295691381,15.657456295691381,15.657456295691381,"-",5.3963432047227951,5.3963432047227951,5.3963432047227951,"-",3.7774402433059562,7848.4110602658548,60.10207114244686,573.93250274287061,0.23196029470438964,-2.9088820873213997E-4,2.9088820873213997E-4,{"$f":"FI_T-Rechentabelle!AL123","v":6.0480397052956105},{"$f":"AP122","v":-1.873269473623429E-6}]
[7.6249996200203896E-3,6.2499995692633092E-5,0.22820195957669412,59.856254577636719,7850001.5,null,7850.0015000000003,null,{"$f":"C124","v":0.22820195957669412},{"$f":"AL122","v":0.22820391525798672},{"$f":"I124-J124","v":-1.9556812926035949E-6},{"$f":"L122+KP_LR*(1+2*TA_SIM/TN_LR)*K124-KP_LR*K122","v":0.24627809740419698},"-",{"$f":"L124","v":0.24627809740419698},60.10207114244686,59.856254577636719,4.6153259405912195E-4,-1.0037146737278682E-3,"-",-1.0037146737278682E-3,5.3974367456428585,5.3964330309691304,5.3964330309691304,5.3963432047227951,8.9826246335356075E-5,15.655868578673976,15.655868578673976,15.655868578673976,"-",5.3964011571397856,5.3964011571397856,5.3964011571397856,"-",3.7774808099978499,7848.4953459336166,60.592602101567714,578.61672835589206,0.23574733233573764,-2.9088820873213997E-4,2.9088820873213997E-4,{"$f":"FI_T-Rechentabelle!AL124","v":6.0442526676642627},{"$f":"K124","v":-1.9556812926035949E-6}]
[7.6874992810189724E-3,6.2499995692633092E-5,0.23195830733914308,60.346881866455078,7850001.5,null,7850.0015000000003,null,null,null,null,null,"-",{"$f":"N124+(L126-L124)/2","v":0.24616473616527682},60.592602101567714,60.346881866455078,4.4450105264104423E-4,-9.34794150997959E-4,"-",-9.34794150997959E-4,5.3974367456428585,5.3965019514918602,5.3965019514918602,5.3964011571397856,1.0079435207455134E-4,15.656827051916196,15.656827051916196,15.656827051916196,"-",5.3964661857540275,5.3964661857540275,5.3964661857540275,"-",3.7775263300278188,7848.5899231826688,61.08313897176663,583.30101041555122,0.23956502852147304,-2.9088820873213997E-4,2.9088820873213997E-4,{"$f":"FI_T-Rechentabelle!AL125","v":6.0404349714785273},{"$f":"AP124","v":-1.9556812926035949E-6}]
[7.7499994076788425E-3,6.2499995692633092E-5,0.23574531916495897,60.837505340576172,7850001.5,null,7850.0015000000003,null,{"$f":"C126","v":0.23574531916495897},{"$f":"AL124","v":0.23574733233573764},{"$f":"I126-J126","v":-2.0131707786641417E-6},{"$f":"L124+KP_LR*(1+2*TA_SIM/TN_LR)*K126-KP_LR*K124","v":0.24605137492635665},"-",{"$f":"L126","v":0.24605137492635665},61.08313897176663,60.837505340576172,4.1774373590186542E-4,-8.9492205328984826E-4,"-",-8.9492205328984826E-4,5.3974367456428585,5.396541823589569,5.396541823589569,5.3964661857540275,7.5637835541542131E-5,15.655202742706052,15.655202742706052,15.655202742706052,"-",5.3965149843576024,5.3965149843576024,5.3965149843576024,"-",3.7775604890503214,7848.66089559593,61.573680277741374,587.98533483374922,0.24341338353883188,-2.9088820873213997E-4,2.9088820873213997E-4,{"$f":"FI_T-Rechentabelle!AL126","v":6.0365866164611681},{"$f":"K126","v":-2.0131707786641417E-6}]
[7.8124995343387127E-3,6.2499995692633092E-5,0.23956299505414175,61.328132629394531,7850001.5,null,7850.0015000000003,null,null,null,null,null,"-",{"$f":"N126+(L128-L126)/2","v":0.24594913246435623},61.573680277741374,61.328132629394531,4.0148411751061985E-4,-8.3470094577243136E-4,"-",-8.3470094577243136E-4,5.3974367456428585,5.3966020446970857,5.3966020446970857,5.3965149843576024,8.7060339483358007E-5,15.656167415875968,15.656167415875968,15.656167415875968,"-",5.3965711523185593,5.3965711523185593,5.3965711523185593,"-",3.7775998066229914,7848.7425859609202,62.064226689363934,592.66970800729257,0.24729239770691713,-2.9088820873213997E-4,2.9088820873213997E-4,{"$f":"FI_T-Rechentabelle!AL127","v":6.0327076022930832},{"$f":"AP126","v":-2.0131707786641417E-6}]
[7.8749991953372955E-3,6.2499995692633092E-5,0.24341133500669149,61.818756103515625,7850001.5,null,7850.0015000000003,null,{"$f":"C128","v":0.24341133500669149},{"$f":"AL126","v":0.24341338353883188},{"$f":"I128-J128","v":-2.0485321403918011E-6},{"$f":"L126+KP_LR*(1+2*TA_SIM/TN_LR)*K128-KP_LR*K126","v":0.24584689000235579},"-",{"$f":"L128","v":0.24584689000235579},62.064226689363934,61.818756103515625,3.76304154045215E-4,-8.0127831548340253E-4,"-",-8.0127831548340253E-4,5.3974367456428585,5.3966354673273749,5.3966354673273749,5.3965711523185593,6.4315008815540864E-5,15.654691171713973,15.654691171713973,15.654691171713973,"-",5.3966126458726338,5.3966126458726338,5.3966126458726338,"-",3.7776288521108432,7848.8029339514705,62.5547768727359,597.35411719838953,0.2512020712614631,-2.9088820873213997E-4,2.9088820873213997E-4,{"$f":"FI_T-Rechentabelle!AL128","v":6.0287979287385376},{"$f":"K128","v":-2.0485321403918011E-6}]
[7.9374993219971657E-3,6.2499995692633092E-5,0.24729033902260814,62.309379577636719,7850001.5,null,7850.0015000000003,null,null,null,null,null,"-",{"$f":"N128+(L130-L128)/2","v":0.24575520167918952},62.5547768727359,62.309379577636719,3.5790658000678377E-4,-7.5663266043497139E-4,"-",-7.5663266043497139E-4,5.3974367456428585,5.3966801129824233,5.3966801129824233,5.3966126458726338,6.7467109789554058E-5,15.655038657652272,15.655038657652272,15.655038657652272,"-",5.3966561730402391,5.3966561730402391,5.3966561730402391,"-",3.777659321128167,7848.866239618048,63.045331012712026,602.03856417227325,0.25514240444975761,-2.9088820873213997E-4,2.9088820873213997E-4,{"$f":"FI_T-Rechentabelle!AL129","v":6.0248575955502428},{"$f":"AP128","v":-2.0485321403918011E-6}]
[7.9999994486570358E-3,6.2499995692633092E-5,0.25120000710189172,62.800006866455078,7850001.5,null,7850.0015000000003,null,{"$f":"C130","v":0.25120000710189172},{"$f":"AL128","v":0.2512020712614631},{"$f":"I130-J130","v":-2.0641595713799532E-6},{"$f":"L128+KP_LR*(1+2*TA_SIM/TN_LR)*K130-KP_LR*K128","v":0.24566351335602324},"-",{"$f":"L130","v":0.24566351335602324},63.045331012712026,62.800006866455078,3.3936709907322893E-4,-7.1683545501515346E-4,"-",-7.1683545501515346E-4,{"$f":"G130*(JM_EMS+JL_EMS)/KT_M*KP_VSR","v":5.3974367456428585},5.3967199101878434,{"$f":"IF(V130<-IM_R,-IM_R,IF(V130>IM_R,IM_R,V130))","v":5.3967199101878434},5.3966561730402391,6.3737147604214783E-5,15.654896088518264,{"$f":"IF(Z130<-U_ZWK,-U_ZWK,IF(Z130>U_ZWK,U_ZWK,Z130))","v":15.654896088518264},15.654896088518264,"-",5.3966972937806288,5.3966972937806288,5.3966972937806288,"-",{"$f":"AF130*KT_M","v":3.77768810564644},{"$f":"AH130/(JM_EMS+JL_EMS)","v":7848.9260453904835},63.535888890548932,{"$f":"AJ130/(2*PI())*60","v":606.72304684009805},0.2591133975054169,{"$f":"-DF_LR","v":-2.9088820873213997E-4},{"$f":"DF_LR","v":2.9088820873213997E-4},{"$f":"FI_T-Rechentabelle!AL130","v":6.0208866024945831},{"$f":"K130","v":-2.0641595713799532E-6}]
[8.062499575316906E-3,6.2499995692633092E-5,0.25514033924454227,63.290630340576172,7850001.5,null,{"$f":"E131/1000","v":7850.0015000000003},null,null,null,null,null,"-",{"$f":"N130+(L132-L130)/2","v":0.24558195654153303},63.535888890548932,63.290630340576172,3.2340656877494212E-4,{"$f":"R130+KP_DR*(1+TA_SIM/TN_DR)*Q131-KP_DR*Q130","v":-6.7495638217076454E-4},"-",{"$f":"R131","v":-6.7495638217076454E-4},5.3974367456428585,{"$f":"T131+U131","v":5.3967617892606876},5.3967617892606876,5.3966972937806288,{"$f":"W131-X131","v":6.4495480058823773E-5},15.655069987526801,15.655069987526801,{"$f":"AA131","v":15.655069987526801},"-",{"$f":"(1/R_M*AB131+AD130*T_M/TA_SIM)/(1+T_M/TA_SIM)","v":5.3967389037677629},{"$f":"AD131","v":5.3967389037677629},{"$f":"AE131","v":5.3967389037677629},"-",3.7777172326374338,7848.9865627206182,{"$f":"AJ130+AI131*TA_SIM","v":64.026450550718977},611.40756562654383,{"$f":"AL130+AJ131*TA_SIM","v":0.26311505066483681},-2.9088820873213997E-4,2.9088820873213997E-4,{"$f":"FI_T-Rechentabelle!AL131","v":6.0168849493351635},{"$f":"AP130","v":-2.0641595713799532E-6}]
[8.1249997019767761E-3,6.2499995692633092E-5,0.2591113354505597,63.781257629394531,7850001.5,null,7850.0015000000003,null,{"$f":"C132","v":0.2591113354505597},{"$f":"AL130","v":0.2591133975054169},{"$f":"I132-J132","v":-2.0620548571992359E-6},{"$f":"L130+KP_LR*(1+2*TA_SIM/TN_LR)*K132-KP_LR*K130","v":0.2455003997270428},"-",{"$f":"L132","v":0.2455003997270428},{"$f":"AJ131","v":64.026450550718977},{"$f":"D132*KP_VDR","v":63.781257629394531},{"$f":"N132-O132+P132","v":3.0747840259692794E-4},-6.3688552272529589E-4,"-",-6.3688552272529589E-4,5.3974367456428585,5.396799860120133,5.396799860120133,{"$f":"AF131","v":5.3967389037677629},6.095635237013397E-5,15.654935610965087,15.654935610965087,15.654935610965087,"-",5.3967782304467118,5.3967782304467118,5.3967782304467118,"-",3.777744761312698,7849.0437592202315,64.517015785670239,616.09211854963564,0.26714736415144119,-2.9088820873213997E-4,2.9088820873213997E-4,{"$f":"FI_T-Rechentabelle!AL132","v":6.0128526358485592},{"$f":"K132","v":-2.0620548571992359E-6}]
[8.1874998286366463E-3,6.2499995692633092E-5,0.26311299571994406,64.271881103515625,7850001.5,null,7850.0015000000003,null,null,null,null,null,"-",{"$f":"N132+(L134-L132)/2","v":0.24542854489751953},64.517015785670239,64.271881103515625,2.9386274290743586E-4,-5.9677822631748879E-4,"-",-5.9677822631748879E-4,5.3974367456428585,5.3968399674165406,5.3968399674165406,5.3967782304467118,6.1736969828807275E-5,15.655105913153477,15.655105913153477,15.655105913153477,"-",5.3968180607498262,5.3968180607498262,5.3968180607498262,"-",3.7777726425248779,7849.1016881879859,65.007584641181992,620.77670604653338,0.27121033819151508,-2.9088820873213997E-4,2.9088820873213997E-4,{"$f":"FI_T-Rechentabelle!AL133","v":6.0087896618084855},{"$f":"AP132","v":-2.0620548571992359E-6}]
[8.2499990239739418E-3,6.2499995692633092E-5,0.26714532005269542,64.762504577636719,7850001.5,null,7850.0015000000003,null,{"$f":"C134","v":0.26714532005269542},{"$f":"AL132","v":0.26714736415144119},{"$f":"I134-J134","v":-2.0440987457681636E-6},{"$f":"L132+KP_LR*(1+2*TA_SIM/TN_LR)*K134-KP_LR*K132","v":0.24535669006799624},"-",{"$f":"L134","v":0.24535669006799624},65.007584641181992,64.762504577636719,2.7662652271942534E-4,-5.6925832052781382E-4,"-",-5.6925832052781382E-4,5.3974367456428585,5.3968674873223303,5.3968674873223303,5.3968180607498262,4.942657250417426E-5,15.654334278205956,15.654334278205956,15.654334278205956,"-",5.396849948861119,5.396849948861119,5.396849948861119,"-",3.777794964202783,7849.1480660768393,65.498156395311796,625.46132122319466,0.27530397296622205,-2.9088820873213997E-4,2.9088820873213997E-4,{"$f":"FI_T-Rechentabelle!AL134","v":6.0046960270337779},{"$f":"K134","v":-2.0440987457681636E-6}]
[8.312499150633812E-3,6.2499995692633092E-5,0.27120830844881366,65.253128051757813,7850001.5,null,7850.0015000000003,null,null,null,null,null,"-",{"$f":"N134+(L136-L134)/2","v":0.24529410143089853},65.498156395311796,65.253128051757813,2.6575787691740516E-4,-5.2964061680198259E-4,"-",-5.2964061680198259E-4,5.3974367456428585,5.3969071050260569,5.3969071050260569,5.396849948861119,5.7156164937843812E-5,15.654983783067314,15.654983783067314,15.654983783067314,"-",5.3968868238062395,5.3968868238062395,5.3968868238062395,"-",3.7778207766643672,7849.2016967886284,65.988731501361087,630.14596840832917,0.2794282686850571,-2.9088820873213997E-4,2.9088820873213997E-4,{"$f":"FI_T-Rechentabelle!AL135","v":6.0005717313149436},{"$f":"AP134","v":-2.0440987457681636E-6}]
[8.3749992772936821E-3,6.2499995692633092E-5,0.27530196090829884,65.743759155273438,7850001.5,null,7850.0015000000003,null,{"$f":"C136","v":0.27530196090829884},{"$f":"AL134","v":0.27530397296622205},{"$f":"I136-J136","v":-2.0120579232174585E-6},{"$f":"L134+KP_LR*(1+2*TA_SIM/TN_LR)*K136-KP_LR*K134","v":0.24523151279380079},"-",{"$f":"L136","v":0.24523151279380079},65.988731501361087,65.743759155273438,2.5916670615799831E-4,-4.8172303114838095E-4,"-",-4.8172303114838095E-4,5.3974367456428585,5.39695502261171,5.39695502261171,5.3968868238062395,6.81988054704874E-5,15.655886502954937,15.655886502954937,15.655886502954937,"-",5.396930823035575,5.396930823035575,5.396930823035575,"-",3.7778515761249021,7849.2656890191183,66.479310606924784,634.83065378601293,0.28358322559798987,-2.9088820873213997E-4,2.9088820873213997E-4,{"$f":"FI_T-Rechentabelle!AL136","v":5.99641677440201},{"$f":"K136","v":-2.0120579232174585E-6}]
[8.4374994039535522E-3,6.2499995692633092E-5,0.27942627743115095,66.234382629394531,7850001.5,null,7850.0015000000003,null,null,null,null,null,"-",{"$f":"N136+(L138-L136)/2","v":0.24517775553098484},66.479310606924784,66.234382629394531,2.4977800073600065E-4,-4.4257351718597594E-4,"-",-4.4257351718597594E-4,5.3974367456428585,5.3969941721256722,5.3969941721256722,5.396930823035575,6.3349090097197802E-5,15.655664608328271,15.655664608328271,15.655664608328271,"-",5.3969716934162824,5.3969716934162824,5.3969716934162824,"-",3.7778801853913975,7849.3251306698467,66.969893427591643,639.51537464031867,0.28776884393721436,-2.9088820873213997E-4,2.9088820873213997E-4,{"$f":"FI_T-Rechentabelle!AL137","v":5.9922311560627861},{"$f":"AP136","v":-2.0120579232174585E-6}]
[8.4999995306134224E-3,6.2499995692633092E-5,0.28358125801737,66.725006103515625,7850001.5,null,7850.0015000000003,null,{"$f":"C138","v":0.28358125801737},{"$f":"AL136","v":0.28358322559798987},{"$f":"I138-J138","v":-1.9675806198771184E-6},{"$f":"L136+KP_LR*(1+2*TA_SIM/TN_LR)*K138-KP_LR*K136","v":0.24512399826816889},"-",{"$f":"L138","v":0.24512399826816889},66.969893427591643,66.725006103515625,2.366741921520088E-4,-4.15222905961284E-4,"-",-4.15222905961284E-4,5.3974367456428585,5.3970215227368969,5.3970215227368969,5.3969716934162824,4.9829320614591666E-5,15.654808836786383,15.654808836786383,15.654808836786383,"-",5.3970038413650663,5.3970038413650663,5.3970038413650663,"-",3.777902688955546,7849.3718864648781,67.460479170495702,644.20012339993411,0.29198512388537035,-2.9088820873213997E-4,2.9088820873213997E-4,{"$f":"FI_T-Rechentabelle!AL138","v":5.9880148761146295},{"$f":"K138","v":-1.9675806198771184E-6}]
[8.5624996572732925E-3,6.2499995692633092E-5,0.28776690266695598,67.215629577636719,7850001.5,null,7850.0015000000003,null,null,null,null,null,"-",{"$f":"N138+(L140-L138)/2","v":0.24507845590005872},67.460479170495702,67.215629577636719,2.2886304107316846E-4,-3.7751864191598464E-4,"-",-3.7751864191598464E-4,5.3974367456428585,5.3970592270009421,5.3970592270009421,5.3970038413650663,5.5385635875815353E-5,15.655302479008617,15.655302479008617,15.655302479008617,"-",5.3970395740333732,5.3970395740333732,5.3970395740333732,"-",3.7779277018233608,7849.4238558557254,67.951068161486688,648.88490317649496,0.29623206564546328,-2.9088820873213997E-4,2.9088820873213997E-4,{"$f":"FI_T-Rechentabelle!AL139","v":5.9837679343545371},{"$f":"AP138","v":-1.9675806198771184E-6}]
[8.6249997839331627E-3,6.2499995692633092E-5,0.29198321137990885,67.706253051757813,7850001.5,null,7850.0015000000003,null,{"$f":"C140","v":0.29198321137990885},{"$f":"AL138","v":0.29198512388537035},{"$f":"I140-J140","v":-1.9125054614987924E-6},{"$f":"L138+KP_LR*(1+2*TA_SIM/TN_LR)*K140-KP_LR*K138","v":0.24503291353194853},"-",{"$f":"L140","v":0.24503291353194853},67.951068161486688,67.706253051757813,2.1780380306779534E-4,-3.5003320570347642E-4,"-",-3.5003320570347642E-4,5.3974367456428585,5.3970867124371553,5.3970867124371553,5.3970395740333732,4.7138403782120974E-5,15.654811770956471,15.654811770956471,15.654811770956471,"-",5.3970699859067803,5.3970699859067803,5.3970699859067803,"-",3.7779489901347461,7849.4680867125408,68.441659916906218,653.56970935140384,0.30050966939026991,-2.9088820873213997E-4,2.9088820873213997E-4,{"$f":"FI_T-Rechentabelle!AL140","v":5.97949033060973},{"$f":"K140","v":-1.9125054614987924E-6}]
[8.6874989792704582E-3,6.2499995692633092E-5,0.29623018415622865,68.196884155273438,7850001.5,null,7850.0015000000003,null,null,null,null,null,"-",{"$f":"N140+(L142-L140)/2","v":0.24499506368973678},68.441659916906218,68.196884155273438,2.193020569620785E-4,-2.9309897731091621E-4,"-",-2.9309897731091621E-4,5.3974367456428585,5.3971436466655476,5.3971436466655476,5.3970699859067803,7.3660758767246648E-5,15.656811286067958,15.656811286067958,15.656811286067958,"-",5.3971175089769527,5.3971175089769527,5.3971175089769527,"-",3.7779822562838667,7849.537203997229,68.932255992156044,658.25455677765342,0.30481793538977964,-2.9088820873213997E-4,2.9088820873213997E-4,{"$f":"FI_T-Rechentabelle!AL141","v":5.9751820646102205},{"$f":"AP140","v":-1.9125054614987924E-6}]
[8.7499991059303284E-3,6.2499995692633092E-5,0.30050782099591539,68.687507629394531,7850001.5,null,7850.0015000000003,null,{"$f":"C142","v":0.30050782099591539},{"$f":"AL140","v":0.30050966939026991},{"$f":"I142-J142","v":-1.8483943545199999E-6},{"$f":"L140+KP_LR*(1+2*TA_SIM/TN_LR)*K142-KP_LR*K140","v":0.24495721384752506},"-",{"$f":"L142","v":0.24495721384752506},68.932255992156044,68.687507629394531,2.0885108601476077E-4,-2.6638738281920319E-4,"-",-2.6638738281920319E-4,5.3974367456428585,5.3971703582600394,5.3971703582600394,5.3971175089769527,5.2849283086686683E-5,15.655449334046608,15.655449334046608,15.655449334046608,"-",5.397151605288621,5.397151605288621,5.397151605288621,"-",3.7780061237020344,7849.5867934802282,69.422855166748562,662.93943380044561,0.30915686383770141,-2.9088820873213997E-4,2.9088820873213997E-4,{"$f":"FI_T-Rechentabelle!AL142","v":5.9708431361622987},{"$f":"K142","v":-1.8483943545199999E-6}]
[8.8124992325901985E-3,6.2499995692633092E-5,0.30481612189896912,69.178131103515625,7850001.5,null,7850.0015000000003,null,null,null,null,null,"-",{"$f":"N142+(L144-L142)/2","v":0.24492637252224611},69.422855166748562,69.178131103515625,2.0230928930686787E-4,-2.3221686510627903E-4,"-",-2.3221686510627903E-4,5.3974367456428585,5.3972045287777526,5.3972045287777526,5.397151605288621,5.2923489131551094E-5,15.655553560973164,15.655553560973164,15.655553560973164,"-",5.3971857494751569,5.3971857494751569,5.3971857494751569,"-",3.7780300246326095,7849.6364525921654,69.913457445035576,667.62434046133706,0.31352645492801612,-2.9088820873213997E-4,2.9088820873213997E-4,{"$f":"FI_T-Rechentabelle!AL143","v":5.9664735450719846},{"$f":"AP142","v":-1.8483943545199999E-6}]
[8.8749993592500687E-3,6.2499995692633092E-5,0.30915508686538973,69.668754577636719,7850001.5,null,7850.0015000000003,null,{"$f":"C144","v":0.30915508686538973},{"$f":"AL142","v":0.30915686383770141},{"$f":"I144-J144","v":-1.7769723116844993E-6},{"$f":"L142+KP_LR*(1+2*TA_SIM/TN_LR)*K144-KP_LR*K142","v":0.24489553119696716},"-",{"$f":"L144","v":0.24489553119696716},69.913457445035576,69.668754577636719,1.9266379811710976E-4,-2.0758609691391185E-4,"-",-2.0758609691391185E-4,5.3974367456428585,5.3972291595459447,5.3972291595459447,5.3971857494751569,4.3410070787786026E-5,15.654966999224444,15.654966999224444,15.654966999224444,"-",5.3972137559724391,5.3972137559724391,5.3972137559724391,"-",3.7780496291807073,7849.6771850835385,70.404062269103292,672.30927143264341,0.31792670881983509,-2.9088820873213997E-4,2.9088820873213997E-4,{"$f":"FI_T-Rechentabelle!AL144","v":5.9620732911801655},{"$f":"K144","v":-1.7769723116844993E-6}]
[8.9374994859099388E-3,6.2499995692633092E-5,0.31352471589517728,70.159378051757813,7850001.5,null,7850.0015000000003,null,null,null,null,null,"-",{"$f":"N144+(L146-L144)/2","v":0.24487102575517616},70.404062269103292,70.159378051757813,1.8680840969409473E-4,-1.7560483732462088E-4,"-",-1.7560483732462088E-4,5.3974367456428585,5.3972611408055338,5.3972611408055338,5.3972137559724391,4.7384833094632484E-5,15.655334657388934,15.655334657388934,15.655334657388934,"-",5.3972443268325003,5.3972443268325003,5.3972443268325003,"-",3.7780710287827501,7849.7216471696447,70.894669872051395,676.99422894030272,0.32235762568683829,-2.9088820873213997E-4,2.9088820873213997E-4,{"$f":"FI_T-Rechentabelle!AL145","v":5.9576423743131617},{"$f":"AP144","v":-1.7769723116844993E-6}]
[8.999999612569809E-3,6.2499995692633092E-5,0.31792500898833176,70.650009155273438,7850001.5,null,7850.0015000000003,null,{"$f":"C146","v":0.31792500898833176},{"$f":"AL144","v":0.31792670881983509},{"$f":"I146-J146","v":-1.6998315033323053E-6},{"$f":"L144+KP_LR*(1+2*TA_SIM/TN_LR)*K146-KP_LR*K144","v":0.24484652031338516},"-",{"$f":"L146","v":0.24484652031338516},70.894669872051395,70.650009155273438,1.858035354302956E-4,-1.3263462201159145E-4,"-",-1.3263462201159145E-4,5.3974367456428585,5.3973041110208468,5.3973041110208468,5.3972443268325003,5.9784188346512224E-5,15.656316866419651,15.656316866419651,15.656316866419651,"-",5.3972828972765949,5.3972828972765949,5.3972828972765949,"-",3.7780980280936163,7849.77774380556,71.385280981039244,681.6792199281756,0.32681920574815326,-2.9088820873213997E-4,2.9088820873213997E-4,{"$f":"FI_T-Rechentabelle!AL146","v":5.9531807942518471},{"$f":"K146","v":-1.6998315033323053E-6}]
[9.0624997392296791E-3,6.2499995692633092E-5,0.32235596614485318,71.140632629394531,7850001.5,null,7850.0015000000003,null,null,null,null,null,"-",{"$f":"N146+(L148-L146)/2","v":0.24482772385745216},71.385280981039244,71.140632629394531,1.7937221274166859E-4,-1.0380013358561439E-4,"-",-1.0380013358561439E-4,5.3974367456428585,5.3973329455092731,5.3973329455092731,5.3972828972765949,5.0048232678179261E-5,15.655727103773232,15.655727103773232,15.655727103773232,"-",5.3973151864589672,5.3973151864589672,5.3973151864589672,"-",3.7781206305212769,7849.8247050099244,71.875895025102366,686.36423894395273,0.33131144918722216,-2.9088820873213997E-4,2.9088820873213997E-4,{"$f":"FI_T-Rechentabelle!AL147","v":5.9486885508127783},{"$f":"AP146","v":-1.6998315033323053E-6}]
[9.1249989345669746E-3,6.2499995692633092E-5,0.32681758736474148,71.631256103515625,7850001.5,null,7850.0015000000003,null,{"$f":"C148","v":0.32681758736474148},{"$f":"AL146","v":0.32681920574815326},{"$f":"I148-J148","v":-1.6183834117833307E-6},{"$f":"L146+KP_LR*(1+2*TA_SIM/TN_LR)*K148-KP_LR*K146","v":0.24480892740151916},"-",{"$f":"L148","v":0.24480892740151916},71.875895025102366,71.631256103515625,1.7000581478043841E-4,-8.4046826645441444E-5,"-",-8.4046826645441444E-5,5.3974367456428585,5.3973526988162126,5.3973526988162126,5.3973151864589672,3.7512357245361727E-5,15.654917350604794,15.654917350604794,15.654917350604794,"-",5.3973393879797706,5.3973393879797706,5.3973393879797706,"-",3.7781375715858392,7849.8599035650086,72.366511269075176,691.04927896731976,0.33583435614153934,-2.9088820873213997E-4,2.9088820873213997E-4,{"$f":"FI_T-Rechentabelle!AL148","v":5.9441656438584607},{"$f":"K148","v":-1.6183834117833307E-6}]
[9.1874990612268448E-3,6.2499995692633092E-5,0.33130987264799677,72.121879577636719,7850001.5,null,7850.0015000000003,null,null,null,null,null,"-",{"$f":"N148+(L150-L148)/2","v":0.24479509122818899},72.366511269075176,72.121879577636719,1.6339978972723657E-4,-5.9510913315820898E-5,"-",-5.9510913315820898E-5,5.3974367456428585,5.397377234729543,5.397377234729543,5.3973393879797706,3.7846749772363353E-5,15.65501163285078,15.65501163285078,15.65501163285078,"-",5.3973638052376884,5.3973638052376884,5.3973638052376884,"-",3.7781546636663816,7849.8954158869337,72.857129732568112,695.73434018554292,0.34038792674982482,-2.9088820873213997E-4,2.9088820873213997E-4,{"$f":"FI_T-Rechentabelle!AL149","v":5.9396120732501752},{"$f":"AP148","v":-1.6183834117833307E-6}]
[9.2499991878867149E-3,6.2499995692633092E-5,0.33583282199461895,72.612510681152344,7850001.5,null,7850.0015000000003,null,{"$f":"C150","v":0.33583282199461895},{"$f":"AL148","v":0.33583435614153934},{"$f":"I150-J150","v":-1.5341469203900004E-6},{"$f":"L148+KP_LR*(1+2*TA_SIM/TN_LR)*K150-KP_LR*K148","v":0.24478125505485884},"-",{"$f":"L150","v":0.24478125505485884},72.857129732568112,72.612510681152344,1.6220363909269508E-4,-2.2737180850019472E-5,"-",-2.2737180850019472E-5,5.3974367456428585,5.3974140084620084,5.3974140084620084,5.3973638052376884,5.0203224319922413E-5,15.655972906258071,15.655972906258071,15.655972906258071,"-",5.3973961944146689,5.3973961944146689,5.3973961944146689,"-",3.778177336090268,7849.9425225228915,73.347751140225796,700.41942951846829,0.34497216119608892,-2.9088820873213997E-4,2.9088820873213997E-4,{"$f":"FI_T-Rechentabelle!AL150","v":5.9350278388039115},{"$f":"K150","v":-1.5341469203900004E-6}]
[9.3124993145465851E-3,6.2499995692633092E-5,0.34038643540460806,73.103134155273438,7850001.5,null,7850.0015000000003,null,null,null,null,null,"-",{"$f":"N150+(L152-L150)/2","v":0.24477176535387823},73.347751140225796,73.103134155273438,1.5478040151606365E-4,-2.1952997053028677E-6,"-",-2.1952997053028677E-6,5.3974367456428585,5.3974345503431529,5.3974345503431529,5.3973961944146689,3.8355928484001822E-5,15.655213065229463,15.655213065229463,15.655213065229463,"-",5.3974209401749809,5.3974209401749809,5.3974209401749809,"-",3.7781946581224863,7849.9785126168417,73.83837479726435,705.10454033139888,0.34958705962091796,-2.9088820873213997E-4,2.9088820873213997E-4,{"$f":"FI_T-Rechentabelle!AL151","v":5.9304129403790826},{"$f":"AP150","v":-1.5341469203900004E-6}]
[9.3749994412064552E-3,6.2499995692633092E-5,0.34497071287796416,73.593757629394531,7850001.5,null,7850.0015000000003,null,{"$f":"C152","v":0.34497071287796416},{"$f":"AL150","v":0.34497216119608892},{"$f":"I152-J152","v":-1.4483181247637589E-6},{"$f":"L150+KP_LR*(1+2*TA_SIM/TN_LR)*K152-KP_LR*K150","v":0.24476227565289765},"-",{"$f":"L152","v":0.24476227565289765},73.83837479726435,73.593757629394531,1.4510778308363115E-4,1.0778834548370484E-5,"-",1.0778834548370484E-5,5.3974367456428585,5.3974475244774069,5.3974475244774069,5.3974209401749809,2.6584302426080342E-5,15.654436511398451,15.654436511398451,15.654436511398451,"-",5.3974380913378361,5.3974380913378361,5.3974380913378361,"-",3.7782066639364849,7850.0034571711712,74.329000013337549,709.78966603201354,0.35423262212175155,-2.9088820873213997E-4,2.9088820873213997E-4,{"$f":"FI_T-Rechentabelle!AL152","v":5.9257673778782483},{"$f":"K152","v":-1.4483181247637589E-6}]
[9.4374995678663254E-3,6.2499995692633092E-5,0.34958565441468714,74.084381103515625,7850001.5,null,7850.0015000000003,null,null,null,null,null,"-",{"$f":"N152+(L154-L152)/2","v":0.24475646220956693},74.329000013337549,74.084381103515625,1.3755238764190381E-4,2.6814571127240774E-5,"-",2.6814571127240774E-5,5.3974367456428585,5.3974635602139855,5.3974635602139855,5.3974380913378361,2.5468876149403741E-5,15.654405867115827,15.654405867115827,15.654405867115827,"-",5.3974545228708353,5.3974545228708353,5.3974545228708353,"-",3.7782181660095846,7850.0273550999045,74.819626723031291,714.47480599565392,0.35890884879194102,-2.9088820873213997E-4,2.9088820873213997E-4,{"$f":"FI_T-Rechentabelle!AL153","v":5.9210911512080591},{"$f":"AP152","v":-1.4483181247637589E-6}]
[9.4999996945261955E-3,6.2499995692633092E-5,0.35423126001477701,74.575004577636719,7850001.5,null,7850.0015000000003,null,{"$f":"C154","v":0.35423126001477701},{"$f":"AL152","v":0.35423262212175155},{"$f":"I154-J154","v":-1.3621069745450853E-6},{"$f":"L152+KP_LR*(1+2*TA_SIM/TN_LR)*K154-KP_LR*K152","v":0.2447506487662362},"-",{"$f":"L154","v":0.2447506487662362},74.819626723031291,74.575004577636719,1.2850337166980808E-4,3.7184954148203862E-5,"-",3.7184954148203862E-5,5.3974367456428585,5.3974739305970063,5.3974739305970063,5.3974545228708353,1.940772617103903E-5,15.654016724721149,15.654016724721149,15.654016724721149,"-",5.3974670439844949,5.3974670439844949,5.3974670439844949,"-",3.7782269307891463,7850.0455657368502,75.310254570889839,{"$f":"AJ154/(2*PI())*60","v":719.15995682796733},0.36361573970262162,-2.9088820873213997E-4,2.9088820873213997E-4,{"$f":"FI_T-Rechentabelle!AL154","v":5.9163842602973791},{"$f":"K154","v":-1.3621069745450853E-6}]
[9.5624988898634911E-3,6.2499995692633092E-5,0.35890752967823386,75.065635681152344,7850001.5,null,7850.0015000000003,null,null,null,null,null,"-",{"$f":"N154+(L156-L154)/2","v":0.24474805119051063},75.310254570889839,75.065635681152344,1.2916145301744564E-4,7.019770189318781E-5,"-",7.019770189318781E-5,5.3974367456428585,5.3975069433447516,5.3975069433447516,5.3974670439844949,3.9899360256612226E-5,15.65552975564583,15.65552975564583,15.65552975564583,"-",5.3974927855072412,5.3974927855072412,5.3974927855072412,"-",3.7782449498550688,7850.0830040620576,75.800884758643718,723.84513000463551,0.36835329500003683,-2.9088820873213997E-4,2.9088820873213997E-4,{"$f":"FI_T-Rechentabelle!AL155","v":5.9116467049999635},{"$f":"AP154","v":-1.3621069745450853E-6}]
[9.6249990165233612E-3,6.2499995692633092E-5,0.36361446340505765,75.556259155273438,7850001.5,null,7850.0015000000003,null,{"$f":"C156","v":0.36361446340505765},{"$f":"AL154","v":0.36361573970262162},{"$f":"I156-J156","v":-1.2762975639679652E-6},{"$f":"L154+KP_LR*(1+2*TA_SIM/TN_LR)*K156-KP_LR*K154","v":0.24474545361478506},"-",{"$f":"L156","v":0.24474545361478506},75.800884758643718,75.556259155273438,1.1985024450211768E-4,7.785127038645106E-5,"-",7.785127038645106E-5,5.3974367456428585,5.3975145969132452,5.3975145969132452,5.3974927855072412,2.1811406003990896E-5,15.654300906390816,15.654300906390816,15.654300906390816,"-",5.3975068573820826,5.3975068573820826,5.3975068573820826,"-",3.7782548001674576,7850.1034701173021,76.291516225526053,728.5303153960806,0.37312151476413219,-2.9088820873213997E-4,2.9088820873213997E-4,{"$f":"FI_T-Rechentabelle!AL156","v":5.9068784852358682},{"$f":"K156","v":-1.2762975639679652E-6}]
[9.6874991431832314E-3,6.2499995692633092E-5,0.36835206119524838,76.046882629394531,7850001.5,null,7850.0015000000003,null,null,null,null,null,"-",{"$f":"N156+(L158-L156)/2","v":0.24474555496968131},76.291516225526053,76.046882629394531,1.1195883816128571E-4,8.6869276635517443E-5,"-",8.6869276635517443E-5,5.3974367456428585,5.3975236149194936,5.3975236149194936,5.3975068573820826,1.675753741103847E-5,15.653977510233124,15.653977510233124,15.653977510233124,"-",5.3975176686965414,5.3975176686965414,5.3975176686965414,"-",3.7782623680875789,7850.1191940319522,76.782148675153053,733.21551017204581,0.37792039905632924,-2.9088820873213997E-4,2.9088820873213997E-4,{"$f":"FI_T-Rechentabelle!AL157","v":5.9020796009436713},{"$f":"AP156","v":-1.2762975639679652E-6}]
[9.7499992698431015E-3,6.2499995692633092E-5,0.37312032304880599,76.537506103515625,7850001.5,null,7850.0015000000003,null,{"$f":"C158","v":0.37312032304880599},{"$f":"AL156","v":0.37312151476413219},{"$f":"I158-J158","v":-1.1917153261986613E-6},{"$f":"L156+KP_LR*(1+2*TA_SIM/TN_LR)*K158-KP_LR*K156","v":0.24474565632457759},"-",{"$f":"L158","v":0.24474565632457759},76.782148675153053,76.537506103515625,1.0308468715436447E-4,9.1447763984449468E-5,"-",9.1447763984449468E-5,5.3974367456428585,5.3975281934068429,5.3975281934068429,5.3975176686965414,1.0524710301496043E-5,15.65355969737529,15.65355969737529,15.65355969737529,"-",5.39752445883222,5.39752445883222,5.39752445883222,"-",3.7782671211825538,7850.1290695669095,77.272781742000987,737.90071084203703,0.38274994791520428,-2.9088820873213997E-4,2.9088820873213997E-4,{"$f":"FI_T-Rechentabelle!AL158","v":5.8972500520847957},{"$f":"K158","v":-1.1917153261986613E-6}]
[9.8124993965029716E-3,6.2499995692633092E-5,0.37791924896573054,77.028129577636719,7850001.5,null,7850.0015000000003,null,null,null,null,null,"-",{"$f":"N158+(L160-L158)/2","v":0.24474803791336536},77.272781742000987,77.028129577636719,9.5873549099678712E-5,9.811981696608235E-5,"-",9.811981696608235E-5,5.3974367456428585,5.397534865459825,5.397534865459825,5.39752445883222,1.040662760498634E-5,15.653570879196369,15.653570879196369,15.653570879196369,"-",5.3975311727855129,5.3975311727855129,5.3975311727855129,"-",3.7782718209498589,7850.1388343026356,77.763415419144906,742.58591733992546,0.38761016137890086,-2.9088820873213997E-4,2.9088820873213997E-4,{"$f":"FI_T-Rechentabelle!AL159","v":5.8923898386210993},{"$f":"AP158","v":-1.1917153261986613E-6}]
[9.8749995231628418E-3,6.2499995692633092E-5,0.38274883894602207,77.518760681152344,7850001.5,null,7850.0015000000003,null,{"$f":"C160","v":0.38274883894602207},{"$f":"AL158","v":0.38274994791520428},{"$f":"I160-J160","v":-1.1089691822063763E-6},{"$f":"L158+KP_LR*(1+2*TA_SIM/TN_LR)*K160-KP_LR*K158","v":0.24475041950215312},"-",{"$f":"L160","v":0.24475041950215312},77.763415419144906,77.518760681152344,9.5681509591827307E-5,1.2100149546438569E-4,"-",1.2100149546438569E-4,5.3974367456428585,5.3975577471383227,5.3975577471383227,5.3975311727855129,2.6574352809838331E-5,15.654755468954715,15.654755468954715,15.654755468954715,"-",5.3975483175292611,5.3975483175292611,5.3975483175292611,"-",3.7782838222704824,7850.1637695210511,78.25405065473997,747.27113871992606,0.39250103954482213,-2.9088820873213997E-4,2.9088820873213997E-4,{"$f":"FI_T-Rechentabelle!AL160","v":5.8874989604551784},{"$f":"K160","v":-1.1089691822063763E-6}]
[9.9374996498227119E-3,6.2499995692633092E-5,0.38760909298968049,78.009384155273438,7850001.5,null,7850.0015000000003,null,null,null,null,null,"-",{"$f":"N160+(L162-L160)/2","v":0.24475477163463122},78.25405065473997,78.009384155273438,8.8272168099479131E-5,1.2536134258555264E-4,"-",1.2536134258555264E-4,5.3974367456428585,5.3975621069854443,5.3975621069854443,5.3975483175292611,1.3789456183133098E-5,15.653883851322423,15.653883851322423,15.653883851322423,"-",5.3975572139526058,5.3975572139526058,5.3975572139526058,"-",3.7782900497668237,7850.1767084288867,78.744686699016782,751.9563678222687,0.3974225824635107,-2.9088820873213997E-4,2.9088820873213997E-4,{"$f":"FI_T-Rechentabelle!AL161","v":5.8825774175364893},{"$f":"AP160","v":-1.1089691822063763E-6}]
[9.9999997764825821E-3,6.2499995692633092E-5,0.39250001109670585,78.500007629394531,7850001.5,null,7850.0015000000003,null,{"$f":"C162","v":0.39250001109670585},{"$f":"AL160","v":0.39250103954482213},{"$f":"I162-J162","v":-1.0284481162803338E-6},{"$f":"L160+KP_LR*(1+2*TA_SIM/TN_LR)*K162-KP_LR*K160","v":0.24475912376710934},"-",{"$f":"L162","v":0.24475912376710934},78.744686699016782,78.500007629394531,8.0054144859786902E-5,1.2584476488159191E-4,"-",1.2584476488159191E-4,5.3974367456428585,5.3975625904077402,5.3975625904077402,5.3975572139526058,5.3764551344315237E-6,15.653303372100353,15.653303372100353,15.653303372100353,"-",5.3975606826333378,5.3975606826333378,5.3975606826333378,"-",3.778292477843336,7850.181753258541,79.235323058595441,756.64159993552198,0.40237479015467292,-2.9088820873213997E-4,2.9088820873213997E-4,{"$f":"FI_T-Rechentabelle!AL162","v":5.877625209845327},{"$f":"K162","v":-1.0284481162803338E-6}]
[1.0062498971819878E-2,6.2499995692633092E-5,0.39742159326709814,78.990631103515625,7850001.5,null,7850.0015000000003,null,null,null,null,null,"-",{"$f":"N162+(L164-L162)/2","v":0.24476505276307226},79.235323058595441,78.990631103515625,7.3097683255696211E-5,1.2755406773139145E-4,"-",1.2755406773139145E-4,5.3974367456428585,5.3975642997105897,5.3975642997105897,5.3975606826333378,3.6170772519383831E-6,15.653186642558685,15.653186642558685,15.653186642558685,"-",5.3975630162315644,5.3975630162315644,5.3975630162315644,"-",3.7782941113620949,7850.1851472306143,79.725959630297353,761.32683407440322,0.40735766263156653,-2.9088820873213997E-4,2.9088820873213997E-4,{"$f":"FI_T-Rechentabelle!AL163","v":5.8726423373684336},{"$f":"AP162","v":-1.0284481162803338E-6}]
[1.0124999098479748E-2,6.2499995692633092E-5,0.40237383950085737,79.481254577636719,7850001.5,null,7850.0015000000003,null,{"$f":"C164","v":0.40237383950085737},{"$f":"AL162","v":0.40237479015467292},{"$f":"I164-J164","v":-9.5065381555681228E-7},{"$f":"L162+KP_LR*(1+2*TA_SIM/TN_LR)*K164-KP_LR*K162","v":0.24477098175903519},"-",{"$f":"L164","v":0.24477098175903519},79.725959630297353,79.481254577636719,6.5929098397532471E-5,1.2702443852110633E-4,"-",1.2702443852110633E-4,5.3974367456428585,5.3975637700813799,5.3975637700813799,5.3975630162315644,7.53849815460228E-7,15.652987072893767,15.652987072893767,15.652987072893767,"-",5.3975635025862845,5.3975635025862845,5.3975635025862845,"-",3.7782944518103987,7850.1858545821697,80.216596246208738,766.01206863545383,0.41237119989695459,-2.9088820873213997E-4,2.9088820873213997E-4,{"$f":"FI_T-Rechentabelle!AL164","v":5.8676288001030459},{"$f":"K164","v":-9.5065381555681228E-7}]
[1.0187499225139618E-2,6.2499995692633092E-5,0.40735674979798348,79.971885681152344,7850001.5,null,7850.0015000000003,null,null,null,null,null,"-",{"$f":"N164+(L166-L164)/2","v":0.24477828585147354},80.216596246208738,79.971885681152344,6.7720795073000772E-5,1.4768389328654856E-4,"-",1.4768389328654856E-4,5.3974367456428585,5.3975844295361446,5.3975844295361446,5.3975635025862845,2.0926949860111677E-5,15.654442248015995,15.654442248015995,15.654442248015995,"-",5.3975770038442592,5.3975770038442592,5.3975770038442592,"-",3.7783039026909813,7850.2054907354686,80.70723408937971,770.69731491597031,0.41741540202754079,-2.9088820873213997E-4,2.9088820873213997E-4,{"$f":"FI_T-Rechentabelle!AL165","v":5.8625845979724591},{"$f":"AP164","v":-9.5065381555681228E-7}]
[1.0249999351799488E-2,6.2499995692633092E-5,0.41237032415847658,80.462509155273438,7850001.5,null,7850.0015000000003,null,{"$f":"C166","v":0.41237032415847658},{"$f":"AL164","v":0.41237119989695459},{"$f":"I166-J166","v":-8.7573847801225568E-7},{"$f":"L164+KP_LR*(1+2*TA_SIM/TN_LR)*K166-KP_LR*K164","v":0.24478558994391192},"-",{"$f":"L166","v":0.24478558994391192},80.70723408937971,80.462509155273438,6.0655837643253108E-5,1.4610868615906641E-4,"-",1.4610868615906641E-4,5.3974367456428585,5.3975828543290172,5.3975828543290172,5.3975770038442592,5.8504847579854413E-6,15.653394923501599,15.653394923501599,15.653394923501599,"-",5.3975807783505543,5.3975807783505543,5.3975807783505543,"-",3.7783065448453876,7850.2109803560925,81.19787227565196,775.38256447286244,0.42249026904476905,-2.9088820873213997E-4,2.9088820873213997E-4,{"$f":"FI_T-Rechentabelle!AL166","v":5.8575097309552309},{"$f":"K166","v":-8.7573847801225568E-7}]
[1.0312499478459358E-2,6.2499995692633092E-5,0.41741456258233661,80.953132629394531,7850001.5,null,7850.0015000000003,null,null,null,null,null,"-",{"$f":"N166+(L168-L166)/2","v":0.24479398790211526},81.19787227565196,80.953132629394531,5.4341644684541279E-5,1.4473291835821037E-4,"-",1.4473291835821037E-4,5.3974367456428585,5.3975814785612171,5.3975814785612171,5.3975807783505543,7.0021066278513899E-7,15.653034717559253,15.653034717559253,15.653034717559253,"-",5.3975812300993695,5.3975812300993695,5.3975812300993695,"-",3.7783068610695585,7850.2116373770168,81.688510502988024,780.06781442188526,0.42759580095120581,-2.9088820873213997E-4,2.9088820873213997E-4,{"$f":"FI_T-Rechentabelle!AL167","v":5.8524041990487943},{"$f":"AP166","v":-8.7573847801225568E-7}]
[1.0374999605119228E-2,6.2499995692633092E-5,0.42248946506956353,81.443756103515625,7850001.5,null,7850.0015000000003,null,{"$f":"C168","v":0.42248946506956353},{"$f":"AL166","v":0.42249026904476905},{"$f":"I168-J168","v":-8.0397520552111246E-7},{"$f":"L166+KP_LR*(1+2*TA_SIM/TN_LR)*K168-KP_LR*K166","v":0.24480238586031861},"-",{"$f":"L168","v":0.24480238586031861},81.688510502988024,81.443756103515625,4.7986387926357565E-5,1.4171268074303963E-4,"-",1.4171268074303963E-4,5.3974367456428585,5.3975784583236015,5.3975784583236015,5.3975812300993695,-2.7717757680179034E-6,15.652785820608674,15.652785820608674,15.652785820608674,"-",5.3975794418569389,5.3975794418569389,5.3975794418569389,"-",3.7783056092998568,7850.2090365673312,82.179148567773481,784.75306281866403,0.43273199773669163,-2.9088820873213997E-4,2.9088820873213997E-4,{"$f":"FI_T-Rechentabelle!AL168","v":5.8472680022633083},{"$f":"K168","v":-8.0397520552111246E-7}]
[1.0437499731779099E-2,6.2499995692633092E-5,0.42759503162015738,81.934379577636719,7850001.5,null,7850.0015000000003,null,null,null,null,null,"-",{"$f":"N168+(L170-L168)/2","v":0.24481166711542973},82.179148567773481,81.934379577636719,4.2676978665667775E-5,1.3982026248831025E-4,"-",1.3982026248831025E-4,5.3974367456428585,5.3975765659053465,5.3975765659053465,5.3975794418569389,-2.87595159242926E-6,15.652773127325245,15.652773127325245,15.652773127325245,"-",5.3975775864042994,5.3975775864042994,5.3975775864042994,"-",3.7783043104830094,7850.2063380074987,82.669786463898944,789.43830960485866,0.43789885939068529,-2.9088820873213997E-4,2.9088820873213997E-4,{"$f":"FI_T-Rechentabelle!AL169","v":5.8421011406093148},{"$f":"AP168","v":-8.0397520552111246E-7}]
[1.0499998927116394E-2,6.2499995692633092E-5,0.43273126223411817,82.425010681152344,7850001.5,null,7850.0015000000003,null,{"$f":"C170","v":0.43273126223411817},{"$f":"AL168","v":0.43273199773669163},{"$f":"I170-J170","v":-7.3550257345678105E-7},{"$f":"L168+KP_LR*(1+2*TA_SIM/TN_LR)*K170-KP_LR*K168","v":0.24482094837054086},"-",{"$f":"L170","v":0.24482094837054086},82.669786463898944,82.425010681152344,4.5165623944853905E-5,1.5659508647726539E-4,"-",1.5659508647726539E-4,5.3974367456428585,5.3975933407293359,5.3975933407293359,5.3975775864042994,1.575432503653218E-5,15.654110328383204,15.654110328383204,15.654110328383204,"-",5.3975877504849681,5.3975877504849681,5.3975877504849681,"-",3.7783114253394774,7850.2211205889816,83.160425283935751,794.12356521375648,0.44309638597093126,-2.9088820873213997E-4,2.9088820873213997E-4,{"$f":"FI_T-Rechentabelle!AL170","v":5.8369036140290689},{"$f":"K170","v":-7.3550257345678105E-7}]
[1.0562499053776264E-2,6.2499995692633092E-5,0.43789815691144596,82.915634155273438,7850001.5,null,7850.0015000000003,null,null,null,null,null,"-",{"$f":"N170+(L172-L170)/2","v":0.24483098195738057},83.160425283935751,82.915634155273438,3.9853295064062877E-5,1.5400751301624372E-4,"-",1.5400751301624372E-4,5.3974367456428585,5.3975907531558747,5.3975907531558747,5.3975877504849681,3.0026709065822388E-6,{"$f":"Z170+KP_SR*(1+TA_SIM/TN_SR)*Y171-KP_SR*Y170","v":15.653220862432423},15.653220862432423,15.653220862432423,"-",5.3975896876920046,5.3975896876920046,5.3975896876920046,"-",3.7783127813844031,7850.2239380519486,83.651064280063991,798.80882250420382,0.44832457748843524,-2.9088820873213997E-4,2.9088820873213997E-4,{"$f":"FI_T-Rechentabelle!AL171","v":5.831675422511565},{"$f":"AP170","v":-7.3550257345678105E-7}]
[1.0624999180436134E-2,6.2499995692633092E-5,0.44309571565214062,83.406257629394531,7850001.5,null,7850.0015000000003,null,{"$f":"C172","v":0.44309571565214062},{"$f":"AL170","v":0.44309638597093126},{"$f":"I172-J172","v":-6.7031879064094468E-7},{"$f":"L170+KP_LR*(1+2*TA_SIM/TN_LR)*K172-KP_LR*K170","v":0.24484101554422028},"-",{"$f":"L172","v":0.24484101554422028},83.651064280063991,83.406257629394531,3.4364874764492015E-5,1.4967407006186351E-4,"-",1.4967407006186351E-4,5.3974367456428585,5.39758641971292,5.39758641971292,5.3975896876920046,-3.2679790846756873E-6,15.652774588975396,15.652774588975396,15.652774588975396,"-",5.3975875793184018,5.3975875793184018,5.3975875793184018,"-",3.7783113055228812,7850.220871645296,84.141703084541817,803.49407796452454,0.45358343393121908,-2.9088820873213997E-4,2.9088820873213997E-4,{"$f":"FI_T-Rechentabelle!AL172","v":5.8264165660687812},{"$f":"K172","v":-6.7031879064094468E-7}]
[1.0687499307096004E-2,6.2499995692633092E-5,0.44832393845620216,83.896881103515625,7850001.5,null,7850.0015000000003,null,null,null,null,null,"-",{"$f":"N172+(L174-L172)/2","v":0.24485155800736655},84.141703084541817,83.896881103515625,2.9576981177115158E-5,1.4579581482611673E-4,"-",1.4579581482611673E-4,5.3974367456428585,5.3975825414576848,5.3975825414576848,5.3975875793184018,-5.0378607170387113E-6,15.652640929028504,15.652640929028504,15.652640929028504,"-",5.3975843290856806,5.3975843290856806,5.3975843290856806,"-",3.778309030359976,7850.2161445251932,84.632341593574637,808.17933060355313,0.45887295528081751,-2.9088820873213997E-4,2.9088820873213997E-4,{"$f":"FI_T-Rechentabelle!AL173","v":5.8211270447191827},{"$f":"AP172","v":-6.7031879064094468E-7}]
[1.0749999433755875E-2,6.2499995692633092E-5,0.4535828253236307,84.387504577636719,7850001.5,null,7850.0015000000003,null,{"$f":"C174","v":0.4535828253236307},{"$f":"AL172","v":0.45358343393121908},{"$f":"I174-J174","v":-6.0860758838154894E-7},{"$f":"L172+KP_LR*(1+2*TA_SIM/TN_LR)*K174-KP_LR*K172","v":0.24486210047051282},"-",{"$f":"L174","v":0.24486210047051282},84.632341593574637,84.387504577636719,2.5084532595087694E-5,1.4150659321072198E-4,"-",1.4150659321072198E-4,5.3974367456428585,5.3975782522360696,5.3975782522360696,5.3975843290856806,-6.0768496110696901E-6,15.652556629121703,15.652556629121703,15.652556629121703,"-",5.3975804085375447,5.3975804085375447,5.3975804085375447,"-",3.778306285976281,7850.2104425021416,85.122979746231024,812.86457983943751,0.46419314151495694,-2.9088820873213997E-4,2.9088820873213997E-4,{"$f":"FI_T-Rechentabelle!AL174","v":5.8158068584850433},{"$f":"K174","v":-6.0860758838154894E-7}]
[1.0812499560415745E-2,6.2499995692633092E-5,0.45887237625442617,84.878135681152344,7850001.5,null,7850.0015000000003,null,null,null,null,null,"-",{"$f":"N174+(L176-L174)/2","v":0.24487307470632708},85.122979746231024,84.878135681152344,2.9009627652953895E-5,1.5766956510894823E-4,"-",1.5766956510894823E-4,5.3974367456428585,5.3975944152079673,5.3975944152079673,5.3975804085375447,1.4006670422617162E-5,15.653992568685503,15.653992568685503,15.653992568685503,"-",5.3975894450991069,5.3975894450991069,5.3975894450991069,"-",3.7783126115693744,7850.2235852262083,85.613618720307656,817.54983691930738,0.46954399268497615,-2.9088820873213997E-4,2.9088820873213997E-4,{"$f":"FI_T-Rechentabelle!AL175","v":5.8104560073150244},{"$f":"AP174","v":-6.0860758838154894E-7}]
[1.0874999687075615E-2,6.2499995692633092E-5,0.46419259124858853,85.368759155273438,7850001.5,null,7850.0015000000003,null,{"$f":"C176","v":0.46419259124858853},{"$f":"AL174","v":0.46419314151495694},{"$f":"I176-J176","v":-5.5026636841537524E-7},{"$f":"L174+KP_LR*(1+2*TA_SIM/TN_LR)*K176-KP_LR*K174","v":0.24488404894214136},"-",{"$f":"L176","v":0.24488404894214136},85.613618720307656,85.368759155273438,2.4483907921535319E-5,1.5315685863641736E-4,"-",1.5315685863641736E-4,5.3974367456428585,5.3975899025014948,5.3975899025014948,5.3975894450991069,4.5740238796554422E-7,15.653042353269216,15.653042353269216,15.653042353269216,"-",5.3975897401974215,5.3975897401974215,5.3975897401974215,"-",3.7783128181381946,7850.2240144155294,86.104257721208626,822.23509425533098,0.47492550879255169,-2.9088820873213997E-4,2.9088820873213997E-4,{"$f":"FI_T-Rechentabelle!AL176","v":5.8050744912074483},{"$f":"K176","v":-5.5026636841537524E-7}]
[1.093749888241291E-2,6.2499995692633092E-5,0.46954347030611787,85.859382629394531,7850001.5,null,7850.0015000000003,null,null,null,null,null,"-",{"$f":"N176+(L178-L176)/2","v":0.24489527699675773},86.104257721208626,85.859382629394531,2.0185182663112755E-5,1.4812188061303863E-4,"-",1.4812188061303863E-4,5.3974367456428585,5.3975848675234719,5.3975848675234719,5.3975897401974215,-4.8726739496629534E-6,15.652659099682126,15.652659099682126,15.652659099682126,"-",5.3975865965368088,5.3975865965368088,5.3975865965368088,"-",3.7783106175757659,7850.2194422933007,86.594896436351959,826.92034886256999,0.48033768981982367,-2.9088820873213997E-4,2.9088820873213997E-4,{"$f":"FI_T-Rechentabelle!AL177","v":5.7996623101801763},{"$f":"AP176","v":-5.5026636841537524E-7}]
[1.0999999009072781E-2,6.2499995692633092E-5,0.4749250134270141,86.350006103515625,7850001.5,null,7850.0015000000003,null,{"$f":"C178","v":0.4749250134270141},{"$f":"AL176","v":0.47492550879255169},{"$f":"I178-J178","v":-4.9536553758944279E-7},{"$f":"L176+KP_LR*(1+2*TA_SIM/TN_LR)*K178-KP_LR*K176","v":0.2449065050513741},"-",{"$f":"L178","v":0.2449065050513741},86.594896436351959,86.350006103515625,1.6172215040910487E-5,1.4277039390054219E-4,"-",1.4277039390054219E-4,5.3974367456428585,5.3975795160367595,5.3975795160367595,5.3975865965368088,-7.0805000493834314E-6,15.652490877146777,15.652490877146777,15.652490877146777,"-",5.3975820284722609,5.3975820284722609,5.3975820284722609,"-",3.7783074199305822,7850.2127985260377,87.085534736259831,831.60559950460242,0.4857805357408399,-2.9088820873213997E-4,2.9088820873213997E-4,{"$f":"FI_T-Rechentabelle!AL178","v":5.79421946425916},{"$f":"K178","v":-4.9536553758944279E-7}]
[1.1062499135732651E-2,6.2499995692633092E-5,0.4803372206112772,86.84063720703125,7850001.5,null,7850.0015000000003,null,null,null,null,null,"-",{"$f":"N178+(L180-L178)/2","v":0.24491786291741516},87.085534736259831,86.84063720703125,2.0333688837581576E-5,1.5736569604309208E-4,"-",1.5736569604309208E-4,5.3974367456428585,5.3975941113389014,5.3975941113389014,5.3975820284722609,1.2082866640561463E-5,15.653858628507502,15.653858628507502,15.653858628507502,"-",5.3975898238700939,5.3975898238700939,5.3975898238700939,"-",3.7783128767090655,7850.2241361085917,87.576173744766621,836.29085691325622,0.49125404659988781,-2.9088820873213997E-4,2.9088820873213997E-4,{"$f":"FI_T-Rechentabelle!AL179","v":5.7887459534001122},{"$f":"AP178","v":-4.9536553758944279E-7}]
[1.1124999262392521E-2,6.2499995692633092E-5,0.48578009185890736,87.331260681152344,7850001.5,null,7850.0015000000003,null,{"$f":"C180","v":0.48578009185890736},{"$f":"AL178","v":0.4857805357408399},{"$f":"I180-J180","v":-4.4388193254363273E-7},{"$f":"L178+KP_LR*(1+2*TA_SIM/TN_LR)*K180-KP_LR*K178","v":0.24492922078345622},"-",{"$f":"L180","v":0.24492922078345622},87.576173744766621,87.331260681152344,1.6157169184793929E-5,1.5163174983992575E-4,"-",1.5163174983992575E-4,5.3974367456428585,5.3975883773926983,5.3975883773926983,5.3975898238700939,-1.4464773956390786E-6,15.652906249529705,15.652906249529705,15.652906249529705,"-",5.3975888906588718,5.3975888906588718,5.3975888906588718,"-",3.7783122234612101,7850.2227788514647,88.06681266844484,840.97611351185674,0.49675822239166562,-2.9088820873213997E-4,2.9088820873213997E-4,{"$f":"FI_T-Rechentabelle!AL180","v":5.7832417776083345},{"$f":"K180","v":-4.4388193254363273E-7}]
[1.1187499389052391E-2,6.2499995692633092E-5,0.49125362716990439,87.821884155273438,7850001.5,null,7850.0015000000003,null,null,null,null,null,"-",{"$f":"N180+(L182-L180)/2","v":0.24494055200842868},88.06681266844484,87.821884155273438,1.2038837027716909E-5,1.4502854855994043E-4,"-",1.4502854855994043E-4,5.3974367456428585,5.3975817741914183,5.3975817741914183,5.3975888906588718,-7.1164674535495465E-6,15.652494938127179,15.652494938127179,15.652494938127179,"-",5.3975842993895471,5.3975842993895471,5.3975842993895471,"-",3.7783090095726828,7850.2161013353052,88.557451174778294,845.66136612510843,0.50229306309008925,-2.9088820873213997E-4,2.9088820873213997E-4,{"$f":"FI_T-Rechentabelle!AL181","v":5.7777069369099108},{"$f":"AP180","v":-4.4388193254363273E-7}]
[1.1249999515712261E-2,6.2499995692633092E-5,0.49675782654426831,88.312507629394531,7850001.5,null,7850.0015000000003,null,{"$f":"C182","v":0.49675782654426831},{"$f":"AL180","v":0.49675822239166562},{"$f":"I182-J182","v":-3.9584739730536E-7},{"$f":"L180+KP_LR*(1+2*TA_SIM/TN_LR)*K182-KP_LR*K180","v":0.24495188323340114},"-",{"$f":"L182","v":0.24495188323340114},88.557451174778294,88.312507629394531,8.3378496356090182E-6,1.3848965682229184E-4,"-",1.3848965682229184E-4,5.3974367456428585,5.3975752352996809,5.3975752352996809,5.3975842993895471,-9.0640898662286418E-6,15.652341268979365,15.652341268979365,15.652341268979365,"-",5.3975784515896326,5.3975784515896326,5.3975784515896326,"-",3.7783049161127424,7850.2075963281577,89.048089149548801,850.34661366230785,0.50785856866193602,-2.9088820873213997E-4,2.9088820873213997E-4,{"$f":"FI_T-Rechentabelle!AL182","v":5.7721414313380643},{"$f":"K182","v":-3.9584739730536E-7}]
[1.1312499642372131E-2,6.2499995692633092E-5,0.50229268998199927,88.803131103515625,7850001.5,null,7850.0015000000003,null,null,null,null,null,"-",{"$f":"N182+(L184-L182)/2","v":0.24496309982262601},89.048089149548801,88.803131103515625,5.0537894509261605E-6,1.3211575133552451E-4,"-",1.3211575133552451E-4,5.3974367456428585,5.3975688613941939,5.3975688613941939,5.3975784515896326,-9.5901954386690136E-6,15.652286396816105,15.652286396816105,15.652286396816105,"-",5.3975722643667696,5.3975722643667696,5.3975722643667696,"-",3.7783005850567384,7850.1985976661917,89.538726561902934,855.03185582882634,0.51345473907205497,-2.9088820873213997E-4,2.9088820873213997E-4,{"$f":"FI_T-Rechentabelle!AL183","v":5.7665452609279448},{"$f":"AP182","v":-3.9584739730536E-7}]
[1.1374998837709427E-2,6.2499995692633092E-5,0.50785821748309701,89.29376220703125,7850001.5,null,7850.0015000000003,null,{"$f":"C184","v":0.50785821748309701},{"$f":"AL182","v":0.50785856866193602},{"$f":"I184-J184","v":-3.5117883900870339E-7},{"$f":"L182+KP_LR*(1+2*TA_SIM/TN_LR)*K184-KP_LR*K182","v":0.24497431641185088},"-",{"$f":"L184","v":0.24497431641185088},89.538726561902934,89.29376220703125,9.9615401722985553E-6,1.4591079977977338E-4,"-",1.4591079977977338E-4,5.3974367456428585,5.3975826564426379,5.3975826564426379,5.3975722643667696,1.0392075868281836E-5,15.653708466582696,15.653708466582696,15.653708466582696,"-",5.3975789689318452,5.3975789689318452,5.3975789689318452,"-",3.7783052782522915,7850.2083487477476,90.029364583699675,859.7171038150932,0.51908157435853619,-2.9088820873213997E-4,2.9088820873213997E-4,{"$f":"FI_T-Rechentabelle!AL184","v":5.7609184256414636},{"$f":"K184","v":-3.5117883900870339E-7}]
[1.1437498964369297E-2,6.2499995692633092E-5,0.51345440904756179,89.784385681152344,7850001.5,null,7850.0015000000003,null,null,null,null,null,"-",{"$f":"N184+(L186-L184)/2","v":0.24498540045880984},90.029364583699675,89.784385681152344,6.4979114853258579E-6,1.3947307456366331E-4,"-",1.3947307456366331E-4,5.3974367456428585,5.3975762187174219,5.3975762187174219,5.3975789689318452,-2.7502144233082504E-6,15.652780817030727,15.652780817030727,15.652780817030727,"-",5.3975771945999593,5.3975771945999593,5.3975771945999593,"-",3.7783040362199714,7850.2057681694805,90.520002444210263,864.40235026119069,0.52473907451129931,-2.9088820873213997E-4,2.9088820873213997E-4,{"$f":"FI_T-Rechentabelle!AL185","v":5.7552609254887006},{"$f":"AP184","v":-3.5117883900870339E-7}]
[1.1499999091029167E-2,6.2499995692633092E-5,0.51908126467539339,90.275009155273438,7850001.5,null,7850.0015000000003,null,{"$f":"C186","v":0.51908126467539339},{"$f":"AL184","v":0.51908157435853619},{"$f":"I186-J186","v":-3.0968314279622433E-7},{"$f":"L184+KP_LR*(1+2*TA_SIM/TN_LR)*K186-KP_LR*K184","v":0.24499648450576877},"-",{"$f":"L186","v":0.24499648450576877},90.520002444210263,90.275009155273438,3.1955689365759099E-6,1.326038060879167E-4,"-",1.326038060879167E-4,5.3974367456428585,5.3975693494489461,5.3975693494489461,5.3975771945999593,-7.8451510132637736E-6,15.652408507328195,15.652408507328195,15.652408507328195,"-",5.3975721332122086,5.3975721332122086,5.3975721332122086,"-",3.7783004932485458,7850.1984069157397,91.010639844642498,869.08759231386352,0.53042723950158943,-2.9088820873213997E-4,2.9088820873213997E-4,{"$f":"FI_T-Rechentabelle!AL186","v":5.7495727604984106},{"$f":"K186","v":-3.0968314279622433E-7}]
[1.1562499217689037E-2,6.2499995692633092E-5,0.52473878436659205,90.765632629394531,7850001.5,null,7850.0015000000003,null,null,null,null,null,"-",{"$f":"N186+(L188-L186)/2","v":0.24500729647560227},91.010639844642498,90.765632629394531,8.1227639725511835E-8,1.2541070068069975E-4,"-",1.2541070068069975E-4,5.3974367456428585,5.3975621563435388,5.3975621563435388,5.3975721332122086,-9.9768686698809006E-6,15.652240208102272,15.652240208102272,15.652240208102272,"-",5.3975656965227454,5.3975656965227454,5.3975656965227454,"-",3.7782959875659214,7850.1890454309605,91.501276659981926,873.77282877931168,0.53614606929283826,-2.9088820873213997E-4,2.9088820873213997E-4,{"$f":"FI_T-Rechentabelle!AL187","v":5.7438539307071617},{"$f":"AP186","v":-3.0968314279622433E-7}]
[1.1624999344348907E-2,6.2499995692633092E-5,0.53042696812115764,91.256256103515625,7850001.5,null,7850.0015000000003,null,{"$f":"C188","v":0.53042696812115764},{"$f":"AL186","v":0.53042723950158943},{"$f":"I188-J188","v":-2.7138043179331106E-7},{"$f":"L186+KP_LR*(1+2*TA_SIM/TN_LR)*K188-KP_LR*K186","v":0.24501810844543573},"-",{"$f":"L188","v":0.24501810844543573},91.501276659981926,91.256256103515625,-2.4480208651311841E-6,1.1895607560758199E-4,"-",1.1895607560758199E-4,5.3974367456428585,5.3975557017184661,5.3975557017184661,5.3975656965227454,-9.9948042793229774E-6,15.652220249181809,15.652220249181809,15.652220249181809,"-",5.3975592482619206,5.3975592482619206,5.3975592482619206,"-",3.778291473783344,7850.1796671168577,91.991912889176731,878.45805964749093,0.54189556384841175,-2.9088820873213997E-4,2.9088820873213997E-4,{"$f":"FI_T-Rechentabelle!AL188","v":5.7381044361515885},{"$f":"K188","v":-2.7138043179331106E-7}]
[1.1687499471008778E-2,6.2499995692633092E-5,0.53614581593909016,91.74688720703125,7850001.5,null,7850.0015000000003,null,null,null,null,null,"-",{"$f":"N188+(L190-L188)/2","v":0.24502866744866547},91.991912889176731,91.74688720703125,2.9853031833226851E-6,1.3226761245479376E-4,"-",1.3226761245479376E-4,5.3974367456428585,5.3975690132553131,5.3975690132553131,5.3975592482619206,9.7649933925580967E-6,15.653625529483447,15.653625529483447,15.653625529483447,"-",5.3975655482576572,5.3975655482576572,5.3975655482576572,"-",3.77829588378036,7850.1888297950545,92.482549691038926,883.14329598424104,0.54767572320410174,-2.9088820873213997E-4,2.9088820873213997E-4,{"$f":"FI_T-Rechentabelle!AL189","v":5.7323242767958984},{"$f":"AP188","v":-2.7138043179331106E-7}]
[1.1749999597668648E-2,6.2499995692633092E-5,0.54189532782038952,92.237510681152344,7850001.5,null,7850.0015000000003,null,{"$f":"C190","v":0.54189532782038952},{"$f":"AL188","v":0.54189556384841175},{"$f":"I190-J190","v":-2.3602802223798847E-7},{"$f":"L188+KP_LR*(1+2*TA_SIM/TN_LR)*K190-KP_LR*K188","v":0.24503922645189524},"-",{"$f":"L190","v":0.24503922645189524},92.482549691038926,92.237510681152344,2.1656531146163616E-7,1.2590792930215557E-4,"-",1.2590792930215557E-4,5.3974367456428585,5.3975626535721606,5.3975626535721606,5.3975655482576572,-2.8946854966349633E-6,15.652731485837586,15.652731485837586,15.652731485837586,"-",5.3975636807186271,5.3975636807186271,5.3975636807186271,"-",3.7782945765030389,7850.1861136568432,92.973186323142485,887.82853069991552,0.55348654734929814,-2.9088820873213997E-4,2.9088820873213997E-4,{"$f":"FI_T-Rechentabelle!AL190","v":5.7265134526507024},{"$f":"K190","v":-2.3602802223798847E-7}]
[1.1812498793005943E-2,6.2499995692633092E-5,0.54767550376505592,92.728134155273438,7850001.5,null,7850.0015000000003,null,null,null,null,null,"-",{"$f":"N190+(L192-L190)/2","v":0.24504944425184222},92.973186323142485,92.728134155273438,-2.7236172002176318E-6,1.1843438035235379E-4,"-",1.1843438035235379E-4,5.3974367456428585,5.3975551800232111,5.3975551800232111,5.3975636807186271,-8.5006954160249393E-6,15.652322075582143,15.652322075582143,15.652322075582143,"-",5.3975581963990047,5.3975581963990047,5.3975581963990047,"-",3.7782907374793031,7850.1781372933783,93.463822456723321,892.5137606550486,0.55932803625284333,-2.9088820873213997E-4,2.9088820873213997E-4,{"$f":"FI_T-Rechentabelle!AL191","v":5.720671963747157},{"$f":"AP190","v":-2.3602802223798847E-7}]
[1.1874998919665813E-2,6.2499995692633092E-5,0.55348634377308914,93.218757629394531,7850001.5,null,7850.0015000000003,null,{"$f":"C192","v":0.55348634377308914},{"$f":"AL190","v":0.55348654734929814},{"$f":"I192-J192","v":-2.0357620900135487E-7},{"$f":"L190+KP_LR*(1+2*TA_SIM/TN_LR)*K192-KP_LR*K190","v":0.24505966205178917},"-",{"$f":"L192","v":0.24505966205178917},93.463822456723321,93.218757629394531,-5.1652770025611972E-6,1.1152016630257924E-4,"-",1.1152016630257924E-4,5.3974367456428585,5.3975482658091609,5.3975482658091609,5.3975581963990047,-9.9305898437762608E-6,15.652203126405185,15.652203126405185,15.652203126405185,"-",5.3975517895668474,5.3975517895668474,5.3975517895668474,"-",3.7782862526967929,7850.1688192328957,93.954458007925382,897.19898504887408,0.56520018987833864,-2.9088820873213997E-4,2.9088820873213997E-4,{"$f":"FI_T-Rechentabelle!AL192","v":5.7147998101216615},{"$f":"K192","v":-2.0357620900135487E-7}]
[1.1937499046325684E-2,6.2499995692633092E-5,0.5593278478444893,93.709381103515625,7850001.5,null,7850.0015000000003,null,null,null,null,null,"-",{"$f":"N192+(L194-L192)/2","v":0.24506949864212854},93.954458007925382,93.709381103515625,-7.4057676329175592E-6,1.0452565098079274E-4,"-",1.0452565098079274E-4,5.3974367456428585,5.3975412712938393,5.3975412712938393,5.3975517895668474,-1.0518273008131018E-5,15.652142195489052,15.652142195489052,15.652142195489052,"-",5.3975450035842618,5.3975450035842618,5.3975450035842618,"-",3.7782815025089831,7850.1589497381729,94.44509294228402,901.88420355227879,0.57110300818723136,-2.9088820873213997E-4,2.9088820873213997E-4,{"$f":"FI_T-Rechentabelle!AL193","v":5.708896991812769},{"$f":"AP192","v":-2.0357620900135487E-7}]
[1.1999999172985554E-2,6.2499995692633092E-5,0.5652000159792564,94.20001220703125,7850001.5,-2943750706978.7129,7850.0015000000003,null,{"$f":"C194","v":0.5652000159792564},{"$f":"AL192","v":0.56520018987833864},{"$f":"I194-J194","v":-1.7389908224529904E-7},{"$f":"L192+KP_LR*(1+2*TA_SIM/TN_LR)*K194-KP_LR*K192","v":0.24507933523246792},"-",{"$f":"L194","v":0.24507933523246792},94.44509294228402,94.20001220703125,-1.4000203094610697E-6,1.1809382775930969E-4,"-",1.1809382775930969E-4,{"$f":"G194*(JM_EMS+JL_EMS)/KT_M*KP_VSR","v":5.3974367456428585},5.3975548394706179,{"$f":"IF(V194<-IM_R,-IM_R,IF(V194>IM_R,IM_R,V194))","v":5.3975548394706179},5.3975450035842618,9.8358863560576992E-6,15.653589328785346,{"$f":"IF(Z194<-U_ZWK,-U_ZWK,IF(Z194>U_ZWK,U_ZWK,Z194))","v":15.653589328785346},15.653589328785346,"-",5.3975513493173946,5.3975513493173946,5.3975513493173946,"-",{"$f":"AF194*KT_M","v":3.7782859445221759},{"$f":"AH194/(JM_EMS+JL_EMS)","v":7850.1681789365794},94.935728453467561,906.56942756395551,0.5770364912155731,{"$f":"-DF_LR","v":-2.9088820873213997E-4},{"$f":"DF_LR","v":2.9088820873213997E-4},{"$f":"FI_T-Rechentabelle!AL194","v":5.7029635087844275},{"$f":"K194","v":-1.7389908224529904E-7}]
[1.2062499299645424E-2,6.2499995692633092E-5,0.57110284817739054,94.690635681152344,7850001.5,-2920752654580.4419,{"$f":"E195/1000","v":7850.0015000000003},null,null,null,null,null,"-",{"$f":"N194+(L196-L194)/2","v":0.24508881272290056},94.935728453467561,94.690635681152344,-3.959592319802141E-6,{"$f":"R194+KP_DR*(1+TA_SIM/TN_DR)*Q195-KP_DR*Q194","v":1.1120046254078777E-4},"-",{"$f":"R195","v":1.1120046254078777E-4},5.3974367456428585,{"$f":"T195+U195","v":5.3975479461053997},5.3975479461053997,5.3975513493173946,{"$f":"W195-X195","v":-3.4032119948790296E-6},15.652653662194787,15.652653662194787,{"$f":"AA195","v":15.652653662194787},"-",{"$f":"(1/R_M*AB195+AD194*T_M/TA_SIM)/(1+T_M/TA_SIM)","v":5.3975491536967528},{"$f":"AD195","v":5.3975491536967528},{"$f":"AE195","v":5.3975491536967528},"-",3.7782844075877269,7850.1649856383265,{"$f":"AJ194+AI195*TA_SIM","v":95.426363765069951},911.25464966977268,{"$f":"AL194+AJ195*TA_SIM","v":0.58300063895088994},-2.9088820873213997E-4,2.9088820873213997E-4,{"$f":"FI_T-Rechentabelle!AL195","v":5.6969993610491105},{"$f":"AP194","v":-1.7389908224529904E-7}]
[1.2124999426305294E-2,6.2499995692633092E-5,0.57703634443889151,95.181259155273438,7850001.5,-2897754602182.1704,7850.0015000000003,null,{"$f":"C196","v":0.57703634443889151},{"$f":"AL194","v":0.5770364912155731},{"$f":"I196-J196","v":-1.4677668158658008E-7},{"$f":"L194+KP_LR*(1+2*TA_SIM/TN_LR)*K196-KP_LR*K194","v":0.24509829021333324},"-",{"$f":"L196","v":0.24509829021333324},{"$f":"AJ195","v":95.426363765069951},{"$f":"D196*KP_VDR","v":95.181259155273438},{"$f":"N196-O196+P196","v":-6.3195831785378687E-6},1.0419398487119283E-4,"-",1.0419398487119283E-4,5.3974367456428585,5.3975409396277296,5.3975409396277296,{"$f":"AF195","v":5.3975491536967528},-8.2140690231824465E-6,15.652300602811014,15.652300602811014,15.652300602811014,"-",5.3975438542973828,5.3975438542973828,5.3975438542973828,"-",3.7782806980081678,7850.1572782218318,95.916998594958812,915.93986717556447,0.58899545136307485,-2.9088820873213997E-4,2.9088820873213997E-4,{"$f":"FI_T-Rechentabelle!AL196","v":5.6910045486369256},{"$f":"K196","v":-1.4677668158658008E-7}]
[1.2187499552965164E-2,6.2499995692633092E-5,0.58300050476375942,95.671882629394531,7850001.5,-2874756549783.8994,7850.0015000000003,null,null,null,null,null,"-",{"$f":"N196+(L198-L196)/2","v":0.24510730482567228},95.916998594958812,95.671882629394531,-8.6607386151626997E-6,9.6660374142326319E-5,"-",9.6660374142326319E-5,5.3974367456428585,5.3975334060170006,5.3975334060170006,5.3975438542973828,-1.0448280382213682E-5,15.652124227192324,15.652124227192324,15.652124227192324,"-",5.3975371134713299,5.3975371134713299,5.3975371134713299,"-",3.7782759794299308,7850.1474744025145,96.407632812108972,920.62507883013268,0.5950209284138317,-2.9088820873213997E-4,2.9088820873213997E-4,{"$f":"FI_T-Rechentabelle!AL197","v":5.6849790715861683},{"$f":"AP196","v":-1.4677668158658008E-7}]
[1.224999874830246E-2,6.2499995692633092E-5,0.58899532915199415,96.162506103515625,7850001.5,-2851758497385.6279,7850.0015000000003,null,{"$f":"C198","v":0.58899532915199415},{"$f":"AL196","v":0.58899545136307485},{"$f":"I198-J198","v":-1.2221108069976339E-7},{"$f":"L196+KP_LR*(1+2*TA_SIM/TN_LR)*K198-KP_LR*K196","v":0.24511631943801129},"-",{"$f":"L198","v":0.24511631943801129},96.407632812108972,96.162506103515625,-1.0389155335133182E-5,9.0124509435157124E-5,"-",9.0124509435157124E-5,5.3974367456428585,5.3975268701522934,5.3975268701522934,5.3975371134713299,-1.0243319036540299E-5,15.652119449236972,15.652119449236972,15.652119449236972,"-",5.3975305048784028,5.3975305048784028,5.3975305048784028,"-",3.7782713534148815,7850.1378629023084,96.898266428540367,925.31028474825939,0.6010770700656155,-2.9088820873213997E-4,2.9088820873213997E-4,{"$f":"FI_T-Rechentabelle!AL198","v":5.6789229299343846},{"$f":"K198","v":-1.2221108069976339E-7}]
[1.231249887496233E-2,6.2499995692633092E-5,0.59502081760359604,96.65313720703125,7850001.5,-2828760444987.3569,7850.0015000000003,null,null,null,null,null,"-",{"$f":"N198+(L200-L198)/2","v":0.24512492342409634},96.898266428540367,96.65313720703125,-4.2980850167850804E-6,1.0318376999152675E-4,"-",1.0318376999152675E-4,5.3974367456428585,5.3975399294128499,5.3975399294128499,5.3975305048784028,9.4245344470778036E-6,15.653517638662077,15.653517638662077,15.653517638662077,"-",5.3975365852232073,5.3975365852232073,5.3975365852232073,"-",3.7782756096562449,7850.1467061214307,97.388900597672958,929.99549594429345,0.60716387635297009,-2.9088820873213997E-4,2.9088820873213997E-4,{"$f":"FI_T-Rechentabelle!AL199","v":5.6728361236470306},{"$f":"AP198","v":-1.2221108069976339E-7}]
[1.23749990016222E-2,6.2499995692633092E-5,0.60107697011856476,97.143760681152344,7850001.5,-2805762392589.0859,7850.0015000000003,null,{"$f":"C200","v":0.60107697011856476},{"$f":"AL198","v":0.6010770700656155},{"$f":"I200-J200","v":-9.9947050746784782E-8},{"$f":"L198+KP_LR*(1+2*TA_SIM/TN_LR)*K200-KP_LR*K198","v":0.24513352741018138},"-",{"$f":"L200","v":0.24513352741018138},97.388900597672958,97.143760681152344,-6.3891104389313114E-6,9.6783274127931087E-5,"-",9.6783274127931087E-5,5.3974367456428585,5.3975335289169868,5.3975335289169868,5.3975365852232073,-3.0563062205501978E-6,15.652635845918415,15.652635845918415,15.652635845918415,"-",5.3975346134127422,5.3975346134127422,5.3975346134127422,"-",3.7782742293889191,7850.1438383314335,97.879534587568671,934.68070542874159,0.61328134726469308,-2.9088820873213997E-4,2.9088820873213997E-4,{"$f":"FI_T-Rechentabelle!AL200","v":5.6667186527353071},{"$f":"K200","v":-9.9947050746784782E-8}]
[1.243749912828207E-2,6.2499995692633092E-5,0.6071637866969003,97.634384155273438,7850001.5,-2782764340190.8145,7850.0015000000003,null,null,null,null,null,"-",{"$f":"N200+(L202-L200)/2","v":0.24514166390364894},97.879534587568671,97.634384155273438,-8.7683915808156598E-6,8.9135118118399955E-5,"-",8.9135118118399955E-5,5.3974367456428585,5.3975258807609769,5.3975258807609769,5.3975346134127422,-8.7326517652641655E-6,15.652221064573006,15.652221064573006,15.652221064573006,"-",5.3975289794438615,5.3975289794438615,5.3975289794438615,"-",3.7782702856107027,7850.1356443189325,98.370168065338603,939.36591002274872,0.61942948276877674,-2.9088820873213997E-4,2.9088820873213997E-4,{"$f":"FI_T-Rechentabelle!AL201","v":5.6605705172312231},{"$f":"AP200","v":-9.9947050746784782E-8}]
[1.249999925494194E-2,6.2499995692633092E-5,0.61328126733860289,98.125007629394531,7850001.5,-2759766287792.5435,7850.0015000000003,null,{"$f":"C202","v":0.61328126733860289},{"$f":"AL200","v":0.61328134726469308},{"$f":"I202-J202","v":-7.9926090190696186E-8},{"$f":"L200+KP_LR*(1+2*TA_SIM/TN_LR)*K202-KP_LR*K200","v":0.24514980039711654},"-",{"$f":"L202","v":0.24514980039711654},98.370168065338603,98.125007629394531,-1.0635546956905273E-5,8.2217862047246807E-5,"-",8.2217862047246807E-5,5.3974367456428585,5.3975189635049059,5.3975189635049059,5.3975289794438615,-1.0015938955554304E-5,15.652112246592829,15.652112246592829,15.652112246592829,"-",5.3975225175477615,5.3975225175477615,5.3975225175477615,"-",3.7782657622834326,7850.1262461737633,98.860800955724457,944.05110900765112,0.62560828282850955,-2.9088820873213997E-4,2.9088820873213997E-4,{"$f":"FI_T-Rechentabelle!AL202","v":5.6543917171714906},{"$f":"K202","v":-7.9926090190696186E-8}]
[1.256249938160181E-2,6.2499995692633092E-5,0.6194294120436723,98.615631103515625,7850001.5,-2736768235394.272,7850.0015000000003,null,null,null,null,null,"-",{"$f":"N202+(L204-L202)/2","v":0.2451574593505772},98.860800955724457,98.615631103515625,-1.2392858252496808E-5,7.5126588610944611E-5,"-",7.5126588610944611E-5,5.3974367456428585,5.397511872231469,5.397511872231469,5.3975225175477615,-1.064531629246801E-5,15.652048151320891,15.652048151320891,15.652048151320891,"-",5.3975156496017664,5.3975156496017664,5.3975156496017664,"-",3.7782609547212362,7850.1162574719219,99.35143322181645,948.73630203098617,0.63181774740487306,-2.9088820873213997E-4,2.9088820873213997E-4,{"$f":"FI_T-Rechentabelle!AL203","v":5.6481822525951273},{"$f":"AP202","v":-7.9926090190696186E-8}]
[1.2624999508261681E-2,6.2499995692633092E-5,0.62560822081210876,99.10626220703125,7850001.5,-2713770182996.001,7850.0015000000003,null,{"$f":"C204","v":0.62560822081210876},{"$f":"AL202","v":0.62560828282850955},{"$f":"I204-J204","v":-6.2016400792508364E-8},{"$f":"L202+KP_LR*(1+2*TA_SIM/TN_LR)*K204-KP_LR*K202","v":0.24516511830403789},"-",{"$f":"L204","v":0.24516511830403789},99.35143322181645,99.10626220703125,-5.8964811557871144E-6,8.8734874641993754E-5,"-",8.8734874641993754E-5,5.3974367456428585,5.3975254805175004,5.3975254805175004,5.3975156496017664,9.8309157339215858E-6,15.653503844030631,15.653503844030631,15.653503844030631,"-",5.3975219921280457,5.3975219921280457,5.3975219921280457,"-",3.7782653944896318,7850.1254820062986,99.842066064441838,953.42150055980983,0.63805787653390067,-2.9088820873213997E-4,2.9088820873213997E-4,{"$f":"FI_T-Rechentabelle!AL204","v":5.6419421234660998},{"$f":"K204","v":-6.2016400792508364E-8}]
[1.2687498703598976E-2,6.2499995692633092E-5,0.63181769364391216,99.596885681152344,7850001.5,-2690772130597.73,7850.0015000000003,null,null,null,null,null,"-",{"$f":"N204+(L206-L204)/2","v":0.24517235039364749},99.842066064441838,99.596885681152344,-8.0328958489417346E-6,8.1828513077784499E-5,"-",8.1828513077784499E-5,5.3974367456428585,5.3975185741559359,5.3975185741559359,5.3975219921280457,-3.4179721097871152E-6,15.652567462665138,15.652567462665138,15.652567462665138,"-",5.3975197869847493,5.3975197869847493,5.3975197869847493,"-",3.7782638508893243,7850.1222748583505,100.33269870662049,958.10669717450787,0.6443286702030645,-2.9088820873213997E-4,2.9088820873213997E-4,{"$f":"FI_T-Rechentabelle!AL205","v":5.6356713297969359},{"$f":"AP204","v":-6.2016400792508364E-8}]
[1.2749998830258846E-2,6.2499995692633092E-5,0.63805783053908238,100.08750915527344,7850001.5,-2667774078199.4585,7850.0015000000003,null,{"$f":"C206","v":0.63805783053908238},{"$f":"AL204","v":0.63805787653390067},{"$f":"I206-J206","v":-4.5994818287375949E-8},{"$f":"L204+KP_LR*(1+2*TA_SIM/TN_LR)*K206-KP_LR*K204","v":0.24517958248325708},"-",{"$f":"L206","v":0.24517958248325708},100.33269870662049,100.08750915527344,-9.9688637931194535E-6,7.4914417477593573E-5,"-",7.4914417477593573E-5,5.3974367456428585,5.3975116600603359,5.3975116600603359,5.3975197869847493,-8.1269244134318797E-6,15.652221719380341,15.652221719380341,15.652221719380341,"-",5.3975145438077083,5.3975145438077083,5.3975145438077083,"-",3.7782601806653955,7850.114649211293,100.82333087219619,962.79188923798324,0.65063012838257672,-2.9088820873213997E-4,2.9088820873213997E-4,{"$f":"FI_T-Rechentabelle!AL206","v":5.6293698716174232},{"$f":"K206","v":-4.5994818287375949E-8}]
[1.2812498956918716E-2,6.2499995692633092E-5,0.64432863149761965,100.57813262939453,7850001.5,-2644776025801.1875,7850.0015000000003,null,null,null,null,null,"-",{"$f":"N206+(L208-L206)/2","v":0.24518631090243304},100.82333087219619,100.57813262939453,-1.1931899223327491E-5,6.7459059176747072E-5,"-",6.7459059176747072E-5,5.3974367456428585,5.3975042047020354,5.3975042047020354,5.3975145438077083,-1.0339105672940718E-5,15.652047094394865,15.652047094394865,15.652047094394865,"-",5.3975078734169513,5.3975078734169513,5.3975078734169513,"-",3.7782555113918654,7850.1049478326722,101.31396243143574,967.47707551137478,0.65696225103454142,-2.9088820873213997E-4,2.9088820873213997E-4,{"$f":"FI_T-Rechentabelle!AL207","v":5.6230377489654586},{"$f":"AP206","v":-4.5994818287375949E-8}]
[1.2874999083578587E-2,6.2499995692633092E-5,0.65063009651952375,101.06875610351563,7850001.5,-2621777973402.916,7850.0015000000003,null,{"$f":"C208","v":0.65063009651952375},{"$f":"AL206","v":0.65063012838257672},{"$f":"I208-J208","v":-3.1863052973868378E-8},{"$f":"L206+KP_LR*(1+2*TA_SIM/TN_LR)*K208-KP_LR*K206","v":0.24519303932160899},"-",{"$f":"L208","v":0.24519303932160899},101.31396243143574,101.06875610351563,-1.3288598509575422E-5,6.1077240320992393E-5,"-",6.1077240320992393E-5,5.3974367456428585,5.3974978228831798,5.3974978228831798,5.3975078734169513,-1.005053377145515E-5,15.65204854605612,15.65204854605612,15.65204854605612,"-",5.397501389201615,5.397501389201615,5.397501389201615,"-",3.7782509724411302,7850.0955172265321,101.80459340126239,972.16225615628764,0.66332503812212029,-2.9088820873213997E-4,2.9088820873213997E-4,{"$f":"FI_T-Rechentabelle!AL208","v":5.6166749618778802},{"$f":"K208","v":-3.1863052973868378E-8}]
[1.2937499210238457E-2,6.2499995692633092E-5,0.65696222560479489,101.55938720703125,7850001.5,-2598779921004.645,7850.0015000000003,null,null,null,null,null,"-",{"$f":"N208+(L210-L208)/2","v":0.24519934138213373},101.80459340126239,101.55938720703125,-6.8528490118069385E-6,7.4311955565561466E-5,"-",7.4311955565561466E-5,5.3974367456428585,5.3975110575984244,5.3975110575984244,5.397501389201615,9.6683968093813633E-6,15.653450777022533,15.653450777022533,15.653450777022533,"-",5.3975076268769753,5.3975076268769753,5.3975076268769753,"-",3.7782553388138824,7850.1045892663251,102.29522493809154,976.84744221567541,0.66971848968075098,-2.9088820873213997E-4,2.9088820873213997E-4,{"$f":"FI_T-Rechentabelle!AL209","v":5.6102815103192496},{"$f":"AP208","v":-3.1863052973868378E-8}]
[1.2999999336898327E-2,6.2499995692633092E-5,0.66332501875343286,102.05001068115234,7850001.5,-2575781868606.374,7850.0015000000003,null,{"$f":"C210","v":0.66332501875343286},{"$f":"AL208","v":0.66332503812212029},{"$f":"I210-J210","v":-1.9368687431686737E-8},{"$f":"L208+KP_LR*(1+2*TA_SIM/TN_LR)*K210-KP_LR*K208","v":0.24520564344265849},"-",{"$f":"L210","v":0.24520564344265849},102.29522493809154,102.05001068115234,-8.6134965329165425E-6,6.8134335899838863E-5,"-",6.8134335899838863E-5,5.3974367456428585,5.3975048799787579,5.3975048799787579,5.3975076268769753,-2.7468982173317613E-6,15.65257416405238,15.65257416405238,15.65257416405238,"-",5.3975058546845762,5.3975058546845762,5.3975058546845762,"-",3.778254098279203,7850.102011799715,102.78585631382902,981.53262673675135,0.67614260570036533,-2.9088820873213997E-4,2.9088820873213997E-4,{"$f":"FI_T-Rechentabelle!AL210","v":5.6038573942996353},{"$f":"K210","v":-1.9368687431686737E-8}]
[1.3062499463558197E-2,6.2499995692633092E-5,0.66971847596543788,102.54063415527344,7850001.5,-2552783816208.1025,7850.0015000000003,null,null,null,null,null,"-",{"$f":"N210+(L212-L210)/2","v":0.2452114850871302},102.78585631382902,102.54063415527344,-1.0673468452182533E-5,6.0761265934268248E-5,"-",6.0761265934268248E-5,5.3974367456428585,5.3974975069087927,5.3974975069087927,5.3975058546845762,-8.3477757835126454E-6,15.652165400162719,15.652165400162719,15.652165400162719,"-",5.3975004690227815,5.3975004690227815,5.3975004690227815,"-",3.7782503283159468,7850.0941789236367,103.27648720001174,986.21780658292346,0.68259738615036603,-2.9088820873213997E-4,2.9088820873213997E-4,{"$f":"FI_T-Rechentabelle!AL211","v":5.597402613849634},{"$f":"AP210","v":-1.9368687431686737E-8}]
[1.3124998658895493E-2,6.2499995692633092E-5,0.67614259724080972,103.03125762939453,7850001.5,-2529785763809.8315,7850.0015000000003,null,{"$f":"C212","v":0.67614259724080972},{"$f":"AL210","v":0.67614260570036533},{"$f":"I212-J212","v":-8.4595556115729664E-9},{"$f":"L210+KP_LR*(1+2*TA_SIM/TN_LR)*K212-KP_LR*K210","v":0.2452173267316019},"-",{"$f":"L212","v":0.2452173267316019},103.27648720001174,103.03125762939453,-1.224388560672196E-5,5.4139163384044932E-5,"-",5.4139163384044932E-5,5.3974367456428585,5.3974908848062428,5.3974908848062428,5.3975004690227815,-9.5842165386272882E-6,15.652060678238771,15.652060678238771,15.652060678238771,"-",5.397494285657273,5.397494285657273,5.397494285657273,"-",3.7782459999600908,7850.0851858717861,103.76711752412874,990.90298106176351,0.68908283099562406,-2.9088820873213997E-4,2.9088820873213997E-4,{"$f":"FI_T-Rechentabelle!AL212","v":5.590917169004376},{"$f":"K212","v":-8.4595556115729664E-9}]
[1.3187498785555363E-2,6.2499995692633092E-5,0.68259738257954838,103.52188873291016,7850001.5,-2506787711411.5601,7850.0015000000003,null,null,null,null,null,"-",{"$f":"N212+(L214-L212)/2","v":0.24522271817688998},103.76711752412874,103.52188873291016,-6.0730416890919514E-6,6.6950460623429212E-5,"-",6.6950460623429212E-5,5.3974367456428585,5.3975036961034819,5.3975036961034819,5.397494285657273,9.4104462089461549E-6,15.653411587658734,15.653411587658734,15.653411587658734,"-",5.3975003569128912,5.3975003569128912,5.3975003569128912,"-",3.7782502498390236,7850.0940158716458,104.25774840012072,995.58816081062139,0.69559894027063163,-2.9088820873213997E-4,2.9088820873213997E-4,{"$f":"FI_T-Rechentabelle!AL213","v":5.5844010597293687},{"$f":"AP212","v":-8.4595556115729664E-9}]
[1.3249998912215233E-2,6.2499995692633092E-5,0.68908283198165421,104.01251220703125,7850001.5,-2483789659013.2891,7850.0015000000003,null,{"$f":"C214","v":0.68908283198165421},{"$f":"AL212","v":0.68908283099562406},{"$f":"I214-J214","v":9.8603014642151265E-10},{"$f":"L212+KP_LR*(1+2*TA_SIM/TN_LR)*K214-KP_LR*K212","v":0.24522810962217806},"-",{"$f":"L214","v":0.24522810962217806},104.25774840012072,104.01251220703125,-8.0834672928631335E-6,6.0323564633580951E-5,"-",6.0323564633580951E-5,5.3974367456428585,5.3974970692074917,5.3974970692074917,5.3975003569128912,-3.2877053994795347E-6,15.652514108148635,15.652514108148635,15.652514108148635,"-",5.3974982358126331,5.3974982358126331,5.3974982358126331,"-",3.778248765068843,7850.0909309554181,104.74837908330544,1000.2733387183055,0.70214571396333825,-2.9088820873213997E-4,2.9088820873213997E-4,{"$f":"FI_T-Rechentabelle!AL214","v":5.5778542860366622},{"$f":"K214","v":9.8603014642151265E-10}]
[1.3312499038875103E-2,6.2499995692633092E-5,0.69559894544712686,104.50313568115234,7850001.5,-2460791606615.0181,7850.0015000000003,null,null,null,null,null,"-",{"$f":"N214+(L216-L214)/2","v":0.24523301917173523},104.74837908330544,104.50313568115234,-1.0382981358247889E-5,5.2466526468693316E-5,"-",5.2466526468693316E-5,5.3974367456428585,5.3974892121693268,5.3974892121693268,5.3974982358126331,-9.0236433063495269E-6,15.652094599368082,15.652094599368082,15.652094599368082,"-",5.3974924141072744,5.3974924141072744,5.3974924141072744,"-",3.7782446898750917,7850.0824639000439,105.23900923729919,1004.9585115725879,0.70872315204066949,-2.9088820873213997E-4,2.9088820873213997E-4,{"$f":"FI_T-Rechentabelle!AL215","v":5.5712768479593304},{"$f":"AP214","v":9.8603014642151265E-10}]
[1.3374999165534973E-2,6.2499995692633092E-5,0.70214572297596645,104.99375915527344,7850001.5,-2437793554216.7466,7850.0015000000003,null,{"$f":"C216","v":0.70214572297596645},{"$f":"AL214","v":0.70214571396333825},{"$f":"I216-J216","v":9.0126281993008206E-9},{"$f":"L214+KP_LR*(1+2*TA_SIM/TN_LR)*K216-KP_LR*K214","v":0.24523792872129244},"-",{"$f":"L216","v":0.24523792872129244},105.23900923729919,104.99375915527344,-1.2153304453477176E-5,4.5403518766061452E-5,"-",4.5403518766061452E-5,5.3974367456428585,5.3974821491616245,5.3974821491616245,5.3974924141072744,-1.0264945649929302E-5,15.65198826256978,15.65198826256978,15.65198826256978,"-",5.3974857915616941,5.3974857915616941,5.3974857915616941,"-",3.7782400540931858,7850.0728321071792,105.72963878930588,1009.6436786783177,0.71533125446500112,-2.9088820873213997E-4,2.9088820873213997E-4,{"$f":"FI_T-Rechentabelle!AL216","v":5.5646687455349992},{"$f":"K216","v":9.0126281993008206E-9}]
[1.3437499292194843E-2,6.2499995692633092E-5,0.70872316456817297,105.48438262939453,7850001.5,-2414795501818.4756,7850.0015000000003,null,null,null,null,null,"-",{"$f":"N216+(L218-L216)/2","v":0.2452423834679591},105.72963878930588,105.48438262939453,-1.3776443395840943E-5,3.8285684661033688E-5,"-",3.8285684661033688E-5,5.3974367456428585,5.3974750313275193,5.3974750313275193,5.3974857915616941,-1.0760234174789218E-5,15.651933364459708,15.651933364459708,15.651933364459708,"-",5.3974788494751298,5.3974788494751298,5.3974788494751298,"-",3.7782351946325905,7850.0627355757115,106.22026771027936,{"$f":"AJ217/(2*PI())*60","v":1014.3288397581239},0.72197002119689357,-2.9088820873213997E-4,2.9088820873213997E-4,{"$f":"FI_T-Rechentabelle!AL217","v":5.5580299788031065},{"$f":"AP216","v":9.0126281993008206E-9}]
[1.3499999418854713E-2,6.2499995692633092E-5,0.71533127022374632,105.97501373291016,7850001.5,-2391797449420.2041,7850.0015000000003,null,{"$f":"C218","v":0.71533127022374632},{"$f":"AL216","v":0.71533125446500112},{"$f":"I218-J218","v":1.5758745197658186E-8},{"$f":"L216+KP_LR*(1+2*TA_SIM/TN_LR)*K218-KP_LR*K216","v":0.24524683821462576},"-",{"$f":"L218","v":0.24524683821462576},106.22026771027936,105.97501373291016,-7.1391545759524888E-6,5.1917371847780911E-5,"-",5.1917371847780911E-5,5.3974367456428585,5.3974886630147063,5.3974886630147063,5.3974788494751298,9.8135395765197586E-6,15.653395871459008,15.653395871459008,15.653395871459008,"-",5.3974851807909854,5.3974851807909854,5.3974851807909854,"-",3.7782396265536895,7850.0719438057122,106.71089720676721,1019.0140063336878,0.72863945227231652,-2.9088820873213997E-4,2.9088820873213997E-4,{"$f":"FI_T-Rechentabelle!AL218","v":5.5513605477276835},{"$f":"K218","v":1.5758745197658186E-8}]
[1.3562498614192009E-2,6.2499995692633092E-5,0.72197003994268683,106.46563720703125,7850001.5,-2368799397021.9331,7850.0015000000003,null,null,null,null,null,"-",{"$f":"N218+(L220-L218)/2","v":0.2452509252876747},106.71089720676721,106.46563720703125,-9.0744482861282449E-6,4.5222889711069516E-5,"-",4.5222889711069516E-5,5.3974367456428585,5.3974819685325697,5.3974819685325697,5.3974851807909854,-3.2122584157079359E-6,15.652475534445484,15.652475534445484,15.652475534445484,"-",5.3974831083662016,5.3974831083662016,5.3974831083662016,"-",3.778238175856341,7850.0689296828186,107.20152651487238,1023.6991711103293,0.73533954767949605,-2.9088820873213997E-4,2.9088820873213997E-4,{"$f":"FI_T-Rechentabelle!AL219","v":5.5446604523205041},{"$f":"AP218","v":1.5758745197658186E-8}]
[1.3624998740851879E-2,6.2499995692633092E-5,0.72863947372499416,106.95626068115234,7850001.5,-2345801344623.6621,7850.0015000000003,null,{"$f":"C220","v":0.72863947372499416},{"$f":"AL218","v":0.72863945227231652},{"$f":"I220-J220","v":2.1452677634314909E-8},{"$f":"L218+KP_LR*(1+2*TA_SIM/TN_LR)*K220-KP_LR*K218","v":0.24525501236072364},"-",{"$f":"L220","v":0.24525501236072364},107.20152651487238,106.95626068115234,-1.082135931085304E-5,3.8538823489829322E-5,"-",3.8538823489829322E-5,5.3974367456428585,5.3974752844663483,5.3974752844663483,5.3974831083662016,-7.8238998533208814E-6,15.652137188704849,15.652137188704849,15.652137188704849,"-",5.3974780606888766,5.3974780606888766,5.3974780606888766,"-",3.7782346424822135,7850.0615883694436,107.69215536414548,1028.3843315054473,0.7420703073897551,-2.9088820873213997E-4,2.9088820873213997E-4,{"$f":"FI_T-Rechentabelle!AL220","v":5.5379296926102448},{"$f":"K220","v":2.1452677634314909E-8}]
[1.3687498867511749E-2,6.2499995692633092E-5,0.73533957157066832,107.44688415527344,7850001.5,-2322803292225.3906,7850.0015000000003,null,null,null,null,null,"-",{"$f":"N220+(L222-L220)/2","v":0.24525868682370883},107.69215536414548,107.44688415527344,-1.2522048336904845E-5,3.1547193341032313E-5,"-",3.1547193341032313E-5,5.3974367456428585,5.3974682928361997,5.3974682928361997,5.3974780606888766,-9.7678526769229279E-6,15.651982460420996,15.651982460420996,15.651982460420996,"-",5.3974717588484395,5.3974717588484395,5.3974717588484395,"-",3.7782302311939073,7850.0524230083256,108.18278364058349,1033.0694864303937,0.74883173136729153,-2.9088820873213997E-4,2.9088820873213997E-4,{"$f":"FI_T-Rechentabelle!AL221","v":5.5311682686327091},{"$f":"AP220","v":2.1452677634314909E-8}]
[1.3749998994171619E-2,6.2499995692633092E-5,0.74207033347970952,107.93750762939453,7850001.5,-2299805239827.1196,7850.0015000000003,null,{"$f":"C222","v":0.74207033347970952},{"$f":"AL220","v":0.7420703073897551},{"$f":"I222-J222","v":2.608995441910622E-8},{"$f":"L220+KP_LR*(1+2*TA_SIM/TN_LR)*K222-KP_LR*K220","v":0.24526236128669399},"-",{"$f":"L222","v":0.24526236128669399},108.18278364058349,107.93750762939453,-1.3649902271595238E-5,2.5607304004250126E-5,"-",2.5607304004250126E-5,5.3974367456428585,5.3974623529468628,5.3974623529468628,5.3974717588484395,-9.4059015767200549E-6,15.651990268914627,15.651990268914627,15.651990268914627,"-",5.3974656905248413,5.3974656905248413,5.3974656905248413,"-",3.7782259833673888,7850.0435972727792,108.67341136541305,1037.7546360878666,0.75562381957762981,-2.9088820873213997E-4,2.9088820873213997E-4,{"$f":"FI_T-Rechentabelle!AL222","v":5.5243761804223706},{"$f":"K222","v":2.608995441910622E-8}]
[1.381249912083149E-2,6.2499995692633092E-5,0.74883175945211755,108.42813873291016,7850001.5,-2276807187428.8481,7850.0015000000003,null,null,null,null,null,"-",{"$f":"N222+(L224-L222)/2","v":0.24526572616203257},108.67341136541305,108.42813873291016,-6.906340857426585E-6,3.9541879986468263E-5,"-",3.9541879986468263E-5,5.3974367456428585,5.3974762875228448,5.3974762875228448,5.3974656905248413,1.0596998003542524E-5,15.653414170055623,15.653414170055623,15.653414170055623,"-",5.3974725272977473,5.3974725272977473,5.3974725272977473,"-",3.7782307691084229,7850.0535406366562,109.16403971170284,1042.4397916798482,0.76244657205961119,-2.9088820873213997E-4,2.9088820873213997E-4,{"$f":"FI_T-Rechentabelle!AL223","v":5.5175534279403893},{"$f":"AP222","v":2.608995441910622E-8}]
[1.387499924749136E-2,6.2499995692633092E-5,0.75562384948789263,108.91876220703125,7850001.5,-2253809135030.5771,7850.0015000000003,null,{"$f":"C224","v":0.75562384948789263},{"$f":"AL222","v":0.75562381957762981},{"$f":"I224-J224","v":2.9910262822063771E-8},{"$f":"L222+KP_LR*(1+2*TA_SIM/TN_LR)*K224-KP_LR*K222","v":0.24526909103737113},"-",{"$f":"L224","v":0.24526909103737113},109.16403971170284,108.91876220703125,-8.4136342195506586E-6,3.3999761133540849E-5,"-",3.3999761133540849E-5,5.3974367456428585,5.3974707454039921,5.3974707454039921,5.3974725272977473,-1.7818937552149805E-6,15.65254191785224,15.65254191785224,15.65254191785224,"-",5.3974713776888725,5.3974713776888725,5.3974713776888725,"-",3.7782299643822106,7850.0518686520054,109.65466795349359,1047.124946273937,0.76929998880670458,-2.9088820873213997E-4,2.9088820873213997E-4,{"$f":"FI_T-Rechentabelle!AL224","v":5.510700011193296},{"$f":"K224","v":2.9910262822063771E-8}]
[1.393749937415123E-2,6.2499995692633092E-5,0.76244660358703453,109.40938568115234,7850001.5,-2230811082632.3062,7850.0015000000003,null,null,null,null,null,"-",{"$f":"N224+(L226-L224)/2","v":0.2452721312788877},109.65466795349359,109.40938568115234,-1.0141062361412878E-5,2.7526669243905116E-5,"-",2.7526669243905116E-5,5.3974367456428585,5.397464272312102,5.397464272312102,5.3974713776888725,-7.1053767705109294E-6,15.652154949758886,15.652154949758886,15.652154949758886,"-",5.3974667935748268,5.3974667935748268,5.3974667935748268,"-",3.7782267555023785,7850.0452015424435,110.14529577858998,1051.8100968888882,0.77618406979286647,-2.9088820873213997E-4,2.9088820873213997E-4,{"$f":"FI_T-Rechentabelle!AL225","v":5.5038159302071339},{"$f":"AP224","v":2.9910262822063771E-8}]
[1.3999998569488525E-2,6.2499995692633092E-5,0.76930002174954348,109.90000915527344,7850001.5,-2207813030234.0347,7850.0015000000003,null,{"$f":"C226","v":0.76930002174954348},{"$f":"AL224","v":0.76929998880670458},{"$f":"I226-J226","v":3.2942838901206528E-8},{"$f":"L224+KP_LR*(1+2*TA_SIM/TN_LR)*K226-KP_LR*K224","v":0.24527517152040423},"-",{"$f":"L226","v":0.24527517152040423},110.14529577858998,109.90000915527344,-1.1451796140704573E-5,2.1699106782417225E-5,"-",2.1699106782417225E-5,5.3974367456428585,5.397458444749641,5.397458444749641,5.3974667935748268,-8.3488251858554463E-6,15.652052047319772,15.652052047319772,15.652052047319772,"-",5.3974614072359968,5.3974614072359968,5.3974614072359968,"-",3.7782229850651974,7850.0373676816889,110.63592311407008,1056.495242828348,0.78309881498749589,-2.9088820873213997E-4,2.9088820873213997E-4,{"$f":"FI_T-Rechentabelle!AL226","v":5.4969011850125042},{"$f":"K226","v":3.2942838901206528E-8}]
[1.4062498696148396E-2,6.2499995692633092E-5,0.77618410397541926,110.39063262939453,7850001.5,-2184814977835.7637,7850.0015000000003,null,null,null,null,null,"-",{"$f":"N226+(L228-L226)/2","v":0.24527790980912392},110.63592311407008,110.39063262939453,-1.2574866431691589E-5,1.6032382333281234E-5,"-",1.6032382333281234E-5,5.3974367456428585,5.3974527780251922,5.3974527780251922,5.3974614072359968,-8.6292108045782356E-6,15.652016221083224,15.652016221083224,15.652016221083224,"-",5.3974558400032198,5.3974558400032198,5.3974558400032198,"-",3.7782190880022535,7850.0292707298004,111.12654994349069,1061.1803839352956,0.79004422435896404,-2.9088820873213997E-4,2.9088820873213997E-4,{"$f":"FI_T-Rechentabelle!AL227","v":5.489955775641036},{"$f":"AP226","v":3.2942838901206528E-8}]
[1.4124998822808266E-2,6.2499995692633092E-5,0.78309885026466208,110.88126373291016,7850001.5,-2161816925437.4924,7850.0015000000003,null,{"$f":"C228","v":0.78309885026466208},{"$f":"AL226","v":0.78309881498749589},{"$f":"I228-J228","v":3.5277166188230069E-8},{"$f":"L226+KP_LR*(1+2*TA_SIM/TN_LR)*K228-KP_LR*K226","v":0.24528064809784361},"-",{"$f":"L228","v":0.24528064809784361},111.12654994349069,110.88126373291016,-5.5624826842404218E-6,3.0917181655409806E-5,"-",3.0917181655409806E-5,5.3974367456428585,5.3974676628245142,5.3974676628245142,5.3974558400032198,1.182282129441603E-5,15.65347394190524,15.65347394190524,15.65347394190524,"-",5.3974634676298612,5.3974634676298612,5.3974634676298612,"-",3.7782244273409025,7850.0403643068812,111.61717746625986,1065.8655316632344,0.79702029795060525,-2.9088820873213997E-4,2.9088820873213997E-4,{"$f":"FI_T-Rechentabelle!AL228","v":5.4829797020493949},{"$f":"K228","v":3.5277166188230069E-8}]
[1.4187498949468136E-2,6.2499995692633092E-5,0.79004426061727173,111.37188720703125,7850001.5,-2138818873039.2212,7850.0015000000003,null,null,null,null,null,"-",{"$f":"N228+(L230-L228)/2","v":0.24528315919249202},111.61717746625986,111.37188720703125,-7.1000361145934221E-6,2.5625225123628106E-5,"-",2.5625225123628106E-5,5.3974367456428585,5.3974623708679825,5.3974623708679825,5.3974634676298612,-1.0967618786494882E-6,15.652565018512544,15.652565018512544,15.652565018512544,"-",5.3974627600415532,5.3974627600415532,5.3974627600415532,"-",3.7782239320290869,7850.0393351944458,112.10780492470951,1070.5506787769668,0.80402703575839962,-2.9088820873213997E-4,2.9088820873213997E-4,{"$f":"FI_T-Rechentabelle!AL229","v":5.4759729642416008},{"$f":"AP228","v":3.5277166188230069E-8}]
[1.4249999076128006E-2,6.2499995692633092E-5,0.79702033503324832,111.86251068115234,7850001.5,-2115820820640.95,7850.0015000000003,null,{"$f":"C230","v":0.79702033503324832},{"$f":"AL228","v":0.79702029795060525},{"$f":"I230-J230","v":3.7082643067343213E-8},{"$f":"L228+KP_LR*(1+2*TA_SIM/TN_LR)*K230-KP_LR*K228","v":0.24528567028714043},"-",{"$f":"L230","v":0.24528567028714043},112.10780492470951,111.86251068115234,-8.573270022793622E-6,2.0123070956502603E-5,"-",2.0123070956502603E-5,5.3974367456428585,5.3974568687138147,5.3974568687138147,5.3974627600415532,-5.8913277385386209E-6,15.652217448437707,15.652217448437707,15.652217448437707,"-",5.3974589591849478,5.3974589591849478,5.3974589591849478,"-",3.7782212714294632,7850.033807250079,112.59843203766265,1075.2358225914506,0.81106443776075354,-2.9088820873213997E-4,2.9088820873213997E-4,{"$f":"FI_T-Rechentabelle!AL230","v":5.4689355622392464},{"$f":"K230","v":3.7082643067343213E-8}]
[1.4312499202787876E-2,6.2499995692633092E-5,0.80402707351259184,112.35313415527344,7850001.5,-2092822768242.679,7850.0015000000003,null,null,null,null,null,"-",{"$f":"N230+(L232-L230)/2","v":0.24528789369712142},112.59843203766265,112.35313415527344,-9.9886920850167371E-6,1.4409741282815496E-5,"-",1.4409741282815496E-5,5.3974367456428585,5.3974511553841413,5.3974511553841413,5.3974589591849478,-7.8038008064496012E-6,15.652068604507303,15.652068604507303,15.652068604507303,"-",5.3974539244747497,5.3974539244747497,5.3974539244747497,"-",3.7782177471323246,7850.0264847960198,113.0890586929624,1079.9209620356667,0.81813250392906367,-2.9088820873213997E-4,2.9088820873213997E-4,{"$f":"FI_T-Rechentabelle!AL231","v":5.461867496070937},{"$f":"AP230","v":3.7082643067343213E-8}]
[1.4374999329447746E-2,6.2499995692633092E-5,0.8110644760553023,112.84375762939453,7850001.5,-2069824715844.4077,7850.0015000000003,null,{"$f":"C232","v":0.8110644760553023},{"$f":"AL230","v":0.81106443776075354},{"$f":"I232-J232","v":3.8294548754258528E-8},{"$f":"L230+KP_LR*(1+2*TA_SIM/TN_LR)*K232-KP_LR*K230","v":0.24529011710710241},"-",{"$f":"L232","v":0.24529011710710241},113.0890586929624,112.84375762939453,-1.0946460761829258E-5,9.5228536600066271E-6,"-",9.5228536600066271E-6,5.3974367456428585,5.3974462684965188,5.3974462684965188,5.3974539244747497,-7.6559782309360003E-6,15.652064656610106,15.652064656610106,15.652064656610106,"-",5.3974489851339555,5.3974489851339555,5.3974489851339555,"-",3.7782142895937687,7850.0193010466828,113.57968489927781,1084.6060971923978,0.82523123423526856,-2.9088820873213997E-4,2.9088820873213997E-4,{"$f":"FI_T-Rechentabelle!AL232","v":5.4547687657647312},{"$f":"K232","v":3.8294548754258528E-8}]
[1.4437499456107616E-2,6.2499995692633092E-5,0.8181325426613798,113.33438873291016,7850001.5,-2046826663446.1365,7850.0015000000003,null,null,null,null,null,"-",{"$f":"N232+(L234-L232)/2","v":0.24529213984544057},113.57968489927781,113.33438873291016,-4.0265222054358674E-6,2.4568002998624307E-5,"-",2.4568002998624307E-5,5.3974367456428585,5.3974613136458567,5.3974613136458567,5.3974489851339555,1.2328511901138484E-5,15.653490505133256,15.653490505133256,15.653490505133256,"-",5.397456939012601,5.397456939012601,5.397456939012601,"-",3.7782198573088204,7850.0308691228338,114.07031182859798,1089.291239253316,0.83236062872455596,-2.9088820873213997E-4,2.9088820873213997E-4,{"$f":"FI_T-Rechentabelle!AL233","v":5.4476393712754447},{"$f":"AP232","v":3.8294548754258528E-8}]
[1.4499998651444912E-2,6.2499995692633092E-5,0.82523127333082402,113.82501220703125,7850001.5,-2023828611047.8652,7850.0015000000003,null,{"$f":"C234","v":0.82523127333082402},{"$f":"AL232","v":0.82523123423526856},{"$f":"I234-J234","v":3.9095555459667253E-8},{"$f":"L232+KP_LR*(1+2*TA_SIM/TN_LR)*K234-KP_LR*K232","v":0.2452941625837787},"-",{"$f":"L234","v":0.2452941625837787},114.07031182859798,113.82501220703125,-5.4589829545648172E-6,1.9919520958672133E-5,"-",1.9919520958672133E-5,5.3974367456428585,5.3974566651638174,5.3974566651638174,5.397456939012601,-2.7384878364955512E-7,15.652605388356497,15.652605388356497,15.652605388356497,"-",5.3974567623359659,5.3974567623359659,5.3974567623359659,"-",3.7782197336351757,7850.0306121653339,114.56093874185831,1093.9763811608741,0.83952068739592212,-2.9088820873213997E-4,2.9088820873213997E-4,{"$f":"FI_T-Rechentabelle!AL234","v":5.4404793126040785},{"$f":"K234","v":3.9095555459667253E-8}]
[1.4562498778104782E-2,6.2499995692633092E-5,0.83236066806363529,114.31563568115234,7850001.5,-2000830558649.594,7850.0015000000003,null,null,null,null,null,"-",{"$f":"N234+(L236-L234)/2","v":0.24529595495166434},114.56093874185831,114.31563568115234,-7.1057543067354345E-6,1.4373218382055874E-5,"-",1.4373218382055874E-5,5.3974367456428585,5.3974511188612402,5.3974511188612402,5.3974567623359659,-5.643474725758324E-6,{"$f":"Z234+KP_SR*(1+TA_SIM/TN_SR)*Y235-KP_SR*Y234","v":15.652217916498945},15.652217916498945,15.652217916498945,"-",5.3974531213845305,5.3974531213845305,5.3974531213845305,"-",3.7782171849691712,7850.0253167861438,115.05156532415744,1098.6615199079852,0.8467114102286819,-2.9088820873213997E-4,2.9088820873213997E-4,{"$f":"FI_T-Rechentabelle!AL235","v":5.4332885897713181},{"$f":"AP234","v":3.9095555459667253E-8}]
[1.4624998904764652E-2,6.2499995692633092E-5,0.83952072685981349,114.80625915527344,7850001.5,-1977832506251.323,7850.0015000000003,null,{"$f":"C236","v":0.83952072685981349},{"$f":"AL234","v":0.83952068739592212},{"$f":"I236-J236","v":3.9463891376989579E-8},{"$f":"L234+KP_LR*(1+2*TA_SIM/TN_LR)*K236-KP_LR*K234","v":0.24529774731955001},"-",{"$f":"L236","v":0.24529774731955001},115.05156532415744,114.80625915527344,-8.4215644449159299E-6,9.2726471041021671E-6,"-",9.2726471041021671E-6,5.3974367456428585,5.3974460182899628,5.3974460182899628,5.3974531213845305,-7.1030945676398005E-6,15.652102170942142,15.652102170942142,15.652102170942142,"-",5.3974485387428741,5.3974485387428741,5.3974485387428741,"-",3.7782139771200116,7850.0186518180162,115.54219148989607,1103.346654677237,0.85393279719680037,-2.9088820873213997E-4,2.9088820873213997E-4,{"$f":"FI_T-Rechentabelle!AL236","v":5.4260672028031998},{"$f":"K236","v":3.9463891376989579E-8}]
[1.4687499031424522E-2,6.2499995692633092E-5,0.84671144971935863,115.29688262939453,7850001.5,-1954834453853.0518,7850.0015000000003,null,null,null,null,null,"-",{"$f":"N236+(L238-L236)/2","v":0.24529931981134179},115.54219148989607,115.29688262939453,-9.5406902005379379E-6,4.35476814958548E-6,"-",4.35476814958548E-6,5.3974367456428585,5.3974411004110081,5.3974411004110081,5.3974485387428741,-7.4383318660053988E-6,15.652064722567642,15.652064722567642,15.652064722567642,"-",5.3974437398190895,5.3974437398190895,5.3974437398190895,"-",3.7782106178733623,7850.011672290384,116.03281721941421,1108.0317852808898,0.86118484827301378,-2.9088820873213997E-4,2.9088820873213997E-4,{"$f":"FI_T-Rechentabelle!AL237","v":5.4188151517269869},{"$f":"AP236","v":3.9463891376989579E-8}]
[1.4749999158084393E-2,6.2499995692633092E-5,0.8539328366422706,115.78751373291016,7850001.5,-1931836401454.7805,7850.0015000000003,null,{"$f":"C238","v":0.8539328366422706},{"$f":"AL236","v":0.85393279719680037},{"$f":"I238-J238","v":3.9445470223498091E-8},{"$f":"L236+KP_LR*(1+2*TA_SIM/TN_LR)*K238-KP_LR*K236","v":0.24530089230313354},"-",{"$f":"L238","v":0.24530089230313354},116.03281721941421,115.78751373291016,-2.5942009216350925E-6,1.9810599146433498E-5,"-",1.9810599146433498E-5,5.3974367456428585,5.3974565562420045,5.3974565562420045,5.3974437398190895,1.2816422914951886E-5,15.653510454791268,15.653510454791268,15.653510454791268,"-",5.3974520084790347,5.3974520084790347,5.3974520084790347,"-",3.778216405935324,7850.0236981826793,116.52344370055063,1112.7169230619684,0.86846756350429821,-2.9088820873213997E-4,2.9088820873213997E-4,{"$f":"FI_T-Rechentabelle!AL238","v":5.411532436495702},{"$f":"K238","v":3.9445470223498091E-8}]
[1.4812499284744263E-2,6.2499995692633092E-5,0.86118488762854961,116.27813720703125,7850001.5,-1908838349056.5093,7850.0015000000003,null,null,null,null,null,"-",{"$f":"N238+(L240-L238)/2","v":0.24530231046086109},116.52344370055063,116.27813720703125,-4.1830585217894622E-6,1.5110958281102269E-5,"-",1.5110958281102269E-5,5.3974367456428585,5.3974518566011396,5.3974518566011396,5.3974520084790347,-1.5187789514925498E-7,15.652599879582214,15.652599879582214,15.652599879582214,"-",5.3974519104932961,5.3974519104932961,5.3974519104932961,"-",3.7782163373453068,7850.0235556727748,117.01407017278018,1117.4020607579928,0.875780942890097,-2.9088820873213997E-4,2.9088820873213997E-4,{"$f":"FI_T-Rechentabelle!AL239","v":5.4042190571099029},{"$f":"AP238","v":3.9445470223498091E-8}]
[1.4874999411404133E-2,6.2499995692633092E-5,0.86846760267819556,116.76876068115234,7850001.5,-1885840296658.2383,7850.0015000000003,null,{"$f":"C240","v":0.86846760267819556},{"$f":"AL238","v":0.86846756350429821},{"$f":"I240-J240","v":3.9173897348199205E-8},{"$f":"L238+KP_LR*(1+2*TA_SIM/TN_LR)*K240-KP_LR*K238","v":0.24530372861858868},"-",{"$f":"L240","v":0.24530372861858868},117.01407017278018,116.76876068115234,-5.7630092413774037E-6,1.0046765662841043E-5,"-",1.0046765662841043E-5,5.3974367456428585,5.3974467924085214,5.3974467924085214,5.3974519104932961,-5.1180847746579161E-6,15.652241708127802,15.652241708127802,15.652241708127802,"-",5.3974486085031179,5.3974486085031179,5.3974486085031179,"-",3.7782140259521824,7850.0187532769205,117.50469634485999,1122.0871955877983,0.88312498641165071,-2.9088820873213997E-4,2.9088820873213997E-4,{"$f":"FI_T-Rechentabelle!AL240","v":5.3968750135883496},{"$f":"K240","v":3.9173897348199205E-8}]
[1.4937498606741428E-2,6.2499995692633092E-5,0.87578098179120845,117.25938415527344,7850001.5,-1862842244259.967,7850.0015000000003,null,null,null,null,null,"-",{"$f":"N240+(L242-L240)/2","v":0.24530492571469492},117.50469634485999,117.25938415527344,-7.2638718648931899E-6,4.799844193168274E-6,"-",4.799844193168274E-6,5.3974367456428585,5.3974415454870517,5.3974415454870517,5.3974486085031179,-7.0630160662332742E-6,15.652091971823856,15.652091971823856,15.652091971823856,"-",5.3974440517185585,5.3974440517185585,5.3974440517185585,"-",3.7782108362029905,7850.0121259152093,117.99532210272969,1126.7723264621882,0.89049969404307128,-2.9088820873213997E-4,2.9088820873213997E-4,{"$f":"FI_T-Rechentabelle!AL241","v":5.3895003059569291},{"$f":"AP240","v":3.9173897348199205E-8}]
[1.4999998733401299E-2,6.2499995692633092E-5,0.88312502496758816,117.75001525878906,7850001.5,-1839844191861.6958,7850.0015000000003,null,{"$f":"C242","v":0.88312502496758816},{"$f":"AL240","v":0.88312498641165071},{"$f":"I242-J242","v":3.8555937442730226E-8},{"$f":"L240+KP_LR*(1+2*TA_SIM/TN_LR)*K242-KP_LR*K240","v":0.24530612281080114},"-",{"$f":"L242","v":0.24530612281080114},117.99532210272969,117.75001525878906,-7.2112982252292568E-7,1.9777225394644294E-5,"-",1.9777225394644294E-5,5.3974367456428585,5.3974565228682527,5.3974565228682527,5.3974440517185585,1.2471149694270878E-5,15.653486477352152,15.653486477352152,15.653486477352152,"-",5.3974520976215867,5.3974520976215867,5.3974520976215867,"-",3.7782164683351103,7850.0238278311035,118.48594859196913,1131.4574643206449,0.89790506583006935,-2.9088820873213997E-4,2.9088820873213997E-4,{"$f":"FI_T-Rechentabelle!AL242","v":5.3820949341699311},{"$f":"K242","v":3.8555937442730226E-8}]
[1.5062498860061169E-2,6.2499995692633092E-5,0.8904997322073348,118.24063873291016,7850001.5,-1816846139463.4246,7850.0015000000003,null,null,null,null,null,"-",{"$f":"N242+(L244-L242)/2","v":0.24530713881569211},118.48594859196913,118.24063873291016,-2.7202432875128579E-6,1.4484043194887204E-5,"-",1.4484043194887204E-5,5.3974367456428585,5.3974512296860535,5.3974512296860535,5.3974520976215867,-8.6793553322195294E-7,15.65254853574841,15.65254853574841,15.65254853574841,"-",5.3974515376631782,5.3974515376631782,5.3974515376631782,"-",3.7782160763642243,7850.0230134307585,118.97657503030855,1136.1426016930425,0.90534110176946359,-2.9088820873213997E-4,2.9088820873213997E-4,{"$f":"FI_T-Rechentabelle!AL243","v":5.3746588982305363},{"$f":"AP242","v":3.8555937442730226E-8}]
[1.5124998986721039E-2,6.2499995692633092E-5,0.8979051035104485,118.73126220703125,7850001.5,-1793848087065.1533,7850.0015000000003,null,{"$f":"C244","v":0.8979051035104485},{"$f":"AL242","v":0.89790506583006935},{"$f":"I244-J244","v":3.768037915019562E-8},{"$f":"L242+KP_LR*(1+2*TA_SIM/TN_LR)*K244-KP_LR*K242","v":0.2453081548205831},"-",{"$f":"L244","v":0.2453081548205831},118.97657503030855,118.73126220703125,-4.6684567251986664E-6,8.833786892924281E-6,"-",8.833786892924281E-6,5.3974367456428585,5.3974455794297516,5.3974455794297516,5.3974515376631782,-5.958233426639481E-6,15.652180082014384,15.652180082014384,15.652180082014384,"-",5.3974476936416131,5.3974476936416131,5.3974476936416131,"-",3.7782133855491291,7850.0174227075186,119.46720111922777,1140.8277357287227,0.91280780183941534,-2.9088820873213997E-4,2.9088820873213997E-4,{"$f":"FI_T-Rechentabelle!AL244","v":5.367192198160585},{"$f":"K244","v":3.768037915019562E-8}]
[1.5187499113380909E-2,6.2499995692633092E-5,0.90534113887692902,119.22188568115234,7850001.5,-1770850034666.8823,7850.0015000000003,null,null,null,null,null,"-",{"$f":"N244+(L246-L244)/2","v":0.24530893094265155},119.46720111922777,119.22188568115234,-6.5071327668420054E-6,2.9889668091878557E-6,"-",2.9889668091878557E-6,5.3974367456428585,5.3974397346096676,5.3974397346096676,5.3974476936416131,-7.9590319455036251E-6,15.652024747774711,15.652024747774711,15.652024747774711,"-",5.3974425587822941,5.3974425587822941,5.3974425587822941,"-",3.7782097911476056,7850.0099545971434,119.95782674139009,1145.5128653072029,0.92030516601075218,-2.9088820873213997E-4,2.9088820873213997E-4,{"$f":"FI_T-Rechentabelle!AL245","v":5.3596948339892485},{"$f":"AP244","v":3.768037915019562E-8}]
[1.5249999240040779E-2,6.2499995692633092E-5,0.91280783830677648,119.71250915527344,7850001.5,-1747851982268.6111,7850.0015000000003,null,{"$f":"C246","v":0.91280783830677648},{"$f":"AL244","v":0.91280780183941534},{"$f":"I246-J246","v":3.6467361130831932E-8},{"$f":"L244+KP_LR*(1+2*TA_SIM/TN_LR)*K246-KP_LR*K244","v":0.24530970706472},"-",{"$f":"L246","v":0.24530970706472},119.95782674139009,119.71250915527344,-7.8790519353333366E-6,-2.1092941137860106E-6,"-",-2.1092941137860106E-6,5.3974367456428585,5.3974346363487449,5.3974346363487449,5.3974425587822941,-7.9224335491900888E-6,15.652012494128405,15.652012494128405,15.652012494128405,"-",5.397437447534843,5.397437447534843,5.397437447534843,"-",3.7782062132743897,7850.0025208277357,120.44845189894183,1150.1979904489788,0.927833194254436,-2.9088820873213997E-4,2.9088820873213997E-4,{"$f":"FI_T-Rechentabelle!AL246","v":5.352166805745564},{"$f":"K246","v":3.6467361130831932E-8}]
[1.5312499366700649E-2,6.2499995692633092E-5,0.92030520179999098,120.20314025878906,7850001.5,-1724853929870.3398,7850.0015000000003,null,null,null,null,null,"-",{"$f":"N246+(L248-L246)/2","v":0.24531034216042721},120.44845189894183,120.20314025878906,-1.2979923411648997E-6,1.2816196854017573E-5,"-",1.2816196854017573E-5,5.3974367456428585,5.3974495618397125,5.3974495618397125,5.397437447534843,1.2114304869470516E-5,15.653441609369741,15.653441609369741,15.653441609369741,"-",5.3974452632154044,5.3974452632154044,5.3974452632154044,"-",3.7782116842507829,7850.0138879093756,120.93907776693617,1154.8831223749817,0.93539188661486949,-2.9088820873213997E-4,2.9088820873213997E-4,{"$f":"FI_T-Rechentabelle!AL247","v":5.3446081133851306},{"$f":"AP246","v":3.6467361130831932E-8}]
[1.5374998562037945E-2,6.2499995692633092E-5,0.92783322935657231,120.69376373291016,7850001.5,-1701855877472.0686,7850.0015000000003,null,{"$f":"C248","v":0.92783322935657231},{"$f":"AL246","v":0.927833194254436},{"$f":"I248-J248","v":3.5102136308751142E-8},{"$f":"L246+KP_LR*(1+2*TA_SIM/TN_LR)*K248-KP_LR*K246","v":0.24531097725613443},"-",{"$f":"L248","v":0.24531097725613443},120.93907776693617,120.69376373291016,-3.056769870113385E-6,7.9975972064490288E-6,"-",7.9975972064490288E-6,5.3974367456428585,5.3974447432400652,5.3974447432400652,5.3974452632154044,-5.1997533923042738E-7,15.65255379155349,15.65255379155349,15.65255379155349,"-",5.3974449277474434,5.3974449277474434,5.3974449277474434,"-",3.77821144942321,7850.0134000066682,121.42970360443658,1159.5682540097894,0.94298124309014675,-2.9088820873213997E-4,2.9088820873213997E-4,{"$f":"FI_T-Rechentabelle!AL248","v":5.3370187569098535},{"$f":"K248","v":3.5102136308751142E-8}]
[1.5437498688697815E-2,6.2499995692633092E-5,0.93539192097652057,121.18438720703125,7850001.5,-1678857825073.7974,7850.0015000000003,null,null,null,null,null,"-",{"$f":"N248+(L250-L248)/2","v":0.2453114561071025},121.42970360443658,121.18438720703125,-4.9412982292551533E-6,2.4283207112975105E-6,"-",2.4283207112975105E-6,5.3974367456428585,5.3974391739635701,5.3974391739635701,5.3974449277474434,-5.7537838733523472E-6,15.652175646816881,15.652175646816881,15.652175646816881,"-",5.3974412156288158,5.3974412156288158,5.3974412156288158,"-",3.778208850940171,7850.0080011223163,121.92032910450672,1164.2533824223751,0.95060126365917841,-2.9088820873213997E-4,2.9088820873213997E-4,{"$f":"FI_T-Rechentabelle!AL249","v":5.3293987363408215},{"$f":"AP248","v":3.5102136308751142E-8}]
[1.5499998815357685E-2,6.2499995692633092E-5,0.94298127665983589,121.67501068115234,7850001.5,-1655859772675.5264,7850.0015000000003,null,{"$f":"C250","v":0.94298127665983589},{"$f":"AL248","v":0.94298124309014675},{"$f":"I250-J250","v":3.3569689139589798E-8},{"$f":"L248+KP_LR*(1+2*TA_SIM/TN_LR)*K250-KP_LR*K248","v":0.24531193495807058},"-",{"$f":"L250","v":0.24531193495807058},121.92032910450672,121.67501068115234,-6.4883963091233454E-6,-2.7366282332236747E-6,"-",-2.7366282332236747E-6,5.3974367456428585,5.3974340090146251,5.3974340090146251,5.3974412156288158,-7.2066141907356496E-6,15.652060184159021,15.652060184159021,15.652060184159021,"-",5.3974365662003052,5.3974365662003052,5.3974365662003052,"-",3.7782055963402135,7850.0012390197653,122.41095418194546,1168.9385067991282,0.95825194829555005,-2.9088820873213997E-4,2.9088820873213997E-4,{"$f":"FI_T-Rechentabelle!AL250","v":5.32174805170445},{"$f":"K250","v":3.3569689139589798E-8}]
[1.5562498942017555E-2,6.2499995692633092E-5,0.95060129640651791,122.16563415527344,7850001.5,-1632861720277.2551,7850.0015000000003,null,null,null,null,null,"-",{"$f":"N250+(L252-L250)/2","v":0.24531228179536085},122.41095418194546,122.16563415527344,-7.7448766546694969E-6,-7.5348184245843928E-6,"-",-7.5348184245843928E-6,5.3974367456428585,5.3974292108244342,5.3974292108244342,5.3974365662003052,-7.3553758710431794E-6,15.652035980377832,15.652035980377832,15.652035980377832,"-",5.3974318207965171,5.3974318207965171,5.3974318207965171,"-",3.7782022745575619,7849.9943373313145,122.90157882802866,1173.6236270567395,0.96593329697230179,-2.9088820873213997E-4,2.9088820873213997E-4,{"$f":"FI_T-Rechentabelle!AL251","v":5.3140667030276987},{"$f":"AP250","v":3.3569689139589798E-8}]
[1.5624999068677425E-2,6.2499995692633092E-5,0.95825198021656699,122.65626525878906,7850001.5,-1609863667878.9839,7850.0015000000003,null,{"$f":"C252","v":0.95825198021656699},{"$f":"AL250","v":0.95825194829555005},{"$f":"I252-J252","v":3.192101694082794E-8},{"$f":"L250+KP_LR*(1+2*TA_SIM/TN_LR)*K252-KP_LR*K250","v":0.24531262863265116},"-",{"$f":"L252","v":0.24531262863265116},122.90157882802866,122.65626525878906,-9.4060695232656144E-7,7.9947617940985889E-6,"-",7.9947617940985889E-6,5.3974367456428585,5.3974447404046524,5.3974447404046524,5.3974318207965171,1.2919608135320004E-5,15.653483325618788,15.653483325618788,15.653483325618788,"-",5.3974401560275718,5.3974401560275718,5.3974401560275718,"-",3.7782081092193001,7850.0064600442547,123.39220423178142,1178.3087545495621,0.97364530973678809,-2.9088820873213997E-4,2.9088820873213997E-4,{"$f":"FI_T-Rechentabelle!AL252","v":5.3063546902632126},{"$f":"K252","v":3.192101694082794E-8}]
[1.5687499195337296E-2,6.2499995692633092E-5,0.96593332808998289,123.14688873291016,7850001.5,-1586865615480.7126,7850.0015000000003,null,null,null,null,null,"-",{"$f":"N252+(L254-L252)/2","v":0.24531292000800434},123.39220423178142,123.14688873291016,-2.5788632598278127E-6,3.5718030340531264E-6,"-",3.5718030340531264E-6,5.3974367456428585,5.3974403174458923,5.3974403174458923,5.3974401560275718,1.6141832048788274E-7,15.652588085013161,15.652588085013161,15.652588085013161,"-",5.3974402601684233,5.3974402601684233,5.3974402601684233,"-",3.7782081821178961,7850.0066115061209,123.88282964500056,1182.9938821327817,0.98138798658960058,-2.9088820873213997E-4,2.9088820873213997E-4,{"$f":"FI_T-Rechentabelle!AL253","v":5.2986120134103993},{"$f":"AP252","v":3.192101694082794E-8}]
[1.5749998390674591E-2,6.2499995692633092E-5,0.97364534002676595,123.63751220703125,7850001.5,-1563867563082.4414,7850.0015000000003,null,{"$f":"C254","v":0.97364534002676595},{"$f":"AL252","v":0.97364530973678809},{"$f":"I254-J254","v":3.0289977859254691E-8},{"$f":"L252+KP_LR*(1+2*TA_SIM/TN_LR)*K254-KP_LR*K252","v":0.24531321138335752},"-",{"$f":"L254","v":0.24531321138335752},123.88282964500056,123.63751220703125,-4.2265859434564845E-6,-1.2747828000015851E-6,"-",-1.2747828000015851E-6,5.3974367456428585,5.3974354708600583,5.3974354708600583,5.3974402601684233,-4.7893083650052404E-6,15.652231615298554,15.652231615298554,15.652231615298554,"-",5.3974371702920587,5.3974371702920587,5.3974371702920587,"-",3.7782060192044407,7850.0021176073969,124.37345477735101,1187.6790070339032,0.98916132751318497,-2.9088820873213997E-4,2.9088820873213997E-4,{"$f":"FI_T-Rechentabelle!AL254","v":5.2908386724868155},{"$f":"K254","v":3.0289977859254691E-8}]
[1.5812499448657036E-2,6.2499995692633092E-5,0.98138801602691572,124.12813568115234,7850001.5,-1540869510684.1704,7850.0015000000003,null,null,null,null,null,"-",{"$f":"N254+(L256-L254)/2","v":0.24531338774129985},124.37345477735101,124.12813568115234,-5.7084573654719861E-6,-6.0985214695154297E-6,"-",-6.0985214695154297E-6,5.3974367456428585,5.3974306471213893,5.3974306471213893,5.3974371702920587,-6.5231706694035552E-6,15.652097704709096,15.652097704709096,15.652097704709096,"-",5.3974329617948529,5.3974329617948529,5.3974329617948529,"-",3.7782030732563969,7849.9959967928453,124.86407952715057,1192.3641282819324,0.99696533248363184,-2.9088820873213997E-4,2.9088820873213997E-4,{"$f":"FI_T-Rechentabelle!AL255","v":5.2830346675163682},{"$f":"AP254","v":3.0289977859254691E-8}]
[1.5874998643994331E-2,6.2499995692633092E-5,0.98916135609043254,124.61875915527344,7850001.5,-1517871458285.8992,7850.0015000000003,null,{"$f":"C256","v":0.98916135609043254},{"$f":"AL254","v":0.98916132751318497},{"$f":"I256-J256","v":2.8577247568328801E-8},{"$f":"L254+KP_LR*(1+2*TA_SIM/TN_LR)*K256-KP_LR*K254","v":0.24531356409924218},"-",{"$f":"L256","v":0.24531356409924218},124.86407952715057,124.61875915527344,-6.8077778792030585E-6,-1.0304266979843877E-5,"-",-1.0304266979843877E-5,5.3974367456428585,5.3974264413758783,5.3974264413758783,5.3974329617948529,-6.5204189745315944E-6,15.652085698366758,15.652085698366758,15.652085698366758,"-",5.3974287550729336,5.3974287550729336,5.3974287550729336,"-",3.7782001285510534,7849.98987856026,125.35470389456059,1197.0492458784108,1.004800001477042,-2.9088820873213997E-4,2.9088820873213997E-4,{"$f":"FI_T-Rechentabelle!AL256","v":5.2751999985229583},{"$f":"K256","v":2.8577247568328801E-8}]
[1.5937499701976776E-2,6.2499995692633092E-5,0.99696536021731641,125.10939025878906,7850001.5,-1494873405887.6279,7850.0015000000003,null,null,null,null,null,"-",{"$f":"N256+(L258-L256)/2","v":0.24531371177491779},125.35470389456059,125.10939025878906,7.6003388471690414E-8,5.6573065337924204E-6,"-",5.6573065337924204E-6,5.3974367456428585,5.3974424029493919,5.3974424029493919,5.3974287550729336,1.3647876458300345E-5,15.653526917324708,15.653526917324708,15.653526917324708,"-",5.3974375601545201,5.3974375601545201,5.3974375601545201,"-",3.7782062921081638,7850.0026846211586,125.84532906234941,1201.7343711179437,1.0126653345434389,-2.9088820873213997E-4,2.9088820873213997E-4,{"$f":"FI_T-Rechentabelle!AL257","v":5.2673346654565609},{"$f":"AP256","v":2.8577247568328801E-8}]
[1.5999998897314072E-2,6.2499995692633092E-5,1.0048000284075669,125.60001373291016,7850001.5,-1471875353489.3567,7850.0015000000003,null,{"$f":"C258","v":1.0048000284075669},{"$f":"AL256","v":1.004800001477042},{"$f":"I258-J258","v":2.6930524921198185E-8},{"$f":"L256+KP_LR*(1+2*TA_SIM/TN_LR)*K258-KP_LR*K256","v":0.24531385945059336},"-",{"$f":"L258","v":0.24531385945059336},125.84532906234941,125.60001373291016,-1.4699886605740176E-6,1.7183700366142612E-6,"-",1.7183700366142612E-6,{"$f":"G258*(JM_EMS+JL_EMS)/KT_M*KP_VSR","v":5.3974367456428585},5.397438464012895,{"$f":"IF(V258<-IM_R,-IM_R,IF(V258>IM_R,IM_R,V258))","v":5.397438464012895},5.3974375601545201,9.0385837481221643E-7,15.65263406056458,{"$f":"IF(Z258<-U_ZWK,-U_ZWK,IF(Z258>U_ZWK,U_ZWK,Z258))","v":15.65263406056458},15.65263406056458,"-",5.397438143288956,5.397438143288956,5.397438143288956,"-",{"$f":"AF258*KT_M","v":3.778206700302269},{"$f":"AH258/(JM_EMS+JL_EMS)","v":7850.0035327285868},126.33595428314494,1206.4194968636534,1.0205613316861355,{"$f":"-DF_LR","v":-2.9088820873213997E-4},{"$f":"DF_LR","v":2.9088820873213997E-4},{"$f":"FI_T-Rechentabelle!AL258","v":5.259438668313865},{"$f":"K258","v":2.6930524921198185E-8}]
[1.6062498092651367E-2,6.2499995692633092E-5,1.0126653606611846,126.09063720703125,7850001.5,-1448877301091.0854,{"$f":"E259/1000","v":7850.0015000000003},null,null,null,null,null,"-",{"$f":"N258+(L260-L258)/2","v":0.24531394603820145},126.33595428314494,126.09063720703125,-3.1300754983476509E-6,{"$f":"R258+KP_DR*(1+TA_SIM/TN_DR)*Q259-KP_DR*Q258","v":-2.8895303746491964E-6},"-",{"$f":"R259","v":-2.8895303746491964E-6},5.3974367456428585,{"$f":"T259+U259","v":5.3974338561124835},5.3974338561124835,5.397438143288956,{"$f":"W259-X259","v":-4.2871764724949912E-6},15.652261662239962,15.652261662239962,{"$f":"AA259","v":15.652261662239962},"-",{"$f":"(1/R_M*AB259+AD258*T_M/TA_SIM)/(1+T_M/TA_SIM)","v":5.3974353773686508},{"$f":"AD259","v":5.3974353773686508},{"$f":"AE259","v":5.3974353773686508},"-",3.7782047641580552,7849.9995099897251,{"$f":"AJ258+AI259*TA_SIM","v":126.82657925251929},1211.1046202084676,{"$f":"AL258+AJ259*TA_SIM","v":1.0284879928894179},-2.9088820873213997E-4,2.9088820873213997E-4,{"$f":"FI_T-Rechentabelle!AL259","v":5.2515120071105823},{"$f":"AP258","v":2.6930524921198185E-8}]
[1.6124999150633812E-2,6.2499995692633092E-5,1.0205613569781691,126.58126068115234,7850001.5,-1425879248692.8145,7850.0015000000003,null,{"$f":"C260","v":1.0205613569781691},{"$f":"AL258","v":1.0205613316861355},{"$f":"I260-J260","v":2.5292033578594442E-8},{"$f":"L258+KP_LR*(1+2*TA_SIM/TN_LR)*K260-KP_LR*K258","v":0.2453140326258095},"-",{"$f":"L260","v":0.2453140326258095},{"$f":"AJ259","v":126.82657925251929},{"$f":"D260*KP_VDR","v":126.58126068115234},{"$f":"N260-O260+P260","v":-4.5387411375941156E-6},-7.2585540429395791E-6,"-",-7.2585540429395791E-6,5.3974367456428585,5.3974294870888153,5.3974294870888153,{"$f":"AF259","v":5.3974353773686508},-5.8902798354409924E-6,15.652138114202922,15.652138114202922,15.652138114202922,"-",5.3974315771881116,5.3974315771881116,5.3974315771881116,"-",3.7782021040316778,7849.9939830286257,127.31720387645858,1215.78974025462,1.0364453181316966,-2.9088820873213997E-4,2.9088820873213997E-4,{"$f":"FI_T-Rechentabelle!AL260","v":5.2435546818683036},{"$f":"K260","v":2.5292033578594442E-8}]
[1.6187498345971107E-2,6.2499995692633092E-5,1.0284880173585205,127.07188415527344,7850001.5,-1402881196294.5432,7850.0015000000003,null,null,null,null,null,"-",{"$f":"N260+(L262-L260)/2","v":0.2453140637758762},127.31720387645858,127.07188415527344,-5.6574092610617299E-6,-1.1228657797493723E-5,"-",-1.1228657797493723E-5,5.3974367456428585,5.3974255169850611,5.3974255169850611,5.3974315771881116,-6.0602030504952609E-6,15.652114848245086,15.652114848245086,15.652114848245086,"-",5.3974276673796924,5.3974276673796924,5.3974276673796924,"-",3.7781993671657843,7849.9882966253563,127.80782814499766,1220.4748569069507,1.044433307390759,-2.9088820873213997E-4,2.9088820873213997E-4,{"$f":"FI_T-Rechentabelle!AL261","v":5.2355666926092415},{"$f":"AP260","v":2.5292033578594442E-8}]
[1.6249999403953552E-2,6.2499995692633092E-5,1.0364453418022388,127.56251525878906,7850001.5,-1379883143896.272,7850.0015000000003,null,{"$f":"C262","v":1.0364453418022388},{"$f":"AL260","v":1.0364453181316966},{"$f":"I262-J262","v":2.3670542192988364E-8},{"$f":"L260+KP_LR*(1+2*TA_SIM/TN_LR)*K262-KP_LR*K260","v":0.24531409492594289},"-",{"$f":"L262","v":0.24531409492594289},127.80782814499766,127.56251525878906,1.2087173502095538E-6,4.968174327468221E-6,"-",4.968174327468221E-6,5.3974367456428585,5.3974417138171855,5.3974417138171855,5.3974276673796924,1.4046437493142605E-5,15.653552485122425,15.653552485122425,15.653552485122425,"-",5.3974367295974295,5.3974367295974295,5.3974367295974295,"-",3.7782057107182005,7850.0014766636195,128.29845323728912,1225.1599814255367,1.0524519607180896,-2.9088820873213997E-4,2.9088820873213997E-4,{"$f":"FI_T-Rechentabelle!AL262","v":5.2275480392819107},{"$f":"K262","v":2.3670542192988364E-8}]
[1.6312498599290848E-2,6.2499995692633092E-5,1.0444333303093241,128.05313110351563,7850001.5,-1356885091498.0007,7850.0015000000003,null,null,null,null,null,"-",{"$f":"N262+(L264-L262)/2","v":0.24531412934589797},128.29845323728912,128.05313110351563,-8.0044275989621383E-6,-1.8321166993865001E-5,"-",-1.8321166993865001E-5,5.3974367456428585,5.3974184244758643,5.3974184244758643,5.3974367295974295,-1.830512156519859E-5,15.651247366104306,15.651247366104306,15.651247366104306,"-",5.3974249198415816,5.3974249198415816,5.3974249198415816,"-",3.7781974438891068,7849.9843006214551,128.78907725607797,1229.8450956929282,1.0605012780465943,-2.9088820873213997E-4,2.9088820873213997E-4,{"$f":"FI_T-Rechentabelle!AL263","v":5.2194987219534061},{"$f":"AP262","v":2.3670542192988364E-8}]
[1.6374999657273293E-2,6.2499995692633092E-5,1.0524519828797763,128.54376220703125,7850001.5,-1333887039099.7297,7850.0015000000003,null,{"$f":"C264","v":1.0524519828797763},{"$f":"AL262","v":1.0524519607180896},{"$f":"I264-J264","v":2.2161686707988792E-8},{"$f":"L262+KP_LR*(1+2*TA_SIM/TN_LR)*K264-KP_LR*K262","v":0.24531416376585308},"-",{"$f":"L264","v":0.24531416376585308},128.78907725607797,128.54376220703125,-8.852808832671144E-7,-2.048834053864417E-6,"-",-2.048834053864417E-6,5.3974367456428585,5.3974346968088049,5.3974346968088049,5.3974249198415816,9.7769672233738447E-6,15.653236839952784,15.653236839952784,15.653236839952784,"-",5.3974312275623708,5.3974312275623708,5.3974312275623708,"-",3.7782018592936595,7849.9934745349246,129.27970184823641,1234.5302154355959,1.0685812594121091,-2.9088820873213997E-4,2.9088820873213997E-4,{"$f":"FI_T-Rechentabelle!AL264","v":5.2114187405878916},{"$f":"K264","v":2.2161686707988792E-8}]
[1.6437498852610588E-2,6.2499995692633092E-5,1.0605012995135956,129.03439331054688,7850001.5,-1310888986701.4585,7850.0015000000003,null,null,null,null,null,"-",{"$f":"N264+(L266-L264)/2","v":0.24531422612247242},129.27970184823641,129.03439331054688,5.6884329353579233E-6,1.456288293564248E-5,"-",1.456288293564248E-5,5.3974367456428585,5.3974513085257945,5.3974513085257945,5.3974312275623708,2.0080963423652065E-5,15.653997684843443,15.653997684843443,15.653997684843443,"-",5.3974441830226443,5.3974441830226443,5.3974441830226443,"-",3.7782109281158509,7850.0123168831306,129.77032761804162,1239.2153464239618,1.0766919048882366,-2.9088820873213997E-4,2.9088820873213997E-4,{"$f":"FI_T-Rechentabelle!AL265","v":5.2033080951117636},{"$f":"AP264","v":2.2161686707988792E-8}]
[1.6499998047947884E-2,6.2499995692633092E-5,1.0685812802107817,129.52500915527344,7850001.5,-1287890934303.1873,7850.0015000000003,null,{"$f":"C266","v":1.0685812802107817},{"$f":"AL264","v":1.0685812594121091},{"$f":"I266-J266","v":2.0798672561994636E-8},{"$f":"L264+KP_LR*(1+2*TA_SIM/TN_LR)*K266-KP_LR*K264","v":0.24531428847909176},"-",{"$f":"L266","v":0.24531428847909176},129.77032761804162,129.52500915527344,-4.1742891028206941E-6,-9.2971388863839568E-6,"-",-9.2971388863839568E-6,5.3974367456428585,5.3974274485039722,5.3974274485039722,5.3974441830226443,-1.67345186721235E-5,15.651382165774947,15.651382165774947,15.651382165774947,"-",5.3974333865589843,5.3974333865589843,5.3974333865589843,"-",3.7782033705912887,7849.996614567397,130.26095240645208,1243.9004680406979,1.0848332144136399,-2.9088820873213997E-4,2.9088820873213997E-4,{"$f":"FI_T-Rechentabelle!AL266","v":5.1951667855863608},{"$f":"K266","v":2.0798672561994636E-8}]
[1.6562499105930328E-2,6.2499995692633092E-5,1.0766919249713347,130.01564025878906,7850001.5,-1264892881904.916,7850.0015000000003,null,null,null,null,null,"-",{"$f":"N266+(L268-L266)/2","v":0.24531426334863018},130.26095240645208,130.01564025878906,2.115685617809504E-6,5.7864203198718331E-6,"-",5.7864203198718331E-6,5.3974367456428585,5.3974425320631783,5.3974425320631783,5.3974333865589843,9.1455041939525472E-6,15.653215887355588,15.653215887355588,15.653215887355588,"-",5.3974392868842713,5.3974392868842713,5.3974392868842713,"-",3.7782075008189895,7850.00519596715,130.75157773120003,1248.5855947790803,1.0930051880218399,-2.9088820873213997E-4,2.9088820873213997E-4,{"$f":"FI_T-Rechentabelle!AL267","v":5.1869948119781606},{"$f":"AP266","v":2.0798672561994636E-8}]
[1.6624998301267624E-2,6.2499995692633092E-5,1.0848332337952546,130.50625610351563,7850001.5,-1241894829506.6448,7850.0015000000003,null,{"$f":"C268","v":1.0848332337952546},{"$f":"AL266","v":1.0848332144136399},{"$f":"I268-J268","v":1.938161475756317E-8},{"$f":"L266+KP_LR*(1+2*TA_SIM/TN_LR)*K268-KP_LR*K266","v":0.24531423821816861},"-",{"$f":"L268","v":0.24531423821816861},130.75157773120003,130.50625610351563,-7.3894662477869133E-6,-1.8029294751074472E-5,"-",-1.8029294751074472E-5,5.3974367456428585,5.3974187163481071,5.3974187163481071,5.3974392868842713,-2.0570536164221664E-5,15.651091526229235,15.651091526229235,15.651091526229235,"-",5.3974260155706162,5.3974260155706162,5.3974260155706162,"-",3.778198210899431,7849.9858942435712,131.24220184959026,1253.2707099975948,1.1012078256374394,-2.9088820873213997E-4,2.9088820873213997E-4,{"$f":"FI_T-Rechentabelle!AL268","v":5.1787921743625613},{"$f":"K268","v":1.938161475756317E-8}]
[1.6687499359250069E-2,6.2499995692633092E-5,1.0930052066825415,130.99688720703125,7850001.5,-1218896777108.3738,7850.0015000000003,null,null,null,null,null,"-",{"$f":"N268+(L270-L268)/2","v":0.24531417515121196},131.24220184959026,130.99688720703125,-4.6740780135223758E-7,-2.1115497885342997E-6,"-",-2.1115497885342997E-6,5.3974367456428585,5.3974346340930701,5.3974346340930701,5.3974260155706162,8.6185224539292449E-6,15.653156534805216,15.653156534805216,15.653156534805216,"-",5.3974315759076825,5.3974315759076825,5.3974315759076825,"-",3.7782021031353774,7849.9939811663762,131.73282647341316,1257.9558300426356,1.1094411272920277,-2.9088820873213997E-4,2.9088820873213997E-4,{"$f":"FI_T-Rechentabelle!AL269","v":5.1705588727079723},{"$f":"AP268","v":1.938161475756317E-8}]
[1.6749998554587364E-2,6.2499995692633092E-5,1.1012078436331953,131.48751831054688,7850001.5,-1195898724710.1025,7850.0015000000003,null,{"$f":"C270","v":1.1012078436331953},{"$f":"AL268","v":1.1012078256374394},{"$f":"I270-J270","v":1.7995755996480511E-8},{"$f":"L268+KP_LR*(1+2*TA_SIM/TN_LR)*K270-KP_LR*K268","v":0.24531411208425527},"-",{"$f":"L270","v":0.24531411208425527},131.73282647341316,131.48751831054688,5.9492179786957422E-6,1.4199924053231589E-5,"-",1.4199924053231589E-5,5.3974367456428585,5.397450945566912,5.397450945566912,5.3974315759076825,1.9369659229440117E-5,15.653947435252274,15.653947435252274,15.653947435252274,"-",5.3974440724620232,5.3974440724620232,5.3974440724620232,"-",3.7782108507234158,7850.0121560843872,132.22345223316842,1262.6409609350317,1.1177050930566008,-2.9088820873213997E-4,2.9088820873213997E-4,{"$f":"FI_T-Rechentabelle!AL270","v":5.1622949069433997},{"$f":"K270","v":1.7995755996480511E-8}]
[1.6812499612569809E-2,6.2499995692633092E-5,1.1094411446472161,131.97813415527344,7850001.5,-1172900672311.8313,7850.0015000000003,null,null,null,null,null,"-",{"$f":"N270+(L272-L270)/2","v":0.24531402865791807},132.22345223316842,131.97813415527344,-4.049237048775467E-6,-9.9439726838618909E-6,"-",-9.9439726838618909E-6,5.3974367456428585,5.397426801670175,5.397426801670175,5.3974440724620232,-1.7270791848211786E-5,15.651343198882204,15.651343198882204,15.651343198882204,"-",5.39743293001567,5.39743293001567,5.39743293001567,"-",3.7782030510109688,7849.9959505733814,132.71407698007926,1267.3260821554759,1.1259997228678558,-2.9088820873213997E-4,2.9088820873213997E-4,{"$f":"FI_T-Rechentabelle!AL271","v":5.1540002771321447},{"$f":"AP270","v":1.7995755996480511E-8}]
[1.6874998807907104E-2,6.2499995692633092E-5,1.1177051097246038,132.46876525878906,7850001.5,-1149902619913.5601,7850.0015000000003,null,{"$f":"C272","v":1.1177051097246038},{"$f":"AL270","v":1.1177050930566008},{"$f":"I272-J272","v":1.6668002977837659E-8},{"$f":"L270+KP_LR*(1+2*TA_SIM/TN_LR)*K272-KP_LR*K270","v":0.2453139452315809},"-",{"$f":"L272","v":0.2453139452315809},132.71407698007926,132.46876525878906,2.2239413794977736E-6,5.1270777620258947E-6,"-",5.1270777620258947E-6,5.3974367456428585,5.3974418727206208,5.3974418727206208,5.39743293001567,8.9427049507762035E-6,15.653199948750647,15.653199948750647,15.653199948750647,"-",5.397438699502735,5.397438699502735,5.397438699502735,"-",3.7782070896519144,7850.0043416827639,133.20470225143444,1272.0112083839947,1.1343250167585703,-2.9088820873213997E-4,2.9088820873213997E-4,{"$f":"FI_T-Rechentabelle!AL272","v":5.1456749832414301},{"$f":"K272","v":1.6668002977837659E-8}]
[1.69374980032444E-2,6.2499995692633092E-5,1.1259997388653584,132.95938110351563,7850001.5,-1126904567515.2888,7850.0015000000003,null,null,null,null,null,"-",{"$f":"N272+(L274-L272)/2","v":0.24531379072144857},133.20470225143444,132.95938110351563,-7.3571973757680098E-6,-1.8856758317231688E-5,"-",-1.8856758317231688E-5,5.3974367456428585,5.397417888884541,5.397417888884541,5.397438699502735,-2.0810618194033736E-5,15.651072521427475,15.651072521427475,15.651072521427475,"-",5.3974252732974488,5.3974252732974488,5.3974252732974488,"-",3.7781976913082138,7849.9848146856712,133.6953263023523,1276.6963229581954,1.1426809746524673,-2.9088820873213997E-4,2.9088820873213997E-4,{"$f":"FI_T-Rechentabelle!AL273","v":5.1373190253475327},{"$f":"AP272","v":1.6668002977837659E-8}]
[1.6999999061226845E-2,6.2499995692633092E-5,1.13432503206948,133.45001220703125,7850001.5,-1103906515117.0178,7850.0015000000003,null,{"$f":"C274","v":1.13432503206948},{"$f":"AL272","v":1.1343250167585703},{"$f":"I274-J274","v":1.5310909651233828E-8},{"$f":"L272+KP_LR*(1+2*TA_SIM/TN_LR)*K274-KP_LR*K272","v":0.24531363621131624},"-",{"$f":"L274","v":0.24531363621131624},133.6953263023523,133.45001220703125,-4.5910974222351797E-7,-2.9925074725342209E-6,"-",-2.9925074725342209E-6,5.3974367456428585,5.3974337531353855,5.3974337531353855,5.3974252732974488,8.4798379367256871E-6,15.653144387980406,15.653144387980406,15.653144387980406,"-",5.3974307441606344,5.3974307441606344,5.3974307441606344,"-",3.778201520912444,7849.9927714781707,134.1859508505697,1281.381442281257,1.1510675965806278,-2.9088820873213997E-4,2.9088820873213997E-4,{"$f":"FI_T-Rechentabelle!AL274","v":5.1289324034193724},{"$f":"K274","v":1.5310909651233828E-8}]
[1.706249825656414E-2,6.2499995692633092E-5,1.1426809893369683,133.94064331054688,7850001.5,-1080908462718.7466,7850.0015000000003,null,null,null,null,null,"-",{"$f":"N274+(L276-L274)/2","v":0.24531350816717312},134.1859508505697,133.94064331054688,5.9681443644876708E-6,1.3348196006980867E-5,"-",1.3348196006980867E-5,5.3974367456428585,5.3974500938388656,5.3974500938388656,5.3974307441606344,1.9349678231250778E-5,15.653943583264867,15.653943583264867,15.653943583264867,"-",5.3974432278240094,5.3974432278240094,5.3974432278240094,"-",3.7782102594768063,7850.0109276476333,134.67657653354766,1286.0665724404839,1.1594848826139745,-2.9088820873213997E-4,2.9088820873213997E-4,{"$f":"FI_T-Rechentabelle!AL275","v":5.1205151173860255},{"$f":"AP274","v":1.5310909651233828E-8}]
[1.7124999314546585E-2,6.2499995692633092E-5,1.1510676106678239,134.43125915527344,7850001.5,-1057910410320.4753,7850.0015000000003,null,{"$f":"C276","v":1.1510676106678239},{"$f":"AL274","v":1.1510675965806278},{"$f":"I276-J276","v":1.4087196076317809E-8},{"$f":"L274+KP_LR*(1+2*TA_SIM/TN_LR)*K276-KP_LR*K274","v":0.24531338012303003},"-",{"$f":"L276","v":0.24531338012303003},134.67657653354766,134.43125915527344,-3.9981511861242325E-6,-1.0708764057207604E-5,"-",-1.0708764057207604E-5,5.3974367456428585,5.3974260368788016,5.3974260368788016,5.3974432278240094,-1.7190945207801178E-5,15.651346503541467,15.651346503541467,15.651346503541467,"-",5.3974321368916174,5.3974321368916174,5.3974321368916174,"-",3.7782024958241318,7849.9947970582416,135.16720120836379,1290.7516929724745,1.1679328326894973,-2.9088820873213997E-4,2.9088820873213997E-4,{"$f":"FI_T-Rechentabelle!AL276","v":5.1120671673105029},{"$f":"K276","v":1.4087196076317809E-8}]
[1.7187498509883881E-2,6.2499995692633092E-5,1.1594848960620461,134.92189025878906,7850001.5,-1034912357922.2042,7850.0015000000003,null,null,null,null,null,"-",{"$f":"N276+(L278-L276)/2","v":0.24531318274072111},135.16720120836379,134.92189025878906,2.2331659863539244E-6,4.2675833525273807E-6,"-",4.2675833525273807E-6,5.3974367456428585,5.3974410132262109,5.3974410132262109,5.3974321368916174,8.8763345935660709E-6,15.653192865743215,15.653192865743215,15.653192865743215,"-",5.3974378635590972,5.3974378635590972,5.3974378635590972,"-",3.7782065044913677,7850.0031258910603,135.65782640373197,1295.4368184753707,1.1764114468397306,-2.9088820873213997E-4,2.9088820873213997E-4,{"$f":"FI_T-Rechentabelle!AL277","v":5.1035885531602698},{"$f":"AP276","v":1.4087196076317809E-8}]
[1.7249999567866325E-2,6.2499995692633092E-5,1.1679328455196354,135.41250610351563,7850001.5,-1011914305523.933,7850.0015000000003,null,{"$f":"C278","v":1.1679328455196354},{"$f":"AL276","v":1.1679328326894973},{"$f":"I278-J278","v":1.2830138063080199E-8},{"$f":"L276+KP_LR*(1+2*TA_SIM/TN_LR)*K278-KP_LR*K276","v":0.24531298535841223},"-",{"$f":"L278","v":0.24531298535841223},135.65782640373197,135.41250610351563,-7.3148579247117596E-6,-1.9629235705099899E-5,"-",-1.9629235705099899E-5,5.3974367456428585,5.3974171164071532,5.3974171164071532,5.3974378635590972,-2.0747151944000564E-5,15.651074670855522,15.651074670855522,15.651074670855522,"-",5.3974244782997784,5.3974244782997784,5.3974244782997784,"-",3.7781971348098446,7849.9836584455525,136.14845038238482,1300.1219323594917,1.1849207249886298,-2.9088820873213997E-4,2.9088820873213997E-4,{"$f":"FI_T-Rechentabelle!AL278","v":5.0950792750113703},{"$f":"K278","v":1.2830138063080199E-8}]
[1.7312498763203621E-2,6.2499995692633092E-5,1.1764114590405914,135.90313720703125,7850001.5,-988916253125.66174,7850.0015000000003,null,null,null,null,null,"-",{"$f":"N278+(L280-L278)/2","v":0.24531277587917735},136.14845038238482,135.90313720703125,-3.9947440200194251E-7,-3.7103884039187144E-6,"-",-3.7103884039187144E-6,5.3974367456428585,5.3974330352544548,5.3974330352544548,5.3974244782997784,8.5569546763863968E-6,15.65314763986769,15.65314763986769,15.65314763986769,"-",5.3974299989156984,5.3974299989156984,5.3974299989156984,"-",3.7782009992409886,7849.9916875981471,136.6390748628597,1304.8070510356597,1.1934606671675585,-2.9088820873213997E-4,2.9088820873213997E-4,{"$f":"FI_T-Rechentabelle!AL279","v":5.0865393328324418},{"$f":"AP278","v":1.2830138063080199E-8}]
[1.7374997958540916E-2,6.2499995692633092E-5,1.1849207366249146,136.39376831054688,7850001.5,-965918200727.39063,7850.0015000000003,null,{"$f":"C280","v":1.1849207366249146},{"$f":"AL278","v":1.1849207249886298},{"$f":"I280-J280","v":1.1636284824589893E-8},{"$f":"L278+KP_LR*(1+2*TA_SIM/TN_LR)*K280-KP_LR*K278","v":0.24531256639994248},"-",{"$f":"L280","v":0.24531256639994248},136.6390748628597,136.39376831054688,6.0140871198655077E-6,1.260980314289038E-5,"-",1.260980314289038E-5,5.3974367456428585,5.3974493554460015,5.3974493554460015,5.3974299989156984,1.9356530303049624E-5,15.653941915845792,15.653941915845792,15.653941915845792,"-",5.3974424869997648,5.3974424869997648,5.3974424869997648,"-",3.7782097408998352,7850.0098501970388,137.12970047849703,1309.4921805518309,1.2020312734474645,-2.9088820873213997E-4,2.9088820873213997E-4,{"$f":"FI_T-Rechentabelle!AL280","v":5.0779687265525357},{"$f":"K280","v":1.1636284824589893E-8}]
[1.7437499016523361E-2,6.2499995692633092E-5,1.1934606782726047,136.88438415527344,7850001.5,-942920148329.11938,7850.0015000000003,null,null,null,null,null,"-",{"$f":"N280+(L282-L280)/2","v":0.24531236590224409},137.12970047849703,136.88438415527344,-3.9573213541643781E-6,-1.1449044593202705E-5,"-",-1.1449044593202705E-5,5.3974367456428585,5.3974252965982652,5.3974252965982652,5.3974424869997648,-1.7190401499611596E-5,15.651344394333226,15.651344394333226,15.651344394333226,"-",5.3974313964181517,5.3974313964181517,5.3974313964181517,"-",3.778201977492706,7849.9937201178182,137.62032508600439,{"$f":"AJ281/(2*PI())*60","v":1314.1773004410697},1.2106325437653398,-2.9088820873213997E-4,2.9088820873213997E-4,{"$f":"FI_T-Rechentabelle!AL281","v":5.0693674562346605},{"$f":"AP280","v":1.1636284824589893E-8}]
[1.7499998211860657E-2,6.2499995692633092E-5,1.2020312839836615,137.37501525878906,7850001.5,-919922095930.84827,7850.0015000000003,null,{"$f":"C282","v":1.2020312839836615},{"$f":"AL280","v":1.2020312734474645},{"$f":"I282-J282","v":1.053619702595654E-8},{"$f":"L280+KP_LR*(1+2*TA_SIM/TN_LR)*K282-KP_LR*K280","v":0.24531216540454573},"-",{"$f":"L282","v":0.24531216540454573},137.62032508600439,137.37501525878906,2.3381892333418364E-6,3.7015805909576431E-6,"-",3.7015805909576431E-6,5.3974367456428585,5.3974404472234498,5.3974404472234498,5.3974313964181517,9.0508052981164155E-6,15.65320329151707,15.65320329151707,15.65320329151707,"-",5.3974372356473754,5.3974372356473754,5.3974372356473754,"-",3.7782060649531624,7850.0022126598005,138.11095022429564,1318.8624253989219,1.2192644781543582,-2.9088820873213997E-4,2.9088820873213997E-4,{"$f":"FI_T-Rechentabelle!AL282","v":5.0607355218456416},{"$f":"K282","v":1.053619702595654E-8}]
[1.7562499269843102E-2,6.2499995692633092E-5,1.2106325537580855,137.86563110351563,7850001.5,-896924043532.57703,7850.0015000000003,null,null,null,null,null,"-",{"$f":"N282+(L284-L282)/2","v":0.24531192404262014},138.11095022429564,137.86563110351563,-7.1967373855841288E-6,-2.0136107826158211E-5,"-",-2.0136107826158211E-5,5.3974367456428585,5.397416609535032,5.397416609535032,5.3974372356473754,-2.0626112343435921E-5,15.651081572571782,15.651081572571782,15.651081572571782,"-",5.3974239284781209,5.3974239284781209,5.3974239284781209,"-",3.7781967499346845,7849.9828587880411,138.60157415296987,1323.5475388057819,1.2279270765389187,-2.9088820873213997E-4,2.9088820873213997E-4,{"$f":"FI_T-Rechentabelle!AL283","v":5.0520729234610817},{"$f":"AP282","v":1.053619702595654E-8}]
[1.7624998465180397E-2,6.2499995692633092E-5,1.2192644875958765,138.35626220703125,7850001.5,-873925991134.30579,7850.0015000000003,null,{"$f":"C284","v":1.2192644875958765},{"$f":"AL282","v":1.2192644781543582},{"$f":"I284-J284","v":9.4415182338991599E-9},{"$f":"L282+KP_LR*(1+2*TA_SIM/TN_LR)*K284-KP_LR*K282","v":0.24531168268069456},"-",{"$f":"L284","v":0.24531168268069456},138.60157415296987,138.35626220703125,-2.632579310102301E-7,-4.1421412295357044E-6,"-",-4.1421412295357044E-6,5.3974367456428585,5.3974326035016293,5.3974326035016293,5.3974239284781209,8.6750235084309679E-6,15.65315455395814,15.65315455395814,15.65315455395814,"-",5.3974295252674809,5.3974295252674809,5.3974295252674809,"-",3.7782006676872362,7849.9909987268557,139.0921985903903,1328.2326570708103,1.2366203389508181,-2.9088820873213997E-4,2.9088820873213997E-4,{"$f":"FI_T-Rechentabelle!AL284","v":5.0433796610491823},{"$f":"K284","v":9.4415182338991599E-9}]
[1.7687499523162842E-2,6.2499995692633092E-5,1.2279270854970341,138.84689331054688,7850001.5,-850927938736.03467,7850.0015000000003,null,null,null,null,null,"-",{"$f":"N284+(L286-L284)/2","v":0.24531149683370906},139.0921985903903,138.84689331054688,6.2169903003450599E-6,1.2381965043993281E-5,"-",1.2381965043993281E-5,5.3974367456428585,5.3974491276079029,5.3974491276079029,5.3974295252674809,1.9602340421975839E-5,15.653958256453249,15.653958256453249,15.653958256453249,"-",5.3974421719387209,5.3974421719387209,5.3974421719387209,"-",3.7782095203571044,7850.0093919740375,139.58282417738869,1332.9177863134998,1.2453442654619049,-2.9088820873213997E-4,2.9088820873213997E-4,{"$f":"FI_T-Rechentabelle!AL285","v":5.0346557345380951},{"$f":"AP284","v":9.4415182338991599E-9}]
[1.7749998718500137E-2,6.2499995692633092E-5,1.2366203474615589,139.33750915527344,7850001.5,-827929886337.76343,7850.0015000000003,null,{"$f":"C286","v":1.2366203474615589},{"$f":"AL284","v":1.2366203389508181},{"$f":"I286-J286","v":8.5107407787887723E-9},{"$f":"L284+KP_LR*(1+2*TA_SIM/TN_LR)*K286-KP_LR*K284","v":0.24531131098672357},"-",{"$f":"L286","v":0.24531131098672357},139.58282417738869,139.33750915527344,-3.7111285280388984E-6,-1.1516602571934118E-5,"-",-1.1516602571934118E-5,5.3974367456428585,5.3974252290402864,5.3974252290402864,5.3974421719387209,-1.6942898434457732E-5,15.651361316844836,15.651361316844836,15.651361316844836,"-",5.3974312410365046,5.3974312410365046,5.3974312410365046,"-",3.778201868725553,7849.9934941316278,140.0734487707719,1337.6029060678632,1.2540988560100781,-2.9088820873213997E-4,2.9088820873213997E-4,{"$f":"FI_T-Rechentabelle!AL286","v":5.0259011439899224},{"$f":"K286","v":8.5107407787887723E-9}]
[1.7812497913837433E-2,6.2499995692633092E-5,1.2453442734894506,139.82814025878906,7850001.5,-804931833939.49231,7850.0015000000003,null,null,null,null,null,"-",{"$f":"N286+(L288-L286)/2","v":0.24531108212585417},140.0734487707719,139.82814025878906,2.5701430104163592E-6,3.6575931699356161E-6,"-",3.6575931699356161E-6,5.3974367456428585,5.3974404032360281,5.3974404032360281,5.3974312410365046,9.1621995235158238E-6,15.653210868481253,15.653210868481253,15.653210868481253,"-",5.397437152132972,5.397437152132972,5.397437152132972,"-",3.7782060064930802,7850.002091196925,140.56407390147172,1342.288030953222,1.2628841106289201,-2.9088820873213997E-4,2.9088820873213997E-4,{"$f":"FI_T-Rechentabelle!AL287","v":5.0171158893710803},{"$f":"AP286","v":8.5107407787887723E-9}]
[1.7874998971819878E-2,6.2499995692633092E-5,1.2540988635807091,140.31875610351563,7850001.5,-781933781541.22107,7850.0015000000003,null,{"$f":"C288","v":1.2540988635807091},{"$f":"AL286","v":1.2540988560100781},{"$f":"I288-J288","v":7.5706310109779906E-9},{"$f":"L286+KP_LR*(1+2*TA_SIM/TN_LR)*K288-KP_LR*K286","v":0.24531085326498475},"-",{"$f":"L288","v":0.24531085326498475},140.56407390147172,140.31875610351563,-6.9446911084014573E-6,-2.007211338545518E-5,"-",-2.007211338545518E-5,5.3974367456428585,5.3974166735294729,5.3974166735294729,5.397437152132972,-2.047860349918551E-5,15.651091960533499,15.651091960533499,15.651091960533499,"-",5.3974239401307154,5.3974239401307154,5.3974239401307154,"-",3.7781967580915006,7849.9828757355081,141.05469783120517,1346.9731443701971,1.2717000292433704,-2.9088820873213997E-4,2.9088820873213997E-4,{"$f":"FI_T-Rechentabelle!AL288","v":5.0082999707566298},{"$f":"K288","v":7.5706310109779906E-9}]
[1.7937498167157173E-2,6.2499995692633092E-5,1.2628841177353347,140.80938720703125,7850001.5,-758935729142.94995,7850.0015000000003,null,null,null,null,null,"-",{"$f":"N288+(L290-L288)/2","v":0.24531063487376276},141.05469783120517,140.80938720703125,1.0699835684135905E-8,-3.9606102330792636E-6,"-",-3.9606102330792636E-6,5.3974367456428585,5.3974327850326258,5.3974327850326258,5.3974239401307154,8.8449019104430704E-6,15.653166829955504,15.653166829955504,15.653166829955504,"-",5.3974296465190443,5.3974296465190443,5.3974296465190443,"-",3.7782007525633308,7849.991175074445,141.54532227964734,1351.6582627404755,1.2805466118858484,-2.9088820873213997E-4,2.9088820873213997E-4,{"$f":"FI_T-Rechentabelle!AL289","v":4.9994533881141514},{"$f":"AP288","v":7.5706310109779906E-9}]
[1.7999999225139618E-2,6.2499995692633092E-5,1.271700035953327,141.30001831054688,7850001.5,-735937676744.67871,7850.0015000000003,null,{"$f":"C290","v":1.271700035953327},{"$f":"AL288","v":1.2717000292433704},{"$f":"I290-J290","v":6.7099565903561142E-9},{"$f":"L288+KP_LR*(1+2*TA_SIM/TN_LR)*K290-KP_LR*K288","v":0.24531041648254073},"-",{"$f":"L290","v":0.24531041648254073},141.54532227964734,141.30001831054688,6.4473820771127066E-6,1.2518763716899877E-5,"-",1.2518763716899877E-5,5.3974367456428585,5.3974492644065757,5.3974492644065757,5.3974296465190443,1.9617887531353517E-5,15.653959728477695,15.653959728477695,15.653959728477695,"-",5.3974423032206769,5.3974423032206769,5.3974423032206769,"-",3.7782096122544737,7850.0095829097718,142.03594787857921,1356.3433920971213,1.2894238586282596,-2.9088820873213997E-4,2.9088820873213997E-4,{"$f":"FI_T-Rechentabelle!AL290","v":4.9905761413717409},{"$f":"K290","v":6.7099565903561142E-9}]
[1.8062498420476913E-2,6.2499995692633092E-5,1.2805466182346863,141.79063415527344,7850001.5,-712939624346.40747,7850.0015000000003,null,null,null,null,null,"-",{"$f":"N290+(L292-L290)/2","v":0.24531022536103614},142.03594787857921,141.79063415527344,-3.4979447320893087E-6,-1.1367685459823611E-5,"-",-1.1367685459823611E-5,5.3974367456428585,5.3974253779573989,5.3974253779573989,5.3974423032206769,-1.6925263278011471E-5,15.651362968431524,15.651362968431524,15.651362968431524,"-",5.3974313836959809,5.3974313836959809,5.3974313836959809,"-",3.7782019685871862,7849.9937016147642,142.52657248493014,1361.0285119753173,1.2983317694085676,-2.9088820873213997E-4,2.9088820873213997E-4,{"$f":"FI_T-Rechentabelle!AL291","v":4.981668230591433},{"$f":"AP290","v":6.7099565903561142E-9}]
[1.8124999478459358E-2,6.2499995692633092E-5,1.2894238645794127,142.28126525878906,7850001.5,-689941571948.13635,7850.0015000000003,null,{"$f":"C292","v":1.2894238645794127},{"$f":"AL290","v":1.2894238586282596},{"$f":"I292-J292","v":5.9511531258493733E-9},{"$f":"L290+KP_LR*(1+2*TA_SIM/TN_LR)*K292-KP_LR*K290","v":0.24531003423953154},"-",{"$f":"L292","v":0.24531003423953154},142.52657248493014,142.28126525878906,2.8080984577627532E-6,3.9218939582836205E-6,"-",3.9218939582836205E-6,5.3974367456428585,5.3974406675368165,5.3974406675368165,5.3974313836959809,9.2838408356499258E-6,15.653220048216035,15.653220048216035,15.653220048216035,"-",5.3974373732707139,5.3974373732707139,5.3974373732707139,"-",3.7782061612894995,7850.0024128184068,143.01719763573129,1365.7136370526298,1.3072703442608009,-2.9088820873213997E-4,2.9088820873213997E-4,{"$f":"FI_T-Rechentabelle!AL292","v":4.9727296557391991},{"$f":"K292","v":5.9511531258493733E-9}]
[1.8187498673796654E-2,6.2499995692633092E-5,1.2983317749875058,142.77189636230469,7850001.5,-666943519549.86511,7850.0015000000003,null,null,null,null,null,"-",{"$f":"N292+(L294-L292)/2","v":0.24530981619592857},143.01719763573129,142.77189636230469,8.5427693363726576E-6,1.9286228469547007E-5,"-",1.9286228469547007E-5,5.3974367456428585,5.3974560318713278,5.3974560318713278,5.3974373732707139,1.8658600613896681E-5,15.653913005510004,15.653913005510004,15.653913005510004,"-",5.3974494110775622,5.3974494110775622,5.3974494110775622,"-",3.7782145877542934,7850.0199205366571,143.50782388076485,1370.3987725790921,1.3162395832533487,-2.9088820873213997E-4,2.9088820873213997E-4,{"$f":"FI_T-Rechentabelle!AL293","v":4.963760416746652},{"$f":"AP292","v":5.9511531258493733E-9}]
[1.8249997869133949E-2,6.2499995692633092E-5,1.3072703494589659,143.26251220703125,7850001.5,-643945467151.59399,7850.0015000000003,null,{"$f":"C294","v":1.3072703494589659},{"$f":"AL292","v":1.3072703442608009},{"$f":"I294-J294","v":5.1981650095456189E-9},{"$f":"L292+KP_LR*(1+2*TA_SIM/TN_LR)*K294-KP_LR*K292","v":0.24530959815232559},"-",{"$f":"L294","v":0.24530959815232559},143.50782388076485,143.26251220703125,-2.0755812784045702E-6,-5.8122023415132833E-6,"-",-5.8122023415132833E-6,5.3974367456428585,5.3974309334405168,5.3974309334405168,5.3974494110775622,-1.8477637045322126E-5,15.651271710152098,15.651271710152098,15.651271710152098,"-",5.3974374900214039,5.3974374900214039,5.3974374900214039,"-",3.7782062430149823,7850.0025826199499,143.99844904217861,1375.0838977577478,1.3252394863184849,-2.9088820873213997E-4,2.9088820873213997E-4,{"$f":"FI_T-Rechentabelle!AL294","v":4.9547605136815154},{"$f":"K294","v":5.1981650095456189E-9}]
[1.8312498927116394E-2,6.2499995692633092E-5,1.3162395879937931,143.75314331054688,7850001.5,-620947414753.32275,7850.0015000000003,null,null,null,null,null,"-",{"$f":"N294+(L296-L294)/2","v":0.24530924573140889},143.99844904217861,143.75314331054688,3.5140996885729692E-6,7.9903785272329039E-6,"-",7.9903785272329039E-6,5.3974367456428585,5.3974447360213853,5.3974447360213853,5.3974374900214039,7.2459999813645481E-6,15.653090900544647,15.653090900544647,15.653090900544647,"-",5.3974421648601014,5.3974421648601014,5.3974421648601014,"-",3.7782095154020707,7850.0093816789331,144.48907462853353,1379.7690269942925,1.3342700534827683,-2.9088820873213997E-4,2.9088820873213997E-4,{"$f":"FI_T-Rechentabelle!AL295","v":4.9457299465172317},{"$f":"AP294","v":5.1981650095456189E-9}]
[1.837499812245369E-2,6.2499995692633092E-5,1.3252394905919871,144.24375915527344,7850001.5,-597949362355.05151,7850.0015000000003,null,{"$f":"C296","v":1.3252394905919871},{"$f":"AL294","v":1.3252394863184849},{"$f":"I296-J296","v":4.2735022187656568E-9},{"$f":"L294+KP_LR*(1+2*TA_SIM/TN_LR)*K296-KP_LR*K294","v":0.24530889331049219},"-",{"$f":"L296","v":0.24530889331049219},144.48907462853353,144.24375915527344,-6.5799495985174872E-6,-1.6991886482454941E-5,"-",-1.6991886482454941E-5,5.3974367456428585,5.3974197537563757,5.3974197537563757,5.3974421648601014,-2.2411103725694659E-5,15.650967232748433,15.650967232748433,15.650967232748433,"-",5.3974277060835041,5.3974277060835041,5.3974277060835041,"-",3.7781993942584524,7849.9883529159615,144.97969890059079,1384.454143680219,1.3433312846640553,-2.9088820873213997E-4,2.9088820873213997E-4,{"$f":"FI_T-Rechentabelle!AL296","v":4.9366687153359452},{"$f":"K296","v":4.2735022187656568E-9}]
[1.8437499180436134E-2,6.2499995692633092E-5,1.334270057253548,144.73439025878906,7850001.5,-574951309956.7804,7850.0015000000003,null,null,null,null,null,"-",{"$f":"N296+(L298-L296)/2","v":0.24530848290026919},144.97969890059079,144.73439025878906,-1.5890145732555538E-7,-2.1592848789253261E-6,"-",-2.1592848789253261E-6,5.3974367456428585,5.3974345863579796,5.3974345863579796,5.3974277060835041,6.8802744754847822E-6,15.653036171293122,15.653036171293122,15.653036171293122,"-",5.3974321449702627,5.3974321449702627,5.3974321449702627,"-",3.7782025014791838,7849.9948088077781,145.47032357614128,1389.1392642192222,1.3524231798875641,-2.9088820873213997E-4,2.9088820873213997E-4,{"$f":"FI_T-Rechentabelle!AL297","v":4.9275768201124359},{"$f":"AP296","v":4.2735022187656568E-9}]
[1.849999837577343E-2,6.2499995692633092E-5,1.3433312879784758,145.22502136230469,7850001.5,-551953257558.50916,7850.0015000000003,null,{"$f":"C298","v":1.3433312879784758},{"$f":"AL296","v":1.3433312846640553},{"$f":"I298-J298","v":3.3144205158208706E-9},{"$f":"L296+KP_LR*(1+2*TA_SIM/TN_LR)*K298-KP_LR*K296","v":0.24530807249004621},"-",{"$f":"L298","v":0.24530807249004621},145.47032357614128,145.22502136230469,5.8586534521509748E-6,1.3205849859494812E-5,"-",1.3205849859494812E-5,5.3974367456428585,5.3974499514927183,5.3974499514927183,5.3974321449702627,1.7806522455643403E-5,15.653836438838518,15.653836438838518,15.653836438838518,"-",5.3974436330492672,5.3974436330492672,5.3974436330492672,"-",3.7782105431344868,7850.0115170049585,145.96094929595409,1393.8243947301958,1.3615457392185613,-2.9088820873213997E-4,2.9088820873213997E-4,{"$f":"FI_T-Rechentabelle!AL298","v":4.9184542607814388},{"$f":"K298","v":3.3144205158208706E-9}]
[1.8562499433755875E-2,6.2499995692633092E-5,1.3524231827667705,145.71563720703125,7850001.5,-528955205160.23798,7850.0015000000003,null,null,null,null,null,"-",{"$f":"N298+(L300-L298)/2","v":0.24530765061130991},145.96094929595409,145.71563720703125,-4.4383115209711832E-6,-1.1724258382005117E-5,"-",-1.1724258382005117E-5,5.3974367456428585,5.3974250213844766,5.3974250213844766,5.3974436330492672,-1.8611664790668669E-5,{"$f":"Z298+KP_SR*(1+TA_SIM/TN_SR)*Y299-KP_SR*Y298","v":15.651245295225426},15.651245295225426,15.651245295225426,"-",5.3974316255235966,5.3974316255235966,5.3974316255235966,"-",3.7782021378665172,7849.9940533274812,146.45157392428706,1398.5095148183045,1.3706989625888293,-2.9088820873213997E-4,2.9088820873213997E-4,{"$f":"FI_T-Rechentabelle!AL299","v":4.9093010374111712},{"$f":"AP298","v":3.3144205158208706E-9}]
[1.862499862909317E-2,6.2499995692633092E-5,1.3615457416184322,146.20626831054688,7850001.5,-505957152761.9668,7850.0015000000003,null,{"$f":"C300","v":1.3615457416184322},{"$f":"AL298","v":1.3615457392185613},{"$f":"I300-J300","v":2.399870968616824E-9},{"$f":"L298+KP_LR*(1+2*TA_SIM/TN_LR)*K300-KP_LR*K298","v":0.2453072287325736},"-",{"$f":"L300","v":0.2453072287325736},146.45157392428706,146.20626831054688,1.6149923851571657E-6,2.689098775180322E-6,"-",2.689098775180322E-6,5.3974367456428585,5.3974394347416332,5.3974394347416332,5.3974316255235966,7.8092180366695629E-6,15.653114481537632,15.653114481537632,15.653114481537632,"-",5.3974366637287821,5.3974366637287821,5.3974366637287821,"-",3.7782056646101472,7850.0013808646308,146.94219901059111,1403.1946392797154,1.3798828500269913,-2.9088820873213997E-4,2.9088820873213997E-4,{"$f":"FI_T-Rechentabelle!AL300","v":4.900117149973009},{"$f":"K300","v":2.399870968616824E-9}]
[1.8687497824430466E-2,6.2499995692633092E-5,1.3706989645334611,146.69688415527344,7850001.5,-482959100363.69562,7850.0015000000003,null,null,null,null,null,"-",{"$f":"N300+(L302-L300)/2","v":0.24530676987665209},146.94219901059111,146.69688415527344,-8.0854410100528185E-6,-2.1748567715793361E-5,"-",-2.1748567715793361E-5,5.3974367456428585,5.3974149970751428,5.3974149970751428,5.3974366637287821,-2.1666653639229594E-5,15.651004927902862,15.651004927902862,15.651004927902862,"-",5.3974226852425629,5.3974226852425629,5.3974226852425629,"-",3.7781958796697936,7849.9810506332706,147.43282282625569,1407.8797516074128,1.3890974014536324,-2.9088820873213997E-4,2.9088820873213997E-4,{"$f":"FI_T-Rechentabelle!AL301","v":4.8909025985463677},{"$f":"AP300","v":2.399870968616824E-9}]
[1.874999888241291E-2,6.2499995692633092E-5,1.3798828515118566,147.18751525878906,7850001.5,-459961047965.42444,7850.0015000000003,null,{"$f":"C302","v":1.3798828515118566},{"$f":"AL300","v":1.3798828500269913},{"$f":"I302-J302","v":1.4848653417942614E-9},{"$f":"L300+KP_LR*(1+2*TA_SIM/TN_LR)*K302-KP_LR*K300","v":0.24530631102073058},"-",{"$f":"L302","v":0.24530631102073058},147.43282282625569,147.18751525878906,-1.2564458984343219E-6,-6.2387219159332965E-6,"-",-6.2387219159332965E-6,5.3974367456428585,5.3974305069209425,5.3974305069209425,5.3974226852425629,7.8216783796491995E-6,15.653089452671221,15.653089452671221,15.653089452671221,"-",5.3974277314866788,5.3974277314866788,5.3974277314866788,"-",3.7781994120406748,7849.9883898621947,147.92344710062207,1412.5648683153897,1.3983426168974213,-2.9088820873213997E-4,2.9088820873213997E-4,{"$f":"FI_T-Rechentabelle!AL302","v":4.8816573831025787},{"$f":"K302","v":1.4848653417942614E-9}]
[1.8812498077750206E-2,6.2499995692633092E-5,1.3890974025536189,147.67814636230469,7850001.5,-436962995567.15326,7850.0015000000003,null,null,null,null,null,"-",{"$f":"N302+(L304-L302)/2","v":0.24530593161518641},147.92344710062207,147.67814636230469,5.1932977953583759E-6,9.9651662333506358E-6,"-",9.9651662333506358E-6,5.3974367456428585,5.397446710809092,5.397446710809092,5.3974277314866788,1.8979322413237298E-5,15.653908156997577,15.653908156997577,15.653908156997577,"-",5.3974399762108165,5.3974399762108165,5.3974399762108165,"-",3.7782079833475715,7850.0061985197817,148.41407248802955,1417.2499956521262,1.4076184964279232,-2.9088820873213997E-4,2.9088820873213997E-4,{"$f":"FI_T-Rechentabelle!AL303","v":4.8723815035720772},{"$f":"AP302","v":1.4848653417942614E-9}]
[1.8874999135732651E-2,6.2499995692633092E-5,1.3983426176587486,148.16876220703125,7850001.5,-413964943168.88208,7850.0015000000003,null,{"$f":"C304","v":1.3983426176587486},{"$f":"AL302","v":1.3983426168974213},{"$f":"I304-J304","v":7.6132722348631887E-10},{"$f":"L302+KP_LR*(1+2*TA_SIM/TN_LR)*K304-KP_LR*K302","v":0.24530555220964223},"-",{"$f":"L304","v":0.24530555220964223},148.41407248802955,148.16876220703125,-4.7287886673075263E-6,-1.4167528293608805E-5,"-",-1.4167528293608805E-5,5.3974367456428585,5.3974225781145648,5.3974225781145648,5.3974399762108165,-1.7398096251675099E-5,15.651322145623466,15.651322145623466,15.651322145623466,"-",5.3974287516325896,5.3974287516325896,5.3974287516325896,"-",3.7782001261428126,7849.989873556643,148.90469685512684,1421.9351132456184,1.4169250399813687,-2.9088820873213997E-4,2.9088820873213997E-4,{"$f":"FI_T-Rechentabelle!AL304","v":4.8630749600186318},{"$f":"K304","v":7.6132722348631887E-10}]
[1.8937498331069946E-2,6.2499995692633092E-5,1.4076184968272447,148.65939331054688,7850001.5,-390966890770.61084,7850.0015000000003,null,null,null,null,null,"-",{"$f":"N304+(L306-L304)/2","v":0.24530516800787239},148.90469685512684,148.65939331054688,1.6234278916726907E-6,9.4017607183466799E-7,"-",9.4017607183466799E-7,5.3974367456428585,5.3974376858189306,5.3974376858189306,5.3974287516325896,8.9341863409586608E-6,15.653187217550219,15.653187217550219,15.653187217550219,"-",5.3974345156237762,5.3974345156237762,5.3974345156237762,"-",3.7782041609366432,7849.9982566728504,149.39532174616889,1426.6202358424143,1.4262622475905042,-2.9088820873213997E-4,2.9088820873213997E-4,{"$f":"FI_T-Rechentabelle!AL305","v":4.8537377524094962},{"$f":"AP304","v":7.6132722348631887E-10}]
[1.8999999389052391E-2,6.2499995692633092E-5,1.416925040059108,149.15000915527344,7850001.5,-367968838372.33966,7850.0015000000003,null,{"$f":"C306","v":1.416925040059108},{"$f":"AL304","v":1.4169250399813687},{"$f":"I306-J306","v":7.7739370496487936E-11},{"$f":"L304+KP_LR*(1+2*TA_SIM/TN_LR)*K306-KP_LR*K304","v":0.24530478380610254},"-",{"$f":"L306","v":0.24530478380610254},149.39532174616889,149.15000915527344,-7.8070893607673497E-6,-2.2804496431418428E-5,"-",-2.2804496431418428E-5,5.3974367456428585,5.3974139411464268,5.3974139411464268,5.3974345156237762,-2.0574477349377673E-5,15.651077405554204,15.651077405554204,15.651077405554204,"-",5.3974212417674226,5.3974212417674226,5.3974212417674226,"-",3.7781948692371956,7849.9789512511852,149.88594543062209,1431.3053469171355,1.4356301191799181,-2.9088820873213997E-4,2.9088820873213997E-4,{"$f":"FI_T-Rechentabelle!AL306","v":4.8443698808200821},{"$f":"K306","v":7.7739370496487936E-11}]
[1.9062498584389687E-2,6.2499995692633092E-5,1.4262622473543383,149.64064025878906,7850001.5,-344970785974.06848,7850.0015000000003,null,null,null,null,null,"-",{"$f":"N306+(L308-L306)/2","v":0.24530445642635468},149.88594543062209,149.64064025878906,-7.1540665658176295E-7,-6.5543568819534754E-6,"-",-6.5543568819534754E-6,5.3974367456428585,5.3974301912859763,5.3974301912859763,5.3974212417674226,8.9495185537913358E-6,15.653166543849734,15.653166543849734,15.653166543849734,"-",5.3974270156503605,5.3974270156503605,5.3974270156503605,"-",3.7781989109552523,7849.9873487538998,150.37656963991921,1435.9904630037468,1.4450286547824132,-2.9088820873213997E-4,2.9088820873213997E-4,{"$f":"FI_T-Rechentabelle!AL307","v":4.8349713452175873},{"$f":"AP306","v":7.7739370496487936E-11}]
[1.9124997779726982E-2,6.2499995692633092E-5,1.4356301187129354,150.13127136230469,7850001.5,-321972733575.7973,7850.0015000000003,null,{"$f":"C308","v":1.4356301187129354},{"$f":"AL306","v":1.4356301191799181},{"$f":"I308-J308","v":-4.6698267475164812E-10},{"$f":"L306+KP_LR*(1+2*TA_SIM/TN_LR)*K308-KP_LR*K306","v":0.24530412904660678},"-",{"$f":"L308","v":0.24530412904660678},150.37656963991921,150.13127136230469,5.8514320926406072E-6,1.0081175234836995E-5,"-",1.0081175234836995E-5,5.3974367456428585,5.3974468268180935,5.3974468268180935,5.3974270156503605,1.9811167732974866E-5,15.653966027602715,15.653966027602715,15.653966027602715,"-",5.3974397970488974,5.3974397970488974,5.3974397970488974,"-",3.7782078579342278,7850.0059379476988,150.86719501104093,1440.6755901849658,1.4544578544706033,-2.9088820873213997E-4,2.9088820873213997E-4,{"$f":"FI_T-Rechentabelle!AL308","v":4.825542145529397},{"$f":"K308","v":-4.6698267475164812E-10}]
[1.9187498837709427E-2,6.2499995692633092E-5,1.4450286541348996,150.62188720703125,7850001.5,-298974681177.52612,7850.0015000000003,null,null,null,null,null,"-",{"$f":"N308+(L310-L308)/2","v":0.2453038776924604},150.86719501104093,150.62188720703125,-3.9263172197934182E-6,-1.3521593478910882E-5,"-",-1.3521593478910882E-5,5.3974367456428585,5.3974232240493798,5.3974232240493798,5.3974397970488974,-1.6572999517627807E-5,15.651381086250803,15.651381086250803,15.651381086250803,"-",5.3974291047911445,5.3974291047911445,5.3974291047911445,"-",3.7782003733538008,7849.9903871884489,151.35781941024021,1445.3607080850093,1.4639177181837433,-2.9088820873213997E-4,2.9088820873213997E-4,{"$f":"FI_T-Rechentabelle!AL309","v":4.8160822818162572},{"$f":"AP308","v":-4.6698267475164812E-10}]
[1.9249998033046722E-2,6.2499995692633092E-5,1.4544578536202306,151.11251831054688,7850001.5,-275976628779.25494,7850.0015000000003,null,{"$f":"C310","v":1.4544578536202306},{"$f":"AL308","v":1.4544578544706033},{"$f":"I310-J310","v":-8.5037266117637955E-10},{"$f":"L308+KP_LR*(1+2*TA_SIM/TN_LR)*K310-KP_LR*K308","v":0.24530362633831401},"-",{"$f":"L310","v":0.24530362633831401},151.35781941024021,151.11251831054688,2.5266449767968879E-6,2.0396384903995747E-6,"-",2.0396384903995747E-6,5.3974367456428585,5.3974387852813486,5.3974387852813486,5.3974291047911445,9.680490204111436E-6,15.653242023736814,15.653242023736814,15.653242023736814,"-",5.3974353502686956,5.3974353502686956,5.3974353502686956,"-",3.7782047451880865,7849.9994705757035,151.8484443771512,1450.0458314063001,1.4734082459573152,-2.9088820873213997E-4,2.9088820873213997E-4,{"$f":"FI_T-Rechentabelle!AL310","v":4.8065917540426852},{"$f":"K310","v":-8.5037266117637955E-10}]
[1.9312499091029167E-2,6.2499995692633092E-5,1.4639177171689286,151.60313415527344,7850001.5,-252978576380.98373,7850.0015000000003,null,null,null,null,null,"-",{"$f":"N310+(L312-L310)/2","v":0.24530339445005933},151.8484443771512,151.60313415527344,-6.8274277111868287E-6,-2.1289151803126268E-5,"-",-2.1289151803126268E-5,5.3974367456428585,5.3974154564910553,5.3974154564910553,5.3974353502686956,-1.9893777640334065E-5,15.651128880319632,15.651128880319632,15.651128880319632,"-",5.3974225155734432,5.3974225155734432,5.3974225155734432,"-",3.7781957609014101,7849.9808038674628,152.3390681773929,1454.7309435867201,1.4829294377184024,-2.9088820873213997E-4,2.9088820873213997E-4,{"$f":"FI_T-Rechentabelle!AL311","v":4.7970705622815979},{"$f":"AP310","v":-8.5037266117637955E-10}]
[1.9374998286366463E-2,6.2499995692633092E-5,1.4734082447809935,152.09376525878906,7850001.5,-229980523982.71255,7850.0015000000003,null,{"$f":"C312","v":1.4734082447809935},{"$f":"AL310","v":1.4734082459573152},{"$f":"I312-J312","v":-1.1763217067084497E-9},{"$f":"L310+KP_LR*(1+2*TA_SIM/TN_LR)*K312-KP_LR*K310","v":0.24530316256180465},"-",{"$f":"L312","v":0.24530316256180465},152.3390681773929,152.09376525878906,2.4395797026954824E-7,-4.852134734122185E-6,"-",-4.852134734122185E-6,5.3974367456428585,5.3974318935081245,5.3974318935081245,5.3974225155734432,9.3779346812539188E-6,15.653201111488125,15.653201111488125,15.653201111488125,"-",5.3974285658538825,5.3974285658538825,5.3974285658538825,"-",3.7781999960977175,7849.9896033611412,152.82969252760299,1459.4160610189508,1.4924812935013776,-2.9088820873213997E-4,2.9088820873213997E-4,{"$f":"FI_T-Rechentabelle!AL312","v":4.7875187064986227},{"$f":"K312","v":-1.1763217067084497E-9}]
[1.9437499344348907E-2,6.2499995692633092E-5,1.4829294364564254,152.58439636230469,7850001.5,-206982471584.44135,7850.0015000000003,null,null,null,null,null,"-",{"$f":"N312+(L314-L312)/2","v":0.24530303658356867},152.82969252760299,152.58439636230469,6.8712852794305945E-6,1.2172123406994431E-5,"-",1.2172123406994431E-5,5.3974367456428585,5.3974489177662655,5.3974489177662655,5.3974285658538825,2.0351912382921E-5,15.654009491694481,15.654009491694481,15.654009491694481,"-",5.3974416961199356,5.3974416961199356,5.3974416961199356,"-",3.7782091872839545,7850.0086999458845,153.32031807134962,1464.1011898486165,1.5020638133808371,-2.9088820873213997E-4,2.9088820873213997E-4,{"$f":"FI_T-Rechentabelle!AL313","v":4.7779361866191632},{"$f":"AP312","v":-1.1763217067084497E-9}]
[1.9499998539686203E-2,6.2499995692633092E-5,1.492481292195224,153.07501220703125,7850001.5,-183984419186.17017,7850.0015000000003,null,{"$f":"C314","v":1.492481292195224},{"$f":"AL312","v":1.4924812935013776},{"$f":"I314-J314","v":-1.3061536296987697E-9},{"$f":"L312+KP_LR*(1+2*TA_SIM/TN_LR)*K314-KP_LR*K312","v":0.24530291060533269},"-",{"$f":"L314","v":0.24530291060533269},153.32031807134962,153.07501220703125,-2.9537130217249796E-6,-1.1302961641025234E-5,"-",-1.1302961641025234E-5,5.3974367456428585,5.3974254426812172,5.3974254426812172,5.3974416961199356,-1.6253438718472069E-5,15.651409622551181,15.651409622551181,15.651409622551181,"-",5.3974312100304402,5.3974312100304402,5.3974312100304402,"-",3.7782018470213079,7849.9934490365831,153.8109426619144,1468.7863095760658,1.5116769972972066,-2.9088820873213997E-4,2.9088820873213997E-4,{"$f":"FI_T-Rechentabelle!AL314","v":4.7683230027027932},{"$f":"K314","v":-1.3061536296987697E-9}]
[1.9562497735023499E-2,6.2499995692633092E-5,1.5020638119973897,153.56564331054688,7850001.5,-160986366787.89899,7850.0015000000003,null,null,null,null,null,"-",{"$f":"N314+(L316-L314)/2","v":0.24530278044909831},153.8109426619144,153.56564331054688,3.4290815733584168E-6,4.3157674527426551E-6,"-",4.3157674527426551E-6,5.3974367456428585,5.3974410614103112,5.3974410614103112,5.3974312100304402,9.8513798709731759E-6,15.653260444011929,15.653260444011929,15.653260444011929,"-",5.3974375657593887,5.3974375657593887,5.3974375657593887,"-",3.7782062960315717,7850.0026927728468,154.30156783021269,1473.4714348204636,1.5213208452865949,-2.9088820873213997E-4,2.9088820873213997E-4,{"$f":"FI_T-Rechentabelle!AL315","v":4.7586791547134055},{"$f":"AP314","v":-1.3061536296987697E-9}]
[1.9624998793005943E-2,6.2499995692633092E-5,1.5116769958629221,154.05625915527344,7850001.5,-137988314389.62778,7850.0015000000003,null,{"$f":"C316","v":1.5116769958629221},{"$f":"AL314","v":1.5116769972972066},{"$f":"I316-J316","v":-1.434284468970759E-9},{"$f":"L314+KP_LR*(1+2*TA_SIM/TN_LR)*K316-KP_LR*K314","v":0.24530265029286397},"-",{"$f":"L316","v":0.24530265029286397},154.30156783021269,154.05625915527344,-6.0246463817748008E-6,-1.9048115257418889E-5,"-",-1.9048115257418889E-5,5.3974367456428585,5.3974176975276009,5.3974176975276009,5.3974375657593887,-1.9868231787789625E-5,15.651137146192148,15.651137146192148,15.651137146192148,"-",5.3974247475453314,5.3974247475453314,5.3974247475453314,"-",3.7781973232817316,7849.9840500347627,154.79219183333987,1478.1565489382974,1.5309953572761787,-2.9088820873213997E-4,2.9088820873213997E-4,{"$f":"FI_T-Rechentabelle!AL316","v":4.7490046427238219},{"$f":"K316","v":-1.434284468970759E-9}]
[1.9687497988343239E-2,6.2499995692633092E-5,1.5213208437918218,154.54689025878906,7850001.5,-114990261991.3566,7850.0015000000003,null,null,null,null,null,"-",{"$f":"N316+(L318-L316)/2","v":0.24530255766302059},154.79219183333987,154.54689025878906,9.8311221563562867E-7,-2.5782600641911308E-6,"-",-2.5782600641911308E-6,5.3974367456428585,5.3974341673827944,5.3974341673827944,5.3974247475453314,9.4198374629428372E-6,15.653210603910292,15.653210603910292,15.653210603910292,"-",5.397430824859824,5.397430824859824,5.397430824859824,"-",3.7782015774018767,7849.9928888466166,155.2828163888928,1482.8416683314081,1.5407005333004846,-2.9088820873213997E-4,2.9088820873213997E-4,{"$f":"FI_T-Rechentabelle!AL317","v":4.7392994666995154},{"$f":"AP316","v":-1.434284468970759E-9}]
[1.9749999046325684E-2,6.2499995692633092E-5,1.5309953557840883,155.03752136230469,7850001.5,-91992209593.085403,7850.0015000000003,null,{"$f":"C318","v":1.5309953557840883},{"$f":"AL316","v":1.5309953572761787},{"$f":"I318-J318","v":-1.492090451193917E-9},{"$f":"L316+KP_LR*(1+2*TA_SIM/TN_LR)*K318-KP_LR*K316","v":0.24530246503317721},"-",{"$f":"L318","v":0.24530246503317721},155.2828163888928,155.03752136230469,7.4384450670095248E-6,1.4185923121553221E-5,"-",1.4185923121553221E-5,5.3974367456428585,5.39745093156598,5.39745093156598,5.397430824859824,2.0106706156042264E-5,15.653998372143622,15.653998372143622,15.653998372143622,"-",5.3974437969283118,5.3974437969283118,5.3974437969283118,"-",3.7782106578498178,7850.0117553497139,155.77344212360217,1487.5267989846334,1.5504363734332098,-2.9088820873213997E-4,2.9088820873213997E-4,{"$f":"FI_T-Rechentabelle!AL318","v":4.7295636265667902},{"$f":"K318","v":-1.492090451193917E-9}]
[1.9812498241662979E-2,6.2499995692633092E-5,1.5407005318397218,155.52813720703125,7850001.5,-68994157194.814224,7850.0015000000003,null,null,null,null,null,"-",{"$f":"N318+(L320-L318)/2","v":0.24530241583627205},155.77344212360217,155.52813720703125,-2.5007346380334639E-6,-9.4431766961032387E-6,"-",-9.4431766961032387E-6,5.3974367456428585,5.3974273024661628,5.3974273024661628,5.3974437969283118,-1.6494462149019284E-5,15.651398345658576,15.651398345658576,15.651398345658576,"-",5.3974331553398285,5.3974331553398285,5.3974331553398285,"-",3.7782032087378798,7849.9962782835646,156.26406689099488,1492.2119204006651,1.560202877613897,-2.9088820873213997E-4,2.9088820873213997E-4,{"$f":"FI_T-Rechentabelle!AL319","v":4.7197971223861028},{"$f":"AP318","v":-1.492090451193917E-9}]
[1.9874999299645424E-2,6.2499995692633092E-5,1.550436371958722,156.01876831054688,7850001.5,-45996104796.54303,7850.0015000000003,null,{"$f":"C320","v":1.550436371958722},{"$f":"AL318","v":1.5504363734332098},{"$f":"I320-J320","v":-1.4744878651384852E-9},{"$f":"L318+KP_LR*(1+2*TA_SIM/TN_LR)*K320-KP_LR*K318","v":0.24530236663936686},"-",{"$f":"L320","v":0.24530236663936686},156.26406689099488,156.01876831054688,3.7861913710912631E-6,6.0405786094968984E-6,"-",6.0405786094968984E-6,5.3974367456428585,5.3974427862214682,5.3974427862214682,5.3974331553398285,9.6308816397439045E-6,15.653250195310816,15.653250195310816,15.653250195310816,"-",5.3974393688118534,5.3974393688118534,5.3974393688118534,"-",3.778207558168297,7850.0053151221618,156.75469222319001,1496.8970472101626,1.5700000458778463,-2.9088820873213997E-4,2.9088820873213997E-4,{"$f":"FI_T-Rechentabelle!AL320","v":4.7099999541221536},{"$f":"K320","v":-1.4744878651384852E-9}]
[1.9937498494982719E-2,6.2499995692633092E-5,1.5602028761410891,156.50938415527344,7850001.5,-22998052398.271839,7850.0015000000003,null,null,null,null,null,"-",{"$f":"N320+(L322-L320)/2","v":0.24530719087695435},156.75469222319001,156.50938415527344,-8.7703961071383674E-7,-4.9734203935483254E-6,"-",-4.9734203935483254E-6,5.3974367456428585,5.3974317722224647,5.3974317722224647,5.3974393688118534,-7.596589388647601E-6,15.652026725015903,15.652026725015903,15.652026725015903,"-",5.3974344677864412,5.3974344677864412,5.3974344677864412,"-",3.7782041274505085,7849.9981870985002,157.24531710988367,1501.5821697654344,1.5798278781972139,-2.9088820873213997E-4,2.9088820873213997E-4,{"$f":"FI_T-Rechentabelle!AL321","v":4.7001721218027868},{"$f":"AP320","v":-1.4744878651384852E-9}]
[1.9999999552965164E-2,6.2499995692633092E-5,1.5700000524520874,157.00001525878906,0,-6.5052143798895016E-4,0,null,{"$f":"C322","v":1.5700000524520874},{"$f":"AL320","v":1.5700000458778463},{"$f":"I322-J322","v":6.5742411514690957E-9},{"$f":"L320+KP_LR*(1+2*TA_SIM/TN_LR)*K322-KP_LR*K320","v":0.24531201511454187},"-",{"$f":"L322","v":0.24531201511454187},157.24531710988367,157.00001525878906,1.0164019926151013E-5,2.3075918801432308E-5,"-",2.3075918801432308E-5,{"$f":"G322*(JM_EMS+JL_EMS)/KT_M*KP_VSR","v":0},2.3075918801432308E-5,{"$f":"IF(V322<-IM_R,-IM_R,IF(V322>IM_R,IM_R,V322))","v":2.3075918801432308E-5},5.3974344677864412,-5.3974113918676396,-373.30928034768726,{"$f":"IF(Z322<-U_ZWK,-U_ZWK,IF(Z322>U_ZWK,U_ZWK,Z322))","v":-373.30928034768726},-373.30928034768726,"-",1.9152335698073191,1.9152335698073191,1.9152335698073191,"-",{"$f":"AF322*KT_M","v":1.3406634988651234},{"$f":"AH322/(JM_EMS+JL_EMS)","v":2785.5048802516585},157.4194111648994,1503.2446455305542,1.5896665913950201,{"$f":"-DF_LR","v":-2.9088820873213997E-4},{"$f":"DF_LR","v":2.9088820873213997E-4},{"$f":"FI_T-Rechentabelle!AL322","v":4.6903334086049799},{"$f":"K322","v":6.5742411514690957E-9}]
[2.006249874830246E-2,6.2499995692633092E-5,1.5798125267028809,157.00001525878906,0,null,{"$f":"E323/1000","v":0},null,null,null,null,null,"-",{"$f":"N322+(L324-L322)/2","v":0.22007410732428972},157.4194111648994,157.00001525878906,-0.19932179878605893,{"$f":"R322+KP_DR*(1+TA_SIM/TN_DR)*Q323-KP_DR*Q322","v":-0.51022893232075117},"-",{"$f":"R323","v":-0.51022893232075117},0,{"$f":"T323+U323","v":-0.51022893232075117},-0.51022893232075117,1.9152335698073191,{"$f":"W323-X323","v":-2.4254625021280702},-169.23560425253004,-169.23560425253004,{"$f":"AA323","v":-169.23560425253004},"-",{"$f":"(1/R_M*AB323+AD322*T_M/TA_SIM)/(1+T_M/TA_SIM)","v":0.35041905230533799},{"$f":"AD323","v":0.35041905230533799},{"$f":"AE323","v":0.35041905230533799},"-",0.24529333661373656,509.64748932835352,{"$f":"AJ322+AI323*TA_SIM","v":157.45126413298243},1503.5488189699081,{"$f":"AL322+AJ323*TA_SIM","v":1.5995072954033316},-2.9088820873213997E-4,2.9088820873213997E-4,{"$f":"FI_T-Rechentabelle!AL323","v":4.6804927045966682},{"$f":"AP322","v":6.5742411514690957E-9}]
[2.0124997943639755E-2,6.2499995692633092E-5,1.5896250009536743,157.00001525878906,0,null,0,null,{"$f":"C324","v":1.5896250009536743},{"$f":"AL322","v":1.5896665913950201},{"$f":"I324-J324","v":-4.1590441345773499E-5},{"$f":"L322+KP_LR*(1+2*TA_SIM/TN_LR)*K324-KP_LR*K322","v":0.19483619953403761},"-",{"$f":"L324","v":0.19483619953403761},{"$f":"AJ323","v":157.45126413298243},{"$f":"D324*KP_VDR","v":157.00001525878906},{"$f":"N324-O324+P324","v":-0.25641267465934448},-0.70496464061688657,"-",-0.70496464061688657,0,-0.70496464061688657,-0.70496464061688657,{"$f":"AF323","v":0.35041905230533799},-1.0553836929222244,-75.039499909225839,-75.039499909225839,-75.039499909225839,"-",-0.33047365280577495,-0.33047365280577495,-0.33047365280577495,"-",-0.23133155696404245,-480.63901301483986,157.42122419466901,1503.2619586895426,1.6093461219154983,-2.9088820873213997E-4,2.9088820873213997E-4,{"$f":"FI_T-Rechentabelle!AL324","v":4.6706538780845017},{"$f":"K324","v":-4.1590441345773499E-5}]
[2.01874990016222E-2,6.2499995692633092E-5,1.5994375944137573,157.00001525878906,0,null,0,null,null,null,null,null,"-",{"$f":"N324+(L326-L324)/2","v":0.16012295431105017},157.42122419466901,157.00001525878906,-0.26108598156889684,-0.7794390005514189,"-",-0.7794390005514189,0,-0.7794390005514189,-0.7794390005514189,-0.33047365280577495,-0.44896534774564395,-33.312844137129332,-33.312844137129332,-33.312844137129332,"-",-0.6201287158674812,-0.6201287158674812,-0.6201287158674812,"-",-0.43409010110723684,-901.91169978648827,157.36485471343235,1502.7236697948424,1.6191814253350878,-2.9088820873213997E-4,2.9088820873213997E-4,{"$f":"FI_T-Rechentabelle!AL325","v":4.660818574664912},{"$f":"AP324","v":-4.1590441345773499E-5}]
[2.0249998196959496E-2,6.2499995692633092E-5,1.6092500686645508,157.00001525878906,0,null,0,null,{"$f":"C326","v":1.6092500686645508},{"$f":"AL324","v":1.6093461219154983},{"$f":"I326-J326","v":-9.605325094752537E-5},{"$f":"L324+KP_LR*(1+2*TA_SIM/TN_LR)*K326-KP_LR*K324","v":0.12540970908806276},"-",{"$f":"L326","v":0.12540970908806276},157.36485471343235,157.00001525878906,-0.23942974555521346,-0.78765371627051528,"-",-0.78765371627051528,0,-0.78765371627051528,-0.78765371627051528,-0.6201287158674812,-0.16752500040303409,-13.870981369576334,-13.870981369576334,-13.870981369576334,"-",-0.72820936128879388,-0.72820936128879388,-0.72820936128879388,"-",-0.50974655290215565,-1059.1035796845119,157.29866073970206,1502.0915639075179,1.6290125916313192,-2.9088820873213997E-4,2.9088820873213997E-4,{"$f":"FI_T-Rechentabelle!AL326","v":4.6509874083686809},{"$f":"K326","v":-9.605325094752537E-5}]
[2.031249925494194E-2,6.2499995692633092E-5,1.6190625429153442,157.00001525878906,0,null,0,null,null,null,null,null,"-",{"$f":"N326+(L328-L326)/2","v":9.6362954082301597E-2},157.29866073970206,157.00001525878906,-0.20228252683068604,-0.7509346316343859,"-",-0.7509346316343859,0,-0.7509346316343859,-0.7509346316343859,-0.72820936128879388,-2.2725270345592019E-2,-3.7494927590940907,-3.7494927590940907,-3.7494927590940907,"-",-0.7428708260278859,-0.7428708260278859,-0.7428708260278859,"-",-0.5200095782195201,-1080.427131143819,157.23113404400556,1501.4467314628723,1.6388395375090696,-2.9088820873213997E-4,2.9088820873213997E-4,{"$f":"FI_T-Rechentabelle!AL327","v":4.6411604624909302},{"$f":"AP326","v":-9.605325094752537E-5}]
[2.0374998450279236E-2,6.2499995692633092E-5,1.6288750171661377,157.00001525878906,0,null,0,null,{"$f":"C328","v":1.6288750171661377},{"$f":"AL326","v":1.6290125916313192},{"$f":"I328-J328","v":-1.3757446518147809E-4},{"$f":"L326+KP_LR*(1+2*TA_SIM/TN_LR)*K328-KP_LR*K326","v":6.7316199076540434E-2},"-",{"$f":"L328","v":6.7316199076540434E-2},157.23113404400556,157.00001525878906,-0.16380258613995125,-0.70174779653411012,"-",-0.70174779653411012,0,-0.70174779653411012,-0.70174779653411012,-0.7428708260278859,4.1123029493775776E-2,0.80918582674795148,0.80918582674795148,0.80918582674795148,"-",-0.7163398392577085,-0.7163398392577085,-0.7163398392577085,"-",-0.50143788748039597,-1041.8406139214542,157.16601900563546,1500.8249286492992,1.6486624136969219,-2.9088820873213997E-4,2.9088820873213997E-4,{"$f":"FI_T-Rechentabelle!AL328","v":4.6313375863030783},{"$f":"K328","v":-1.3757446518147809E-4}]
[2.0437499508261681E-2,6.2499995692633092E-5,1.6386876106262207,157.00001525878906,0,null,0,null,null,null,null,null,"-",{"$f":"N328+(L330-L328)/2","v":4.6776178603160981E-2},157.16601900563546,157.00001525878906,-0.11922756824324665,-0.62757751804570905,"-",-0.62757751804570905,0,-0.62757751804570905,-0.62757751804570905,-0.7163398392577085,8.8762321211999451E-2,4.3192281947850706,4.3192281947850706,4.3192281947850706,"-",-0.65907382557254801,-0.65907382557254801,-0.65907382557254801,"-",-0.46135167790078357,-958.55324724866716,157.10610942768241,1500.2528343211125,1.6584815455361521,-2.9088820873213997E-4,2.9088820873213997E-4,{"$f":"FI_T-Rechentabelle!AL329","v":4.6215184544638479},{"$f":"AP328","v":-1.3757446518147809E-4}]
[2.0499998703598976E-2,6.2499995692633092E-5,1.6485000848770142,157.00001525878906,0,null,0,null,{"$f":"C330","v":1.6485000848770142},{"$f":"AL328","v":1.6486624136969219},{"$f":"I330-J330","v":-1.6232881990774217E-4},{"$f":"L328+KP_LR*(1+2*TA_SIM/TN_LR)*K330-KP_LR*K328","v":2.6236158129781528E-2},"-",{"$f":"L330","v":2.6236158129781528E-2},157.10610942768241,157.00001525878906,-7.9858010763558696E-2,-0.55586523410465594,"-",-0.55586523410465594,0,-0.55586523410465594,-0.55586523410465594,-0.65907382557254801,0.10320859146789207,5.5263631103321718,5.5263631103321718,5.5263631103321718,"-",-0.59248763752874711,-0.59248763752874711,-0.59248763752874711,"-",-0.41474134627012293,-861.71067166034265,157.05225251070365,1499.738538647701,1.668297311318071,-2.9088820873213997E-4,2.9088820873213997E-4,{"$f":"FI_T-Rechentabelle!AL330","v":4.6117026886819295},{"$f":"K330","v":-1.6232881990774217E-4}]
[2.0562497898936272E-2,6.2499995692633092E-5,1.6583125591278076,157.00001525878906,0,null,0,null,null,null,null,null,"-",{"$f":"N330+(L332-L330)/2","v":1.3685541812744256E-2},157.05225251070365,157.00001525878906,-3.8551710101842218E-2,-0.46959722264007875,"-",-0.46959722264007875,0,-0.46959722264007875,-0.46959722264007875,-0.59248763752874711,0.12289041488866836,7.1378241370144933,7.1378241370144933,7.1378241370144933,"-",-0.51320349889089689,-0.51320349889089689,-0.51320349889089689,"-",-0.3592424492236278,-746.40026848873424,157.00560249392311,1499.2930638017444,1.6781101614739413,-2.9088820873213997E-4,2.9088820873213997E-4,{"$f":"FI_T-Rechentabelle!AL331","v":4.6018898385260592},{"$f":"AP330","v":-1.6232881990774217E-4}]
[2.0624998956918716E-2,6.2499995692633092E-5,1.6681250333786011,157.00001525878906,0,null,0,null,{"$f":"C332","v":1.6681250333786011},{"$f":"AL330","v":1.668297311318071},{"$f":"I332-J332","v":-1.7227793946994474E-4},{"$f":"L330+KP_LR*(1+2*TA_SIM/TN_LR)*K332-KP_LR*K330","v":1.1349254957069843E-3},"-",{"$f":"L332","v":1.1349254957069843E-3},157.00560249392311,157.00001525878906,-4.4523096383386473E-3,-0.39170742593929841,"-",-0.39170742593929841,0,-0.39170742593929841,-0.39170742593929841,-0.51320349889089689,0.12149607295159848,7.2672655620509001,7.2672655620509001,7.2672655620509001,"-",-0.43481893569631763,-0.43481893569631763,-0.43481893569631763,"-",-0.30437325498742235,-632.39820275799354,156.96607760625074,1498.9156289268517,1.6879205413243319,-2.9088820873213997E-4,2.9088820873213997E-4,{"$f":"FI_T-Rechentabelle!AL332","v":4.5920794586756681},{"$f":"K332","v":-1.7227793946994474E-4}]
[2.0687498152256012E-2,6.2499995692633092E-5,1.6779375076293945,157.00001525878906,0,null,0,null,null,null,null,null,"-",{"$f":"N332+(L334-L332)/2","v":-4.6635206803654905E-3},156.96607760625074,157.00001525878906,2.9274131857960128E-2,-0.30645915523027062,"-",-0.30645915523027062,0,-0.30645915523027062,-0.30645915523027062,-0.43481893569631763,0.12835978046604701,7.9892105561951166,7.9892105561951166,7.9892105561951166,"-",-0.35200617410532004,-0.35200617410532004,-0.35200617410532004,"-",-0.24640432187372402,-511.95579030484936,156.93408036935668,1498.6100778218336,1.6977289213474167,-2.9088820873213997E-4,2.9088820873213997E-4,{"$f":"FI_T-Rechentabelle!AL333","v":4.5822710786525835},{"$f":"AP332","v":-1.7227793946994474E-4}]
[2.0749999210238457E-2,6.2499995692633092E-5,1.6877501010894775,157.00001525878906,0,null,0,null,{"$f":"C334","v":1.6877501010894775},{"$f":"AL332","v":1.6879205413243319},{"$f":"I334-J334","v":-1.7044023485435211E-4},{"$f":"L332+KP_LR*(1+2*TA_SIM/TN_LR)*K334-KP_LR*K332","v":-1.0461966856437965E-2},"-",{"$f":"L334","v":-1.0461966856437965E-2},156.93408036935668,157.00001525878906,5.5472922575944494E-2,-0.2322580777786567,"-",-0.2322580777786567,0,-0.2322580777786567,-0.2322580777786567,-0.35200617410532004,0.11974809632666333,7.6087707142482657,7.6087707142482657,7.6087707142482657,"-",-0.27474933776553762,-0.27474933776553762,-0.27474933776553762,"-",-0.19232453643587633,-399.59388413853378,156.90910575159802,1498.3715877897464,1.7075357404568916,-2.9088820873213997E-4,2.9088820873213997E-4,{"$f":"FI_T-Rechentabelle!AL334","v":4.5724642595431089},{"$f":"K334","v":-1.7044023485435211E-4}]
[2.0812498405575752E-2,6.2499995692633092E-5,1.697562575340271,157.00001525878906,0,null,0,null,null,null,null,null,"-",{"$f":"N334+(L336-L334)/2","v":-1.1386419884272178E-2},156.90910575159802,157.00001525878906,7.9523087306768048E-2,-0.15717002959365739,"-",-0.15717002959365739,0,-0.15717002959365739,-0.15717002959365739,-0.27474933776553762,0.11757930817188023,7.6765228706728141,7.6765228706728141,7.6765228706728141,"-",-0.19889171959013138,-0.19889171959013138,-0.19889171959013138,"-",-0.13922420371309197,-289.26699296300012,156.89102656453784,1498.1989442704835,1.7173414296171752,-2.9088820873213997E-4,2.9088820873213997E-4,{"$f":"FI_T-Rechentabelle!AL335","v":4.5626585703828253},{"$f":"AP334","v":-1.7044023485435211E-4}]
[2.0874999463558197E-2,6.2499995692633092E-5,1.7073750495910645,157.00001525878906,0,null,0,null,{"$f":"C336","v":1.7073750495910645},{"$f":"AL334","v":1.7075357404568916},{"$f":"I336-J336","v":-1.6069086582715109E-4},{"$f":"L334+KP_LR*(1+2*TA_SIM/TN_LR)*K336-KP_LR*K334","v":-1.2310872912106391E-2},"-",{"$f":"L336","v":-1.2310872912106391E-2},156.89102656453784,157.00001525878906,9.6677821339113734E-2,-9.3869808398153204E-2,"-",-9.3869808398153204E-2,0,-9.3869808398153204E-2,-9.3869808398153204E-2,-0.19889171959013138,0.10502191119197818,6.9915672261846815,6.9915672261846815,6.9915672261846815,"-",-0.13113564785337162,-0.13113564785337162,-0.13113564785337162,"-",-9.1794953497360124E-2,-190.72294514307109,156.8791063804664,1498.0851148974314,1.7271463737659543,-2.9088820873213997E-4,2.9088820873213997E-4,{"$f":"FI_T-Rechentabelle!AL336","v":4.5528536262340458},{"$f":"K336","v":-1.6069086582715109E-4}]
[2.0937498658895493E-2,6.2499995692633092E-5,1.7171875238418579,157.00001525878906,0,null,0,null,null,null,null,null,"-",{"$f":"N336+(L338-L336)/2","v":-1.0073864418399039E-2},156.8791063804664,157.00001525878906,0.11083501390427841,-3.4060564048984499E-2,"-",-3.4060564048984499E-2,0,-3.4060564048984499E-2,-3.4060564048984499E-2,-0.13113564785337162,9.7075083804387119E-2,6.6153755637735943,6.6153755637735943,6.6153755637735943,"-",-6.8506561527960946E-2,-6.8506561527960946E-2,-6.8506561527960946E-2,"-",-4.7954593069572657E-2,-99.635555930963335,156.87287915822071,1498.0256493053037,1.7369509287133431,-2.9088820873213997E-4,2.9088820873213997E-4,{"$f":"FI_T-Rechentabelle!AL337","v":4.5430490712866574},{"$f":"AP336","v":-1.6069086582715109E-4}]
[2.0999997854232788E-2,6.2499995692633092E-5,1.7269999980926514,157.00001525878906,0,null,0,null,{"$f":"C338","v":1.7269999980926514},{"$f":"AL336","v":1.7271463737659543},{"$f":"I338-J338","v":-1.4637567330288981E-4},{"$f":"L336+KP_LR*(1+2*TA_SIM/TN_LR)*K338-KP_LR*K336","v":-7.836855924691688E-3},"-",{"$f":"L338","v":-7.836855924691688E-3},156.87287915822071,157.00001525878906,0.11929924464365627,1.4627126647999589E-2,"-",1.4627126647999589E-2,0,1.4627126647999589E-2,1.4627126647999589E-2,-6.8506561527960946E-2,8.3133688175960535E-2,5.7923199839913186,5.7923199839913186,5.7923199839913186,"-",-1.4871923995083544E-2,-1.4871923995083544E-2,-1.4871923995083544E-2,"-",-1.041034679655848E-2,-21.629642211839766,156.87152730558248,1498.0127400635211,1.746755399169942,-2.9088820873213997E-4,2.9088820873213997E-4,{"$f":"FI_T-Rechentabelle!AL338","v":4.5332446008300584},{"$f":"K338","v":-1.4637567330288981E-4}]
[2.1062498912215233E-2,6.2499995692633092E-5,1.7368125915527344,157.00001525878906,0,null,0,null,null,null,null,null,"-",{"$f":"N338+(L340-L338)/2","v":-3.9774924077403684E-3},156.87152730558248,157.00001525878906,0.12451046079885941,5.7051193874457951E-2,"-",5.7051193874457951E-2,0,5.7051193874457951E-2,5.7051193874457951E-2,-1.4871923995083544E-2,7.1923117869541489E-2,5.1399761081740794,5.1399761081740794,5.1399761081740794,"-",3.1530087533652551E-2,3.1530087533652551E-2,3.1530087533652551E-2,"-",2.2071061273556784E-2,45.857181121040476,156.87439337940253,1498.0401090524647,1.7565600487561548,-2.9088820873213997E-4,2.9088820873213997E-4,{"$f":"FI_T-Rechentabelle!AL339","v":4.5234399512438452},{"$f":"AP338","v":-1.4637567330288981E-4}]
[2.1124998107552528E-2,6.2499995692633092E-5,1.7466250658035278,157.00001525878906,0,null,0,null,{"$f":"C340","v":1.7466250658035278},{"$f":"AL338","v":1.746755399169942},{"$f":"I340-J340","v":-1.3033336641421478E-4},{"$f":"L338+KP_LR*(1+2*TA_SIM/TN_LR)*K340-KP_LR*K338","v":-1.1812889078904876E-4},"-",{"$f":"L340","v":-1.1812889078904876E-4},156.87439337940253,157.00001525878906,0.12550375049573859,8.9948573285490718E-2,"-",8.9948573285490718E-2,0,8.9948573285490718E-2,8.9948573285490718E-2,3.1530087533652551E-2,5.8418485751838167E-2,4.3013371625445362,4.3013371625445362,4.3013371625445362,"-",6.9219433179999415E-2,6.9219433179999415E-2,6.9219433179999415E-2,"-",4.8453603225999585E-2,100.67235243299311,156.88068540142959,1498.1001934369237,1.7663650915937441,-2.9088820873213997E-4,2.9088820873213997E-4,{"$f":"FI_T-Rechentabelle!AL340","v":4.5136349084062566},{"$f":"K340","v":-1.3033336641421478E-4}]
[2.1187499165534973E-2,6.2499995692633092E-5,1.7564375400543213,157.00001525878906,0,null,0,null,null,null,null,null,"-",{"$f":"N340+(L342-L340)/2","v":3.9079762339311597E-3},156.88068540142959,157.00001525878906,0.12323783359340723,0.11474511832900852,"-",0.11474511832900852,0,0.11474511832900852,0.11474511832900852,6.9219433179999415E-2,4.5525685149009107E-2,3.4815228279279715,3.4815228279279715,3.4815228279279715,"-",9.8590842953553331E-2,9.8590842953553331E-2,9.8590842953553331E-2,"-",6.9013590067487321E-2,143.38996481921319,156.88964727423078,1498.1857730182642,1.7761706945483835,-2.9088820873213997E-4,2.9088820873213997E-4,{"$f":"FI_T-Rechentabelle!AL341","v":4.5038293054516165},{"$f":"AP340","v":-1.3033336641421478E-4}]
[2.1249998360872269E-2,6.2499995692633092E-5,1.7662500143051147,157.00001525878906,0,null,0,null,{"$f":"C342","v":1.7662500143051147},{"$f":"AL340","v":1.7663650915937441},{"$f":"I342-J342","v":-1.1507728862936162E-4},{"$f":"L340+KP_LR*(1+2*TA_SIM/TN_LR)*K342-KP_LR*K340","v":7.9340813586513681E-3},"-",{"$f":"L342","v":7.9340813586513681E-3},156.88964727423078,157.00001525878906,0.11830206591693582,0.13215490485358056,"-",0.13215490485358056,0,0.13215490485358056,0.13215490485358056,9.8590842953553331E-2,3.3564061900027226E-2,2.7046913247156175,2.7046913247156175,2.7046913247156175,"-",0.12024507643744155,0.12024507643744155,0.12024507643744155,"-",8.4171553506209085E-2,174.88375962229188,156.90057750920718,1498.2901490738031,1.785976980642709,-2.9088820873213997E-4,2.9088820873213997E-4,{"$f":"FI_T-Rechentabelle!AL342","v":4.4940230193572912},{"$f":"K342","v":-1.1507728862936162E-4}]
[2.1312499418854713E-2,6.2499995692633092E-5,1.7760626077651978,157.00001525878906,0,null,0,null,null,null,null,null,"-",{"$f":"N342+(L344-L342)/2","v":1.1311974871858373E-2},156.90057750920718,157.00001525878906,0.11074972445373987,0.14166342253448155,"-",0.14166342253448155,0,0.14166342253448155,0.14166342253448155,0.12024507643744155,2.1418346097040006E-2,1.8922134694358799,1.8922134694358799,1.8922134694358799,"-",0.13406336424198317,0.13406336424198317,0.13406336424198317,"-",9.3844354969388213E-2,194.98099931308582,156.91276382166424,1498.4065197857394,1.7957840283815631,-2.9088820873213997E-4,2.9088820873213997E-4,{"$f":"FI_T-Rechentabelle!AL343","v":4.4842159716184371},{"$f":"AP342","v":-1.1507728862936162E-4}]
[2.1374998614192009E-2,6.2499995692633092E-5,1.7858750820159912,157.00001525878906,0,null,0,null,{"$f":"C344","v":1.7858750820159912},{"$f":"AL342","v":1.785976980642709},{"$f":"I344-J344","v":-1.0189862671783345E-4},{"$f":"L342+KP_LR*(1+2*TA_SIM/TN_LR)*K344-KP_LR*K342","v":1.4689868385065377E-2},"-",{"$f":"L344","v":1.4689868385065377E-2},156.91276382166424,157.00001525878906,0.10194130550988234,0.14611539928931661,"-",0.14611539928931661,0,0.14611539928931661,0.14611539928931661,0.13406336424198317,1.2052035047333431E-2,1.2573078303579388,1.2573078303579388,1.2573078303579388,"-",0.14183887072413345,0.14183887072413345,0.14183887072413345,"-",9.9287209506893417E-2,206.28965199853192,156.92565692491416,1498.5296398525802,1.8055918819393704,-2.9088820873213997E-4,2.9088820873213997E-4,{"$f":"FI_T-Rechentabelle!AL344","v":4.4744081180606301},{"$f":"K344","v":-1.0189862671783345E-4}]
[2.1437497809529305E-2,6.2499995692633092E-5,1.7956875562667847,157.00001525878906,0,null,0,null,null,null,null,null,"-",{"$f":"N344+(L346-L344)/2","v":1.669666578105012E-2},156.92565692491416,157.00001525878906,9.1054999655938218E-2,0.14310092622908546,"-",0.14310092622908546,0,0.14310092622908546,0.14310092622908546,0.14183887072413345,1.2620555049520088E-3,0.50228214439230134,0.50228214439230134,0.50228214439230134,"-",0.14265310008216667,0.14265310008216667,0.14265310008216667,"-",9.9857170057516667E-2,207.47386257535146,156.93862404132511,{"$f":"AJ345/(2*PI())*60","v":1498.6534666930474},1.8154005459419531,-2.9088820873213997E-4,2.9088820873213997E-4,{"$f":"FI_T-Rechentabelle!AL345","v":4.4645994540580469},{"$f":"AP344","v":-1.0189862671783345E-4}]
[2.1499998867511749E-2,6.2499995692633092E-5,1.8055000305175781,157.00001525878906,0,null,0,null,{"$f":"C346","v":1.8055000305175781},{"$f":"AL344","v":1.8055918819393704},{"$f":"I346-J346","v":-9.1851421792243926E-5},{"$f":"L344+KP_LR*(1+2*TA_SIM/TN_LR)*K346-KP_LR*K344","v":1.8703463177034862E-2},"-",{"$f":"L346","v":1.8703463177034862E-2},156.93862404132511,157.00001525878906,8.0094680640996785E-2,0.13724299135968174,"-",0.13724299135968174,0,0.13724299135968174,0.13724299135968174,0.14265310008216667,-5.4101087224849298E-3,2.381712294691736E-2,2.381712294691736E-2,2.381712294691736E-2,"-",0.13916270735798256,0.13916270735798256,0.13916270735798256,"-",9.7413895150587779E-2,202.39745512276701,156.9512738822703,1498.7742637759927,1.825210000559595,-2.9088820873213997E-4,2.9088820873213997E-4,{"$f":"FI_T-Rechentabelle!AL346","v":4.454789999440405},{"$f":"K346","v":-9.1851421792243926E-5}]
[2.1562498062849045E-2,6.2499995692633092E-5,1.8153126239776611,157.00001525878906,0,null,0,null,null,null,null,null,"-",{"$f":"N346+(L348-L346)/2","v":1.9233730510527257E-2},156.9512738822703,157.00001525878906,6.7975107029297988E-2,0.12574552513905654,"-",0.12574552513905654,0,0.12574552513905654,0.12574552513905654,0.13916270735798256,-1.3417182218926016E-2,-0.56333089308384099,-0.56333089308384099,-0.56333089308384099,"-",0.13050646076512679,0.13050646076512679,0.13050646076512679,"-",9.1354522535588747E-2,189.80785899769111,156.96313687345764,1498.8875469972318,1.8350201966141861,-2.9088820873213997E-4,2.9088820873213997E-4,{"$f":"FI_T-Rechentabelle!AL347","v":4.4449798033858139},{"$f":"AP346","v":-9.1851421792243926E-5}]
[2.162499912083149E-2,6.2499995692633092E-5,1.8251250982284546,157.00001525878906,0,null,0,null,{"$f":"C348","v":1.8251250982284546},{"$f":"AL346","v":1.825210000559595},{"$f":"I348-J348","v":-8.4902331140446208E-5},{"$f":"L346+KP_LR*(1+2*TA_SIM/TN_LR)*K348-KP_LR*K346","v":1.9763997844019651E-2},"-",{"$f":"L348","v":1.9763997844019651E-2},156.96313687345764,157.00001525878906,5.6642383175443456E-2,0.11330759196127121,"-",0.11330759196127121,0,0.11330759196127121,0.11330759196127121,0.13050646076512679,-1.7198868803855571E-2,-0.86095942209772292,-0.86095942209772292,-0.86095942209772292,"-",0.11941041637554228,0.11941041637554228,0.11941041637554228,"-",8.358729146287959E-2,173.66983474523079,156.97399123812923,1498.9911985447281,1.8448310710665692,-2.9088820873213997E-4,2.9088820873213997E-4,{"$f":"FI_T-Rechentabelle!AL348","v":4.4351689289334306},{"$f":"K348","v":-8.4902331140446208E-5}]
[2.1687498316168785E-2,6.2499995692633092E-5,1.834937572479248,157.00001525878906,0,null,0,null,null,null,null,null,"-",{"$f":"N348+(L350-L348)/2","v":1.8709801945660007E-2},156.97399123812923,157.00001525878906,4.4733822605479645E-2,9.6632784216659967E-2,"-",9.6632784216659967E-2,0,9.6632784216659967E-2,9.6632784216659967E-2,0.11941041637554228,-2.2777632158882316E-2,-1.2951688326058963,-1.2951688326058963,-1.2951688326058963,"-",0.10471516982142438,0.10471516982142438,0.10471516982142438,"-",7.3300618874997059E-2,152.29715120506347,156.98350981007954,1499.0820942113521,1.8546425404296991,-2.9088820873213997E-4,2.9088820873213997E-4,{"$f":"FI_T-Rechentabelle!AL349","v":4.4253574595703009},{"$f":"AP348","v":-8.4902331140446208E-5}]
[2.174999937415123E-2,6.2499995692633092E-5,1.8447500467300415,157.00001525878906,0,null,0,null,{"$f":"C350","v":1.8447500467300415},{"$f":"AL348","v":1.8448310710665692},{"$f":"I350-J350","v":-8.1024336527679708E-5},{"$f":"L348+KP_LR*(1+2*TA_SIM/TN_LR)*K350-KP_LR*K348","v":1.7655606047300362E-2},"-",{"$f":"L350","v":1.7655606047300362E-2},156.98350981007954,157.00001525878906,3.4161054756822296E-2,8.047414960823579E-2,"-",8.047414960823579E-2,0,8.047414960823579E-2,8.047414960823579E-2,0.10471516982142438,-2.4241020213188594E-2,-1.443243399655425,-1.443243399655425,-1.443243399655425,"-",8.9075801941947613E-2,8.9075801941947613E-2,8.9075801941947613E-2,"-",6.2353061359363325E-2,129.55134294486459,156.9916067690136,1499.1594144736544,1.8644545158527626,-2.9088820873213997E-4,2.9088820873213997E-4,{"$f":"FI_T-Rechentabelle!AL350","v":4.4155454841472377},{"$f":"K350","v":-8.1024336527679708E-5}]
[2.1812498569488525E-2,6.2499995692633092E-5,1.854562520980835,157.00001525878906,0,null,0,null,null,null,null,null,"-",{"$f":"N350+(L352-L350)/2","v":1.53888129973484E-2},156.9916067690136,157.00001525878906,2.3797302772806006E-2,6.22729955772727E-2,"-",6.22729955772727E-2,0,6.22729955772727E-2,6.22729955772727E-2,8.9075801941947613E-2,-2.6802806364674914E-2,-1.6732114459388248,-1.6732114459388248,-1.6732114459388248,"-",7.1783668803447401E-2,7.1783668803447401E-2,7.1783668803447401E-2,"-",5.0248568162413181E-2,104.40176223231494,156.99813187915311,1499.2217246856296,1.8742668990952096,-2.9088820873213997E-4,2.9088820873213997E-4,{"$f":"FI_T-Rechentabelle!AL351","v":4.4057331009047909},{"$f":"AP350","v":-8.1024336527679708E-5}]
[2.1874997764825821E-2,6.2499995692633092E-5,1.864375114440918,157.00001525878906,0,null,0,null,{"$f":"C352","v":1.864375114440918},{"$f":"AL350","v":1.8644545158527626},{"$f":"I352-J352","v":-7.9401411844592928E-5},{"$f":"L350+KP_LR*(1+2*TA_SIM/TN_LR)*K352-KP_LR*K350","v":1.3122019947396438E-2},"-",{"$f":"L352","v":1.3122019947396438E-2},156.99813187915311,157.00001525878906,1.500539958334457E-2,4.556888934341672E-2,"-",4.556888934341672E-2,0,4.556888934341672E-2,4.556888934341672E-2,7.1783668803447401E-2,-2.6214779460030681E-2,-1.6809827576864353,-1.6809827576864353,-1.6809827576864353,"-",5.4870907861491867E-2,5.4870907861491867E-2,5.4870907861491867E-2,"-",3.8409635503044305E-2,79.80393829845066,157.00311962529676,1499.2693541528486,1.8840795940717907,-2.9088820873213997E-4,2.9088820873213997E-4,{"$f":"FI_T-Rechentabelle!AL352","v":4.3959204059282095},{"$f":"K352","v":-7.9401411844592928E-5}]
[2.1937498822808266E-2,6.2499995692633092E-5,1.8741875886917114,157.00001525878906,0,null,0,null,null,null,null,null,"-",{"$f":"N352+(L354-L352)/2","v":9.8569729849696114E-3},157.00311962529676,157.00001525878906,6.7526064772778227E-3,2.8101408062018406E-2,"-",2.8101408062018406E-2,0,2.8101408062018406E-2,2.8101408062018406E-2,5.4870907861491867E-2,-2.6769499799473462E-2,-1.7700054172669821,-1.7700054172669821,-1.7700054172669821,"-",3.7600262829573253E-2,3.7600262829573253E-2,3.7600262829573253E-2,"-",2.6320183980701274E-2,54.685609766676237,157.00653747590718,1499.3019922220126,1.893892502664035,-2.9088820873213997E-4,2.9088820873213997E-4,{"$f":"FI_T-Rechentabelle!AL353","v":4.3861074973359653},{"$f":"AP352","v":-7.9401411844592928E-5}]
[2.1999998018145561E-2,6.2499995692633092E-5,1.8840000629425049,157.00001525878906,0,null,0,null,{"$f":"C354","v":1.8840000629425049},{"$f":"AL352","v":1.8840795940717907},{"$f":"I354-J354","v":-7.9531129285825841E-5},{"$f":"L352+KP_LR*(1+2*TA_SIM/TN_LR)*K354-KP_LR*K352","v":6.591926022542785E-3},"-",{"$f":"L354","v":6.591926022542785E-3},157.00653747590718,157.00001525878906,6.9708904419485407E-5,1.2640610811682385E-2,"-",1.2640610811682385E-2,0,1.2640610811682385E-2,1.2640610811682385E-2,3.7600262829573253E-2,-2.4959652017890868E-2,-1.6896644832125935,-1.6896644832125935,-1.6896644832125935,"-",2.1497261527707933E-2,2.1497261527707933E-2,2.1497261527707933E-2,"-",1.5048083069395552E-2,31.265495677115211,157.00849156938699,1499.3206524402071,1.9037055333871216,-2.9088820873213997E-4,2.9088820873213997E-4,{"$f":"FI_T-Rechentabelle!AL354","v":4.3762944666128787},{"$f":"K354","v":-7.9531129285825841E-5}]
[2.2062499076128006E-2,6.2499995692633092E-5,1.8938125371932983,157.00001525878906,0,null,0,null,null,null,null,null,"-",{"$f":"N354+(L356-L354)/2","v":2.7992203000225604E-3},157.00849156938699,157.00001525878906,-5.677090297893983E-3,-2.0531818053082405E-3,"-",-2.0531818053082405E-3,0,-2.0531818053082405E-3,-2.0531818053082405E-3,2.1497261527707933E-2,-2.3550443333016174E-2,-1.6348092449876777,-1.6348092449876777,-1.6348092449876777,"-",6.3034271193101654E-3,6.3034271193101654E-3,6.3034271193101654E-3,"-",4.4123989835171155E-3,9.1676687793831597,157.0090645486857,1499.3261239894678,1.9135185999214144,-2.9088820873213997E-4,2.9088820873213997E-4,{"$f":"FI_T-Rechentabelle!AL355","v":4.3664814000785857},{"$f":"AP354","v":-7.9531129285825841E-5}]
[2.2124998271465302E-2,6.2499995692633092E-5,1.9036250114440918,157.00001525878906,0,null,0,null,{"$f":"C356","v":1.9036250114440918},{"$f":"AL354","v":1.9037055333871216},{"$f":"I356-J356","v":-8.0521943029765453E-5},{"$f":"L354+KP_LR*(1+2*TA_SIM/TN_LR)*K356-KP_LR*K354","v":-9.9348542249766414E-4},"-",{"$f":"L356","v":-9.9348542249766414E-4},157.0090645486857,157.00001525878906,-1.0042775319135444E-2,-1.4612594316193054E-2,"-",-1.4612594316193054E-2,0,-1.4612594316193054E-2,-1.4612594316193054E-2,6.3034271193101654E-3,-2.091602143550322E-2,-1.4890230254480326,-1.4890230254480326,-1.4890230254480326,"-",-7.1907802584340787E-3,-7.1907802584340787E-3,-7.1907802584340787E-3,"-",-5.0335461809038551E-3,-10.458230170172147,157.00841090930007,1499.3198821931144,1.9233316256032456,-2.9088820873213997E-4,2.9088820873213997E-4,{"$f":"FI_T-Rechentabelle!AL356","v":4.3566683743967545},{"$f":"K356","v":-8.0521943029765453E-5}]
[2.2187499329447746E-2,6.2499995692633092E-5,1.9134376049041748,157.00001525878906,0,null,0,null,null,null,null,null,"-",{"$f":"N356+(L358-L356)/2","v":-4.8463937188729933E-3},157.00841090930007,157.00001525878906,-1.3242044229883732E-2,-2.5250510247192624E-2,"-",-2.5250510247192624E-2,0,-2.5250510247192624E-2,-2.5250510247192624E-2,-7.1907802584340787E-3,-1.8059729988758544E-2,-1.3223189658103418,-1.3223189658103418,-1.3223189658103418,"-",-1.8842218960859171E-2,-1.8842218960859171E-2,-1.8842218960859171E-2,"-",-1.3189553272601419E-2,-27.404016772494113,157.00669815825179,1499.3035266253771,1.9331445442381363,-2.9088820873213997E-4,2.9088820873213997E-4,{"$f":"FI_T-Rechentabelle!AL357","v":4.3468554557618635},{"$f":"AP356","v":-8.0521943029765453E-5}]
[2.2249998524785042E-2,6.2499995692633092E-5,1.9232500791549683,157.00001525878906,0,null,0,null,{"$f":"C358","v":1.9232500791549683},{"$f":"AL356","v":1.9233316256032456},{"$f":"I358-J358","v":-8.1546448277292072E-5},{"$f":"L356+KP_LR*(1+2*TA_SIM/TN_LR)*K358-KP_LR*K356","v":-8.6993020152483225E-3},"-",{"$f":"L358","v":-8.6993020152483225E-3},157.00669815825179,157.00001525878906,-1.538220147799052E-2,-3.3957246298979185E-2,"-",-3.3957246298979185E-2,0,-3.3957246298979185E-2,-3.3957246298979185E-2,-1.8842218960859171E-2,-1.5115027338120014E-2,-1.1438995663852298,-1.1438995663852298,-1.1438995663852298,"-",-2.8593849501581982E-2,-2.8593849501581982E-2,-2.8593849501581982E-2,"-",-2.0015694651107387E-2,-41.586733120937843,157.00409898743175,1499.2787063723401,1.9429573004248508,-2.9088820873213997E-4,2.9088820873213997E-4,{"$f":"FI_T-Rechentabelle!AL358","v":4.3370426995751492},{"$f":"K358","v":-8.1546448277292072E-5}]
[2.2312497720122337E-2,6.2499995692633092E-5,1.9330625534057617,157.00001525878906,0,null,0,null,null,null,null,null,"-",{"$f":"N358+(L360-L358)/2","v":-1.2412405226065334E-2},157.00409898743175,157.00001525878906,-1.6496133868741936E-2,-4.0558783234983763E-2,"-",-4.0558783234983763E-2,0,-4.0558783234983763E-2,-4.0558783234983763E-2,-2.8593849501581982E-2,-1.1964933733401781E-2,-0.94516932356814687,-0.94516932356814687,-0.94516932356814687,"-",-3.6313161587647864E-2,-3.6313161587647864E-2,-3.6313161587647864E-2,"-",-2.5419213111353502E-2,-52.813656994293581,157.00079813386961,1499.24718554269,1.9527698503082176,-2.9088820873213997E-4,2.9088820873213997E-4,{"$f":"FI_T-Rechentabelle!AL359","v":4.3272301496917827},{"$f":"AP358","v":-8.1546448277292072E-5}]
[2.2374998778104782E-2,6.2499995692633092E-5,1.9428750276565552,157.00001525878906,0,null,0,null,{"$f":"C360","v":1.9428750276565552},{"$f":"AL358","v":1.9429573004248508},{"$f":"I360-J360","v":-8.2272768295643672E-5},{"$f":"L358+KP_LR*(1+2*TA_SIM/TN_LR)*K360-KP_LR*K358","v":-1.6125508436882346E-2},"-",{"$f":"L360","v":-1.6125508436882346E-2},157.00079813386961,157.00001525878906,-1.6908383517431957E-2,-4.5635705267118187E-2,"-",-4.5635705267118187E-2,0,-4.5635705267118187E-2,-4.5635705267118187E-2,-3.6313161587647864E-2,-9.3225436794703229E-3,-0.77713276795699926,-0.77713276795699926,-0.77713276795699926,"-",-4.2327705896983765E-2,-4.2327705896983765E-2,-4.2327705896983765E-2,"-",-2.9629394127888634E-2,-61.561176247431192,156.99695056035415,1499.2104439220561,1.9625821597182398,-2.9088820873213997E-4,2.9088820873213997E-4,{"$f":"FI_T-Rechentabelle!AL360","v":4.3174178402817605},{"$f":"K360","v":-8.2272768295643672E-5}]
[2.2437497973442078E-2,6.2499995692633092E-5,1.9526875019073486,157.00001525878906,0,null,0,null,null,null,null,null,"-",{"$f":"N360+(L362-L360)/2","v":-1.9300624938760162E-2},156.99695056035415,157.00001525878906,-1.6235926503838982E-2,-4.8036473976358691E-2,"-",-4.8036473976358691E-2,0,-4.8036473976358691E-2,-4.8036473976358691E-2,-4.2327705896983765E-2,-5.7087680793749263E-3,-0.53414995643429497,-0.53414995643429497,-0.53414995643429497,"-",-4.6010782077225858E-2,-4.6010782077225858E-2,-4.6010782077225858E-2,"-",-3.22075474540581E-2,-66.917821429582588,156.99276819651479,1499.1705052893255,1.9723942077305219,-2.9088820873213997E-4,2.9088820873213997E-4,{"$f":"FI_T-Rechentabelle!AL361","v":4.3076057922694782},{"$f":"AP360","v":-8.2272768295643672E-5}]
[2.2499999031424522E-2,6.2499995692633092E-5,1.9625000953674316,157.00001525878906,0,null,0,null,{"$f":"C362","v":1.9625000953674316},{"$f":"AL360","v":1.9625821597182398},{"$f":"I362-J362","v":-8.2064350808153108E-5},{"$f":"L360+KP_LR*(1+2*TA_SIM/TN_LR)*K362-KP_LR*K360","v":-2.2475741440637978E-2},"-",{"$f":"L362","v":-2.2475741440637978E-2},156.99276819651479,157.00001525878906,-1.522867916636983E-2,-4.9416298739595667E-2,"-",-4.9416298739595667E-2,0,-4.9416298739595667E-2,-4.9416298739595667E-2,-4.6010782077225858E-2,-3.4055166623698091E-3,-0.37884817846701474,-0.37884817846701474,-0.37884817846701474,"-",-4.820788960133561E-2,-4.820788960133561E-2,-4.820788960133561E-2,"-",-3.3745522720934923E-2,-70.113282196000256,156.98838611637754,1499.1286595064337,1.9822059818627955,-2.9088820873213997E-4,2.9088820873213997E-4,{"$f":"FI_T-Rechentabelle!AL362","v":4.2977940181372052},{"$f":"K362","v":-8.2064350808153108E-5}]
[2.2562498226761818E-2,6.2499995692633092E-5,1.9723125696182251,157.00001525878906,0,null,0,null,null,null,null,null,"-",{"$f":"N362+(L364-L362)/2","v":-2.5085552465241884E-2},156.98838611637754,157.00001525878906,-1.3456410053720447E-2,-4.8592243898475988E-2,"-",-4.8592243898475988E-2,0,-4.8592243898475988E-2,-4.8592243898475988E-2,-4.820788960133561E-2,-3.8435429714037822E-4,{"$f":"Z362+KP_SR*(1+TA_SIM/TN_SR)*Y363-KP_SR*Y362","v":-0.16750118628943092},-0.16750118628943092,-0.16750118628943092,"-",-4.845586011561992E-2,-4.845586011561992E-2,-4.845586011561992E-2,"-",-3.391910208093394E-2,-70.473929110604487,156.98398149580814,1499.0865984782697,1.9920174807062836,-2.9088820873213997E-4,2.9088820873213997E-4,{"$f":"FI_T-Rechentabelle!AL363","v":4.2879825192937169},{"$f":"AP362","v":-8.2064350808153108E-5}]
[2.2624999284744263E-2,6.2499995692633092E-5,1.9821250438690186,157.00001525878906,0,null,0,null,{"$f":"C364","v":1.9821250438690186},{"$f":"AL362","v":1.9822059818627955},{"$f":"I364-J364","v":-8.0937993776952766E-5},{"$f":"L362+KP_LR*(1+2*TA_SIM/TN_LR)*K364-KP_LR*K362","v":-2.769536348984579E-2},"-",{"$f":"L364","v":-2.769536348984579E-2},156.98398149580814,157.00001525878906,-1.1661600508915626E-2,-4.7278423382260536E-2,"-",-4.7278423382260536E-2,0,-4.7278423382260536E-2,-4.7278423382260536E-2,-4.845586011561992E-2,1.1774367333593841E-3,-5.5670585873226833E-2,-5.5670585873226833E-2,-5.5670585873226833E-2,"-",-4.7696223513452769E-2,-4.7696223513452769E-2,-4.7696223513452769E-2,"-",-3.3387356459416935E-2,-69.36911792939317,156.97964592593755,1499.0451968357083,2.0018287085766548,-2.9088820873213997E-4,2.9088820873213997E-4,{"$f":"FI_T-Rechentabelle!AL364","v":4.2781712914233454},{"$f":"K364","v":-8.0937993776952766E-5}]
[2.2687498480081558E-2,6.2499995692633092E-5,1.9919376373291016,157.00001525878906,0,null,0,null,null,null,null,null,"-",{"$f":"N364+(L366-L364)/2","v":-2.9595343261993617E-2},156.97964592593755,157.00001525878906,-9.2260104104866514E-3,-4.3886756893435783E-2,"-",-4.3886756893435783E-2,0,-4.3886756893435783E-2,-4.3886756893435783E-2,-4.7696223513452769E-2,3.8094666200169866E-3,0.13620832049219023,0.13620832049219023,0.13620832049219023,"-",-4.5238503113441991E-2,-4.5238503113441991E-2,-4.5238503113441991E-2,"-",-3.1666952179409395E-2,-65.794623269082464,156.97553376198323,1499.0059285625002,2.011639679436779,-2.9088820873213997E-4,2.9088820873213997E-4,{"$f":"FI_T-Rechentabelle!AL365","v":4.2683603205632217},{"$f":"AP364","v":-8.0937993776952766E-5}]
[2.2749997675418854E-2,6.2499995692633092E-5,2.0017499923706055,157.00001525878906,0,null,0,null,{"$f":"C366","v":2.0017499923706055},{"$f":"AL364","v":2.0018287085766548},{"$f":"I366-J366","v":-7.8716206049378457E-5},{"$f":"L364+KP_LR*(1+2*TA_SIM/TN_LR)*K366-KP_LR*K364","v":-3.1495323034141445E-2},"-",{"$f":"L366","v":-3.1495323034141445E-2},156.97553376198323,157.00001525878906,-7.0138262283023778E-3,-4.0473191004788259E-2,"-",-4.0473191004788259E-2,0,-4.0473191004788259E-2,-4.0473191004788259E-2,-4.5238503113441991E-2,4.7653121086537326E-3,0.21221825228494751,0.21221825228494751,0.21221825228494751,"-",-4.2164108204633302E-2,-4.2164108204633302E-2,-4.2164108204633302E-2,"-",-2.951487574324331E-2,-61.323240688226278,156.97170105944022,1498.9693289491929,2.021450410752994,-2.9088820873213997E-4,2.9088820873213997E-4,{"$f":"FI_T-Rechentabelle!AL366","v":4.2585495892470062},{"$f":"K366","v":-7.8716206049378457E-5}]
[2.2812498733401299E-2,6.2499995692633092E-5,2.0115625858306885,157.00001525878906,0,null,0,null,null,null,null,null,"-",{"$f":"N366+(L368-L366)/2","v":-3.2539869660186876E-2},156.97170105944022,157.00001525878906,-4.2256703113423555E-3,-3.5045925365626882E-2,"-",-3.5045925365626882E-2,0,-3.5045925365626882E-2,-3.5045925365626882E-2,-4.2164108204633302E-2,7.1181828390064206E-3,0.39069248821752239,0.39069248821752239,0.39069248821752239,"-",-3.7571732179468048E-2,-3.7571732179468048E-2,-3.7571732179468048E-2,"-",-2.6300212525627632E-2,-54.64411495040023,156.96828580225582,1498.9367156454232,2.0312609286156351,-2.9088820873213997E-4,2.9088820873213997E-4,{"$f":"FI_T-Rechentabelle!AL367","v":4.2487390713843656},{"$f":"AP366","v":-7.8716206049378457E-5}]
[2.2874997928738594E-2,6.2499995692633092E-5,2.0213751792907715,157.00001525878906,0,null,0,null,{"$f":"C368","v":2.0213751792907715},{"$f":"AL366","v":2.021450410752994},{"$f":"I368-J368","v":-7.5231462222546952E-5},{"$f":"L366+KP_LR*(1+2*TA_SIM/TN_LR)*K368-KP_LR*K366","v":-3.3584416286232308E-2},"-",{"$f":"L368","v":-3.3584416286232308E-2},156.96828580225582,157.00001525878906,-1.854959752989771E-3,-3.0007513947252151E-2,"-",-3.0007513947252151E-2,0,-3.0007513947252151E-2,-3.0007513947252151E-2,-3.7571732179468048E-2,7.5642182322158968E-3,0.4361537034785658,0.4361537034785658,0.4361537034785658,"-",-3.2691591384490216E-2,-3.2691591384490216E-2,-3.2691591384490216E-2,"-",-2.2884113969143149E-2,-47.546465757621334,156.96531414814598,1498.9083384389787,2.0410712607498942,-2.9088820873213997E-4,2.9088820873213997E-4,{"$f":"FI_T-Rechentabelle!AL368","v":4.238928739250106},{"$f":"K368","v":-7.5231462222546952E-5}]
[2.2937498986721039E-2,6.2499995692633092E-5,2.0311875343322754,157.00001525878906,0,null,0,null,null,null,null,null,"-",{"$f":"N368+(L370-L368)/2","v":-3.4116734349285596E-2},156.96531414814598,157.00001525878906,5.8437629380136968E-4,-2.4215471660270473E-2,"-",-2.4215471660270473E-2,0,-2.4215471660270473E-2,-2.4215471660270473E-2,-3.2691591384490216E-2,8.4761197242197439E-3,0.51602185156260183,0.51602185156260183,0.51602185156260183,"-",-2.7223127046284098E-2,-2.7223127046284098E-2,-2.7223127046284098E-2,"-",-1.9056188932398868E-2,-39.593162128399889,156.96283957551296,1498.8847080109838,2.0508814382233638,-2.9088820873213997E-4,2.9088820873213997E-4,{"$f":"FI_T-Rechentabelle!AL369","v":4.2291185617766365},{"$f":"AP368","v":-7.5231462222546952E-5}]
[2.2999998182058334E-2,6.2499995692633092E-5,2.0410001277923584,157.00001525878906,0,null,0,null,{"$f":"C370","v":2.0410001277923584},{"$f":"AL368","v":2.0410712607498942},{"$f":"I370-J370","v":-7.1132957535802177E-5},{"$f":"L368+KP_LR*(1+2*TA_SIM/TN_LR)*K370-KP_LR*K368","v":-3.4649052412338885E-2},"-",{"$f":"L370","v":-3.4649052412338885E-2},156.96283957551296,157.00001525878906,2.5266308637696966E-3,-1.910117765524845E-2,"-",-1.910117765524845E-2,0,-1.910117765524845E-2,-1.910117765524845E-2,-2.7223127046284098E-2,8.1219493910356481E-3,0.50635728445523009,0.50635728445523009,0.50635728445523009,"-",-2.1983159697229002E-2,-2.1983159697229002E-2,-2.1983159697229002E-2,"-",-1.53882117880603E-2,-31.972183228880738,156.96084131406116,1498.8656260197251,2.0606914908054925,-2.9088820873213997E-4,2.9088820873213997E-4,{"$f":"FI_T-Rechentabelle!AL370","v":4.2193085091945077},{"$f":"K370","v":-7.1132957535802177E-5}]
[2.3062499240040779E-2,6.2499995692633092E-5,2.0508124828338623,157.00001525878906,0,null,0,null,null,null,null,null,"-",{"$f":"N370+(L372-L370)/2","v":-3.4640762099536482E-2},156.96084131406116,157.00001525878906,4.5331826283643295E-3,-1.3348786862750879E-2,"-",-1.3348786862750879E-2,0,-1.3348786862750879E-2,-1.3348786862750879E-2,-2.1983159697229002E-2,8.6343728344781233E-3,0.55848073727234493,0.55848073727234493,0.55848073727234493,"-",-1.6412596578211015E-2,-1.6412596578211015E-2,-1.6412596578211015E-2,"-",-1.148881760474771E-2,-23.87038770984357,156.95934941482929,1498.8513794314845,2.0705014501439192,-2.9088820873213997E-4,2.9088820873213997E-4,{"$f":"FI_T-Rechentabelle!AL371","v":4.2094985498560806},{"$f":"AP370","v":-7.1132957535802177E-5}]
[2.3124998435378075E-2,6.2499995692633092E-5,2.0606250762939453,157.00001525878906,0,null,0,null,{"$f":"C372","v":2.0606250762939453},{"$f":"AL370","v":2.0606914908054925},{"$f":"I372-J372","v":-6.6414511547208122E-5},{"$f":"L370+KP_LR*(1+2*TA_SIM/TN_LR)*K372-KP_LR*K370","v":-3.4632471786734079E-2},"-",{"$f":"L372","v":-3.4632471786734079E-2},156.95934941482929,157.00001525878906,6.0333721730501111E-3,-8.4034110316617006E-3,"-",-8.4034110316617006E-3,0,-8.4034110316617006E-3,-8.4034110316617006E-3,-1.6412596578211015E-2,8.0091855465493147E-3,0.52958155092288617,0.52958155092288617,0.52958155092288617,"-",-1.1245380096566447E-2,-1.1245380096566447E-2,-1.1245380096566447E-2,"-",-7.8717660675965122E-3,-16.355217260744883,156.95832721375049,1498.841618130213,2.0803113455947786,-2.9088820873213997E-4,2.9088820873213997E-4,{"$f":"FI_T-Rechentabelle!AL372","v":4.1996886544052217},{"$f":"K372","v":-6.6414511547208122E-5}]
[2.318749763071537E-2,6.2499995692633092E-5,2.0704374313354492,157.00001525878906,0,null,0,null,null,null,null,null,"-",{"$f":"N372+(L374-L372)/2","v":-3.4207146869301493E-2},156.95832721375049,157.00001525878906,7.480898169262673E-3,-3.2271093793505377E-3,"-",-3.2271093793505377E-3,0,-3.2271093793505377E-3,-3.2271093793505377E-3,-1.1245380096566447E-2,8.0182707172159091E-3,0.54522119714769368,0.54522119714769368,0.54522119714769368,"-",-6.0723022144918157E-3,-6.0723022144918157E-3,-6.0723022144918157E-3,"-",-4.2506115501442709E-3,-8.8315220239856025,156.95777524362398,1498.8363472037684,2.0901212065475052,-2.9088820873213997E-4,2.9088820873213997E-4,{"$f":"FI_T-Rechentabelle!AL373","v":4.189878793452495},{"$f":"AP372","v":-6.6414511547208122E-5}]
[2.3249998688697815E-2,6.2499995692633092E-5,2.0802500247955322,157.00001525878906,0,null,0,null,{"$f":"C374","v":2.0802500247955322},{"$f":"AL372","v":2.0803113455947786},{"$f":"I374-J374","v":-6.132079924636713E-5},{"$f":"L372+KP_LR*(1+2*TA_SIM/TN_LR)*K374-KP_LR*K372","v":-3.3781821951868907E-2},"-",{"$f":"L374","v":-3.3781821951868907E-2},156.95777524362398,157.00001525878906,8.4581932132152815E-3,1.0983805835713852E-3,"-",1.0983805835713852E-3,0,1.0983805835713852E-3,1.0983805835713852E-3,-6.0723022144918157E-3,7.1706827980632009E-3,0.49914210973515738,0.49914210973515738,0.49914210973515738,"-",-1.4460552479995715E-3,-1.4460552479995715E-3,-1.4460552479995715E-3,"-",-1.0122386735997E-3,-2.1031345805104924,156.95764379771271,1498.8350919877767,2.0999310592848621,-2.9088820873213997E-4,2.9088820873213997E-4,{"$f":"FI_T-Rechentabelle!AL374","v":4.1800689407151381},{"$f":"K374","v":-6.132079924636713E-5}]
[2.331249788403511E-2,6.2499995692633092E-5,2.0900626182556152,157.00001525878906,0,null,0,null,null,null,null,null,"-",{"$f":"N374+(L376-L374)/2","v":-3.3066479450292278E-2},156.95764379771271,157.00001525878906,9.3049816260588614E-3,5.328054046092958E-3,"-",5.328054046092958E-3,0,5.328054046092958E-3,5.328054046092958E-3,-1.4460552479995715E-3,6.7741092940925294E-3,0.48397934826474398,0.48397934826474398,0.48397934826474398,"-",2.92433784496321E-3,2.92433784496321E-3,2.92433784496321E-3,"-",2.0470364914742471E-3,4.2531404352259443,156.9579096189899,1498.8376303939915,2.1097409286360489,-2.9088820873213997E-4,2.9088820873213997E-4,{"$f":"FI_T-Rechentabelle!AL375","v":4.1702590713639509},{"$f":"AP374","v":-6.132079924636713E-5}]
[2.3374998942017555E-2,6.2499995692633092E-5,2.0998749732971191,157.00001525878906,0,null,0,null,{"$f":"C376","v":2.0998749732971191},{"$f":"AL374","v":2.0999310592848621},{"$f":"I376-J376","v":-5.6085987742982013E-5},{"$f":"L374+KP_LR*(1+2*TA_SIM/TN_LR)*K376-KP_LR*K374","v":-3.235113694871565E-2},"-",{"$f":"L376","v":-3.235113694871565E-2},156.9579096189899,157.00001525878906,9.7545028504555376E-3,8.7472347180901355E-3,"-",8.7472347180901355E-3,0,8.7472347180901355E-3,8.7472347180901355E-3,2.92433784496321E-3,5.8228968731269259E-3,0.42810482538152494,0.42810482538152494,0.42810482538152494,"-",6.6810455050449608E-3,6.6810455050449608E-3,6.6810455050449608E-3,"-",4.676731853531472E-3,9.716874825538067,156.95851692366651,1498.843429726466,2.119550835943778,-2.9088820873213997E-4,2.9088820873213997E-4,{"$f":"FI_T-Rechentabelle!AL376","v":4.1604491640562227},{"$f":"K376","v":-5.6085987742982013E-5}]
[2.3437498137354851E-2,6.2499995692633092E-5,2.1096875667572021,157.00001525878906,0,null,0,null,null,null,null,null,"-",{"$f":"N376+(L378-L376)/2","v":-3.1319273097033286E-2},156.95851692366651,157.00001525878906,1.017906202551444E-2,1.2212106934991487E-2,"-",1.2212106934991487E-2,0,1.2212106934991487E-2,1.2212106934991487E-2,6.6810455050449608E-3,5.5310614299465266E-3,0.41796829759366522,0.41796829759366522,0.41796829759366522,"-",1.0249472234042588E-2,1.0249472234042588E-2,1.0249472234042588E-2,"-",7.1746305638298114E-3,14.906774493724933,156.95944859707237,1498.8523265521394,2.129360801481095,-2.9088820873213997E-4,2.9088820873213997E-4,{"$f":"FI_T-Rechentabelle!AL377","v":4.1506391985189053},{"$f":"AP376","v":-5.6085987742982013E-5}]
[2.3499999195337296E-2,6.2499995692633092E-5,2.1195001602172852,157.00001525878906,0,null,0,null,{"$f":"C378","v":2.1195001602172852},{"$f":"AL376","v":2.119550835943778},{"$f":"I378-J378","v":-5.0675726492865891E-5},{"$f":"L376+KP_LR*(1+2*TA_SIM/TN_LR)*K378-KP_LR*K376","v":-3.0287409245350921E-2},"-",{"$f":"L378","v":-3.0287409245350921E-2},156.95944859707237,157.00001525878906,1.0279252471349309E-2,1.4950157112801583E-2,"-",1.4950157112801583E-2,0,1.4950157112801583E-2,1.4950157112801583E-2,1.0249472234042588E-2,4.7006848787589945E-3,0.36847605074153461,0.36847605074153461,0.36847605074153461,"-",1.3282172155822456E-2,1.3282172155822456E-2,1.3282172155822456E-2,"-",9.2975205090757192E-3,19.317516121079823,156.96065594182994,1498.8638558453106,2.1391708424774594,-2.9088820873213997E-4,2.9088820873213997E-4,{"$f":"FI_T-Rechentabelle!AL378","v":4.1408291575225409},{"$f":"K378","v":-5.0675726492865891E-5}]
[2.3562498390674591E-2,6.2499995692633092E-5,2.1293125152587891,157.00001525878906,0,null,0,null,null,null,null,null,"-",{"$f":"N378+(L380-L378)/2","v":-2.9322561790775761E-2},156.96065594182994,157.00001525878906,1.0036755168357558E-2,1.6835413100364353E-2,"-",1.6835413100364353E-2,0,1.6835413100364353E-2,1.6835413100364353E-2,1.3282172155822456E-2,3.553240944541897E-3,0.29458088861014836,0.29458088861014836,0.29458088861014836,"-",1.5574585668430002E-2,1.5574585668430002E-2,1.5574585668430002E-2,"-",1.0902209967901002E-2,22.65158937856015,156.96207166616611,1498.8773750168798,2.1489809719565947,-2.9088820873213997E-4,2.9088820873213997E-4,{"$f":"FI_T-Rechentabelle!AL379","v":4.131019028043406},{"$f":"AP378","v":-5.0675726492865891E-5}]
[2.3624997586011887E-2,6.2499995692633092E-5,2.1391251087188721,157.00001525878906,0,null,0,null,{"$f":"C380","v":2.1391251087188721},{"$f":"AL378","v":2.1391708424774594},{"$f":"I380-J380","v":-4.5733758587296336E-5},{"$f":"L378+KP_LR*(1+2*TA_SIM/TN_LR)*K380-KP_LR*K378","v":-2.8357714336200601E-2},"-",{"$f":"L380","v":-2.8357714336200601E-2},156.96207166616611,157.00001525878906,9.5858782867423997E-3,1.8128135251724766E-2,"-",1.8128135251724766E-2,0,1.8128135251724766E-2,1.8128135251724766E-2,1.5574585668430002E-2,2.5535495832947636E-3,0.22918661357006237,0.22918661357006237,0.22918661357006237,"-",1.7222037012491014E-2,1.7222037012491014E-2,1.7222037012491014E-2,"-",1.2055425908743709E-2,25.047633303020376,156.96363714324755,1498.8923242218284,2.1587911992780477,-2.9088820873213997E-4,2.9088820873213997E-4,{"$f":"FI_T-Rechentabelle!AL380","v":4.1212088007219521},{"$f":"K380","v":-4.5733758587296336E-5}]
[2.3687498643994331E-2,6.2499995692633092E-5,2.1489377021789551,157.00001525878906,0,null,0,null,null,null,null,null,"-",{"$f":"N380+(L382-L380)/2","v":-2.7407065461897865E-2},156.96363714324755,157.00001525878906,8.9710500796229553E-3,1.889125061090163E-2,"-",1.889125061090163E-2,0,1.889125061090163E-2,1.889125061090163E-2,1.7222037012491014E-2,1.6692135984106155E-3,0.17023497762167236,0.17023497762167236,0.17023497762167236,"-",1.8298949011465483E-2,1.8298949011465483E-2,1.8298949011465483E-2,"-",1.2809264308025838E-2,26.613888028310487,156.96530051124932,1498.9082082162081,2.168601530560001,-2.9088820873213997E-4,2.9088820873213997E-4,{"$f":"FI_T-Rechentabelle!AL381","v":4.1113984694399992},{"$f":"AP380","v":-4.5733758587296336E-5}]
[2.3749997839331627E-2,6.2499995692633092E-5,2.158750057220459,157.00001525878906,0,null,0,null,{"$f":"C382","v":2.158750057220459},{"$f":"AL380","v":2.1587911992780477},{"$f":"I382-J382","v":-4.1142057588761105E-5},{"$f":"L380+KP_LR*(1+2*TA_SIM/TN_LR)*K382-KP_LR*K380","v":-2.6456416587595129E-2},"-",{"$f":"L382","v":-2.6456416587595129E-2},156.96530051124932,157.00001525878906,8.258330952145343E-3,1.9253891977135899E-2,"-",1.9253891977135899E-2,0,1.9253891977135899E-2,1.9253891977135899E-2,1.8298949011465483E-2,9.5494296567041545E-4,0.12188445488509846,0.12188445488509846,0.12188445488509846,"-",1.8915041247381761E-2,1.8915041247381761E-2,1.8915041247381761E-2,"-",1.3240528873167233E-2,27.509929094467548,156.96701988181772,1498.9246269957061,2.1784119693026147,-2.9088820873213997E-4,2.9088820873213997E-4,{"$f":"FI_T-Rechentabelle!AL382","v":4.1015880306973855},{"$f":"K382","v":-4.1142057588761105E-5}]
[2.3812498897314072E-2,6.2499995692633092E-5,2.168562650680542,157.00001525878906,0,null,0,null,null,null,null,null,"-",{"$f":"N382+(L384-L382)/2","v":-2.5572220314988379E-2},156.96701988181772,157.00001525878906,7.4231566563582874E-3,1.9129314144696256E-2,"-",1.9129314144696256E-2,0,1.9129314144696256E-2,1.9129314144696256E-2,1.8915041247381761E-2,2.14272897314495E-4,7.0295092281929358E-2,7.0295092281929358E-2,7.0295092281929358E-2,"-",1.9053281826294226E-2,1.9053281826294226E-2,1.9053281826294226E-2,"-",1.3337297278405958E-2,27.710985411190435,156.96875181840591,1498.941165771854,2.188222516291265,-2.9088820873213997E-4,2.9088820873213997E-4,{"$f":"FI_T-Rechentabelle!AL383","v":4.0917774837087357},{"$f":"AP382","v":-4.1142057588761105E-5}]
[2.3874998092651367E-2,6.2499995692633092E-5,2.1783750057220459,157.00001525878906,0,null,0,null,{"$f":"C384","v":2.1783750057220459},{"$f":"AL382","v":2.1784119693026147},{"$f":"I384-J384","v":-3.6963580568816212E-5},{"$f":"L382+KP_LR*(1+2*TA_SIM/TN_LR)*K384-KP_LR*K382","v":-2.4688024042381629E-2},"-",{"$f":"L384","v":-2.4688024042381629E-2},156.96875181840591,157.00001525878906,6.5754163407802935E-3,1.8768960183355613E-2,"-",1.8768960183355613E-2,0,1.8768960183355613E-2,1.8768960183355613E-2,1.9053281826294226E-2,-2.8432164293861265E-4,3.4765015672858335E-2,3.4765015672858335E-2,3.4765015672858335E-2,"-",1.8869848508269203E-2,1.8869848508269203E-2,1.8869848508269203E-2,"-",1.3208893955788441E-2,27.444201030102722,156.97046708097028,1498.9575453228033,2.1980331704838254,-2.9088820873213997E-4,2.9088820873213997E-4,{"$f":"FI_T-Rechentabelle!AL384","v":4.0819668295161744},{"$f":"K384","v":-3.6963580568816212E-5}]
[2.3937499150633812E-2,6.2499995692633092E-5,2.1881875991821289,157.00001525878906,0,null,0,null,null,null,null,null,"-",{"$f":"N384+(L386-L384)/2","v":-2.3897743158626871E-2},156.97046708097028,157.00001525878906,5.6504346601684574E-3,1.8004209172148546E-2,"-",1.8004209172148546E-2,0,1.8004209172148546E-2,1.8004209172148546E-2,1.8869848508269203E-2,-8.6563933612065699E-4,-7.659319225823167E-3,-7.659319225823167E-3,-7.659319225823167E-3,"-",1.831137151722351E-2,1.831137151722351E-2,1.831137151722351E-2,"-",1.2817960062056457E-2,26.631955250480896,156.97213157817345,1498.9734401002622,2.2078439287074612,-2.9088820873213997E-4,2.9088820873213997E-4,{"$f":"FI_T-Rechentabelle!AL385","v":4.0721560712925395},{"$f":"AP384","v":-3.6963580568816212E-5}]
[2.3999998345971107E-2,6.2499995692633092E-5,2.1979999542236328,157.00001525878906,0,null,0,null,{"$f":"C386","v":2.1979999542236328},{"$f":"AL384","v":2.1980331704838254},{"$f":"I386-J386","v":-3.3216260192592273E-5},{"$f":"L384+KP_LR*(1+2*TA_SIM/TN_LR)*K386-KP_LR*K384","v":-2.3107462274872113E-2},"-",{"$f":"L386","v":-2.3107462274872113E-2},156.97213157817345,157.00001525878906,4.7762183407371595E-3,1.7143904760210965E-2,"-",1.7143904760210965E-2,{"$f":"G386*(JM_EMS+JL_EMS)/KT_M*KP_VSR","v":0},1.7143904760210965E-2,{"$f":"IF(V386<-IM_R,-IM_R,IF(V386>IM_R,IM_R,V386))","v":1.7143904760210965E-2},1.831137151722351E-2,-1.1674667570125453E-3,-3.102994954090306E-2,{"$f":"IF(Z386<-U_ZWK,-U_ZWK,IF(Z386>U_ZWK,U_ZWK,Z386))","v":-3.102994954090306E-2},-3.102994954090306E-2,"-",1.7558167157860474E-2,1.7558167157860474E-2,1.7558167157860474E-2,"-",{"$f":"AF386*KT_M","v":1.2290717010502331E-2},{"$f":"AH386/(JM_EMS+JL_EMS)","v":25.53649908685296},156.97372760936636,1498.9886810754831,2.2176547866830467,{"$f":"-DF_LR","v":-2.9088820873213997E-4},{"$f":"DF_LR","v":2.9088820873213997E-4},{"$f":"FI_T-Rechentabelle!AL386","v":4.062345213316954},{"$f":"K386","v":-3.3216260192592273E-5}]
[2.4062497541308403E-2,6.2499995692633092E-5,2.2078125476837158,157.00001525878906,0,null,{"$f":"E387/1000","v":0},null,null,null,null,null,"-",{"$f":"N386+(L388-L386)/2","v":-2.2273951319787749E-2},156.97372760936636,157.00001525878906,4.0136981029093022E-3,{"$f":"R386+KP_DR*(1+TA_SIM/TN_DR)*Q387-KP_DR*Q386","v":1.6356395011100359E-2},"-",{"$f":"R387","v":1.6356395011100359E-2},0,{"$f":"T387+U387","v":1.6356395011100359E-2},1.6356395011100359E-2,1.7558167157860474E-2,{"$f":"W387-X387","v":-1.2017721467601147E-3},-3.5686443495832013E-2,-3.5686443495832013E-2,{"$f":"AA387","v":-3.5686443495832013E-2},"-",{"$f":"(1/R_M*AB387+AD386*T_M/TA_SIM)/(1+T_M/TA_SIM)","v":1.6782830288982878E-2},{"$f":"AD387","v":1.6782830288982878E-2},{"$f":"AE387","v":1.6782830288982878E-2},"-",1.1747981202288014E-2,24.408853526465847,{"$f":"AJ386+AI387*TA_SIM","v":156.97525316271177},1499.0032490368353,{"$f":"AL386+AJ387*TA_SIM","v":2.2274657400057163},-2.9088820873213997E-4,2.9088820873213997E-4,{"$f":"FI_T-Rechentabelle!AL387","v":4.0525342599942835},{"$f":"AP386","v":-3.3216260192592273E-5}]
[2.4124998599290848E-2,6.2499995692633092E-5,2.2176251411437988,157.00001525878906,0,null,0,null,{"$f":"C388","v":2.2176251411437988},{"$f":"AL386","v":2.2176547866830467},{"$f":"I388-J388","v":-2.9645539247891151E-5},{"$f":"L386+KP_LR*(1+2*TA_SIM/TN_LR)*K388-KP_LR*K386","v":-2.1440440364703384E-2},"-",{"$f":"L388","v":-2.1440440364703384E-2},{"$f":"AJ387","v":156.97525316271177},{"$f":"D388*KP_VDR","v":157.00001525878906},{"$f":"N388-O388+P388","v":3.3216557125967938E-3},1.5563399235494154E-2,"-",1.5563399235494154E-2,0,1.5563399235494154E-2,1.5563399235494154E-2,{"$f":"AF387","v":1.6782830288982878E-2},-1.2194310534887239E-3,-3.9207500984341684E-2,-3.9207500984341684E-2,-3.9207500984341684E-2,"-",1.5996100577054567E-2,1.5996100577054567E-2,1.5996100577054567E-2,"-",1.1197270403938196E-2,23.264638279530843,156.97670720260425,1499.0171340950158,2.2372767842058789,-2.9088820873213997E-4,2.9088820873213997E-4,{"$f":"FI_T-Rechentabelle!AL388","v":4.0427232157941209},{"$f":"K388","v":-2.9645539247891151E-5}]
[2.4187497794628143E-2,6.2499995692633092E-5,2.2274374961853027,157.00001525878906,0,null,0,null,null,null,null,null,"-",{"$f":"N388+(L390-L388)/2","v":-2.083965435385457E-2},156.97670720260425,157.00001525878906,2.468401830952871E-3,1.4189015781534465E-2,"-",1.4189015781534465E-2,0,1.4189015781534465E-2,1.4189015781534465E-2,1.5996100577054567E-2,-1.8070847955201016E-3,-8.3837999719839892E-2,-8.3837999719839892E-2,-8.3837999719839892E-2,"-",1.4830239418654403E-2,1.4830239418654403E-2,1.4830239418654403E-2,"-",1.0381167593058082E-2,21.569016399455808,156.97805526612922,1499.0300071534318,2.2470879126600121,-2.9088820873213997E-4,2.9088820873213997E-4,{"$f":"FI_T-Rechentabelle!AL389","v":4.0329120873399882},{"$f":"AP388","v":-2.9645539247891151E-5}]
[2.4249998852610588E-2,6.2499995692633092E-5,2.2372500896453857,157.00001525878906,0,null,0,null,{"$f":"C390","v":2.2372500896453857},{"$f":"AL388","v":2.2372767842058789},{"$f":"I390-J390","v":-2.669456049320118E-5},{"$f":"L388+KP_LR*(1+2*TA_SIM/TN_LR)*K390-KP_LR*K388","v":-2.0238868343005756E-2},"-",{"$f":"L390","v":-2.0238868343005756E-2},156.97805526612922,157.00001525878906,1.7211243168446799E-3,1.2877896024448148E-2,"-",1.2877896024448148E-2,0,1.2877896024448148E-2,1.2877896024448148E-2,1.4830239418654403E-2,-1.9523433942062549E-3,-9.7686987707099021E-2,-9.7686987707099021E-2,-9.7686987707099021E-2,"-",1.3570663035295432E-2,1.3570663035295432E-2,1.3570663035295432E-2,"-",9.4994641247068013E-3,19.73709562581924,156.97928883460582,1499.0417868646737,2.2568991182121749,-2.9088820873213997E-4,2.9088820873213997E-4,{"$f":"FI_T-Rechentabelle!AL390","v":4.0231008817878253},{"$f":"K390","v":-2.669456049320118E-5}]
[2.4312498047947884E-2,6.2499995692633092E-5,2.2470626831054688,157.00001525878906,0,null,0,null,null,null,null,null,"-",{"$f":"N390+(L392-L390)/2","v":-1.9723815591054007E-2},156.97928883460582,157.00001525878906,1.0026085921879258E-3,1.145822059171595E-2,"-",1.145822059171595E-2,0,1.145822059171595E-2,1.145822059171595E-2,1.3570663035295432E-2,-2.1124424435794813E-3,-0.11287721974463935,-0.11287721974463935,-0.11287721974463935,"-",1.2207796942663414E-2,1.2207796942663414E-2,1.2207796942663414E-2,"-",8.5454578598643891E-3,17.75495088274338,156.98039851903599,1499.0523835704134,2.2667103931196149,-2.9088820873213997E-4,2.9088820873213997E-4,{"$f":"FI_T-Rechentabelle!AL391","v":4.0132896068803854},{"$f":"AP390","v":-2.669456049320118E-5}]
[2.4374999105930328E-2,6.2499995692633092E-5,2.2568750381469727,157.00001525878906,0,null,0,null,{"$f":"C392","v":2.2568750381469727},{"$f":"AL390","v":2.2568991182121749},{"$f":"I392-J392","v":-2.4080065202269907E-5},{"$f":"L390+KP_LR*(1+2*TA_SIM/TN_LR)*K392-KP_LR*K390","v":-1.9208762839102257E-2},"-",{"$f":"L392","v":-1.9208762839102257E-2},156.98039851903599,157.00001525878906,4.0797691397642666E-4,1.0180497510029333E-2,"-",1.0180497510029333E-2,0,1.0180497510029333E-2,1.0180497510029333E-2,1.2207796942663414E-2,-2.0272994326340811E-3,-0.11069374152772274,-0.11069374152772274,-0.11069374152772274,"-",1.0899861824834886E-2,1.0899861824834886E-2,1.0899861824834886E-2,"-",7.6299032773844196E-3,15.852697438986949,156.98138931262594,1499.061844952259,2.276521729951654,-2.9088820873213997E-4,2.9088820873213997E-4,{"$f":"FI_T-Rechentabelle!AL392","v":4.0034782700483458},{"$f":"K392","v":-2.4080065202269907E-5}]
[2.4437498301267624E-2,6.2499995692633092E-5,2.2666876316070557,157.00001525878906,0,null,0,null,null,null,null,null,"-",{"$f":"N392+(L394-L392)/2","v":-1.8757300700234937E-2},156.98138931262594,157.00001525878906,-1.3135453710333422E-4,8.8993663795239684E-3,"-",8.8993663795239684E-3,0,8.8993663795239684E-3,8.8993663795239684E-3,1.0899861824834886E-2,-2.0004954453109181E-3,-0.11255513699265277,-0.11255513699265277,-0.11255513699265277,"-",9.609219602053562E-3,9.609219602053562E-3,9.609219602053562E-3,"-",6.7264537214374934E-3,13.975594684058784,156.98226278729368,1499.0701860209213,2.28633312137586,-2.9088820873213997E-4,2.9088820873213997E-4,{"$f":"FI_T-Rechentabelle!AL393","v":3.9936668786241403},{"$f":"AP392","v":-2.4080065202269907E-5}]
[2.4499997496604919E-2,6.2499995692633092E-5,2.2764999866485596,157.00001525878906,0,null,0,null,{"$f":"C394","v":2.2764999866485596},{"$f":"AL392","v":2.276521729951654},{"$f":"I394-J394","v":-2.1743303094456934E-5},{"$f":"L392+KP_LR*(1+2*TA_SIM/TN_LR)*K394-KP_LR*K392","v":-1.8305838561367613E-2},"-",{"$f":"L394","v":-1.8305838561367613E-2},156.98226278729368,157.00001525878906,-5.5336706597586272E-4,7.7870658529260442E-3,"-",7.7870658529260442E-3,0,7.7870658529260442E-3,7.7870658529260442E-3,9.609219602053562E-3,-1.8221537491275178E-3,-0.10344589139763072,-0.10344589139763072,-0.10344589139763072,"-",8.4336365381002393E-3,8.4336365381002393E-3,8.4336365381002393E-3,"-",5.903545576670167E-3,12.26583331948923,156.98302940187614,1499.0775066509359,2.2961445607134774,-2.9088820873213997E-4,2.9088820873213997E-4,{"$f":"FI_T-Rechentabelle!AL394","v":3.9838554392865229},{"$f":"K394","v":-2.1743303094456934E-5}]
[2.4562498554587364E-2,6.2499995692633092E-5,2.2863125801086426,157.00001525878906,0,null,0,null,null,null,null,null,"-",{"$f":"N394+(L396-L394)/2","v":-1.7893490697583725E-2},156.98302940187614,157.00001525878906,-9.0763378466363065E-4,6.7452990417504188E-3,"-",6.7452990417504188E-3,0,6.7452990417504188E-3,6.7452990417504188E-3,8.4336365381002393E-3,-1.6883374963498204E-3,-9.7211678776470078E-2,-9.7211678776470078E-2,-9.7211678776470078E-2,"-",7.3443865404551117E-3,7.3443865404551117E-3,7.3443865404551117E-3,"-",5.1410705783185781E-3,10.681634278659002,156.98369700401855,1499.0838817817948,2.3059560417762284,-2.9088820873213997E-4,2.9088820873213997E-4,{"$f":"FI_T-Rechentabelle!AL395","v":3.9740439582237719},{"$f":"AP394","v":-2.1743303094456934E-5}]
[2.462499774992466E-2,6.2499995692633092E-5,2.2961249351501465,157.00001525878906,0,null,0,null,{"$f":"C396","v":2.2961249351501465},{"$f":"AL394","v":2.2961445607134774},{"$f":"I396-J396","v":-1.9625563330905038E-5},{"$f":"L394+KP_LR*(1+2*TA_SIM/TN_LR)*K396-KP_LR*K394","v":-1.7481142833799836E-2},"-",{"$f":"L396","v":-1.7481142833799836E-2},156.98369700401855,157.00001525878906,-1.1628880632770233E-3,5.8706189052796336E-3,"-",5.8706189052796336E-3,0,5.8706189052796336E-3,5.8706189052796336E-3,7.3443865404551117E-3,-1.4737676351754781E-3,-8.4907630548238106E-2,-8.4907630548238106E-2,-8.4907630548238106E-2,"-",6.3935687113095604E-3,6.3935687113095604E-3,6.3935687113095604E-3,"-",4.4754980979166917E-3,9.2987702013644125,156.98427817715614,1499.0894315764533,2.3157675591623006,-2.9088820873213997E-4,2.9088820873213997E-4,{"$f":"FI_T-Rechentabelle!AL396","v":3.9642324408376997},{"$f":"K396","v":-1.9625563330905038E-5}]
[2.4687498807907104E-2,6.2499995692633092E-5,2.3059375286102295,157.00001525878906,0,null,0,null,null,null,null,null,"-",{"$f":"N396+(L398-L396)/2","v":-1.6940896016731939E-2},156.98427817715614,157.00001525878906,-1.2038143838140059E-3,5.4823512299589745E-3,"-",5.4823512299589745E-3,0,5.4823512299589745E-3,5.4823512299589745E-3,6.3935687113095604E-3,-9.1121748135058588E-4,-4.712509761905645E-2,-4.712509761905645E-2,-4.712509761905645E-2,"-",5.8056864652768457E-3,5.8056864652768457E-3,5.8056864652768457E-3,"-",4.0639805256937915E-3,8.4437575850691697,156.98480591200521,1499.0944710730455,2.3255791095318008,-2.9088820873213997E-4,2.9088820873213997E-4,{"$f":"FI_T-Rechentabelle!AL397","v":3.9544208904681994},{"$f":"AP396","v":-1.9625563330905038E-5}]
[2.47499980032444E-2,6.2499995692633092E-5,2.3157501220703125,157.00001525878906,0,null,0,null,{"$f":"C398","v":2.3157501220703125},{"$f":"AL396","v":2.3157675591623006},{"$f":"I398-J398","v":-1.7437091988092845E-5},{"$f":"L396+KP_LR*(1+2*TA_SIM/TN_LR)*K398-KP_LR*K396","v":-1.6400649199664042E-2},"-",{"$f":"L398","v":-1.6400649199664042E-2},156.98480591200521,157.00001525878906,-1.1913024158047847E-3,5.2208985637841225E-3,"-",5.2208985637841225E-3,0,5.2208985637841225E-3,5.2208985637841225E-3,5.8056864652768457E-3,-5.8478790149272316E-4,-2.5305966409890926E-2,-2.5305966409890926E-2,-2.5305966409890926E-2,"-",5.4284039481846905E-3,5.4284039481846905E-3,5.4284039481846905E-3,"-",3.799882763729283E-3,7.8950400243700036,156.98529935200673,1499.0991830779672,2.3353906907413013,-2.9088820873213997E-4,2.9088820873213997E-4,{"$f":"FI_T-Rechentabelle!AL398","v":3.9446093092586989},{"$f":"K398","v":-1.7437091988092845E-5}]
[2.4812499061226845E-2,6.2499995692633092E-5,2.3255624771118164,157.00001525878906,0,null,0,null,null,null,null,null,"-",{"$f":"N398+(L400-L398)/2","v":-1.5998009903121158E-2},156.98529935200673,157.00001525878906,-1.2821031207863598E-3,4.6980340962791993E-3,"-",4.6980340962791993E-3,0,4.6980340962791993E-3,4.6980340962791993E-3,5.4284039481846905E-3,-7.3036985190549127E-4,-3.6891378523074864E-2,-3.6891378523074864E-2,-3.6891378523074864E-2,"-",4.9571975921165563E-3,4.9571975921165563E-3,4.9571975921165563E-3,"-",3.4700383144815891E-3,7.2097201630616849,156.98574995951694,1499.1034860627258,2.3452023001137712,-2.9088820873213997E-4,2.9088820873213997E-4,{"$f":"FI_T-Rechentabelle!AL399","v":3.9347976998862291},{"$f":"AP398","v":-1.7437091988092845E-5}]
[2.487499825656414E-2,6.2499995692633092E-5,2.3353750705718994,157.00001525878906,0,null,0,null,{"$f":"C400","v":2.3353750705718994},{"$f":"AL398","v":2.3353906907413013},{"$f":"I400-J400","v":-1.5620169401930895E-5},{"$f":"L398+KP_LR*(1+2*TA_SIM/TN_LR)*K400-KP_LR*K398","v":-1.5595370606578274E-2},"-",{"$f":"L400","v":-1.5595370606578274E-2},156.98574995951694,157.00001525878906,-1.3300713344506221E-3,4.2626766694394032E-3,"-",4.2626766694394032E-3,0,4.2626766694394032E-3,4.2626766694394032E-3,4.9571975921165563E-3,-6.9452092267715312E-4,-3.5674441217088133E-2,-3.5674441217088133E-2,-3.5674441217088133E-2,"-",4.5091195774860622E-3,4.5091195774860622E-3,4.5091195774860622E-3,"-",3.1563837042402434E-3,6.5580380308336652,156.98615983689388,1499.1074001033619,2.3550139351035773,-2.9088820873213997E-4,2.9088820873213997E-4,{"$f":"FI_T-Rechentabelle!AL400","v":3.924986064896423},{"$f":"K400","v":-1.5620169401930895E-5}]
[2.4937497451901436E-2,6.2499995692633092E-5,2.3451876640319824,157.00001525878906,0,null,0,null,null,null,null,null,"-",{"$f":"N400+(L402-L400)/2","v":-1.5188248047621231E-2},156.98615983689388,157.00001525878906,-1.3328261524350182E-3,3.9313632224478113E-3,"-",3.9313632224478113E-3,0,3.9313632224478113E-3,3.9313632224478113E-3,4.5091195774860622E-3,-5.7775635503825098E-4,-2.8559285391603212E-2,-2.8559285391603212E-2,-2.8559285391603212E-2,"-",4.1363735419774434E-3,4.1363735419774434E-3,4.1363735419774434E-3,"-",2.8954614793842101E-3,6.0159183033122998,156.98653583178782,1499.1109905901187,2.3648255935930642,-2.9088820873213997E-4,2.9088820873213997E-4,{"$f":"FI_T-Rechentabelle!AL401","v":3.915174406406936},{"$f":"AP400","v":-1.5620169401930895E-5}]
[2.4999998509883881E-2,6.2499995692633092E-5,2.3550000190734863,157.00001525878906,0,null,0,null,{"$f":"C402","v":2.3550000190734863},{"$f":"AL400","v":2.3550139351035773},{"$f":"I402-J402","v":-1.3916030090932452E-5},{"$f":"L400+KP_LR*(1+2*TA_SIM/TN_LR)*K402-KP_LR*K400","v":-1.4781125488664188E-2},"-",{"$f":"L402","v":-1.4781125488664188E-2},156.98653583178782,157.00001525878906,-1.3016984874241189E-3,3.6861113207096448E-3,"-",3.6861113207096448E-3,0,3.6861113207096448E-3,3.6861113207096448E-3,4.1363735419774434E-3,-4.5026222126779867E-4,-2.045244583512025E-2,-2.045244583512025E-2,-2.045244583512025E-2,"-",3.8458817863207297E-3,3.8458817863207297E-3,3.8458817863207297E-3,"-",2.6921172504245105E-3,5.5934287355589243,156.9868854210838,1499.1143289219892,2.374637273931882,-2.9088820873213997E-4,2.9088820873213997E-4,{"$f":"FI_T-Rechentabelle!AL402","v":3.9053627260681183},{"$f":"K402","v":-1.3916030090932452E-5}]
[2.5062497705221176E-2,6.2499995692633092E-5,2.3648126125335693,157.00001525878906,0,null,0,null,null,null,null,null,"-",{"$f":"N402+(L404-L402)/2","v":-1.4218276194189949E-2},156.9868854210838,157.00001525878906,-1.0884384889209286E-3,3.9146745989372574E-3,"-",3.9146745989372574E-3,0,3.9146745989372574E-3,3.9146745989372574E-3,3.8458817863207297E-3,6.8792812616527699E-5,{"$f":"Z402+KP_SR*(1+TA_SIM/TN_SR)*Y403-KP_SR*Y402","v":1.6110577934687901E-2},1.6110577934687901E-2,1.6110577934687901E-2,"-",3.8902642460732608E-3,3.8902642460732608E-3,3.8902642460732608E-3,"-",2.7231849722512825E-3,5.6579783342017089,{"$f":"AJ402+AI403*TA_SIM","v":156.98723904472968},1499.1177057790633,{"$f":"AL402+AJ403*TA_SIM","v":2.3844489763721777},-2.9088820873213997E-4,2.9088820873213997E-4,{"$f":"FI_T-Rechentabelle!AL403","v":3.8955510236278226},{"$f":"AP402","v":-1.3916030090932452E-5}]
[2.5124998763203621E-2,6.2499995692633092E-5,2.3746252059936523,157.00001525878906,0,null,0,null,{"$f":"C404","v":2.3746252059936523},{"$f":"AL402","v":2.374637273931882},{"$f":"I404-J404","v":-1.2067938229609609E-5},{"$f":"L402+KP_LR*(1+2*TA_SIM/TN_LR)*K404-KP_LR*K402","v":-1.365542689971571E-2},"-",{"$f":"L404","v":-1.365542689971571E-2},156.98723904472968,157.00001525878906,-8.792128403172228E-4,4.1849018745866631E-3,"-",4.1849018745866631E-3,0,4.1849018745866631E-3,4.1849018745866631E-3,3.8902642460732608E-3,2.9463762851340228E-4,3.2514684445829077E-2,3.2514684445829077E-2,3.2514684445829077E-2,"-",4.0803530386624874E-3,4.0803530386624874E-3,4.0803530386624874E-3,"-",2.8562471270637412E-3,5.9344423998831104,156.98760994737967,1499.1212476384726,2.3942607019938889,-2.9088820873213997E-4,2.9088820873213997E-4,{"$f":"FI_T-Rechentabelle!AL404","v":3.8857392980061114},{"$f":"K404","v":-1.2067938229609609E-5}]
[2.5187497958540916E-2,6.2499995692633092E-5,2.3844375610351563,157.00001525878906,0,null,0,null,null,null,null,null,"-",{"$f":"N404+(L406-L404)/2","v":-1.3217211079828119E-2},156.98760994737967,157.00001525878906,-8.1189967042405442E-4,4.142866036858919E-3,"-",4.142866036858919E-3,0,4.142866036858919E-3,4.142866036858919E-3,4.0803530386624874E-3,6.2512998196431573E-5,1.6337992778915039E-2,1.6337992778915039E-2,1.6337992778915039E-2,"-",4.1206840052407665E-3,4.1206840052407665E-3,4.1206840052407665E-3,"-",2.8844788036685364E-3,5.9930995297497116,156.98798451610028,1499.1248245062773,2.4040724510261451,-2.9088820873213997E-4,2.9088820873213997E-4,{"$f":"FI_T-Rechentabelle!AL405","v":3.8759275489738552},{"$f":"AP404","v":-1.2067938229609609E-5}]
[2.5249999016523361E-2,6.2499995692633092E-5,2.3942501544952393,157.00001525878906,0,null,0,null,{"$f":"C406","v":2.3942501544952393},{"$f":"AL404","v":2.3942607019938889},{"$f":"I406-J406","v":-1.0547498649593479E-5},{"$f":"L404+KP_LR*(1+2*TA_SIM/TN_LR)*K406-KP_LR*K404","v":-1.277899525994053E-2},"-",{"$f":"L406","v":-1.277899525994053E-2},156.98798451610028,157.00001525878906,-7.482525711566268E-4,4.1078561636307053E-3,"-",4.1078561636307053E-3,0,4.1078561636307053E-3,4.1078561636307053E-3,4.1206840052407665E-3,-1.2827841610061133E-5,1.1025551416582405E-2,1.1025551416582405E-2,1.1025551416582405E-2,"-",4.1124079783955037E-3,4.1124079783955037E-3,4.1124079783955037E-3,"-",2.8786855848768524E-3,5.9810629230767756,156.98835833253298,1499.1283941902616,2.4138842234219284,-2.9088820873213997E-4,2.9088820873213997E-4,{"$f":"FI_T-Rechentabelle!AL406","v":3.8661157765780718},{"$f":"K406","v":-1.0547498649593479E-5}]
[2.5312498211860657E-2,6.2499995692633092E-5,2.4040625095367432,157.00001525878906,0,null,0,null,null,null,null,null,"-",{"$f":"N406+(L408-L406)/2","v":-1.2336412879002983E-2},156.98835833253298,157.00001525878906,-6.7948662291428263E-4,4.1014663306080165E-3,"-",4.1014663306080165E-3,0,4.1014663306080165E-3,4.1014663306080165E-3,4.1124079783955037E-3,-1.0941647787487269E-5,1.1137478583880677E-2,1.1137478583880677E-2,1.1137478583880677E-2,"-",4.1053488507906133E-3,4.1053488507906133E-3,4.1053488507906133E-3,"-",2.873744195553429E-3,5.9707961677819004,156.98873150729347,1499.1319577467277,2.4236960191411341,-2.9088820873213997E-4,2.9088820873213997E-4,{"$f":"FI_T-Rechentabelle!AL407","v":3.8563039808588662},{"$f":"AP406","v":-1.0547498649593479E-5}]
[2.5374997407197952E-2,6.2499995692633092E-5,2.4138751029968262,157.00001525878906,0,null,0,null,{"$f":"C408","v":2.4138751029968262},{"$f":"AL406","v":2.4138842234219284},{"$f":"I408-J408","v":-9.1204251022602989E-6},{"$f":"L406+KP_LR*(1+2*TA_SIM/TN_LR)*K408-KP_LR*K406","v":-1.1893830498065437E-2},"-",{"$f":"L408","v":-1.1893830498065437E-2},156.98873150729347,157.00001525878906,-6.10079002456132E-4,4.1134836967280011E-3,"-",4.1134836967280011E-3,0,4.1134836967280011E-3,4.1134836967280011E-3,4.1053488507906133E-3,8.1348459373877663E-6,1.2491745403548308E-2,1.2491745403548308E-2,1.2491745403548308E-2,"-",4.1105971384920951E-3,4.1105971384920951E-3,4.1105971384920951E-3,"-",2.8774179969444664E-3,5.9784292477549679,156.98910515912144,1499.1355258588528,2.4335078382135791,-2.9088820873213997E-4,2.9088820873213997E-4,{"$f":"FI_T-Rechentabelle!AL408","v":3.8464921617864212},{"$f":"K408","v":-9.1204251022602989E-6}]
[2.5437498465180397E-2,6.2499995692633092E-5,2.4236874580383301,157.00001525878906,0,null,0,null,null,null,null,null,"-",{"$f":"N408+(L410-L408)/2","v":-1.1450626824306111E-2},156.98910515912144,157.00001525878906,-5.405271566871761E-4,4.1427913210670703E-3,"-",4.1427913210670703E-3,0,4.1427913210670703E-3,4.1427913210670703E-3,4.1105971384920951E-3,3.219418257497525E-5,1.4240789891056016E-2,1.4240789891056016E-2,1.4240789891056016E-2,"-",4.13136757886299E-3,4.13136757886299E-3,4.13136757886299E-3,"-",2.891957305204093E-3,6.0086376588491435,156.98948069897511,{"$f":"AJ409/(2*PI())*60","v":1499.1391120002952},2.443319680757265,-2.9088820873213997E-4,2.9088820873213997E-4,{"$f":"FI_T-Rechentabelle!AL409","v":3.8366803192427352},{"$f":"AP408","v":-9.1204251022602989E-6}]
[2.5499997660517693E-2,6.2499995692633092E-5,2.4335000514984131,157.00001525878906,0,null,0,null,{"$f":"C410","v":2.4335000514984131},{"$f":"AL408","v":2.4335078382135791},{"$f":"I410-J410","v":-7.786715165991609E-6},{"$f":"L408+KP_LR*(1+2*TA_SIM/TN_LR)*K410-KP_LR*K408","v":-1.1007423150546784E-2},"-",{"$f":"L410","v":-1.1007423150546784E-2},156.98948069897511,157.00001525878906,-4.7286333659712909E-4,4.1842221624490234E-3,"-",4.1842221624490234E-3,0,4.1842221624490234E-3,4.1842221624490234E-3,4.13136757886299E-3,5.2854583586033413E-5,1.5789905970025452E-2,1.5789905970025452E-2,1.5789905970025452E-2,"-",4.1654673102087614E-3,4.1654673102087614E-3,4.1654673102087614E-3,"-",2.9158271171461328E-3,6.0582321154085443,156.98985933848232,1499.1427277412486,2.4531315469659201,-2.9088820873213997E-4,2.9088820873213997E-4,{"$f":"FI_T-Rechentabelle!AL410","v":3.8268684530340802},{"$f":"K410","v":-7.786715165991609E-6}]
[2.5562498718500137E-2,6.2499995692633092E-5,2.4433126449584961,157.00001525878906,0,null,0,null,null,null,null,null,"-",{"$f":"N410+(L412-L410)/2","v":-1.0567707090399149E-2},156.98985933848232,157.00001525878906,-4.1178678364417465E-4,4.2252867090837361E-3,"-",4.2252867090837361E-3,0,4.2252867090837361E-3,4.2252867090837361E-3,4.1654673102087614E-3,5.9819398874974734E-5,1.6390711234653996E-2,1.6390711234653996E-2,1.6390711234653996E-2,"-",4.2040604707732068E-3,4.2040604707732068E-3,4.2040604707732068E-3,"-",2.9428423295412448E-3,6.1143617900295961,156.99024148609419,1499.1463769821337,2.4629434370588008,-2.9088820873213997E-4,2.9088820873213997E-4,{"$f":"FI_T-Rechentabelle!AL411","v":3.8170565629411994},{"$f":"AP410","v":-7.786715165991609E-6}]
[2.5624997913837433E-2,6.2499995692633092E-5,2.453125,157.00001525878906,0,null,0,null,{"$f":"C412","v":2.453125},{"$f":"AL410","v":2.4531315469659201},{"$f":"I412-J412","v":-6.5469659200623198E-6},{"$f":"L410+KP_LR*(1+2*TA_SIM/TN_LR)*K412-KP_LR*K410","v":-1.0127991030251516E-2},"-",{"$f":"L412","v":-1.0127991030251516E-2},156.99024148609419,157.00001525878906,-3.5421833538862302E-4,4.2722611436841204E-3,"-",4.2722611436841204E-3,0,4.2722611436841204E-3,4.2722611436841204E-3,4.2040604707732068E-3,6.8200672910913654E-5,1.7106623858235807E-2,1.7106623858235807E-2,1.7106623858235807E-2,"-",4.2480609049092271E-3,4.2480609049092271E-3,4.2480609049092271E-3,"-",2.973642633436459E-3,6.1783557727746912,156.99062763332998,1499.1500644166138,2.4727553512858838,-2.9088820873213997E-4,2.9088820873213997E-4,{"$f":"FI_T-Rechentabelle!AL412","v":3.8072446487141165},{"$f":"K412","v":-6.5469659200623198E-6}]
[2.5687498971819878E-2,6.2499995692633092E-5,2.462937593460083,157.00001525878906,0,null,0,null,null,null,null,null,"-",{"$f":"N412+(L414-L412)/2","v":-9.5518523724731248E-3},156.99062763332998,157.00001525878906,-1.6422691339812445E-4,4.6722496783486505E-3,"-",4.6722496783486505E-3,0,4.6722496783486505E-3,4.6722496783486505E-3,4.2480609049092271E-3,4.2418877343942344E-4,4.2888335329510772E-2,4.2888335329510772E-2,4.2888335329510772E-2,"-",4.5217310813217074E-3,4.5217310813217074E-3,4.5217310813217074E-3,"-",3.1652117569251951E-3,6.576380130740068,156.99103865708815,1499.1539894043844,2.4825672912019519,-2.9088820873213997E-4,2.9088820873213997E-4,{"$f":"FI_T-Rechentabelle!AL413","v":3.7974327087980484},{"$f":"AP412","v":-6.5469659200623198E-6}]
[2.5749998167157173E-2,6.2499995692633092E-5,2.472750186920166,157.00001525878906,0,null,0,null,{"$f":"C414","v":2.472750186920166},{"$f":"AL412","v":2.4727553512858838},{"$f":"I414-J414","v":-5.1643657177358193E-6},{"$f":"L412+KP_LR*(1+2*TA_SIM/TN_LR)*K414-KP_LR*K412","v":-8.9757137146947337E-3},"-",{"$f":"L414","v":-8.9757137146947337E-3},156.99103865708815,157.00001525878906,8.8798620367924741E-7,5.0548772361885003E-3,"-",5.0548772361885003E-3,0,5.0548772361885003E-3,5.0548772361885003E-3,4.5217310813217074E-3,5.3314615486679297E-4,5.1533939812356905E-2,5.1533939812356905E-2,5.1533939812356905E-2,"-",4.8656963425260397E-3,4.8656963425260397E-3,4.8656963425260397E-3,"-",3.4059874397682276E-3,7.0766412627638218,156.99148094716708,1499.1582129635249,2.49237925876115,-2.9088820873213997E-4,2.9088820873213997E-4,{"$f":"FI_T-Rechentabelle!AL414","v":3.7876207412388503},{"$f":"K414","v":-5.1643657177358193E-6}]
[2.5812497362494469E-2,6.2499995692633092E-5,2.4825625419616699,157.00001525878906,0,null,0,null,null,null,null,null,"-",{"$f":"N414+(L416-L414)/2","v":-8.5513351627631504E-3},156.99148094716708,157.00001525878906,-1.7023540777927337E-5,5.0092433870667823E-3,"-",5.0092433870667823E-3,0,5.0092433870667823E-3,5.0092433870667823E-3,4.8656963425260397E-3,1.4354704454074257E-4,2.4455167699901345E-2,2.4455167699901345E-2,2.4455167699901345E-2,"-",4.9583073390038887E-3,4.9583073390038887E-3,4.9583073390038887E-3,"-",3.4708151373027216E-3,7.2113341726630402,156.99193165555286,1499.1625169115744,2.5021912544896221,-2.9088820873213997E-4,2.9088820873213997E-4,{"$f":"FI_T-Rechentabelle!AL415","v":3.7778087455103782},{"$f":"AP414","v":-5.1643657177358193E-6}]
[2.5874998420476913E-2,6.2499995692633092E-5,2.4923751354217529,157.00001525878906,0,null,0,null,{"$f":"C416","v":2.4923751354217529},{"$f":"AL414","v":2.49237925876115},{"$f":"I416-J416","v":-4.1233393970330212E-6},{"$f":"L414+KP_LR*(1+2*TA_SIM/TN_LR)*K416-KP_LR*K414","v":-8.126956610831567E-3},"-",{"$f":"L416","v":-8.126956610831567E-3},156.99193165555286,157.00001525878906,-4.3353374621801777E-5,4.9376934663796683E-3,"-",4.9376934663796683E-3,0,4.9376934663796683E-3,4.9376934663796683E-3,4.9583073390038887E-3,-2.0613872624220334E-5,1.2893562526896055E-2,1.2893562526896055E-2,1.2893562526896055E-2,"-",4.9450080663430533E-3,4.9450080663430533E-3,4.9450080663430533E-3,"-",3.4615056464401372E-3,7.1919917856641113,156.99238115503945,1499.1668093154867,2.5120032783118122,-2.9088820873213997E-4,2.9088820873213997E-4,{"$f":"FI_T-Rechentabelle!AL416","v":3.767996721688188},{"$f":"K416","v":-4.1233393970330212E-6}]
[2.5937497615814209E-2,6.2499995692633092E-5,2.5021874904632568,157.00001525878906,0,null,0,null,null,null,null,null,"-",{"$f":"N416+(L418-L416)/2","v":-7.7288016779002129E-3},156.99238115503945,157.00001525878906,-9.4697928290088385E-5,4.7956912779944091E-3,"-",4.7956912779944091E-3,0,4.7956912779944091E-3,4.7956912779944091E-3,4.9450080663430533E-3,-1.4931678834864421E-4,3.5800812901035485E-3,3.5800812901035485E-3,3.5800812901035485E-3,"-",4.8486746545051721E-3,4.8486746545051721E-3,4.8486746545051721E-3,"-",3.3940722581536202E-3,7.0518850159019735,156.99282189785293,1499.1710180993307,2.521815329680428,-2.9088820873213997E-4,2.9088820873213997E-4,{"$f":"FI_T-Rechentabelle!AL417","v":3.7581846703195723},{"$f":"AP416","v":-4.1233393970330212E-6}]
[2.5999998673796654E-2,6.2499995692633092E-5,2.5120000839233398,157.00001525878906,0,null,0,null,{"$f":"C418","v":2.5120000839233398},{"$f":"AL416","v":2.5120032783118122},{"$f":"I418-J418","v":-3.194388472405052E-6},{"$f":"L416+KP_LR*(1+2*TA_SIM/TN_LR)*K418-KP_LR*K416","v":-7.3306467449688589E-3},"-",{"$f":"L418","v":-7.3306467449688589E-3},156.99282189785293,157.00001525878906,-1.3728580884730945E-4,4.6635871960814899E-3,"-",4.6635871960814899E-3,0,4.6635871960814899E-3,4.6635871960814899E-3,4.8486746545051721E-3,-1.8508745842368227E-4,7.229183652049543E-4,7.229183652049543E-4,7.229183652049543E-4,"-",4.7292633910059768E-3,4.7292633910059768E-3,4.7292633910059768E-3,"-",3.3104843737041837E-3,6.8782139491048895,156.99325178622476,1499.1751232308918,2.5316274079170671,-2.9088820873213997E-4,2.9088820873213997E-4,{"$f":"FI_T-Rechentabelle!AL418","v":3.7483725920829332},{"$f":"K418","v":-3.194388472405052E-6}]
[2.6062497869133949E-2,6.2499995692633092E-5,2.5218124389648438,157.00001525878906,0,null,0,null,null,null,null,null,"-",{"$f":"N418+(L420-L418)/2","v":-6.9619868841741053E-3},156.99325178622476,157.00001525878906,-1.9851431986239731E-4,4.4733837930950628E-3,"-",4.4733837930950628E-3,0,4.4733837930950628E-3,4.4733837930950628E-3,4.7292633910059768E-3,-2.5587959791091401E-4,-4.7249755768288947E-3,-4.7249755768288947E-3,-4.7249755768288947E-3,"-",4.5641797794505048E-3,4.5641797794505048E-3,4.5641797794505048E-3,"-",3.1949258456153533E-3,6.6381172774056783,156.9936666685546,1499.1790850653076,2.5414395120838518,-2.9088820873213997E-4,2.9088820873213997E-4,{"$f":"FI_T-Rechentabelle!AL419","v":3.7385604879161485},{"$f":"AP418","v":-3.194388472405052E-6}]
[2.6124998927116394E-2,6.2499995692633092E-5,2.5316250324249268,157.00001525878906,0,null,0,null,{"$f":"C420","v":2.5316250324249268},{"$f":"AL418","v":2.5316274079170671},{"$f":"I420-J420","v":-2.3754921403273954E-6},{"$f":"L418+KP_LR*(1+2*TA_SIM/TN_LR)*K420-KP_LR*K418","v":-6.5933270233793518E-3},"-",{"$f":"L420","v":-6.5933270233793518E-3},156.9936666685546,157.00001525878906,-2.4473678891467898E-4,4.3066661368698668E-3,"-",4.3066661368698668E-3,0,4.3066661368698668E-3,4.3066661368698668E-3,4.5641797794505048E-3,-2.5751364258063802E-4,-5.3214746887965195E-3,-5.3214746887965195E-3,-5.3214746887965195E-3,"-",4.3980419455274698E-3,4.3980419455274698E-3,4.3980419455274698E-3,"-",3.0786293618692289E-3,6.3964873506528743,156.99406644901401,1499.1829026874836,2.5512516412369153,-2.9088820873213997E-4,2.9088820873213997E-4,{"$f":"FI_T-Rechentabelle!AL420","v":3.728748358763085},{"$f":"K420","v":-2.3754921403273954E-6}]
[2.618749812245369E-2,6.2499995692633092E-5,2.5414376258850098,157.00001525878906,0,null,0,null,null,null,null,null,"-",{"$f":"N420+(L422-L420)/2","v":-6.2547320068310824E-3},156.99406644901401,157.00001525878906,-3.0592223177450251E-4,4.09037722267878E-3,"-",4.09037722267878E-3,0,4.09037722267878E-3,4.09037722267878E-3,4.3980419455274698E-3,-3.0766472284868979E-4,-9.4173877400386061E-3,-9.4173877400386061E-3,-9.4173877400386061E-3,"-",4.1995485759476281E-3,4.1995485759476281E-3,4.1995485759476281E-3,"-",2.9396840031633395E-3,6.1077997156936199,156.99444818649624,1499.1865480119193,2.5610637942485712,-2.9088820873213997E-4,2.9088820873213997E-4,{"$f":"FI_T-Rechentabelle!AL421","v":3.718936205751429},{"$f":"AP420","v":-2.3754921403273954E-6}]
[2.6249997317790985E-2,6.2499995692633092E-5,2.5512499809265137,157.00001525878906,0,null,0,null,{"$f":"C422","v":2.5512499809265137},{"$f":"AL420","v":2.5512516412369153},{"$f":"I422-J422","v":-1.6603104016077452E-6},{"$f":"L420+KP_LR*(1+2*TA_SIM/TN_LR)*K422-KP_LR*K420","v":-5.916136990282813E-3},"-",{"$f":"L422","v":-5.916136990282813E-3},156.99444818649624,157.00001525878906,-3.490646974739775E-4,3.9053585706498588E-3,"-",3.9053585706498588E-3,0,3.9053585706498588E-3,3.9053585706498588E-3,4.1995485759476281E-3,-2.9419000529776933E-4,-9.021969511537567E-3,-9.021969511537567E-3,-9.021969511537567E-3,"-",4.0097485725296717E-3,4.0097485725296717E-3,4.0097485725296717E-3,"-",2.80682400077077E-3,5.8317556633508616,156.99481267122519,1499.1900285846968,2.5708759700405226,-2.9088820873213997E-4,2.9088820873213997E-4,{"$f":"FI_T-Rechentabelle!AL422","v":3.7091240299594777},{"$f":"K422","v":-1.6603104016077452E-6}]
[2.631249837577343E-2,6.2499995692633092E-5,2.5610625743865967,157.00001525878906,0,null,0,null,null,null,null,null,"-",{"$f":"N422+(L424-L422)/2","v":-5.4621191550197493E-3},156.99481267122519,157.00001525878906,-2.5953159115488234E-4,4.0494480459702959E-3,"-",4.0494480459702959E-3,0,4.0494480459702959E-3,4.0494480459702959E-3,4.0097485725296717E-3,3.9699473440624189E-5,1.4489194204407609E-2,1.4489194204407609E-2,1.4489194204407609E-2,"-",4.0353611360397119E-3,4.0353611360397119E-3,4.0353611360397119E-3,"-",2.8247527952277984E-3,5.8690064309740251,156.99517948412714,1499.1935313898889,2.5806881687582806,-2.9088820873213997E-4,2.9088820873213997E-4,{"$f":"FI_T-Rechentabelle!AL423","v":3.6993118312417197},{"$f":"AP422","v":-1.6603104016077452E-6}]
[2.6374997571110725E-2,6.2499995692633092E-5,2.5708751678466797,157.00001525878906,0,null,0,null,{"$f":"C424","v":2.5708751678466797},{"$f":"AL422","v":2.5708759700405226},{"$f":"I424-J424","v":-8.0219384290813878E-7},{"$f":"L422+KP_LR*(1+2*TA_SIM/TN_LR)*K424-KP_LR*K422","v":-5.0081013197566856E-3},"-",{"$f":"L424","v":-5.0081013197566856E-3},156.99517948412714,157.00001525878906,-1.7232665783240009E-4,4.2094053234818778E-3,"-",4.2094053234818778E-3,0,4.2094053234818778E-3,4.2094053234818778E-3,4.0353611360397119E-3,1.7404418744216589E-4,2.4244957447601169E-2,2.4244957447601169E-2,2.4244957447601169E-2,"-",4.1476477085830065E-3,4.1476477085830065E-3,4.1476477085830065E-3,"-",2.9033533960081044E-3,6.0323153875090467,156.99555650383886,1499.1971316629349,2.5905003910397704,-2.9088820873213997E-4,2.9088820873213997E-4,{"$f":"FI_T-Rechentabelle!AL424","v":3.6894996089602299},{"$f":"K424","v":-8.0219384290813878E-7}]
[2.643749862909317E-2,6.2499995692633092E-5,2.5806875228881836,157.00001525878906,0,null,0,null,null,null,null,null,"-",{"$f":"N424+(L426-L424)/2","v":-4.7202413268833086E-3},156.99555650383886,157.00001525878906,-2.6148637667233743E-4,3.939160279192745E-3,"-",3.939160279192745E-3,0,3.939160279192745E-3,3.939160279192745E-3,4.1476477085830065E-3,-2.0848742939026145E-4,-2.9963673631084112E-3,-2.9963673631084112E-3,-2.9963673631084112E-3,"-",4.0131396896215098E-3,4.0131396896215098E-3,4.0131396896215098E-3,"-",2.8091977827350567E-3,5.8366876848848044,156.99592129681915,1499.2006151792959,2.6003126361208215,-2.9088820873213997E-4,2.9088820873213997E-4,{"$f":"FI_T-Rechentabelle!AL425","v":3.6796873638791787},{"$f":"AP424","v":-8.0219384290813878E-7}]
[2.6499997824430466E-2,6.2499995692633092E-5,2.5905001163482666,157.00001525878906,0,null,0,null,{"$f":"C426","v":2.5905001163482666},{"$f":"AL424","v":2.5905003910397704},{"$f":"I426-J426","v":-2.7469150376546736E-7},{"$f":"L424+KP_LR*(1+2*TA_SIM/TN_LR)*K426-KP_LR*K424","v":-4.4323813340099326E-3},"-",{"$f":"L426","v":-4.4323813340099326E-3},156.99592129681915,157.00001525878906,-3.3841936408407491E-4,3.6784770165473441E-3,"-",3.6784770165473441E-3,0,3.6784770165473441E-3,3.6784770165473441E-3,4.0131396896215098E-3,-3.3466267307416574E-4,-1.247919850163994E-2,-1.247919850163994E-2,-1.247919850163994E-2,"-",3.7972282876381409E-3,3.7972282876381409E-3,3.7972282876381409E-3,"-",2.6580598013466986E-3,5.5226673620334479,156.99626646352928,1499.2039112785824,2.6101249027747921,-2.9088820873213997E-4,2.9088820873213997E-4,{"$f":"FI_T-Rechentabelle!AL426","v":3.6698750972252081},{"$f":"K426","v":-2.7469150376546736E-7}]
[2.656249888241291E-2,6.2499995692633092E-5,2.6003127098083496,157.00001525878906,0,null,0,null,null,null,null,null,"-",{"$f":"N426+(L428-L426)/2","v":-4.1784050535880173E-3},156.99626646352928,157.00001525878906,-4.296097937981358E-4,3.3625415331779698E-3,"-",3.3625415331779698E-3,0,3.3625415331779698E-3,3.3625415331779698E-3,3.7972282876381409E-3,-4.3468675446017109E-4,-2.0313528593725025E-2,-2.0313528593725025E-2,-2.0313528593725025E-2,"-",3.5167852202444465E-3,3.5167852202444465E-3,3.5167852202444465E-3,"-",2.4617496541711123E-3,5.1147925497010434,156.99658613806363,1499.2069639455217,2.6199371894084211,-2.9088820873213997E-4,2.9088820873213997E-4,{"$f":"FI_T-Rechentabelle!AL427","v":3.6600628105915791},{"$f":"AP426","v":-2.7469150376546736E-7}]
[2.6624998077750206E-2,6.2499995692633092E-5,2.6101250648498535,157.00001525878906,0,null,0,null,{"$f":"C428","v":2.6101250648498535},{"$f":"AL426","v":2.6101249027747921},{"$f":"I428-J428","v":1.6207506137178029E-7},{"$f":"L426+KP_LR*(1+2*TA_SIM/TN_LR)*K428-KP_LR*K426","v":-3.9244287731661012E-3},"-",{"$f":"L428","v":-3.9244287731661012E-3},156.99658613806363,157.00001525878906,-4.9530804773212367E-4,3.0896299448605444E-3,"-",3.0896299448605444E-3,0,3.0896299448605444E-3,3.0896299448605444E-3,3.5167852202444465E-3,-4.2715527538390212E-4,-2.0584061093799382E-2,-2.0584061093799382E-2,-2.0584061093799382E-2,"-",3.2412011716096362E-3,3.2412011716096362E-3,3.2412011716096362E-3,"-",2.268840820126745E-3,4.7139846667914913,156.99688076210532,1499.2097773978771,2.6297494944560529,-2.9088820873213997E-4,2.9088820873213997E-4,{"$f":"FI_T-Rechentabelle!AL428","v":3.6502505055439474},{"$f":"K428","v":1.6207506137178029E-7}]
[2.6687497273087502E-2,6.2499995692633092E-5,2.6199374198913574,157.00001525878906,0,null,0,null,null,null,null,null,"-",{"$f":"N428+(L430-L428)/2","v":-3.5567752665450689E-3},156.99688076210532,157.00001525878906,-4.2227858278920394E-4,3.1558199717434893E-3,"-",3.1558199717434893E-3,0,3.1558199717434893E-3,3.1558199717434893E-3,3.2412011716096362E-3,-8.5381199866146895E-5,3.2465285427941276E-3,3.2465285427941276E-3,3.2465285427941276E-3,"-",3.1861165265346689E-3,3.1861165265346689E-3,3.1861165265346689E-3,"-",2.2302815685742682E-3,4.6338698702976684,156.99717037897221,1499.2125430352353,2.6395618176047386,-2.9088820873213997E-4,2.9088820873213997E-4,{"$f":"FI_T-Rechentabelle!AL429","v":3.6404381823952616},{"$f":"AP428","v":1.6207506137178029E-7}]
[2.6749998331069946E-2,6.2499995692633092E-5,2.6297502517700195,157.00001525878906,0,null,0,null,{"$f":"C430","v":2.6297502517700195},{"$f":"AL428","v":2.6297494944560529},{"$f":"I430-J430","v":7.5731396664835415E-7},{"$f":"L428+KP_LR*(1+2*TA_SIM/TN_LR)*K430-KP_LR*K428","v":-3.1891217599240365E-3},"-",{"$f":"L430","v":-3.1891217599240365E-3},156.99717037897221,157.00001525878906,-3.4424194308257938E-4,3.2526315243421766E-3,"-",3.2526315243421766E-3,0,3.2526315243421766E-3,3.2526315243421766E-3,3.1861165265346689E-3,6.6514997807507782E-5,1.4033109059268578E-2,1.4033109059268578E-2,1.4033109059268578E-2,"-",3.2290294283459312E-3,3.2290294283459312E-3,3.2290294283459312E-3,"-",2.2603205998421518E-3,4.696282152175673,156.99746389660672,1499.2153459221802,2.6493741590982767,-2.9088820873213997E-4,2.9088820873213997E-4,{"$f":"FI_T-Rechentabelle!AL430","v":3.6306258409017236},{"$f":"K430","v":7.5731396664835415E-7}]
[2.6812497526407242E-2,6.2499995692633092E-5,2.6395626068115234,157.00001525878906,0,null,0,null,null,null,null,null,"-",{"$f":"N430+(L432-L430)/2","v":-3.1311607836375971E-3},156.99746389660672,157.00001525878906,-5.7979860127943539E-4,2.5657245881669467E-3,"-",2.5657245881669467E-3,0,2.5657245881669467E-3,2.5657245881669467E-3,3.2290294283459312E-3,-6.6330484017898452E-4,-3.8436557011343943E-2,-3.8436557011343943E-2,-3.8436557011343943E-2,"-",2.8010908217788121E-3,2.8010908217788121E-3,2.8010908217788121E-3,"-",1.9607635752451683E-3,4.0738906612199628,156.99771851477306,1499.2177773465667,2.65918651650545,-2.9088820873213997E-4,2.9088820873213997E-4,{"$f":"FI_T-Rechentabelle!AL431","v":3.6208134834945502},{"$f":"AP430","v":7.5731396664835415E-7}]
[2.6874998584389687E-2,6.2499995692633092E-5,2.6493749618530273,157.00001525878906,0,null,0,null,{"$f":"C432","v":2.6493749618530273},{"$f":"AL430","v":2.6493741590982767},{"$f":"I432-J432","v":8.0275475067281832E-7},{"$f":"L430+KP_LR*(1+2*TA_SIM/TN_LR)*K432-KP_LR*K430","v":-3.0731998073511577E-3},"-",{"$f":"L432","v":-3.0731998073511577E-3},156.99771851477306,157.00001525878906,-7.7645579133900355E-4,1.9209664146665007E-3,"-",1.9209664146665007E-3,0,1.9209664146665007E-3,1.9209664146665007E-3,2.8010908217788121E-3,-8.8012440711231145E-4,-5.5302576148745015E-2,-5.5302576148745015E-2,-5.5302576148745015E-2,"-",2.2332686236418062E-3,2.2332686236418062E-3,2.2332686236418062E-3,"-",1.5632880365492642E-3,3.2480532652176688,156.99792151810212,1499.2197158855636,2.6689988866003316,-2.9088820873213997E-4,2.9088820873213997E-4,{"$f":"FI_T-Rechentabelle!AL432","v":3.6110011133996687},{"$f":"K432","v":8.0275475067281832E-7}]
[2.6937497779726982E-2,6.2499995692633092E-5,2.6591875553131104,157.00001525878906,0,null,0,null,null,null,null,null,"-",{"$f":"N432+(L434-L432)/2","v":-2.7622427061271817E-3},156.99792151810212,157.00001525878906,-6.6850201918100538E-4,2.0080147259515617E-3,"-",2.0080147259515617E-3,0,2.0080147259515617E-3,2.0080147259515617E-3,2.2332686236418062E-3,-2.2525389769024453E-4,-9.7563341346681293E-3,-9.7563341346681293E-3,-9.7563341346681293E-3,"-",2.087943528357747E-3,2.087943528357747E-3,2.087943528357747E-3,"-",1.4615604698504229E-3,3.0366932679210943,156.99811131143136,1499.2215282783545,2.678811268557296,-2.9088820873213997E-4,2.9088820873213997E-4,{"$f":"FI_T-Rechentabelle!AL433","v":3.6011887314427042},{"$f":"AP432","v":8.0275475067281832E-7}]
[2.6999998837709427E-2,6.2499995692633092E-5,2.6690001487731934,157.00001525878906,0,null,0,null,{"$f":"C434","v":2.6690001487731934},{"$f":"AL432","v":2.6689988866003316},{"$f":"I434-J434","v":1.262172861782318E-6},{"$f":"L432+KP_LR*(1+2*TA_SIM/TN_LR)*K434-KP_LR*K432","v":-2.4512856049032053E-3},"-",{"$f":"L434","v":-2.4512856049032053E-3},156.99811131143136,157.00001525878906,-5.473382472018784E-4,2.1551966298973615E-3,"-",2.1551966298973615E-3,0,2.1551966298973615E-3,2.1551966298973615E-3,2.087943528357747E-3,6.7253101539614581E-5,1.0901598452863197E-2,1.0901598452863197E-2,1.0901598452863197E-2,"-",2.1313326261252108E-3,2.1313326261252108E-3,2.1313326261252108E-3,"-",1.4919328382876475E-3,3.0997981265066432,156.99830504881427,1499.2233783340837,2.688623662622847,-2.9088820873213997E-4,2.9088820873213997E-4,{"$f":"FI_T-Rechentabelle!AL434","v":3.5913763373771532},{"$f":"K434","v":1.262172861782318E-6}]
[2.7062498033046722E-2,6.2499995692633092E-5,2.6788125038146973,157.00001525878906,0,null,0,null,null,null,null,null,"-",{"$f":"N434+(L436-L434)/2","v":-2.2959868810347541E-3},156.99830504881427,157.00001525878906,-5.8577690623451417E-4,1.9233634414026488E-3,"-",1.9233634414026488E-3,0,1.9233634414026488E-3,1.9233634414026488E-3,2.1313326261252108E-3,-2.0796918472256202E-4,-8.8063340510208307E-3,-8.8063340510208307E-3,-8.8063340510208307E-3,"-",1.9971589585622389E-3,1.9971589585622389E-3,1.9971589585622389E-3,"-",1.3980112709935672E-3,2.9046567026668755,156.9984865898582,1499.2251119233545,2.698436068034713,-2.9088820873213997E-4,2.9088820873213997E-4,{"$f":"FI_T-Rechentabelle!AL435","v":3.5815639319652872},{"$f":"AP434","v":1.262172861782318E-6}]
[2.7124997228384018E-2,6.2499995692633092E-5,2.6886250972747803,157.00001525878906,0,null,0,null,{"$f":"C436","v":2.6886250972747803},{"$f":"AL434","v":2.688623662622847},{"$f":"I436-J436","v":1.4346519332519847E-6},{"$f":"L434+KP_LR*(1+2*TA_SIM/TN_LR)*K436-KP_LR*K434","v":-2.1406881571663029E-3},"-",{"$f":"L436","v":-2.1406881571663029E-3},156.9984865898582,157.00001525878906,-6.1201922630971239E-4,1.7133796562629833E-3,"-",1.7133796562629833E-3,0,1.7133796562629833E-3,1.7133796562629833E-3,1.9971589585622389E-3,-2.8377930229925557E-4,-1.4658657127802831E-2,-1.4658657127802831E-2,-1.4658657127802831E-2,"-",1.8140755377239817E-3,1.8140755377239817E-3,1.8140755377239817E-3,"-",1.2698528764067871E-3,2.6383812100701993,156.99865148868383,1499.2266865911472,2.7082484837527558,-2.9088820873213997E-4,2.9088820873213997E-4,{"$f":"FI_T-Rechentabelle!AL436","v":3.5717515162472444},{"$f":"K436","v":1.4346519332519847E-6}]
[2.7187498286366463E-2,6.2499995692633092E-5,2.6984376907348633,157.00001525878906,0,null,0,null,null,null,null,null,"-",{"$f":"N436+(L438-L436)/2","v":-2.0058359489668253E-3},156.99865148868383,157.00001525878906,-6.420658437491511E-4,1.4872598598393669E-3,"-",1.4872598598393669E-3,0,1.4872598598393669E-3,1.4872598598393669E-3,1.8140755377239817E-3,-3.2681567788461481E-4,-1.829099463073991E-2,-1.829099463073991E-2,-1.829099463073991E-2,"-",1.6032267132822676E-3,1.6032267132822676E-3,1.6032267132822676E-3,"-",1.1222586992975872E-3,2.3317238713849719,156.9987972214258,1499.2280782363223,2.718060908579095,-2.9088820873213997E-4,2.9088820873213997E-4,{"$f":"FI_T-Rechentabelle!AL437","v":3.5619390914209053},{"$f":"AP436","v":1.4346519332519847E-6}]
[2.7249997481703758E-2,6.2499995692633092E-5,2.7082500457763672,157.00001525878906,0,null,0,null,{"$f":"C438","v":2.7082500457763672},{"$f":"AL436","v":2.7082484837527558},{"$f":"I438-J438","v":1.5620236113456087E-6},{"$f":"L436+KP_LR*(1+2*TA_SIM/TN_LR)*K438-KP_LR*K436","v":-1.8709837407673482E-3},"-",{"$f":"L438","v":-1.8709837407673482E-3},156.9987972214258,157.00001525878906,-6.5294637749957474E-4,1.3028766956209657E-3,"-",1.3028766956209657E-3,0,1.3028766956209657E-3,1.3028766956209657E-3,1.6032267132822676E-3,-3.003500176613019E-4,-1.6995221223592382E-2,-1.6995221223592382E-2,-1.6995221223592382E-2,"-",1.4094525083394656E-3,1.4094525083394656E-3,1.4094525083394656E-3,"-",9.8661675583762583E-4,2.049899762804126,156.99892534016098,1499.2293016801227,2.7278733414128551,-2.9088820873213997E-4,2.9088820873213997E-4,{"$f":"FI_T-Rechentabelle!AL438","v":3.5521266585871452},{"$f":"K438","v":1.5620236113456087E-6}]
[2.7312498539686203E-2,6.2499995692633092E-5,2.7180626392364502,157.00001525878906,0,null,0,null,null,null,null,null,"-",{"$f":"N438+(L440-L438)/2","v":-1.6085283519161235E-3},156.99892534016098,157.00001525878906,-5.1860972382655746E-4,1.487571192289128E-3,"-",1.487571192289128E-3,0,1.487571192289128E-3,1.487571192289128E-3,1.4094525083394656E-3,7.8118683949662381E-5,9.7169974336508008E-3,9.7169974336508008E-3,9.7169974336508008E-3,"-",1.4598516592747059E-3,1.4598516592747059E-3,1.4598516592747059E-3,"-",1.0218961614922941E-3,2.1232000031005485,156.99905804016117,1499.2305688717815,2.7376857825403653,-2.9088820873213997E-4,2.9088820873213997E-4,{"$f":"FI_T-Rechentabelle!AL439","v":3.5423142174596349},{"$f":"AP438","v":1.5620236113456087E-6}]
[2.7374997735023499E-2,6.2499995692633092E-5,2.7278752326965332,157.00001525878906,0,null,0,null,{"$f":"C440","v":2.7278752326965332},{"$f":"AL438","v":2.7278733414128551},{"$f":"I440-J440","v":1.891283678112643E-6},{"$f":"L438+KP_LR*(1+2*TA_SIM/TN_LR)*K440-KP_LR*K438","v":-1.3460729630648987E-3},"-",{"$f":"L440","v":-1.3460729630648987E-3},156.99905804016117,157.00001525878906,-3.8885433517066303E-4,1.6932887500841491E-3,"-",1.6932887500841491E-3,0,1.6932887500841491E-3,1.6932887500841491E-3,1.4598516592747059E-3,2.3343709080944327E-4,2.1056100807645344E-2,2.1056100807645344E-2,2.1056100807645344E-2,"-",1.6104562339904506E-3,1.6104562339904506E-3,1.6104562339904506E-3,"-",1.1273193637933155E-3,2.342238445446323,156.99920443006403,1499.2319667923809,2.7474982328172444,-2.9088820873213997E-4,2.9088820873213997E-4,{"$f":"FI_T-Rechentabelle!AL440","v":3.5325017671827559},{"$f":"K440","v":1.891283678112643E-6}]
[2.7437498793005943E-2,6.2499995692633092E-5,2.7376875877380371,157.00001525878906,0,null,0,null,null,null,null,null,"-",{"$f":"N440+(L442-L440)/2","v":-1.3801897718702845E-3},156.99920443006403,157.00001525878906,-5.6936104684268685E-4,1.1364237446439122E-3,"-",1.1364237446439122E-3,0,1.1364237446439122E-3,1.1364237446439122E-3,1.6104562339904506E-3,-4.7403248934653843E-4,-2.9490598895629341E-2,-2.9490598895629341E-2,-2.9490598895629341E-2,"-",1.3046288215087885E-3,1.3046288215087885E-3,1.3046288215087885E-3,"-",9.1324017505615182E-4,1.8974447850740739,156.99932302036311,1499.2330992463189,2.7573106905060172,-2.9088820873213997E-4,2.9088820873213997E-4,{"$f":"FI_T-Rechentabelle!AL441","v":3.5226893094939831},{"$f":"AP440","v":1.891283678112643E-6}]
[2.7499997988343239E-2,6.2499995692633092E-5,2.747499942779541,157.00001525878906,0,null,0,null,{"$f":"C442","v":2.747499942779541},{"$f":"AL440","v":2.7474982328172444},{"$f":"I442-J442","v":1.7099622966476602E-6},{"$f":"L440+KP_LR*(1+2*TA_SIM/TN_LR)*K442-KP_LR*K440","v":-1.4143065806756702E-3},"-",{"$f":"L442","v":-1.4143065806756702E-3},156.99932302036311,157.00001525878906,-7.2206815471531627E-4,6.0671458878369991E-4,"-",6.0671458878369991E-4,0,6.0671458878369991E-4,6.0671458878369991E-4,1.3046288215087885E-3,-6.9791423272508855E-4,-4.651142789852547E-2,-4.651142789852547E-2,-4.651142789852547E-2,"-",8.5436157458935276E-4,8.5436157458935276E-4,8.5436157458935276E-4,"-",5.9805310221254689E-4,1.2425786457771595,156.99940068152847,1499.2338408558203,2.7671231530486127,-2.9088820873213997E-4,2.9088820873213997E-4,{"$f":"FI_T-Rechentabelle!AL442","v":3.5128768469513876},{"$f":"K442","v":1.7099622966476602E-6}]
[2.7562497183680534E-2,6.2499995692633092E-5,2.757312536239624,157.00001525878906,0,null,0,null,null,null,null,null,"-",{"$f":"N442+(L444-L442)/2","v":-1.1838783656233261E-3},156.99940068152847,157.00001525878906,-5.6930110503117248E-4,8.2173625128781303E-4,"-",8.2173625128781303E-4,0,8.2173625128781303E-4,8.2173625128781303E-4,8.5436157458935276E-4,-3.2625323301539721E-5,1.2652042902784599E-4,1.2652042902784599E-4,1.2652042902784599E-4,"-",8.3331297891091696E-4,8.3331297891091696E-4,8.3331297891091696E-4,"-",5.8331908523764182E-4,1.211965687175653,156.99947642938392,1499.2345641945576,2.7769356203254492,-2.9088820873213997E-4,2.9088820873213997E-4,{"$f":"FI_T-Rechentabelle!AL443","v":3.5030643796745511},{"$f":"AP442","v":1.7099622966476602E-6}]
[2.7624998241662979E-2,6.2499995692633092E-5,2.767125129699707,157.00001525878906,0,null,0,null,{"$f":"C444","v":2.767125129699707},{"$f":"AL442","v":2.7671231530486127},{"$f":"I444-J444","v":1.9766510943597382E-6},{"$f":"L442+KP_LR*(1+2*TA_SIM/TN_LR)*K444-KP_LR*K442","v":-9.534501505709819E-4},"-",{"$f":"L444","v":-9.534501505709819E-4},156.99947642938392,157.00001525878906,-4.1462074543119343E-4,1.0788991302448344E-3,"-",1.0788991302448344E-3,0,1.0788991302448344E-3,1.0788991302448344E-3,8.3331297891091696E-4,2.4558615133391741E-4,2.0114654802709197E-2,2.0114654802709197E-2,2.0114654802709197E-2,"-",9.9175565719084101E-4,9.9175565719084101E-4,9.9175565719084101E-4,"-",6.9422896003358862E-4,1.4424038230492178,156.99956657962286,1499.2354250659268,2.7867480932366755,-2.9088820873213997E-4,2.9088820873213997E-4,{"$f":"FI_T-Rechentabelle!AL444","v":3.4932519067633248},{"$f":"K444","v":1.9766510943597382E-6}]
[2.7687497437000275E-2,6.2499995692633092E-5,2.7769374847412109,157.00001525878906,0,null,0,null,null,null,null,null,"-",{"$f":"N444+(L446-L444)/2","v":-8.6908395116704735E-4},156.99956657962286,157.00001525878906,-4.2040478496119249E-4,9.6301152855590569E-4,"-",9.6301152855590569E-4,0,9.6301152855590569E-4,9.6301152855590569E-4,9.9175565719084101E-4,-2.8744128634935313E-5,8.0465968422372205E-4,8.0465968422372205E-4,8.0465968422372205E-4,"-",9.7321105807150591E-4,9.7321105807150591E-4,9.7321105807150591E-4,"-",6.8124774065005415E-4,1.4154326628922795,156.99965504416429,1499.23626984007,2.7965605716769359,-2.9088820873213997E-4,2.9088820873213997E-4,{"$f":"FI_T-Rechentabelle!AL445","v":3.4834394283230643},{"$f":"AP444","v":1.9766510943597382E-6}]
[2.7749998494982719E-2,6.2499995692633092E-5,2.7867500782012939,157.00001525878906,0,null,0,null,{"$f":"C446","v":2.7867500782012939},{"$f":"AL444","v":2.7867480932366755},{"$f":"I446-J446","v":1.9849646184511016E-6},{"$f":"L444+KP_LR*(1+2*TA_SIM/TN_LR)*K446-KP_LR*K444","v":-7.8471775176311279E-4},"-",{"$f":"L446","v":-7.8471775176311279E-4},156.99965504416429,157.00001525878906,-4.2450312699315873E-4,8.5002890734857026E-4,"-",8.5002890734857026E-4,0,8.5002890734857026E-4,8.5002890734857026E-4,9.7321105807150591E-4,-1.2318215072293565E-4,-6.0547500191768912E-3,-6.0547500191768912E-3,-6.0547500191768912E-3,"-",8.9373870276636467E-4,8.9373870276636467E-4,8.9373870276636467E-4,"-",6.2561709193645527E-4,1.2998485184634432,156.9997362846967,1499.2370456300089,2.8063730551947295,-2.9088820873213997E-4,2.9088820873213997E-4,{"$f":"FI_T-Rechentabelle!AL446","v":3.4736269448052708},{"$f":"K446","v":1.9849646184511016E-6}]
[2.7812497690320015E-2,6.2499995692633092E-5,2.796562671661377,157.00001525878906,0,null,0,null,null,null,null,null,"-",{"$f":"N446+(L448-L446)/2","v":-7.132264485567722E-4},156.9997362846967,157.00001525878906,-4.342523562002043E-4,7.2158187117084445E-4,"-",7.2158187117084445E-4,0,7.2158187117084445E-4,7.2158187117084445E-4,8.9373870276636467E-4,-1.7215683159552022E-4,-9.8145565292183188E-3,-9.8145565292183188E-3,-9.8145565292183188E-3,"-",7.8266977915633065E-4,7.8266977915633065E-4,7.8266977915633065E-4,"-",5.4786884540943145E-4,1.1383105036555816,156.99980742910319,1499.2377250090467,2.8161855431590483,-2.9088820873213997E-4,2.9088820873213997E-4,{"$f":"FI_T-Rechentabelle!AL447","v":3.4638144568409519},{"$f":"AP446","v":1.9849646184511016E-6}]
[2.787499874830246E-2,6.2499995692633092E-5,2.8063750267028809,157.00001525878906,0,null,0,null,{"$f":"C448","v":2.8063750267028809},{"$f":"AL446","v":2.8063730551947295},{"$f":"I448-J448","v":1.9715081513993482E-6},{"$f":"L446+KP_LR*(1+2*TA_SIM/TN_LR)*K448-KP_LR*K446","v":-6.4173514535043161E-4},"-",{"$f":"L448","v":-6.4173514535043161E-4},156.99980742910319,157.00001525878906,-4.3390545945953818E-4,6.1660233720294325E-4,"-",6.1660233720294325E-4,0,6.1660233720294325E-4,6.1660233720294325E-4,7.8266977915633065E-4,-1.660674419533874E-4,-9.697827489605914E-3,-9.697827489605914E-3,-9.697827489605914E-3,"-",6.7552949402509266E-4,6.7552949402509266E-4,6.7552949402509266E-4,"-",4.7287064581756481E-4,0.98248627844912684,156.9998688344956,1499.2383113873507,2.8259980349612044,-2.9088820873213997E-4,2.9088820873213997E-4,{"$f":"FI_T-Rechentabelle!AL448","v":3.4540019650387959},{"$f":"K448","v":1.9715081513993482E-6}]
[2.7937497943639755E-2,6.2499995692633092E-5,2.8161876201629639,157.00001525878906,0,null,0,null,null,null,null,null,"-",{"$f":"N448+(L450-L448)/2","v":-4.3693296687515395E-4},156.9998688344956,157.00001525878906,-2.9050867340174591E-4,8.7788973011372758E-4,"-",8.7788973011372758E-4,0,8.7788973011372758E-4,8.7788973011372758E-4,6.7552949402509266E-4,2.0236023608863492E-4,1.6542028030154775E-2,1.6542028030154775E-2,1.6542028030154775E-2,"-",8.0608448504999864E-4,8.0608448504999864E-4,8.0608448504999864E-4,"-",5.6425913953499901E-4,1.172364719582379,156.99994210729056,1499.2390110910014,2.8358105313429101,-2.9088820873213997E-4,2.9088820873213997E-4,{"$f":"FI_T-Rechentabelle!AL449","v":3.4441894686570902},{"$f":"AP448","v":1.9715081513993482E-6}]
[2.7999997138977051E-2,6.2499995692633092E-5,2.8260002136230469,157.00001525878906,0,null,0,null,{"$f":"C450","v":2.8260002136230469},{"$f":"AL448","v":2.8259980349612044},{"$f":"I450-J450","v":2.1786618424890491E-6},{"$f":"L448+KP_LR*(1+2*TA_SIM/TN_LR)*K450-KP_LR*K448","v":-2.321307883998763E-4},"-",{"$f":"L450","v":-2.321307883998763E-4},156.99994210729056,157.00001525878906,-1.5897928989261345E-4,1.1437577573840938E-3,"-",1.1437577573840938E-3,{"$f":"G450*(JM_EMS+JL_EMS)/KT_M*KP_VSR","v":0},1.1437577573840938E-3,{"$f":"IF(V450<-IM_R,-IM_R,IF(V450>IM_R,IM_R,V450))","v":1.1437577573840938E-3},8.0608448504999864E-4,3.3767327233409519E-4,2.6671905987106358E-2,{"$f":"IF(Z450<-U_ZWK,-U_ZWK,IF(Z450>U_ZWK,U_ZWK,Z450))","v":2.6671905987106358E-2},2.6671905987106358E-2,"-",1.0239382091364925E-3,1.0239382091364925E-3,1.0239382091364925E-3,"-",{"$f":"AF450*KT_M","v":7.1675674639554469E-4},{"$f":"AH450/(JM_EMS+JL_EMS)","v":1.4892099447237579},157.00003518291211,1499.2398998977164,2.845623033541842,{"$f":"-DF_LR","v":-2.9088820873213997E-4},{"$f":"DF_LR","v":2.9088820873213997E-4},{"$f":"FI_T-Rechentabelle!AL450","v":3.4343769664581583},{"$f":"K450","v":2.1786618424890491E-6}]
[2.8062498196959496E-2,6.2499995692633092E-5,2.8358125686645508,157.00001525878906,0,null,{"$f":"E451/1000","v":0},null,null,null,null,null,"-",{"$f":"N450+(L452-L450)/2","v":-3.1974232098137476E-4},157.00003518291211,157.00001525878906,-3.3966644403449209E-4,{"$f":"R450+KP_DR*(1+TA_SIM/TN_DR)*Q451-KP_DR*Q450","v":6.4247269525284656E-4},"-",{"$f":"R451","v":6.4247269525284656E-4},0,{"$f":"T451+U451","v":6.4247269525284656E-4},6.4247269525284656E-4,1.0239382091364925E-3,{"$f":"W451-X451","v":-3.8146551388364592E-4},-2.4520706871443837E-2,-2.4520706871443837E-2,{"$f":"AA451","v":-2.4520706871443837E-2},"-",{"$f":"(1/R_M*AB451+AD450*T_M/TA_SIM)/(1+T_M/TA_SIM)","v":7.778314259857343E-4},{"$f":"AD451","v":7.778314259857343E-4},{"$f":"AE451","v":7.778314259857343E-4},"-",5.4448199819001402E-4,1.1312736301475461,157.000105887514,1499.2405750769301,2.8554355401598115,-2.9088820873213997E-4,2.9088820873213997E-4,{"$f":"FI_T-Rechentabelle!AL451","v":3.4245644598401888},{"$f":"AP450","v":2.1786618424890491E-6}]
[2.8124997392296791E-2,6.2499995692633092E-5,2.8456249237060547,157.00001525878906,0,null,0,null,{"$f":"C452","v":2.8456249237060547},{"$f":"AL450","v":2.845623033541842},{"$f":"I452-J452","v":1.8901642127033824E-6},{"$f":"L450+KP_LR*(1+2*TA_SIM/TN_LR)*K452-KP_LR*K450","v":-4.0735385356287322E-4},"-",{"$f":"L452","v":-4.0735385356287322E-4},{"$f":"AJ451","v":157.000105887514},{"$f":"D452*KP_VDR","v":157.00001525878906},{"$f":"N452-O452+P452","v":-4.9798257850852679E-4},1.5440327918711918E-4,"-",1.5440327918711918E-4,0,1.5440327918711918E-4,1.5440327918711918E-4,{"$f":"AF451","v":7.778314259857343E-4},-6.2342814679861513E-4,-4.2671336604904894E-2,-4.2671336604904894E-2,-4.2671336604904894E-2,"-",3.7561971837370622E-4,3.7561971837370622E-4,3.7561971837370622E-4,"-",2.6293380286159434E-4,0.54629919564012952,157.00014003121373,1499.2409011252453,2.8652480489117624,-2.9088820873213997E-4,2.9088820873213997E-4,{"$f":"FI_T-Rechentabelle!AL452","v":3.4147519510882378},{"$f":"K452","v":1.8901642127033824E-6}]
[2.8187498450279236E-2,6.2499995692633092E-5,2.8554377555847168,157.00001525878906,0,null,0,null,null,null,null,null,"-",{"$f":"N452+(L454-L452)/2","v":-2.2741766206466367E-4},157.00014003121373,157.00001525878906,-3.5219008674403085E-4,4.0620172399952518E-4,"-",4.0620172399952518E-4,0,4.0620172399952518E-4,4.0620172399952518E-4,3.7561971837370622E-4,3.0582005625818956E-5,3.2931746209617502E-3,3.2931746209617502E-3,3.2931746209617502E-3,"-",3.9535004458389424E-4,3.9535004458389424E-4,3.9535004458389424E-4,"-",2.7674503120872593E-4,0.5749948705770328,157.00017596839314,1499.2412443000298,2.8750605599097869,-2.9088820873213997E-4,2.9088820873213997E-4,{"$f":"FI_T-Rechentabelle!AL453","v":3.4049394400902133},{"$f":"AP452","v":1.8901642127033824E-6}]
[2.8249997645616531E-2,6.2499995692633092E-5,2.8652501106262207,157.00001525878906,0,null,0,null,{"$f":"C454","v":2.8652501106262207},{"$f":"AL452","v":2.8652480489117624},{"$f":"I454-J454","v":2.0617144582679714E-6},{"$f":"L452+KP_LR*(1+2*TA_SIM/TN_LR)*K454-KP_LR*K452","v":-4.7481470566454118E-5},"-",{"$f":"L454","v":-4.7481470566454118E-5},157.00017596839314,157.00001525878906,-2.0819107464831177E-4,6.8895231520307344E-4,"-",6.8895231520307344E-4,0,6.8895231520307344E-4,6.8895231520307344E-4,3.9535004458389424E-4,2.936022706191792E-4,2.2304820695847695E-2,2.2304820695847695E-2,2.2304820695847695E-2,"-",5.8477086433818607E-4,5.8477086433818607E-4,5.8477086433818607E-4,"-",4.0933960503673024E-4,0.85048744034226098,157.00022912385816,1499.2417518973305,2.8848730742300281,-2.9088820873213997E-4,2.9088820873213997E-4,{"$f":"FI_T-Rechentabelle!AL454","v":3.3951269257699721},{"$f":"K454","v":2.0617144582679714E-6}]
[2.8312498703598976E-2,6.2499995692633092E-5,2.8750624656677246,157.00001525878906,0,null,0,null,null,null,null,null,"-",{"$f":"N454+(L456-L454)/2","v":-1.1352793436355526E-5},157.00022912385816,157.00001525878906,-2.2521786254969811E-4,5.9461130516754693E-4,"-",5.9461130516754693E-4,0,5.9461130516754693E-4,5.9461130516754693E-4,5.8477086433818607E-4,9.8404408293608627E-6,2.4049821134431229E-3,2.4049821134431229E-3,2.4049821134431229E-3,"-",5.9111953584098267E-4,5.9111953584098267E-4,5.9111953584098267E-4,"-",4.1378367508868784E-4,0.85972091229729442,157.00028285641517,1499.2422650054536,2.8946855919085541,-2.9088820873213997E-4,2.9088820873213997E-4,{"$f":"FI_T-Rechentabelle!AL455","v":3.3853144080914461},{"$f":"AP454","v":2.0617144582679714E-6}]
[2.8374997898936272E-2,6.2499995692633092E-5,2.8848750591278076,157.00001525878906,0,null,0,null,{"$f":"C456","v":2.8848750591278076},{"$f":"AL454","v":2.8848730742300281},{"$f":"I456-J456","v":1.9848977794723055E-6},{"$f":"L454+KP_LR*(1+2*TA_SIM/TN_LR)*K456-KP_LR*K454","v":2.4775883693743065E-5},"-",{"$f":"L456","v":2.4775883693743065E-5},157.00028285641517,157.00001525878906,-2.428217424039758E-4,4.9464203647797483E-4,"-",4.9464203647797483E-4,0,4.9464203647797483E-4,4.9464203647797483E-4,5.9111953584098267E-4,-9.6477499363007845E-5,-5.2383576549971597E-3,-5.2383576549971597E-3,-5.2383576549971597E-3,"-",5.2887598786483219E-4,5.2887598786483219E-4,5.2887598786483219E-4,"-",3.702131915053825E-4,0.76919424788153434,157.00033093105566,1499.242724084454,2.9044981125917451,-2.9088820873213997E-4,2.9088820873213997E-4,{"$f":"FI_T-Rechentabelle!AL456","v":3.3755018874082552},{"$f":"K456","v":1.9848977794723055E-6}]
[2.8437498956918716E-2,6.2499995692633092E-5,2.8946876525878906,157.00001525878906,0,null,0,null,null,null,null,null,"-",{"$f":"N456+(L458-L456)/2","v":4.9908083911154484E-5},157.00033093105566,157.00001525878906,-2.6576418267154622E-4,3.7671530324375662E-4,"-",3.7671530324375662E-4,0,3.7671530324375662E-4,3.7671530324375662E-4,5.2887598786483219E-4,-1.5216068462107558E-4,-9.4316457462738611E-3,-9.4316457462738611E-3,-9.4316457462738611E-3,"-",4.3070780423831582E-4,4.3070780423831582E-4,4.3070780423831582E-4,"-",3.0149546296682106E-4,0.62641899639896326,157.00037008224294,1499.2430979507531,2.9143106357218853,-2.9088820873213997E-4,2.9088820873213997E-4,{"$f":"FI_T-Rechentabelle!AL457","v":3.3656893642781149},{"$f":"AP456","v":1.9848977794723055E-6}]
[2.8499998152256012E-2,6.2499995692633092E-5,2.9045000076293945,157.00001525878906,0,null,0,null,{"$f":"C458","v":2.9045000076293945},{"$f":"AL456","v":2.9044981125917451},{"$f":"I458-J458","v":1.8950376494686338E-6},{"$f":"L456+KP_LR*(1+2*TA_SIM/TN_LR)*K458-KP_LR*K456","v":7.5040284128565903E-5},"-",{"$f":"L458","v":7.5040284128565903E-5},157.00037008224294,157.00001525878906,-2.797831697591846E-4,2.7603783008367251E-4,"-",2.7603783008367251E-4,0,2.7603783008367251E-4,2.7603783008367251E-4,4.3070780423831582E-4,-1.5466997415464331E-4,-9.8971642148549168E-3,-9.8971642148549168E-3,-9.8971642148549168E-3,"-",3.309207241385304E-4,3.309207241385304E-4,3.309207241385304E-4,"-",2.3164450689697126E-4,0.48128923103463794,157.00040016281989,1499.2433851991038,2.9241231607320617,-2.9088820873213997E-4,2.9088820873213997E-4,{"$f":"FI_T-Rechentabelle!AL458","v":3.3558768392679386},{"$f":"K458","v":1.8950376494686338E-6}]
[2.8562497347593307E-2,6.2499995692633092E-5,2.9143126010894775,157.00001525878906,0,null,0,null,null,null,null,null,"-",{"$f":"N458+(L460-L458)/2","v":2.352892507118474E-4},157.00040016281989,157.00001525878906,-1.4961478009922757E-4,5.4103675322729472E-4,"-",5.4103675322729472E-4,0,5.4103675322729472E-4,5.4103675322729472E-4,3.309207241385304E-4,2.1011602908876432E-4,1.6101580067235513E-2,1.6101580067235513E-2,1.6101580067235513E-2,"-",4.6647945258287927E-4,4.6647945258287927E-4,4.6647945258287927E-4,"-",3.2653561680801545E-4,0.67844507959280165,157.00044256563737,1499.2437901161838,2.9339356883924141,-2.9088820873213997E-4,2.9088820873213997E-4,{"$f":"FI_T-Rechentabelle!AL459","v":3.3460643116075861},{"$f":"AP458","v":1.8950376494686338E-6}]
[2.8624998405575752E-2,6.2499995692633092E-5,2.9241251945495605,157.00001525878906,0,null,0,null,{"$f":"C460","v":2.9241251945495605},{"$f":"AL458","v":2.9241231607320617},{"$f":"I460-J460","v":2.0338174988587809E-6},{"$f":"L458+KP_LR*(1+2*TA_SIM/TN_LR)*K460-KP_LR*K458","v":3.955382172951289E-4},"-",{"$f":"L460","v":3.955382172951289E-4},157.00044256563737,157.00001525878906,-3.1768631004069903E-5,8.0622702037118994E-4,"-",8.0622702037118994E-4,0,8.0622702037118994E-4,8.0622702037118994E-4,4.6647945258287927E-4,3.3974756778831067E-4,2.5836534491168892E-2,2.5836534491168892E-2,2.5836534491168892E-2,"-",6.8567143180112947E-4,6.8567143180112947E-4,6.8567143180112947E-4,"-",4.799700022607906E-4,0.9972366554348443,157.00050489292835,1499.2443852979709,2.9437482199482221,-2.9088820873213997E-4,2.9088820873213997E-4,{"$f":"FI_T-Rechentabelle!AL460","v":3.3362517800517781},{"$f":"K460","v":2.0338174988587809E-6}]
[2.8687497600913048E-2,6.2499995692633092E-5,2.9339375495910645,157.00001525878906,0,null,0,null,null,null,null,null,"-",{"$f":"N460+(L462-L460)/2","v":4.0998052046326136E-4},157.00050489292835,157.00001525878906,-7.9653618826114325E-5,6.7590498244649976E-4,"-",6.7590498244649976E-4,0,6.7590498244649976E-4,6.7590498244649976E-4,6.8567143180112947E-4,-9.7664493546297058E-6,1.2846327051815772E-3,1.2846327051815772E-3,1.2846327051815772E-3,"-",6.7937049673361203E-4,6.7937049673361203E-4,6.7937049673361203E-4,"-",4.755593477135284E-4,0.98807261108150501,157.00056664746654,1499.2449750103715,2.9535607553636889,-2.9088820873213997E-4,2.9088820873213997E-4,{"$f":"FI_T-Rechentabelle!AL461","v":3.3264392446363114},{"$f":"AP460","v":2.0338174988587809E-6}]
[2.8749998658895493E-2,6.2499995692633092E-5,2.9437501430511475,157.00001525878906,0,null,0,null,{"$f":"C462","v":2.9437501430511475},{"$f":"AL460","v":2.9437482199482221},{"$f":"I462-J462","v":1.9231029253496956E-6},{"$f":"L460+KP_LR*(1+2*TA_SIM/TN_LR)*K462-KP_LR*K460","v":4.2442282363139381E-4},"-",{"$f":"L462","v":4.2442282363139381E-4},157.00056664746654,157.00001525878906,-1.2696585383764614E-4,5.3537508260280832E-4,"-",5.3537508260280832E-4,0,5.3537508260280832E-4,5.3537508260280832E-4,6.7937049673361203E-4,-1.4399541413080371E-4,-8.4067854036100759E-3,-8.4067854036100759E-3,-8.4067854036100759E-3,"-",5.8647022955243431E-4,5.8647022955243431E-4,5.8647022955243431E-4,"-",4.1052916068670399E-4,0.85295898750613741,157.00061995740327,1499.2454840827684,2.9633732941110265,-2.9088820873213997E-4,2.9088820873213997E-4,{"$f":"FI_T-Rechentabelle!AL462","v":3.3166267058889738},{"$f":"K462","v":1.9231029253496956E-6}]
[2.8812497854232788E-2,6.2499995692633092E-5,2.9535627365112305,157.00001525878906,0,null,0,null,null,null,null,null,"-",{"$f":"N462+(L464-L462)/2","v":4.2535361762867786E-4},157.00061995740327,157.00001525878906,-1.7934499658167624E-4,3.7034042259847594E-4,"-",3.7034042259847594E-4,0,3.7034042259847594E-4,3.7034042259847594E-4,5.8647022955243431E-4,-2.1612980695395837E-4,-1.3874526293497629E-2,-1.3874526293497629E-2,-1.3874526293497629E-2,"-",4.4703164442083453E-4,4.4703164442083453E-4,4.4703164442083453E-4,"-",3.1292215109458415E-4,0.65016029730850633,157.00066059242187,1499.2458721186126,2.9731858353980529,-2.9088820873213997E-4,2.9088820873213997E-4,{"$f":"FI_T-Rechentabelle!AL463","v":3.3068141646019473},{"$f":"AP462","v":1.9231029253496956E-6}]
[2.8874998912215233E-2,6.2499995692633092E-5,2.9633750915527344,157.00001525878906,0,null,0,null,{"$f":"C464","v":2.9633750915527344},{"$f":"AL462","v":2.9633732941110265},{"$f":"I464-J464","v":1.7974417079180682E-6},{"$f":"L462+KP_LR*(1+2*TA_SIM/TN_LR)*K464-KP_LR*K462","v":4.2628441162596191E-4},"-",{"$f":"L464","v":4.2628441162596191E-4},157.00066059242187,157.00001525878906,-2.1904922118665127E-4,2.2498165648925225E-4,"-",2.2498165648925225E-4,0,2.2498165648925225E-4,2.2498165648925225E-4,4.4703164442083453E-4,-2.2204998793158229E-4,-1.4705533167927998E-2,-1.4705533167927998E-2,-1.4705533167927998E-2,"-",3.0377358769076809E-4,3.0377358769076809E-4,3.0377358769076809E-4,"-",2.1264151138353766E-4,0.44180658920327787,157.00068820533369,1499.2461358024973,2.9829983784108864,-2.9088820873213997E-4,2.9088820873213997E-4,{"$f":"FI_T-Rechentabelle!AL464","v":3.2970016215891138},{"$f":"K464","v":1.7974417079180682E-6}]
[2.8937498107552528E-2,6.2499995692633092E-5,2.9731874465942383,157.00001525878906,0,null,0,null,null,null,null,null,"-",{"$f":"N464+(L466-L464)/2","v":4.160220174160372E-4},157.00068820533369,157.00001525878906,-2.569245272070475E-4,7.4625000000647849E-5,"-",7.4625000000647849E-5,0,7.4625000000647849E-5,7.4625000000647849E-5,3.0377358769076809E-4,-2.2914858769012024E-4,-1.5632538689237856E-2,-1.5632538689237856E-2,-1.5632538689237856E-2,"-",1.5593578918100007E-4,1.5593578918100007E-4,1.5593578918100007E-4,"-",1.0915505242670003E-4,0.22679213053542494,157.00070237984184,1499.2462711590795,2.9928109223096264,-2.9088820873213997E-4,2.9088820873213997E-4,{"$f":"FI_T-Rechentabelle!AL465","v":3.2871890776903738},{"$f":"AP464","v":1.7974417079180682E-6}]
[2.8999997302889824E-2,6.2499995692633092E-5,2.9830000400543213,157.00001525878906,0,null,0,null,{"$f":"C466","v":2.9830000400543213},{"$f":"AL464","v":2.9829983784108864},{"$f":"I466-J466","v":1.6616434348470932E-6},{"$f":"L464+KP_LR*(1+2*TA_SIM/TN_LR)*K466-KP_LR*K464","v":4.0575962320611248E-4},"-",{"$f":"L466","v":4.0575962320611248E-4},157.00070237984184,157.00001525878906,-2.8136142955759169E-4,-5.0565446351146176E-5,"-",-5.0565446351146176E-5,0,-5.0565446351146176E-5,-5.0565446351146176E-5,1.5593578918100007E-4,-2.0650123553214624E-4,-1.4429197830047955E-2,-1.4429197830047955E-2,-1.4429197830047955E-2,"-",2.2709185611860783E-5,2.2709185611860783E-5,2.2709185611860783E-5,"-",1.5896429928302548E-5,3.3028111216086738E-2,157.0007044440988,1499.2462908712814,3.0026234663373828,-2.9088820873213997E-4,2.9088820873213997E-4,{"$f":"FI_T-Rechentabelle!AL466","v":3.2773765336626175},{"$f":"K466","v":1.6616434348470932E-6}]
[2.9062498360872269E-2,6.2499995692633092E-5,2.9928126335144043,157.00001525878906,0,null,0,null,null,null,null,null,"-",{"$f":"N466+(L468-L466)/2","v":3.8784731419639392E-4},157.0007044440988,157.00001525878906,-3.0133799555187579E-4,-1.7029575930814945E-4,"-",-1.7029575930814945E-4,0,-1.7029575930814945E-4,-1.7029575930814945E-4,2.2709185611860783E-5,-1.9300494492001022E-4,{"$f":"Z466+KP_SR*(1+TA_SIM/TN_SR)*Y467-KP_SR*Y466","v":-1.3842951327898039E-2},-1.3842951327898039E-2,-1.3842951327898039E-2,"-",-1.0181013369138393E-4,-1.0181013369138393E-4,-1.0181013369138393E-4,"-",-7.1267093583968747E-5,-0.14807208307494024,{"$f":"AJ466+AI467*TA_SIM","v":157.00069518959361},1499.2462024972667,{"$f":"AL466+AJ467*TA_SIM","v":3.0124360097867324},-2.9088820873213997E-4,2.9088820873213997E-4,{"$f":"FI_T-Rechentabelle!AL467","v":3.2675639902132678},{"$f":"AP466","v":1.6616434348470932E-6}]
[2.9124997556209564E-2,6.2499995692633092E-5,3.0026249885559082,157.00001525878906,0,null,0,null,{"$f":"C468","v":3.0026249885559082},{"$f":"AL466","v":3.0026234663373828},{"$f":"I468-J468","v":1.5222185254515352E-6},{"$f":"L466+KP_LR*(1+2*TA_SIM/TN_LR)*K468-KP_LR*K466","v":3.6993500518667536E-4},"-",{"$f":"L468","v":3.6993500518667536E-4},157.00069518959361,157.00001525878906,-3.0999579936974442E-4,-2.6592218749564925E-4,"-",-2.6592218749564925E-4,0,-2.6592218749564925E-4,-2.6592218749564925E-4,-1.0181013369138393E-4,-1.641120538042653E-4,-1.2121905136052442E-2,-1.2121905136052442E-2,-1.2121905136052442E-2,"-",-2.0768887808124452E-4,-2.0768887808124452E-4,-2.0768887808124452E-4,"-",-1.4538221465687116E-4,-0.30206153055655754,157.00067631074796,1499.2460222175705,3.0222485520561544,-2.9088820873213997E-4,2.9088820873213997E-4,{"$f":"FI_T-Rechentabelle!AL468","v":3.2577514479438459},{"$f":"K468","v":1.5222185254515352E-6}]
[2.9187498614192009E-2,6.2499995692633092E-5,3.0124375820159912,157.00001525878906,0,null,0,null,null,null,null,null,"-",{"$f":"N468+(L470-L468)/2","v":4.924229166434524E-4},157.00067631074796,157.00001525878906,-1.6862904226400133E-4,2.0376954284248312E-5,"-",2.0376954284248312E-5,0,2.0376954284248312E-5,2.0376954284248312E-5,-2.0768887808124452E-4,2.2806583236549283E-4,1.5833156108547308E-2,1.5833156108547308E-2,1.5833156108547308E-2,"-",-6.0549631393841506E-5,-6.0549631393841506E-5,-6.0549631393841506E-5,"-",-4.2384741975689052E-5,-8.8063041711383849E-2,157.00067080680785,1499.2459696588139,3.03206109398158,-2.9088820873213997E-4,2.9088820873213997E-4,{"$f":"FI_T-Rechentabelle!AL469","v":3.2479389060184203},{"$f":"AP468","v":1.5222185254515352E-6}]
[2.9249997809529305E-2,6.2499995692633092E-5,3.0222501754760742,157.00001525878906,0,null,0,null,{"$f":"C470","v":3.0222501754760742},{"$f":"AL468","v":3.0222485520561544},{"$f":"I470-J470","v":1.6234199198272847E-6},{"$f":"L468+KP_LR*(1+2*TA_SIM/TN_LR)*K470-KP_LR*K468","v":6.1491082810022943E-4},"-",{"$f":"L470","v":6.1491082810022943E-4},157.00067080680785,157.00001525878906,-4.0637190693360026E-5,3.0690288392011528E-4,"-",3.0690288392011528E-4,0,3.0690288392011528E-4,3.0690288392011528E-4,-6.0549631393841506E-5,3.6745251531395681E-4,2.63046937854527E-2,2.63046937854527E-2,2.63046937854527E-2,"-",1.7651650751837725E-4,1.7651650751837725E-4,1.7651650751837725E-4,"-",1.2356155526286407E-4,0.25672461097623944,157.00068685209604,1499.2461228800294,3.0418736369098358,-2.9088820873213997E-4,2.9088820873213997E-4,{"$f":"FI_T-Rechentabelle!AL470","v":3.2381263630901644},{"$f":"K470","v":1.6234199198272847E-6}]
[2.9312498867511749E-2,6.2499995692633092E-5,3.0320625305175781,157.00001525878906,0,null,0,null,null,null,null,null,"-",{"$f":"N470+(L472-L470)/2","v":5.9732899641794842E-4},157.00068685209604,157.00001525878906,-7.4264310569560621E-5,2.1091637065096715E-4,"-",2.1091637065096715E-4,0,2.1091637065096715E-4,2.1091637065096715E-4,1.7651650751837725E-4,3.4399863132589904E-5,2.9909073633570815E-3,2.9909073633570815E-3,2.9909073633570815E-3,"-",1.9870996760390801E-4,1.9870996760390801E-4,1.9870996760390801E-4,"-",1.3909697732273558E-4,0.28900265390138286,157.00070491476191,1499.2462953657832,3.0516861809670086,-2.9088820873213997E-4,2.9088820873213997E-4,{"$f":"FI_T-Rechentabelle!AL471","v":3.2283138190329916},{"$f":"AP470","v":1.6234199198272847E-6}]
[2.9374998062849045E-2,6.2499995692633092E-5,3.0418751239776611,157.00001525878906,0,null,0,null,{"$f":"C472","v":3.0418751239776611},{"$f":"AL470","v":3.0418736369098358},{"$f":"I472-J472","v":1.4870678253231517E-6},{"$f":"L470+KP_LR*(1+2*TA_SIM/TN_LR)*K472-KP_LR*K470","v":5.7974716473566741E-4},"-",{"$f":"L472","v":5.7974716473566741E-4},157.00070491476191,157.00001525878906,-1.0990880809913506E-4,1.0156768392743956E-4,"-",1.0156768392743956E-4,0,1.0156768392743956E-4,1.0156768392743956E-4,1.9870996760390801E-4,-9.714228367646845E-5,-6.4242527627637611E-3,-6.4242527627637611E-3,-6.4242527627637611E-3,"-",1.3603752652230464E-4,1.3603752652230464E-4,1.3603752652230464E-4,"-",9.5226268565613243E-5,0.19785220977688184,157.00071728052501,1499.2464134501224,3.0614987257970414,-2.9088820873213997E-4,2.9088820873213997E-4,{"$f":"FI_T-Rechentabelle!AL472","v":3.2185012742029588},{"$f":"K472","v":1.4870678253231517E-6}]
[2.943749725818634E-2,6.2499995692633092E-5,3.0516877174377441,157.00001525878906,0,null,0,null,null,null,null,null,"-",{"$f":"N472+(L474-L472)/2","v":5.5424632243538351E-4},157.00071728052501,157.00001525878906,-1.4777541352373191E-4,-2.2159071196392913E-5,"-",-2.2159071196392913E-5,0,-2.2159071196392913E-5,-2.2159071196392913E-5,1.3603752652230464E-4,-1.5819659771869755E-4,-1.1005852440943601E-2,-1.1005852440943601E-2,-1.1005852440943601E-2,"-",3.3975205413456975E-5,3.3975205413456975E-5,3.3975205413456975E-5,"-",2.378264378941988E-5,4.941334674718445E-2,157.00072036885919,{"$f":"AJ473/(2*PI())*60","v":1499.2464429415415},3.0713112708200949,-2.9088820873213997E-4,2.9088820873213997E-4,{"$f":"FI_T-Rechentabelle!AL473","v":3.2086887291799053},{"$f":"AP472","v":1.4870678253231517E-6}]
[2.9499998316168785E-2,6.2499995692633092E-5,3.061500072479248,157.00001525878906,0,null,0,null,{"$f":"C474","v":3.061500072479248},{"$f":"AL472","v":3.0614987257970414},{"$f":"I474-J474","v":1.3466822066376949E-6},{"$f":"L472+KP_LR*(1+2*TA_SIM/TN_LR)*K474-KP_LR*K472","v":5.287454801350996E-4},"-",{"$f":"L474","v":5.287454801350996E-4},157.00072036885919,157.00001525878906,-1.7636459000414106E-4,-1.313688526601708E-4,"-",-1.313688526601708E-4,0,-1.313688526601708E-4,-1.313688526601708E-4,3.3975205413456975E-5,-1.6534405807362777E-4,-1.1816911444188716E-2,-1.1816911444188716E-2,-1.1816911444188716E-2,"-",-7.2698380440506695E-5,-7.2698380440506695E-5,-7.2698380440506695E-5,"-",-5.0888866308354681E-5,-0.10573211366788837,157.00071376060208,1499.2463798373344,3.0811238154301326,-2.9088820873213997E-4,2.9088820873213997E-4,{"$f":"FI_T-Rechentabelle!AL474","v":3.1988761845698677},{"$f":"K474","v":1.3466822066376949E-6}]
[2.9562497511506081E-2,6.2499995692633092E-5,3.071312427520752,157.00001525878906,0,null,0,null,null,null,null,null,"-",{"$f":"N474+(L476-L474)/2","v":6.4181426050078478E-4},157.00071376060208,157.00001525878906,-5.6687552529410823E-5,1.319867573831331E-4,"-",1.319867573831331E-4,0,1.319867573831331E-4,1.319867573831331E-4,-7.2698380440506695E-5,2.0468513782363979E-4,1.4539710112786292E-2,1.4539710112786292E-2,1.4539710112786292E-2,"-",5.9356547187638E-5,5.9356547187638E-5,5.9356547187638E-5,"-",4.1549583031346595E-5,8.6327826784430892E-2,157.00071915609126,1499.246431360461,3.0909363603773885,-2.9088820873213997E-4,2.9088820873213997E-4,{"$f":"FI_T-Rechentabelle!AL475","v":3.1890636396226117},{"$f":"AP474","v":1.3466822066376949E-6}]
[2.9624998569488525E-2,6.2499995692633092E-5,3.0811252593994141,157.00001525878906,0,null,0,null,{"$f":"C476","v":3.0811252593994141},{"$f":"AL474","v":3.0811238154301326},{"$f":"I476-J476","v":1.4439692814782745E-6},{"$f":"L474+KP_LR*(1+2*TA_SIM/TN_LR)*K476-KP_LR*K474","v":7.5488304086646996E-4},"-",{"$f":"L476","v":7.5488304086646996E-4},157.00071915609126,157.00001525878906,5.0985738653253065E-5,3.93791285859456E-4,"-",3.93791285859456E-4,0,3.93791285859456E-4,3.93791285859456E-4,5.9356547187638E-5,3.3443473867181798E-4,2.4273011605966975E-2,2.4273011605966975E-2,2.4273011605966975E-2,"-",2.7512089471783336E-4,2.7512089471783336E-4,2.7512089471783336E-4,"-",1.9258462630248333E-4,0.40013427447015026,157.00074416448342,1499.2466701730148,3.1007489068876688,-2.9088820873213997E-4,2.9088820873213997E-4,{"$f":"FI_T-Rechentabelle!AL476","v":3.1792510931123314},{"$f":"K476","v":1.4439692814782745E-6}]
[2.9687497764825821E-2,6.2499995692633092E-5,3.090937614440918,157.00001525878906,0,null,0,null,null,null,null,null,"-",{"$f":"N476+(L478-L476)/2","v":5.8143738881301257E-4},157.00074416448342,157.00001525878906,-1.4746830555623092E-4,-1.0178593652557672E-4,"-",-1.0178593652557672E-4,0,-1.0178593652557672E-4,-1.0178593652557672E-4,2.7512089471783336E-4,-3.7690683124341008E-4,-2.6363757824602506E-2,-2.6363757824602506E-2,-2.6363757824602506E-2,"-",3.1955197141430284E-5,3.1955197141430284E-5,3.1955197141430284E-5,"-",2.2368637999001198E-5,4.6475458132144598E-2,157.00074706919955,1499.2466979110106,3.1105614535794937,-2.9088820873213997E-4,2.9088820873213997E-4,{"$f":"FI_T-Rechentabelle!AL477","v":3.1694385464205066},{"$f":"AP476","v":1.4439692814782745E-6}]
[2.9749998822808266E-2,6.2499995692633092E-5,3.1007499694824219,157.00001525878906,0,null,0,null,{"$f":"C478","v":3.1007499694824219},{"$f":"AL476","v":3.1007489068876688},{"$f":"I478-J478","v":1.0625947530762403E-6},{"$f":"L476+KP_LR*(1+2*TA_SIM/TN_LR)*K478-KP_LR*K476","v":4.0799173675955518E-4},"-",{"$f":"L478","v":4.0799173675955518E-4},157.00074706919955,157.00001525878906,-3.2381867373487694E-4,-5.8916330218489492E-4,"-",-5.8916330218489492E-4,0,-5.8916330218489492E-4,-5.8916330218489492E-4,3.1955197141430284E-5,-6.2111849932632523E-4,-4.4667934041033155E-2,-4.4667934041033155E-2,-4.4667934041033155E-2,"-",-3.6876641532717584E-4,-3.6876641532717584E-4,-3.6876641532717584E-4,"-",-2.5813649072902307E-4,-0.53633179041974455,157.00071354846264,1499.2463778115521,3.1203739981762726,-2.9088820873213997E-4,2.9088820873213997E-4,{"$f":"FI_T-Rechentabelle!AL478","v":3.1596260018237277},{"$f":"K478","v":1.0625947530762403E-6}]
[2.9812498018145561E-2,6.2499995692633092E-5,3.1105625629425049,157.00001525878906,0,null,0,null,null,null,null,null,"-",{"$f":"N478+(L480-L478)/2","v":5.0865576382413372E-4},157.00071354846264,157.00001525878906,-1.8963390974136018E-4,-3.2461870453722233E-4,"-",-3.2461870453722233E-4,0,-3.2461870453722233E-4,-3.2461870453722233E-4,-3.6876641532717584E-4,4.4147710789953503E-5,2.1120608118326417E-3,2.1120608118326417E-3,2.1120608118326417E-3,"-",-3.4028402126915028E-4,-3.4028402126915028E-4,-3.4028402126915028E-4,"-",-2.3819881488840519E-4,-0.49490715746604025,157.00068261676529,1499.2460824356001,3.1301865408398206,-2.9088820873213997E-4,2.9088820873213997E-4,{"$f":"FI_T-Rechentabelle!AL479","v":3.1498134591601796},{"$f":"AP478","v":1.0625947530762403E-6}]
[2.9874997213482857E-2,6.2499995692633092E-5,3.1203751564025879,157.00001525878906,0,null,0,null,{"$f":"C480","v":3.1203751564025879},{"$f":"AL478","v":3.1203739981762726},{"$f":"I480-J480","v":1.1582263153009364E-6},{"$f":"L478+KP_LR*(1+2*TA_SIM/TN_LR)*K480-KP_LR*K478","v":6.0931979088871225E-4},"-",{"$f":"L480","v":6.0931979088871225E-4},157.00068261676529,157.00001525878906,-5.8038185329678527E-5,-3.398833142655253E-5,"-",-3.398833142655253E-5,0,-3.398833142655253E-5,-3.398833142655253E-5,-3.4028402126915028E-4,3.0629568984259775E-4,2.1086227019233433E-2,2.1086227019233433E-2,2.1086227019233433E-2,"-",-1.426738987900637E-4,-1.426738987900637E-4,-1.426738987900637E-4,"-",-9.987172915304459E-5,-0.20750411209857589,157.00066964775829,1499.2459585907059,3.1399990826928055,-2.9088820873213997E-4,2.9088820873213997E-4,{"$f":"FI_T-Rechentabelle!AL480","v":3.1400009173071948},{"$f":"K480","v":1.1582263153009364E-6}]
[2.9937498271465302E-2,6.2499995692633092E-5,3.1301875114440918,157.00001525878906,0,null,0,null,null,null,null,null,"-",{"$f":"N480+(L482-L480)/2","v":5.732745043458198E-4},157.00066964775829,157.00001525878906,-8.1114464876463899E-5,-1.072087983736863E-4,"-",-1.072087983736863E-4,0,-1.072087983736863E-4,-1.072087983736863E-4,-1.426738987900637E-4,3.5465100416377402E-5,2.1420209944816408E-3,2.1420209944816408E-3,2.1420209944816408E-3,"-",-1.1979318884402228E-4,-1.1979318884402228E-4,-1.1979318884402228E-4,"-",-8.3855232190815595E-5,-0.17422653686020276,157.00065875859974,1499.2458546069015,3.1498116238652178,-2.9088820873213997E-4,2.9088820873213997E-4,{"$f":"FI_T-Rechentabelle!AL481","v":3.1301883761347824},{"$f":"AP480","v":1.1582263153009364E-6}]
[2.9999997466802597E-2,6.2499995692633092E-5,3.1400001049041748,157.00001525878906,0,null,0,null,{"$f":"C482","v":3.1400001049041748},{"$f":"AL480","v":3.1399990826928055},{"$f":"I482-J482","v":1.0222113693281187E-6},{"$f":"L480+KP_LR*(1+2*TA_SIM/TN_LR)*K482-KP_LR*K480","v":5.3722921780292735E-4},"-",{"$f":"L482","v":5.3722921780292735E-4},157.00065875859974,157.00001525878906,-1.062705928802643E-4,-1.9137913574458236E-4,"-",-1.9137913574458236E-4,0,-1.9137913574458236E-4,-1.9137913574458236E-4,-1.1979318884402228E-4,-7.1585946900560077E-5,-5.5062068726760508E-3,-5.5062068726760508E-3,-5.5062068726760508E-3,"-",-1.6597767071535965E-4,-1.6597767071535965E-4,-1.6597767071535965E-4,"-",-1.1618436950075174E-4,-0.24139698628870088,157.00064367128809,1499.2457105336875,3.1596241640946734,-2.9088820873213997E-4,2.9088820873213997E-4,{"$f":"FI_T-Rechentabelle!AL482","v":3.1203758359053269},{"$f":"K482","v":1.0222113693281187E-6}]
[3.0062498524785042E-2,6.2499995692633092E-5,3.1498126983642578,157.00001525878906,0,null,0,null,null,null,null,null,"-",{"$f":"N482+(L484-L482)/2","v":4.9761547353216039E-4},157.00064367128809,157.00001525878906,-1.3079702549134709E-4,-2.8007044339135173E-4,"-",-2.8007044339135173E-4,0,-2.8007044339135173E-4,-2.8007044339135173E-4,-1.6597767071535965E-4,-1.1409277267599208E-4,-8.7033757017904896E-3,-8.7033757017904896E-3,-8.7033757017904896E-3,"-",-2.3958591115149166E-4,-2.3958591115149166E-4,-2.3958591115149166E-4,"-",-1.6771013780604414E-4,-0.3484523951922795,157.0006218930134,1499.2455025664838,3.1694367029629866,-2.9088820873213997E-4,2.9088820873213997E-4,{"$f":"FI_T-Rechentabelle!AL483","v":3.1105632970370136},{"$f":"AP482","v":1.0222113693281187E-6}]
[3.0124997720122337E-2,6.2499995692633092E-5,3.1596250534057617,157.00001525878906,0,null,0,null,{"$f":"C484","v":3.1596250534057617},{"$f":"AL482","v":3.1596241640946734},{"$f":"I484-J484","v":8.8931108832568384E-7},{"$f":"L482+KP_LR*(1+2*TA_SIM/TN_LR)*K484-KP_LR*K482","v":4.5800172926139344E-4},"-",{"$f":"L484","v":4.5800172926139344E-4},157.0006218930134,157.00001525878906,-1.4863249506902321E-4,-3.5761343562572745E-4,"-",-3.5761343562572745E-4,0,-3.5761343562572745E-4,-3.5761343562572745E-4,-2.3958591115149166E-4,-1.1802752447423578E-4,-9.2003955834835203E-3,-9.2003955834835203E-3,-9.2003955834835203E-3,"-",-3.1573270113487747E-4,-3.1573270113487747E-4,-3.1573270113487747E-4,"-",-2.210128907944142E-4,-0.45919985621112441,157.00059319302238,1499.2452285017573,3.1792492400375507,-2.9088820873213997E-4,2.9088820873213997E-4,{"$f":"FI_T-Rechentabelle!AL484","v":3.1007507599624495},{"$f":"K484","v":8.8931108832568384E-7}]
[3.0187498778104782E-2,6.2499995692633092E-5,3.1694376468658447,157.00001525878906,0,null,0,null,null,null,null,null,"-",{"$f":"N484+(L486-L484)/2","v":5.6102267759657585E-4},157.00059319302238,157.00001525878906,-1.6911555718479576E-5,-5.6666691364405967E-5,"-",-5.6666691364405967E-5,0,-5.6666691364405967E-5,-5.6666691364405967E-5,-3.1573270113487747E-4,2.590660097704715E-4,1.7753841806296168E-2,1.7753841806296168E-2,1.7753841806296168E-2,"-",-1.4859333999264548E-4,-1.4859333999264548E-4,-1.4859333999264548E-4,"-",-1.0401533799485183E-4,-0.21611331393071229,157.00057968594027,1499.2450995186243,3.1890617762679221,-2.9088820873213997E-4,2.9088820873213997E-4,{"$f":"FI_T-Rechentabelle!AL485","v":3.0909382237320782},{"$f":"AP484","v":8.8931108832568384E-7}]
[3.0249997973442078E-2,6.2499995692633092E-5,3.1792502403259277,157.00001525878906,0,null,0,null,{"$f":"C486","v":3.1792502403259277},{"$f":"AL484","v":3.1792492400375507},{"$f":"I486-J486","v":1.0002883770177107E-6},{"$f":"L484+KP_LR*(1+2*TA_SIM/TN_LR)*K486-KP_LR*K484","v":6.6404362593175826E-4},"-",{"$f":"L486","v":6.6404362593175826E-4},157.00057968594027,157.00001525878906,9.9616474727781679E-5,2.3750149506247603E-4,"-",2.3750149506247603E-4,0,2.3750149506247603E-4,2.3750149506247603E-4,-1.4859333999264548E-4,3.8609483505512153E-4,2.7392816782186347E-2,2.7392816782186347E-2,2.7392816782186347E-2,"-",1.0050010197839321E-4,1.0050010197839321E-4,1.0050010197839321E-4,"-",7.035007138487524E-5,0.14616678035502853,157.00058882136403,1499.2451867554953,3.1988743130692572,-2.9088820873213997E-4,2.9088820873213997E-4,{"$f":"FI_T-Rechentabelle!AL486","v":3.0811256869307431},{"$f":"K486","v":1.0002883770177107E-6}]
[3.0312497168779373E-2,6.2499995692633092E-5,3.1890625953674316,157.00001525878906,0,null,0,null,null,null,null,null,"-",{"$f":"N486+(L488-L486)/2","v":4.8397276592779292E-4},157.00058882136403,157.00001525878906,-8.9589809050494296E-5,-2.2254728460269836E-4,"-",-2.2254728460269836E-4,0,-2.2254728460269836E-4,-2.2254728460269836E-4,1.0050010197839321E-4,-3.230473865810916E-4,-2.2988803304978267E-2,-2.2988803304978267E-2,-2.2988803304978267E-2,"-",-1.0791756678360863E-4,-1.0791756678360863E-4,-1.0791756678360863E-4,"-",-7.5542296748526037E-5,-0.1569546992489633,157.00057901169532,1499.2450930800592,3.208686849257488,-2.9088820873213997E-4,2.9088820873213997E-4,{"$f":"FI_T-Rechentabelle!AL487","v":3.0713131507425122},{"$f":"AP486","v":1.0002883770177107E-6}]
[3.0374998226761818E-2,6.2499995692633092E-5,3.1988749504089355,157.00001525878906,0,null,0,null,{"$f":"C488","v":3.1988749504089355},{"$f":"AL486","v":3.1988743130692572},{"$f":"I488-J488","v":6.3733967836654415E-7},{"$f":"L486+KP_LR*(1+2*TA_SIM/TN_LR)*K488-KP_LR*K486","v":3.0390190592382758E-4},"-",{"$f":"L488","v":3.0390190592382758E-4},157.00057901169532,157.00001525878906,-2.5985100032244191E-4,-6.8022708546948895E-4,"-",-6.8022708546948895E-4,0,-6.8022708546948895E-4,-6.8022708546948895E-4,-1.0791756678360863E-4,-5.7230951868588028E-4,-4.1556169483810558E-2,-4.1556169483810558E-2,-4.1556169483810558E-2,"-",-4.7714951432289326E-4,-4.7714951432289326E-4,-4.7714951432289326E-4,"-",-3.3400466002602526E-4,-0.69396355708710833,157.00053563897299,1499.2446789010701,3.2184993827349238,-2.9088820873213997E-4,2.9088820873213997E-4,{"$f":"FI_T-Rechentabelle!AL488","v":3.0615006172650765},{"$f":"K488","v":6.3733967836654415E-7}]
[3.0437497422099113E-2,6.2499995692633092E-5,3.2086875438690186,157.00001525878906,0,null,0,null,null,null,null,null,"-",{"$f":"N488+(L490-L488)/2","v":4.006199275330398E-4},157.00053563897299,157.00001525878906,-1.1976025638205101E-4,-3.8496937825788083E-4,"-",-3.8496937825788083E-4,0,-3.8496937825788083E-4,-3.8496937825788083E-4,-4.7714951432289326E-4,9.2180136065012422E-5,5.2591833106963165E-3,5.2591833106963165E-3,5.2591833106963165E-3,"-",-4.176784587970856E-4,-4.176784587970856E-4,-4.176784587970856E-4,"-",-2.9237492115795989E-4,-0.60746919002277133,157.00049767214861,1499.2443163446035,3.2283119138394332,-2.9088820873213997E-4,2.9088820873213997E-4,{"$f":"FI_T-Rechentabelle!AL489","v":3.0516880861605671},{"$f":"AP488","v":6.3733967836654415E-7}]
[3.0499998480081558E-2,6.2499995692633092E-5,3.2185001373291016,157.00001525878906,0,null,0,null,{"$f":"C490","v":3.2185001373291016},{"$f":"AL488","v":3.2184993827349238},{"$f":"I490-J490","v":7.5459417780976423E-7},{"$f":"L488+KP_LR*(1+2*TA_SIM/TN_LR)*K490-KP_LR*K488","v":4.9733794914225203E-4},"-",{"$f":"L490","v":4.9733794914225203E-4},157.00049767214861,157.00001525878906,1.492458960683507E-5,-6.9396719181952704E-5,"-",-6.9396719181952704E-5,0,-6.9396719181952704E-5,-6.9396719181952704E-5,-4.176784587970856E-4,3.482817396151329E-4,2.3887487511429863E-2,2.3887487511429863E-2,2.3887487511429863E-2,"-",-1.9298056227120004E-4,-1.9298056227120004E-4,-1.9298056227120004E-4,"-",-1.3508639358984003E-4,-0.28066983916442972,157.00048013028368,1499.2441488321326,3.238124443847576,-2.9088820873213997E-4,2.9088820873213997E-4,{"$f":"FI_T-Rechentabelle!AL490","v":3.0418755561524242},{"$f":"K490","v":7.5459417780976423E-7}]
[3.0562497675418854E-2,6.2499995692633092E-5,3.2283124923706055,157.00001525878906,0,null,0,null,null,null,null,null,"-",{"$f":"N490+(L492-L490)/2","v":4.5929492842684827E-4},157.00048013028368,157.00001525878906,-5.5765661954865209E-6,-1.1823753838835174E-4,"-",-1.1823753838835174E-4,0,-1.1823753838835174E-4,-1.1823753838835174E-4,-1.9298056227120004E-4,7.4743023882848308E-5,4.8266762195509592E-3,4.8266762195509592E-3,4.8266762195509592E-3,"-",-1.4475925654033666E-4,-1.4475925654033666E-4,-1.4475925654033666E-4,"-",-1.0133147957823565E-4,-0.21053704462546363,157.0004669717184,1499.2440231770902,3.2479369730333083,-2.9088820873213997E-4,2.9088820873213997E-4,{"$f":"FI_T-Rechentabelle!AL491","v":3.0320630269666919},{"$f":"AP490","v":7.5459417780976423E-7}]
[3.0624998733401299E-2,6.2499995692633092E-5,3.2381250858306885,157.00001525878906,0,null,0,null,{"$f":"C492","v":3.2381250858306885},{"$f":"AL490","v":3.238124443847576},{"$f":"I492-J492","v":6.4198311244823003E-7},{"$f":"L490+KP_LR*(1+2*TA_SIM/TN_LR)*K492-KP_LR*K490","v":4.2125190771144451E-4},"-",{"$f":"L492","v":4.2125190771144451E-4},157.0004669717184,157.00001525878906,-3.0461021623295892E-5,-1.8329685842704397E-4,"-",-1.8329685842704397E-4,0,-1.8329685842704397E-4,-1.8329685842704397E-4,-1.4475925654033666E-4,-3.8537601886707304E-5,-3.1969954767065256E-3,-3.1969954767065256E-3,-3.1969954767065256E-3,"-",-1.6962222549950898E-4,-1.6962222549950898E-4,-1.6962222549950898E-4,"-",-1.1873555784965627E-4,-0.24669760617007327,157.00045155311801,1499.2438759403021,3.2577495012553781,-2.9088820873213997E-4,2.9088820873213997E-4,{"$f":"FI_T-Rechentabelle!AL492","v":3.0222504987446221},{"$f":"K492","v":6.4198311244823003E-7}]
[3.0687497928738594E-2,6.2499995692633092E-5,3.2479376792907715,157.00001525878906,0,null,0,null,null,null,null,null,"-",{"$f":"N492+(L494-L492)/2","v":3.8093769991150611E-4},157.00045155311801,157.00001525878906,-5.5356629047764727E-5,-2.5445137267120243E-4,"-",-2.5445137267120243E-4,0,-2.5445137267120243E-4,-2.5445137267120243E-4,-1.6962222549950898E-4,-8.4829147171693449E-5,-6.6050758985158175E-3,-6.6050758985158175E-3,-6.6050758985158175E-3,"-",-2.2435070754576894E-4,-2.2435070754576894E-4,-2.2435070754576894E-4,"-",-1.5704549528203825E-4,-0.32629440116775033,157.00043115971795,1499.2436811976766,3.2675620282028603,-2.9088820873213997E-4,2.9088820873213997E-4,{"$f":"FI_T-Rechentabelle!AL493","v":3.0124379717971399},{"$f":"AP492","v":6.4198311244823003E-7}]
[3.074999712407589E-2,6.2499995692633092E-5,3.2577500343322754,157.00001525878906,0,null,0,null,{"$f":"C494","v":3.2577500343322754},{"$f":"AL492","v":3.2577495012553781},{"$f":"I494-J494","v":5.3307689729109597E-7},{"$f":"L492+KP_LR*(1+2*TA_SIM/TN_LR)*K494-KP_LR*K492","v":3.4062349211156772E-4},"-",{"$f":"L494","v":3.4062349211156772E-4},157.00043115971795,157.00001525878906,-7.5277436764054073E-5,-3.1894064746717697E-4,"-",-3.1894064746717697E-4,0,-3.1894064746717697E-4,-3.1894064746717697E-4,-2.2435070754576894E-4,-9.4589939921408024E-5,-7.4671953029939011E-3,-7.4671953029939011E-3,-7.4671953029939011E-3,"-",-2.8537647523700589E-4,-2.8537647523700589E-4,-2.8537647523700589E-4,"-",-1.9976353266590411E-4,-0.41504993281924807,157.00040521909716,1499.243433482995,3.2773745535290537,-2.9088820873213997E-4,2.9088820873213997E-4,{"$f":"FI_T-Rechentabelle!AL494","v":3.0026254464709465},{"$f":"K494","v":5.3307689729109597E-7}]
[3.0812498182058334E-2,6.2499995692633092E-5,3.2675626277923584,157.00001525878906,0,null,0,null,null,null,null,null,"-",{"$f":"N494+(L496-L494)/2","v":4.4370974321312524E-4},157.00040521909716,157.00001525878906,5.3749435124927913E-5,-7.0068150044792082E-6,"-",-7.0068150044792082E-6,0,-7.0068150044792082E-6,-7.0068150044792082E-6,-2.8537647523700589E-4,2.7836966023252668E-4,1.9232983091472179E-2,1.9232983091472179E-2,1.9232983091472179E-2,"-",-1.0578314605473645E-4,-1.0578314605473645E-4,-1.0578314605473645E-4,"-",-7.4048202238315511E-5,-0.15385040980327344,157.00039560344655,1499.2433416602953,3.2871870782542691,-2.9088820873213997E-4,2.9088820873213997E-4,{"$f":"FI_T-Rechentabelle!AL495","v":2.9928129217457311},{"$f":"AP494","v":5.3307689729109597E-7}]
[3.087499737739563E-2,6.2499995692633092E-5,3.2773752212524414,157.00001525878906,0,null,0,null,{"$f":"C496","v":3.2773752212524414},{"$f":"AL494","v":3.2773745535290537},{"$f":"I496-J496","v":6.6772338769283124E-7},{"$f":"L494+KP_LR*(1+2*TA_SIM/TN_LR)*K496-KP_LR*K494","v":5.4679599431468277E-4},"-",{"$f":"L496","v":5.4679599431468277E-4},157.00039560344655,157.00001525878906,1.6645133683823587E-4,2.9459378964943195E-4,"-",2.9459378964943195E-4,0,2.9459378964943195E-4,2.9459378964943195E-4,-1.0578314605473645E-4,4.0037693570416837E-4,2.8546199017186184E-2,2.8546199017186184E-2,2.8546199017186184E-2,"-",1.5252455439956005E-4,1.5252455439956005E-4,1.5252455439956005E-4,"-",1.0676718807969203E-4,0.22183084994741745,157.00040946787468,1499.2434740558317,3.2969996038460114,-2.9088820873213997E-4,2.9088820873213997E-4,{"$f":"FI_T-Rechentabelle!AL496","v":2.9830003961539888},{"$f":"K496","v":6.6772338769283124E-7}]
[3.0937498435378075E-2,6.2499995692633092E-5,3.2871875762939453,157.00001525878906,0,null,0,null,null,null,null,null,"-",{"$f":"N496+(L498-L496)/2","v":3.6716117607368885E-4},157.00040946787468,157.00001525878906,-2.7047909526345393E-5,-1.6015036571335453E-4,"-",-1.6015036571335453E-4,0,-1.6015036571335453E-4,-1.6015036571335453E-4,1.5252455439956005E-4,-3.1267492011291455E-4,-2.2090445615862892E-2,-2.2090445615862892E-2,-2.2090445615862892E-2,"-",-4.9201200512003213E-5,-4.9201200512003213E-5,-4.9201200512003213E-5,"-",-3.4440840358402246E-5,-7.1557947970916774E-2,157.00040499550292,1499.2434313478273,3.3068121291582302,-2.9088820873213997E-4,2.9088820873213997E-4,{"$f":"FI_T-Rechentabelle!AL497","v":2.9731878708417701},{"$f":"AP496","v":6.6772338769283124E-7}]
[3.099999763071537E-2,6.2499995692633092E-5,3.2969999313354492,157.00001525878906,0,null,0,null,{"$f":"C498","v":3.2969999313354492},{"$f":"AL496","v":3.2969996038460114},{"$f":"I498-J498","v":3.2748943779026263E-7},{"$f":"L496+KP_LR*(1+2*TA_SIM/TN_LR)*K498-KP_LR*K496","v":1.8752635783269493E-4},"-",{"$f":"L498","v":1.8752635783269493E-4},157.00040499550292,157.00001525878906,-2.0221035603640303E-4,-6.1512925630518276E-4,"-",-6.1512925630518276E-4,0,-6.1512925630518276E-4,-6.1512925630518276E-4,-4.9201200512003213E-5,-5.6592805579317959E-4,-4.0926014986064858E-2,-4.0926014986064858E-2,-4.0926014986064858E-2,"-",-4.1431607521728566E-4,-4.1431607521728566E-4,-4.1431607521728566E-4,"-",-2.9002125265209993E-4,-0.60257895834635344,157.00036733431801,1499.2430717100028,3.3166246521166252,-2.9088820873213997E-4,2.9088820873213997E-4,{"$f":"FI_T-Rechentabelle!AL498","v":2.9633753478833751},{"$f":"K498","v":3.2748943779026263E-7}]
[3.1062498688697815E-2,6.2499995692633092E-5,3.3068127632141113,157.00001525878906,0,null,0,null,null,null,null,null,"-",{"$f":"N498+(L500-L498)/2","v":2.8479125444811899E-4},157.00036733431801,157.00001525878906,-6.7284274507528608E-5,-3.1903980443563835E-4,"-",-3.1903980443563835E-4,0,-3.1903980443563835E-4,-3.1903980443563835E-4,-4.1431607521728566E-4,9.5276270781647309E-5,5.6645217343273616E-3,5.6645217343273616E-3,5.6645217343273616E-3,"-",-3.5284751342267969E-4,-3.5284751342267969E-4,-3.5284751342267969E-4,"-",-2.4699325939587575E-4,-0.51317942945330508,157.00033526060366,1499.2427654285921,3.326437173070413,-2.9088820873213997E-4,2.9088820873213997E-4,{"$f":"FI_T-Rechentabelle!AL499","v":2.9535628269295873},{"$f":"AP498","v":3.2748943779026263E-7}]
[3.112499788403511E-2,6.2499995692633092E-5,3.3166251182556152,157.00001525878906,0,null,0,null,{"$f":"C500","v":3.3166251182556152},{"$f":"AL498","v":3.3166246521166252},{"$f":"I500-J500","v":4.6613899007397208E-7},{"$f":"L498+KP_LR*(1+2*TA_SIM/TN_LR)*K500-KP_LR*K498","v":3.8205615106354311E-4},"-",{"$f":"L500","v":3.8205615106354311E-4},157.00033526060366,157.00001525878906,6.2054336467554094E-5,-4.3593010548679959E-6,"-",-4.3593010548679959E-6,0,-4.3593010548679959E-6,-4.3593010548679959E-6,-3.5284751342267969E-4,3.4848821236781169E-4,2.409037661203145E-2,2.409037661203145E-2,2.409037661203145E-2,"-",-1.2801640866925786E-4,-1.2801640866925786E-4,-1.2801640866925786E-4,"-",-8.9611486068480502E-5,-0.18618634130164241,157.00032362395734,1499.242654306805,3.3362496932969101,-2.9088820873213997E-4,2.9088820873213997E-4,{"$f":"FI_T-Rechentabelle!AL500","v":2.9437503067030901},{"$f":"K500","v":4.6613899007397208E-7}]
[3.1187497079372406E-2,6.2499995692633092E-5,3.3264374732971191,157.00001525878906,0,null,0,null,null,null,null,null,"-",{"$f":"N500+(L502-L500)/2","v":3.4453112364434891E-4},157.00032362395734,157.00001525878906,3.6165955350497825E-5,-5.5500576605197908E-5,"-",-5.5500576605197908E-5,0,-5.5500576605197908E-5,-5.5500576605197908E-5,-1.2801640866925786E-4,7.2515832064059952E-5,4.8545707642492462E-3,4.8545707642492462E-3,4.8545707642492462E-3,"-",-8.123200088599829E-5,-8.123200088599829E-5,-8.123200088599829E-5,"-",-5.6862400620198797E-5,-0.11814336301724246,157.00031623999715,1499.2425837951789,3.3460622130619098,-2.9088820873213997E-4,2.9088820873213997E-4,{"$f":"FI_T-Rechentabelle!AL501","v":2.9339377869380905},{"$f":"AP500","v":4.6613899007397208E-7}]
[3.1249998137354851E-2,6.2499995692633092E-5,3.3362500667572021,157.00001525878906,0,null,0,null,{"$f":"C502","v":3.3362500667572021},{"$f":"AL500","v":3.3362496932969101},{"$f":"I502-J502","v":3.7346029202467435E-7},{"$f":"L500+KP_LR*(1+2*TA_SIM/TN_LR)*K502-KP_LR*K500","v":3.0700609622515466E-4},"-",{"$f":"L502","v":3.0700609622515466E-4},157.00031623999715,157.00001525878906,6.0248881368352158E-6,-1.2383937138877083E-4,"-",-1.2383937138877083E-4,0,-1.2383937138877083E-4,-1.2383937138877083E-4,-8.123200088599829E-5,-4.2607370502772539E-5,-3.3060523413826347E-3,-3.3060523413826347E-3,-3.3060523413826347E-3,"-",-1.0872062701682406E-4,-1.0872062701682406E-4,-1.0872062701682406E-4,"-",-7.6104438911776839E-5,-0.15812266551376861,157.00030635733054,1499.2424894226647,3.355874732209243,-2.9088820873213997E-4,2.9088820873213997E-4,{"$f":"FI_T-Rechentabelle!AL502","v":2.9241252677907572},{"$f":"K502","v":3.7346029202467435E-7}]
[3.1312499195337296E-2,6.2499995692633092E-5,3.3460626602172852,157.00001525878906,0,null,0,null,null,null,null,null,"-",{"$f":"N502+(L504-L502)/2","v":2.6713794907090918E-4},157.00030635733054,157.00001525878906,-2.3960592415050996E-5,-1.9912806223459603E-4,"-",-1.9912806223459603E-4,0,-1.9912806223459603E-4,-1.9912806223459603E-4,-1.0872062701682406E-4,-9.0407435217771968E-5,-6.8304578917848767E-3,-6.8304578917848767E-3,-6.8304578917848767E-3,"-",-1.6704800457668158E-4,-1.6704800457668158E-4,-1.6704800457668158E-4,"-",-1.169336032036771E-4,-0.24295367380776456,157.00029117272592,1499.2423444203716,3.3656872504075386,-2.9088820873213997E-4,2.9088820873213997E-4,{"$f":"FI_T-Rechentabelle!AL503","v":2.9143127495924617},{"$f":"AP502","v":3.7346029202467435E-7}]
[3.1374998390674591E-2,6.2499995692633092E-5,3.3558750152587891,157.00001525878906,0,null,0,null,{"$f":"C504","v":3.3558750152587891},{"$f":"AL502","v":3.355874732209243},{"$f":"I504-J504","v":2.8304954602376142E-7},{"$f":"L502+KP_LR*(1+2*TA_SIM/TN_LR)*K504-KP_LR*K502","v":2.2726980191666371E-4},"-",{"$f":"L504","v":2.2726980191666371E-4},157.00029117272592,157.00001525878906,-4.8644134949427098E-5,-2.6815497116159021E-4,"-",-2.6815497116159021E-4,0,-2.6815497116159021E-4,-2.6815497116159021E-4,-1.6704800457668158E-4,-1.0110696658490863E-4,-7.7706638374885565E-3,-7.7706638374885565E-3,-7.7706638374885565E-3,"-",-2.3227830559920779E-4,-2.3227830559920779E-4,-2.3227830559920779E-4,"-",-1.6259481391944544E-4,-0.33782425497495416,157.00027005870999,1499.2421427963711,3.3754997672862079,-2.9088820873213997E-4,2.9088820873213997E-4,{"$f":"FI_T-Rechentabelle!AL504","v":2.9045002327137923},{"$f":"K504","v":2.8304954602376142E-7}]
[3.1437497586011887E-2,6.2499995692633092E-5,3.3656876087188721,157.00001525878906,0,null,0,null,null,null,null,null,"-",{"$f":"N504+(L506-L504)/2","v":3.3075633248854335E-4},157.00027005870999,157.00001525878906,7.5956411563993242E-5,3.8941256009988144E-5,"-",3.8941256009988144E-5,0,3.8941256009988144E-5,3.8941256009988144E-5,-2.3227830559920779E-4,2.7121956160919595E-4,1.8871699385856762E-2,1.8871699385856762E-2,1.8871699385856762E-2,"-",-5.7297943270698696E-5,-5.7297943270698696E-5,-5.7297943270698696E-5,"-",-4.0108560289489083E-5,-8.3333804881548054E-2,157.00026485034718,1499.2420930601702,3.3853122838393546,-2.9088820873213997E-4,2.9088820873213997E-4,{"$f":"FI_T-Rechentabelle!AL505","v":2.8946877161606457},{"$f":"AP504","v":2.8304954602376142E-7}]
[3.1499996781349182E-2,6.2499995692633092E-5,3.3755002021789551,157.00001525878906,0,null,0,null,{"$f":"C506","v":3.3755002021789551},{"$f":"AL504","v":3.3754997672862079},{"$f":"I506-J506","v":4.3489274714758608E-7},{"$f":"L504+KP_LR*(1+2*TA_SIM/TN_LR)*K506-KP_LR*K504","v":4.3424286306042298E-4},"-",{"$f":"L506","v":4.3424286306042298E-4},157.00026485034718,157.00001525878906,1.8465130494860205E-4,3.3569852712742656E-4,"-",3.3569852712742656E-4,0,3.3569852712742656E-4,3.3569852712742656E-4,-5.7297943270698696E-5,3.9299647039812524E-4,2.815493644417294E-2,2.815493644417294E-2,2.815493644417294E-2,"-",1.9624816666357139E-4,1.9624816666357139E-4,1.9624816666357139E-4,"-",1.3737371666449998E-4,0.28542222452628291,157.0002826892362,1499.2422634090121,3.395124801507432,-2.9088820873213997E-4,2.9088820873213997E-4,{"$f":"FI_T-Rechentabelle!AL506","v":2.8848751984925682},{"$f":"K506","v":4.3489274714758608E-7}]
[3.1562495976686478E-2,6.2499995692633092E-5,3.385312557220459,157.00001525878906,0,null,0,null,null,null,null,null,"-",{"$f":"N506+(L508-L506)/2","v":3.9968621117508004E-4},157.0002826892362,157.00001525878906,1.3225576404352068E-4,2.4659186038991193E-4,"-",2.4659186038991193E-4,0,2.4659186038991193E-4,2.4659186038991193E-4,1.9624816666357139E-4,5.0343693726340535E-5,4.1971136118608178E-3,4.1971136118608178E-3,4.1971136118608178E-3,"-",2.287279690676579E-4,2.287279690676579E-4,2.287279690676579E-4,"-",1.6010957834736053E-4,0.33266066558770108,157.0003034805278,1499.2424619512219,3.4049373204749651,-2.9088820873213997E-4,2.9088820873213997E-4,{"$f":"FI_T-Rechentabelle!AL507","v":2.8750626795250351},{"$f":"AP506","v":4.3489274714758608E-7}]
[3.1624998897314072E-2,6.2499995692633092E-5,3.395125150680542,157.00001525878906,0,null,0,null,{"$f":"C508","v":3.395125150680542},{"$f":"AL506","v":3.395124801507432},{"$f":"I508-J508","v":3.4917310998139328E-7},{"$f":"L506+KP_LR*(1+2*TA_SIM/TN_LR)*K508-KP_LR*K506","v":3.6512955928973709E-4},"-",{"$f":"L508","v":3.6512955928973709E-4},157.0003034805278,157.00001525878906,7.6907820556471052E-5,1.3715391924525283E-4,"-",1.3715391924525283E-4,0,1.3715391924525283E-4,1.3715391924525283E-4,2.287279690676579E-4,-9.1574049822405073E-5,-5.9359284801317608E-3,-5.9359284801317608E-3,-5.9359284801317608E-3,"-",1.6964793692416665E-4,1.6964793692416665E-4,1.6964793692416665E-4,"-",1.1875355584691665E-4,0.24673500072079085,157.00031890146536,1499.2426092103285,3.4147498404063068,-2.9088820873213997E-4,2.9088820873213997E-4,{"$f":"FI_T-Rechentabelle!AL508","v":2.8652501595936934},{"$f":"K508","v":3.4917310998139328E-7}]
[3.1687498092651367E-2,6.2499995692633092E-5,3.404937744140625,157.00001525878906,0,null,0,null,null,null,null,null,"-",{"$f":"N508+(L510-L508)/2","v":3.2429494373977235E-4},157.00031890146536,157.00001525878906,2.0652267437526461E-5,1.1899237115561997E-5,"-",1.1899237115561997E-5,0,1.1899237115561997E-5,1.1899237115561997E-5,1.6964793692416665E-4,-1.5774869980860466E-4,-1.0876104704611415E-2,-1.0876104704611415E-2,-1.0876104704611415E-2,"-",6.787458220893389E-5,6.787458220893389E-5,6.787458220893389E-5,"-",4.7512207546253717E-5,9.8716408780913589E-2,157.00032507124092,1499.242668127345,3.4245623607232591,-2.9088820873213997E-4,2.9088820873213997E-4,{"$f":"FI_T-Rechentabelle!AL509","v":2.8554376392767411},{"$f":"AP508","v":3.4917310998139328E-7}]
[3.1749997287988663E-2,6.2499995692633092E-5,3.4147500991821289,157.00001525878906,0,null,0,null,{"$f":"C510","v":3.4147500991821289},{"$f":"AL508","v":3.4147498404063068},{"$f":"I510-J510","v":2.5877582210398486E-7},{"$f":"L508+KP_LR*(1+2*TA_SIM/TN_LR)*K510-KP_LR*K508","v":2.8346032818980766E-4},"-",{"$f":"L510","v":2.8346032818980766E-4},157.00032507124092,157.00001525878906,-2.6352123683182072E-5,-1.0338880017487907E-4,"-",-1.0338880017487907E-4,0,-1.0338880017487907E-4,-1.0338880017487907E-4,6.787458220893389E-5,-1.7126338238381296E-4,-1.2145176493705431E-2,-1.2145176493705431E-2,-1.2145176493705431E-2,"-",-4.2617922554820259E-5,-4.2617922554820259E-5,-4.2617922554820259E-5,"-",-2.983254578837418E-5,-6.1983265714469514E-2,157.00032119728681,1499.2426311338083,3.4343748807980896,-2.9088820873213997E-4,2.9088820873213997E-4,{"$f":"FI_T-Rechentabelle!AL510","v":2.8456251192019106},{"$f":"K510","v":2.5877582210398486E-7}]
[3.1812496483325958E-2,6.2499995692633092E-5,3.4245624542236328,157.00001525878906,0,null,0,null,null,null,null,null,"-",{"$f":"N510+(L512-L510)/2","v":2.3809231695765887E-4},157.00032119728681,157.00001525878906,-6.7846180797914712E-5,-2.1603068389044246E-4,"-",-2.1603068389044246E-4,0,-2.1603068389044246E-4,-2.1603068389044246E-4,-4.2617922554820259E-5,-1.7341276133562222E-4,-1.2620498711660369E-2,-1.2620498711660369E-2,-1.2620498711660369E-2,"-",-1.5449712341651577E-4,-1.5449712341651577E-4,-1.5449712341651577E-4,"-",-1.0814798639156103E-4,-0.22469974317797844,157.00030715355285,1499.2424970260276,3.4441873999951866,-2.9088820873213997E-4,2.9088820873213997E-4,{"$f":"FI_T-Rechentabelle!AL511","v":2.8358126000048136},{"$f":"AP510","v":2.5877582210398486E-7}]
[3.1874999403953552E-2,6.2499995692633092E-5,3.4343750476837158,157.00001525878906,0,null,0,null,{"$f":"C512","v":3.4343750476837158},{"$f":"AL510","v":3.4343748807980896},{"$f":"I512-J512","v":1.668856262071472E-7},{"$f":"L510+KP_LR*(1+2*TA_SIM/TN_LR)*K512-KP_LR*K510","v":1.9272430572551009E-4},"-",{"$f":"L512","v":1.9272430572551009E-4},157.00030715355285,157.00001525878906,-9.9170458071284884E-5,-3.1275567987207027E-4,"-",-3.1275567987207027E-4,0,-3.1275567987207027E-4,-3.1275567987207027E-4,-1.5449712341651577E-4,-1.582585564555545E-4,-1.1852867952156976E-2,-1.1852867952156976E-2,-1.1852867952156976E-2,"-",-2.5659941790397395E-4,-2.5659941790397395E-4,-2.5659941790397395E-4,"-",-1.7961959253278174E-4,-0.37319674326362295,157.00028382875641,1499.2422742906285,3.453999917734484,-2.9088820873213997E-4,2.9088820873213997E-4,{"$f":"FI_T-Rechentabelle!AL512","v":2.8260000822655162},{"$f":"K512","v":1.668856262071472E-7}]
[3.1937498599290848E-2,6.2499995692633092E-5,3.4441876411437988,157.00001525878906,0,null,0,null,null,null,null,null,"-",{"$f":"N512+(L514-L512)/2","v":1.4576527067923907E-4},157.00028382875641,157.00001525878906,-1.2280469667302896E-4,-3.9743216842199117E-4,"-",-3.9743216842199117E-4,0,-3.9743216842199117E-4,-3.9743216842199117E-4,-2.5659941790397395E-4,-1.4083275051801722E-4,-1.0893182333123554E-2,-1.0893182333123554E-2,-1.0893182333123554E-2,"-",-3.4745925694785963E-4,-3.4745925694785963E-4,-3.4745925694785963E-4,"-",-2.4322147986350173E-4,-0.50534277968730879,157.00025224483267,1499.2419726863734,3.4638124334997862,-2.9088820873213997E-4,2.9088820873213997E-4,{"$f":"FI_T-Rechentabelle!AL513","v":2.8161875665002141},{"$f":"AP512","v":1.668856262071472E-7}]
[3.1999997794628143E-2,6.2499995692633092E-5,3.4539999961853027,157.00001525878906,0,null,0,null,{"$f":"C514","v":3.4539999961853027},{"$f":"AL512","v":3.453999917734484},{"$f":"I514-J514","v":7.8450818730146921E-8},{"$f":"L512+KP_LR*(1+2*TA_SIM/TN_LR)*K514-KP_LR*K512","v":9.8806235632968055E-5},"-",{"$f":"L514","v":9.8806235632968055E-5},157.00025224483267,157.00001525878906,-1.3817980797625751E-4,-4.6672860872086405E-4,"-",-4.6672860872086405E-4,{"$f":"G514*(JM_EMS+JL_EMS)/KT_M*KP_VSR","v":0},-4.6672860872086405E-4,{"$f":"IF(V514<-IM_R,-IM_R,IF(V514>IM_R,IM_R,V514))","v":-4.6672860872086405E-4},-3.4745925694785963E-4,-1.1926935177300442E-4,-9.6027199696940846E-3,{"$f":"IF(Z514<-U_ZWK,-U_ZWK,IF(Z514>U_ZWK,U_ZWK,Z514))","v":-9.6027199696940846E-3},-9.6027199696940846E-3,"-",-4.2440722583367242E-4,-4.2440722583367242E-4,-4.2440722583367242E-4,"-",{"$f":"AF514*KT_M","v":-2.9708505808357066E-4},{"$f":"AH514/(JM_EMS+JL_EMS)","v":-0.61725547077409237},157.00021366636574,1499.2416042891509,3.473624946853934,{"$f":"-DF_LR","v":-2.9088820873213997E-4},{"$f":"DF_LR","v":2.9088820873213997E-4},{"$f":"FI_T-Rechentabelle!AL514","v":2.8063750531460663},{"$f":"K514","v":7.8450818730146921E-8}]
[3.2062496989965439E-2,6.2499995692633092E-5,3.4638125896453857,157.00001525878906,0,null,{"$f":"E515/1000","v":0},null,null,null,null,null,"-",{"$f":"N514+(L516-L514)/2","v":1.9769691507311559E-4},157.00021366636574,157.00001525878906,-7.1066159534893814E-7,{"$f":"R514+KP_DR*(1+TA_SIM/TN_DR)*Q515-KP_DR*Q514","v":-1.4851918535837812E-4},"-",{"$f":"R515","v":-1.4851918535837812E-4},0,{"$f":"T515+U515","v":-1.4851918535837812E-4},-1.4851918535837812E-4,-4.2440722583367242E-4,{"$f":"W515-X515","v":2.758880404752943E-4},1.8650957187720918E-2,1.8650957187720918E-2,{"$f":"AA515","v":1.8650957187720918E-2},"-",{"$f":"(1/R_M*AB515+AD514*T_M/TA_SIM)/(1+T_M/TA_SIM)","v":-2.4641494165606663E-4},{"$f":"AD515","v":-2.4641494165606663E-4},{"$f":"AE515","v":-2.4641494165606663E-4},"-",-1.7249045915924662E-4,-0.35838449856481736,157.00019126733457,1499.241390394159,3.4834374588081425,-2.9088820873213997E-4,2.9088820873213997E-4,{"$f":"FI_T-Rechentabelle!AL515","v":2.7965625411918578},{"$f":"AP514","v":7.8450818730146921E-8}]
[3.2124996185302734E-2,6.2499995692633092E-5,3.4736251831054688,157.00001525878906,0,null,0,null,{"$f":"C516","v":3.4736251831054688},{"$f":"AL514","v":3.473624946853934},{"$f":"I516-J516","v":2.3625153477979666E-7},{"$f":"L514+KP_LR*(1+2*TA_SIM/TN_LR)*K516-KP_LR*K514","v":2.9658759451326312E-4},"-",{"$f":"L516","v":2.9658759451326312E-4},{"$f":"AJ515","v":157.00019126733457},{"$f":"D516*KP_VDR","v":157.00001525878906},{"$f":"N516-O516+P516","v":1.2057904899620553E-4},1.6178771680490538E-4,"-",1.6178771680490538E-4,0,1.6178771680490538E-4,1.6178771680490538E-4,{"$f":"AF515","v":-2.4641494165606663E-4},4.0820265846097203E-4,2.8702323733771601E-2,2.8702323733771601E-2,2.8702323733771601E-2,"-",1.6941612189718473E-5,1.6941612189718473E-5,1.6941612189718473E-5,"-",1.1859128532802931E-5,2.4639785025561873E-2,157.00019280732113,1499.2414050999473,3.4932499708586002,-2.9088820873213997E-4,2.9088820873213997E-4,{"$f":"FI_T-Rechentabelle!AL516","v":2.7867500291414},{"$f":"K516","v":2.3625153477979666E-7}]
[3.2187499105930328E-2,6.2499995692633092E-5,3.4834375381469727,157.00001525878906,0,null,0,null,null,null,null,null,"-",{"$f":"N516+(L518-L516)/2","v":2.6025825449397621E-4},157.00019280732113,157.00001525878906,8.2709722420304388E-5,9.4245239068621416E-5,"-",9.4245239068621416E-5,0,9.4245239068621416E-5,9.4245239068621416E-5,1.6941612189718473E-5,7.7303626878902942E-5,5.619979141397214E-3,5.619979141397214E-3,5.619979141397214E-3,"-",6.6814919853523579E-5,6.6814919853523579E-5,6.6814919853523579E-5,"-",4.6770443897466501E-5,9.7175241839739246E-2,157.00019888077375,1499.2414630971477,3.5030624832886486,-2.9088820873213997E-4,2.9088820873213997E-4,{"$f":"FI_T-Rechentabelle!AL517","v":2.7769375167113517},{"$f":"AP516","v":2.3625153477979666E-7}]
[3.2249998301267624E-2,6.2499995692633092E-5,3.4932501316070557,157.00001525878906,0,null,0,null,{"$f":"C518","v":3.4932501316070557},{"$f":"AL516","v":3.4932499708586002},{"$f":"I518-J518","v":1.6074845543556648E-7},{"$f":"L516+KP_LR*(1+2*TA_SIM/TN_LR)*K518-KP_LR*K516","v":2.2392891447468936E-4},"-",{"$f":"L518","v":2.2392891447468936E-4},157.00019888077375,157.00001525878906,4.0306929776079414E-5,5.865628832625293E-6,"-",5.865628832625293E-6,0,5.865628832625293E-6,5.865628832625293E-6,6.6814919853523579E-5,-6.0949291020898286E-5,-4.1985178982537393E-3,-4.1985178982537393E-3,-4.1985178982537393E-3,"-",2.7492796614231215E-5,2.7492796614231215E-5,2.7492796614231215E-5,"-",1.9244957629961851E-5,3.9985368024022125E-2,157.00020137985925,1499.2414869616564,3.5128749958748897,-2.9088820873213997E-4,2.9088820873213997E-4,{"$f":"FI_T-Rechentabelle!AL518","v":2.7671250041251105},{"$f":"K518","v":1.6074845543556648E-7}]
[3.2312497496604919E-2,6.2499995692633092E-5,3.5030627250671387,157.00001525878906,0,null,0,null,null,null,null,null,"-",{"$f":"N518+(L520-L518)/2","v":1.8395588684476697E-4},157.00020137985925,157.00001525878906,-2.1651833321811864E-6,-9.3028918242431504E-5,"-",-9.3028918242431504E-5,0,-9.3028918242431504E-5,-9.3028918242431504E-5,2.7492796614231215E-5,-1.2052171485666272E-4,-8.6056099540056698E-3,-8.6056099540056698E-3,-8.6056099540056698E-3,"-",-5.0263148454586518E-5,-5.0263148454586518E-5,-5.0263148454586518E-5,"-",-3.5184203918210558E-5,-7.3102439057158852E-2,157.00019681095679,1499.2414433318518,3.5226875081755744,-2.9088820873213997E-4,2.9088820873213997E-4,{"$f":"FI_T-Rechentabelle!AL519","v":2.7573124918244258},{"$f":"AP518","v":1.6074845543556648E-7}]
[3.2374996691942215E-2,6.2499995692633092E-5,3.5128750801086426,157.00001525878906,0,null,0,null,{"$f":"C520","v":3.5128750801086426},{"$f":"AL518","v":3.5128749958748897},{"$f":"I520-J520","v":8.4233752861706535E-8},{"$f":"L518+KP_LR*(1+2*TA_SIM/TN_LR)*K520-KP_LR*K518","v":1.4398285921484458E-4},"-",{"$f":"L520","v":1.4398285921484458E-4},157.00019681095679,157.00001525878906,-3.7569308517504396E-5,-1.8418505784478716E-4,"-",-1.8418505784478716E-4,0,-1.8418505784478716E-4,-1.8418505784478716E-4,-5.0263148454586518E-5,-1.3392190939020063E-4,-9.7967807297995469E-3,-9.7967807297995469E-3,-9.7967807297995469E-3,"-",-1.3666438031923508E-4,-1.3666438031923508E-4,-1.3666438031923508E-4,"-",-9.5665066223464551E-5,-0.19876390239656044,157.00018438821289,1499.2413247033858,3.5325000196998375,-2.9088820873213997E-4,2.9088820873213997E-4,{"$f":"FI_T-Rechentabelle!AL520","v":2.7474999803001627},{"$f":"K520","v":8.4233752861706535E-8}]
[3.2437499612569809E-2,6.2499995692633092E-5,3.5226874351501465,157.00001525878906,0,null,0,null,null,null,null,null,"-",{"$f":"N520+(L522-L520)/2","v":2.4631794036522223E-4},157.00018438821289,157.00001525878906,7.7188516542037178E-5,1.0041550854264041E-4,"-",1.0041550854264041E-4,0,1.0041550854264041E-4,1.0041550854264041E-4,-1.3666438031923508E-4,2.370798888618755E-4,1.6688720771829695E-2,1.6688720771829695E-2,1.6688720771829695E-2,"-",1.6290386688423643E-5,1.6290386688423643E-5,1.6290386688423643E-5,"-",1.140327068189655E-5,2.3692646336789008E-2,157.00018586900327,1499.2413388438924,3.5423125313166501,-2.9088820873213997E-4,2.9088820873213997E-4,{"$f":"FI_T-Rechentabelle!AL521","v":2.7376874686833501},{"$f":"AP520","v":8.4233752861706535E-8}]
[3.2499998807907104E-2,6.2499995692633092E-5,3.5325002670288086,157.00001525878906,0,null,0,null,{"$f":"C522","v":3.5325002670288086},{"$f":"AL520","v":3.5325000196998375},{"$f":"I522-J522","v":2.4732897108137308E-7},{"$f":"L520+KP_LR*(1+2*TA_SIM/TN_LR)*K522-KP_LR*K520","v":3.4865302151559994E-4},"-",{"$f":"L522","v":3.4865302151559994E-4},157.00018586900327,157.00001525878906,1.7804280730615574E-4,3.7740260510008732E-4,"-",3.7740260510008732E-4,0,3.7740260510008732E-4,3.7740260510008732E-4,1.6290386688423643E-5,3.6111221841166367E-4,2.6070619409514065E-2,2.6070619409514065E-2,2.6070619409514065E-2,"-",2.4926601147013929E-4,2.4926601147013929E-4,2.4926601147013929E-4,"-",1.7448620802909748E-4,0.36253107838998022,157.00020852719567,1499.2415552136918,3.5521250443495997,-2.9088820873213997E-4,2.9088820873213997E-4,{"$f":"FI_T-Rechentabelle!AL522","v":2.7278749556504005},{"$f":"K522","v":2.4732897108137308E-7}]
[3.25624980032444E-2,6.2499995692633092E-5,3.5423126220703125,157.00001525878906,0,null,0,null,null,null,null,null,"-",{"$f":"N522+(L524-L522)/2","v":1.6772102808345881E-4},157.00020852719567,157.00001525878906,-2.5547378527335241E-5,-1.0034665114670493E-4,"-",-1.0034665114670493E-4,0,-1.0034665114670493E-4,-1.0034665114670493E-4,2.4926601147013929E-4,-3.4961266261684422E-4,-2.4471795930802388E-2,-2.4471795930802388E-2,-2.4471795930802388E-2,"-",2.3709454943140258E-5,2.3709454943140258E-5,2.3709454943140258E-5,"-",1.659661846019818E-5,3.4482897278616614E-2,157.00021068237675,1499.2415757941549,3.5619375575172483,-2.9088820873213997E-4,2.9088820873213997E-4,{"$f":"FI_T-Rechentabelle!AL523","v":2.718062442482752},{"$f":"AP522","v":2.4732897108137308E-7}]
[3.2624997198581696E-2,6.2499995692633092E-5,3.5521249771118164,157.00001525878906,0,null,0,null,{"$f":"C524","v":3.5521249771118164},{"$f":"AL522","v":3.5521250443495997},{"$f":"I524-J524","v":-6.7237783341056456E-8},{"$f":"L522+KP_LR*(1+2*TA_SIM/TN_LR)*K524-KP_LR*K522","v":-1.3210965348682329E-5},"-",{"$f":"L524","v":-1.3210965348682329E-5},157.00021068237675,157.00001525878906,-2.0863455301878275E-4,-5.7524562202007634E-4,"-",-5.7524562202007634E-4,0,-5.7524562202007634E-4,-5.7524562202007634E-4,2.3709454943140258E-5,-5.9895507696321659E-4,-4.3094650385046673E-2,-4.3094650385046673E-2,-4.3094650385046673E-2,"-",-3.6271317535571185E-4,-3.6271317535571185E-4,-3.6271317535571185E-4,"-",-2.5389922274899826E-4,-0.52752799241429094,157.00017771187723,1499.2412609490766,3.5717500686242407,-2.9088820873213997E-4,2.9088820873213997E-4,{"$f":"FI_T-Rechentabelle!AL524","v":2.7082499313757595},{"$f":"K524","v":-6.7237783341056456E-8}]
[3.2687496393918991E-2,6.2499995692633092E-5,3.5619375705718994,157.00001525878906,0,null,0,null,null,null,null,null,"-",{"$f":"N524+(L526-L524)/2","v":8.2772787715963637E-5},157.00017771187723,157.00001525878906,-7.9680300444806562E-5,-2.9600916549643314E-4,"-",-2.9600916549643314E-4,0,-2.9600916549643314E-4,-2.9600916549643314E-4,-3.6271317535571185E-4,6.6704009859278708E-5,3.7551239858432534E-3,3.7551239858432534E-3,3.7551239858432534E-3,"-",-3.196783302852121E-4,-3.196783302852121E-4,-3.196783302852121E-4,"-",-2.2377483119964846E-4,-0.46493835694919683,157.00014865322993,1499.2409834594353,3.5815625779150677,-2.9088820873213997E-4,2.9088820873213997E-4,{"$f":"FI_T-Rechentabelle!AL525","v":2.6984374220849325},{"$f":"AP524","v":-6.7237783341056456E-8}]
[3.2749999314546585E-2,6.2499995692633092E-5,3.5717501640319824,157.00001525878906,0,null,0,null,{"$f":"C526","v":3.5717501640319824},{"$f":"AL524","v":3.5717500686242407},{"$f":"I526-J526","v":9.5407741707020932E-8},{"$f":"L524+KP_LR*(1+2*TA_SIM/TN_LR)*K526-KP_LR*K524","v":1.787565407806096E-4},"-",{"$f":"L526","v":1.787565407806096E-4},157.00014865322993,157.00001525878906,4.536209991101714E-5,4.6517404716238159E-6,"-",4.6517404716238159E-6,0,4.6517404716238159E-6,4.6517404716238159E-6,-3.196783302852121E-4,3.2433007075683589E-4,2.2445622457358764E-2,2.2445622457358764E-2,2.2445622457358764E-2,"-",-1.1043312334532063E-4,-1.1043312334532063E-4,-1.1043312334532063E-4,"-",-7.7303186341724442E-5,-0.16061331049599925,157.00013861489802,1499.2408876004265,3.5913750865784988,-2.9088820873213997E-4,2.9088820873213997E-4,{"$f":"FI_T-Rechentabelle!AL526","v":2.6886249134215015},{"$f":"K526","v":9.5407741707020932E-8}]
[3.2812498509883881E-2,6.2499995692633092E-5,3.5815625190734863,157.00001525878906,0,null,0,null,null,null,null,null,"-",{"$f":"N526+(L528-L526)/2","v":-4.2096186892698188E-6},157.00013861489802,157.00001525878906,-1.2756572763805707E-4,-4.2695389441873937E-4,"-",-4.2695389441873937E-4,0,-4.2695389441873937E-4,-4.2695389441873937E-4,-1.1043312334532063E-4,-3.1652077107341875E-4,-2.3130172269895829E-2,-2.3130172269895829E-2,-2.3130172269895829E-2,"-",-3.1464007242494824E-4,-3.1464007242494824E-4,-3.1464007242494824E-4,"-",-2.2024805069746376E-4,-0.45761074319024253,157.00011001422658,1499.2406144841325,3.6011875934543878,-2.9088820873213997E-4,2.9088820873213997E-4,{"$f":"FI_T-Rechentabelle!AL527","v":2.6788124065456125},{"$f":"AP526","v":9.5407741707020932E-8}]
[3.2874997705221176E-2,6.2499995692633092E-5,3.5913748741149902,157.00001525878906,0,null,0,null,{"$f":"C528","v":3.5913748741149902},{"$f":"AL526","v":3.5913750865784988},{"$f":"I528-J528","v":-2.1246350856429785E-7},{"$f":"L526+KP_LR*(1+2*TA_SIM/TN_LR)*K528-KP_LR*K526","v":-1.8717577815914927E-4},"-",{"$f":"L528","v":-1.8717577815914927E-4},157.00011001422658,157.00001525878906,-2.8193121568165225E-4,-8.5320176252540929E-4,"-",-8.5320176252540929E-4,0,-8.5320176252540929E-4,-8.5320176252540929E-4,-3.1464007242494824E-4,-5.3856169010046105E-4,-3.9723643812756185E-2,-3.9723643812756185E-2,-3.9723643812756185E-2,"-",-6.6209922732847406E-4,-6.6209922732847406E-4,-6.6209922732847406E-4,"-",-4.6346945912993182E-4,-0.96295337446484885,157.00004982964069,1499.2400397636718,3.6110000965687403,-2.9088820873213997E-4,2.9088820873213997E-4,{"$f":"FI_T-Rechentabelle!AL528","v":2.6689999034312599},{"$f":"K528","v":-2.1246350856429785E-7}]
[3.2937496900558472E-2,6.2499995692633092E-5,3.6011877059936523,157.00001525878906,0,null,0,null,null,null,null,null,"-",{"$f":"N528+(L530-L528)/2","v":-8.8353090462842416E-5},157.00004982964069,157.00001525878906,-1.2292394208657242E-4,-5.1490408700378954E-4,"-",-5.1490408700378954E-4,0,-5.1490408700378954E-4,-5.1490408700378954E-4,-6.6209922732847406E-4,1.4719514032468452E-4,8.6874588047905384E-3,8.6874588047905384E-3,8.6874588047905384E-3,"-",-5.6713462066738972E-4,-5.6713462066738972E-4,-5.6713462066738972E-4,"-",-3.969942344671728E-4,-0.82483738721623268,156.99999827730397,1499.2395474751188,3.620812596461072,-2.9088820873213997E-4,2.9088820873213997E-4,{"$f":"FI_T-Rechentabelle!AL529","v":2.6591874035389282},{"$f":"AP528","v":-2.1246350856429785E-7}]
[3.2999996095895767E-2,6.2499995692633092E-5,3.6110000610351563,157.00001525878906,0,null,0,null,{"$f":"C530","v":3.6110000610351563},{"$f":"AL528","v":3.6110000965687403},{"$f":"I530-J530","v":-3.5533584075153613E-8},{"$f":"L528+KP_LR*(1+2*TA_SIM/TN_LR)*K530-KP_LR*K528","v":1.0469597233464436E-5},"-",{"$f":"L530","v":1.0469597233464436E-5},156.99999827730397,157.00001525878906,2.7451082331708676E-5,-1.5993863607532418E-4,"-",-1.5993863607532418E-4,0,-1.5993863607532418E-4,-1.5993863607532418E-4,-5.6713462066738972E-4,4.0719598459206555E-4,2.7699691199376375E-2,2.7699691199376375E-2,2.7699691199376375E-2,"-",-3.044275338338014E-4,-3.044275338338014E-4,-3.044275338338014E-4,"-",-2.1309927368366098E-4,-0.44275768477801986,156.99997060494869,1499.239283223591,3.6306250946238814,-2.9088820873213997E-4,2.9088820873213997E-4,{"$f":"FI_T-Rechentabelle!AL530","v":2.6493749053761189},{"$f":"K530","v":-3.5533584075153613E-8}]
[3.3062499016523361E-2,6.2499995692633092E-5,3.6208124160766602,157.00001525878906,0,null,0,null,null,null,null,null,"-",{"$f":"N530+(L532-L530)/2","v":1.2363379197733216E-4},156.99997060494869,157.00001525878906,1.6828763236276245E-4,2.0727033557013753E-4,"-",2.0727033557013753E-4,0,2.0727033557013753E-4,2.0727033557013753E-4,-3.044275338338014E-4,5.116978694039389E-4,{"$f":"Z530+KP_SR*(1+TA_SIM/TN_SR)*Y531-KP_SR*Y530","v":3.5992419514733316E-2},3.5992419514733316E-2,3.5992419514733316E-2,"-",2.5700123846156903E-5,2.5700123846156903E-5,2.5700123846156903E-5,"-",1.7990086692309831E-5,3.7378114881175629E-2,{"$f":"AJ530+AI531*TA_SIM","v":156.99997294108087},1499.2393055320101,{"$f":"AL530+AJ531*TA_SIM","v":3.6404375929326989},-2.9088820873213997E-4,2.9088820873213997E-4,{"$f":"FI_T-Rechentabelle!AL531","v":2.6395624070673014},{"$f":"AP530","v":-3.5533584075153613E-8}]
[3.3124998211860657E-2,6.2499995692633092E-5,3.6306252479553223,157.00001525878906,0,null,0,null,{"$f":"C532","v":3.6306252479553223},{"$f":"AL530","v":3.6306250946238814},{"$f":"I532-J532","v":1.5333144087747996E-7},{"$f":"L530+KP_LR*(1+2*TA_SIM/TN_LR)*K532-KP_LR*K530","v":2.3679798672119988E-4},"-",{"$f":"L532","v":2.3679798672119988E-4},156.99997294108087,157.00001525878906,2.7911569492289345E-4,5.3199781362352249E-4,"-",5.3199781362352249E-4,0,5.3199781362352249E-4,5.3199781362352249E-4,2.5700123846156903E-5,5.062976897773656E-4,3.6560628390206337E-2,3.6560628390206337E-2,3.6560628390206337E-2,"-",3.5234379467026142E-4,3.5234379467026142E-4,3.5234379467026142E-4,"-",2.46640656269183E-4,0.51244682374648443,157.00000496900736,1499.2396113761793,3.6502500932432618,-2.9088820873213997E-4,2.9088820873213997E-4,{"$f":"FI_T-Rechentabelle!AL532","v":2.6297499067567385},{"$f":"K532","v":1.5333144087747996E-7}]
[3.3187497407197952E-2,6.2499995692633092E-5,3.6404376029968262,157.00001525878906,0,null,0,null,null,null,null,null,"-",{"$f":"N532+(L534-L532)/2","v":6.7887336632275531E-5},157.00000496900736,157.00001525878906,7.8177118325584161E-5,8.5677032983278801E-5,"-",8.5677032983278801E-5,0,8.5677032983278801E-5,8.5677032983278801E-5,3.5234379467026142E-4,-2.6666676168698262E-4,-1.8195414144124844E-2,-1.8195414144124844E-2,-1.8195414144124844E-2,"-",1.8030072261414142E-4,1.8030072261414142E-4,1.8030072261414142E-4,"-",1.2621050582989899E-4,0.26222835202555367,157.00002135827935,1499.2397678821983,3.6600625945781542,-2.9088820873213997E-4,2.9088820873213997E-4,{"$f":"FI_T-Rechentabelle!AL533","v":2.6199374054218461},{"$f":"AP532","v":1.5333144087747996E-7}]
[3.3249996602535248E-2,6.2499995692633092E-5,3.6502499580383301,157.00001525878906,0,null,0,null,{"$f":"C534","v":3.6502499580383301},{"$f":"AL532","v":3.6502500932432618},{"$f":"I534-J534","v":-1.352049316949433E-7},{"$f":"L532+KP_LR*(1+2*TA_SIM/TN_LR)*K534-KP_LR*K532","v":-1.0102331345664885E-4},"-",{"$f":"L534","v":-1.0102331345664885E-4},157.00002135827935,157.00001525878906,-1.0712280374036709E-4,-3.6959891052525785E-4,"-",-3.6959891052525785E-4,0,-3.6959891052525785E-4,-3.6959891052525785E-4,1.8030072261414142E-4,-5.4989963313939927E-4,-3.9105378886142385E-2,-3.9105378886142385E-2,-3.9105378886142385E-2,"-",-1.7447323424998927E-4,-1.7447323424998927E-4,-1.7447323424998927E-4,"-",-1.2213126397499249E-4,-0.25375288588197065,157.00000549872399,1499.2396164346003,3.6698750949218244,-2.9088820873213997E-4,2.9088820873213997E-4,{"$f":"FI_T-Rechentabelle!AL534","v":2.6101249050781758},{"$f":"K534","v":-1.352049316949433E-7}]
[3.3312499523162842E-2,6.2499995692633092E-5,3.6600627899169922,157.00001525878906,0,null,0,null,null,null,null,null,"-",{"$f":"N534+(L536-L534)/2","v":5.9426744823780353E-6},157.00000549872399,157.00001525878906,1.5702739545986333E-5,-8.1303045951566029E-5,"-",-8.1303045951566029E-5,0,-8.1303045951566029E-5,-8.1303045951566029E-5,-1.7447323424998927E-4,9.3170188298423245E-5,6.2082921580514927E-3,6.2082921580514927E-3,6.2082921580514927E-3,"-",-1.143634353477828E-4,-1.143634353477828E-4,-1.143634353477828E-4,"-",-8.0054404743447948E-5,-0.16632953406076864,156.99999510312813,1499.2395171639723,3.6796875946157699,-2.9088820873213997E-4,2.9088820873213997E-4,{"$f":"FI_T-Rechentabelle!AL535","v":2.6003124053842304},{"$f":"AP534","v":-1.352049316949433E-7}]
[3.3374998718500137E-2,6.2499995692633092E-5,3.6698751449584961,157.00001525878906,0,null,0,null,{"$f":"C536","v":3.6698751449584961},{"$f":"AL534","v":3.6698750949218244},{"$f":"I536-J536","v":5.003667169489745E-8},{"$f":"L534+KP_LR*(1+2*TA_SIM/TN_LR)*K536-KP_LR*K534","v":1.1290866242140493E-4},"-",{"$f":"L536","v":1.1290866242140493E-4},156.99999510312813,157.00001525878906,1.3306432336435137E-4,2.2295001445887011E-4,"-",2.2295001445887011E-4,0,2.2295001445887011E-4,2.2295001445887011E-4,-1.143634353477828E-4,3.3731344980665292E-4,2.3976676581622256E-2,2.3976676581622256E-2,2.3976676581622256E-2,"-",1.032581451726364E-4,1.032581451726364E-4,1.032581451726364E-4,"-",7.2280701620845467E-5,0.15017806279003837,157.00000448925707,1499.2396067949014,3.6895000948963483,-2.9088820873213997E-4,2.9088820873213997E-4,{"$f":"FI_T-Rechentabelle!AL536","v":2.5904999051036519},{"$f":"K536","v":5.003667169489745E-8}]
[3.3437497913837433E-2,6.2499995692633092E-5,3.6796875,157.00001525878906,0,null,0,null,null,null,null,null,"-",{"$f":"N536+(L538-L536)/2","v":2.283422057580531E-4},157.00000448925707,157.00001525878906,2.3911173775559291E-4,5.2685269726621456E-4,"-",5.2685269726621456E-4,0,5.2685269726621456E-4,5.2685269726621456E-4,1.032581451726364E-4,4.2359455209357817E-4,3.0825585052518284E-2,3.0825585052518284E-2,3.0825585052518284E-2,"-",3.7654495297494291E-4,3.7654495297494291E-4,3.7654495297494291E-4,"-",2.6358146708246004E-4,0.54764485161533349,157.00003871706028,{"$f":"AJ537/(2*PI())*60","v":1499.2399336463457},3.6993125973161645,-2.9088820873213997E-4,2.9088820873213997E-4,{"$f":"FI_T-Rechentabelle!AL537","v":2.5806874026838358},{"$f":"AP536","v":5.003667169489745E-8}]
[3.3499997109174728E-2,6.2499995692633092E-5,3.6895003318786621,157.00001525878906,0,null,0,null,{"$f":"C538","v":3.6895003318786621},{"$f":"AL536","v":3.6895000948963483},{"$f":"I538-J538","v":2.369823137726712E-7},{"$f":"L536+KP_LR*(1+2*TA_SIM/TN_LR)*K538-KP_LR*K536","v":3.4377574909470125E-4},"-",{"$f":"L538","v":3.4377574909470125E-4},157.00003871706028,157.00001525878906,3.203174778718676E-4,7.9301867705968007E-4,"-",7.9301867705968007E-4,0,7.9301867705968007E-4,7.9301867705968007E-4,3.7654495297494291E-4,4.1647372408473715E-4,3.110495777024979E-2,3.110495777024979E-2,3.110495777024979E-2,"-",6.4523767819090036E-4,6.4523767819090036E-4,6.4523767819090036E-4,"-",4.5166637473363023E-4,0.93843003268986114,157.00009736893733,1499.240493730515,3.709125103401723,-2.9088820873213997E-4,2.9088820873213997E-4,{"$f":"FI_T-Rechentabelle!AL538","v":2.5708748965982773},{"$f":"K538","v":2.369823137726712E-7}]
[3.3562496304512024E-2,6.2499995692633092E-5,3.699312686920166,157.00001525878906,0,null,0,null,null,null,null,null,"-",{"$f":"N538+(L540-L538)/2","v":1.7222383875061499E-4},157.00009736893733,157.00001525878906,9.0113690475845942E-5,2.8182883648391916E-4,"-",2.8182883648391916E-4,0,2.8182883648391916E-4,2.8182883648391916E-4,6.4523767819090036E-4,-3.634088417069812E-4,-2.4317693067872275E-2,-2.4317693067872275E-2,-2.4317693067872275E-2,"-",4.1078036096058805E-4,4.1078036096058805E-4,4.1078036096058805E-4,"-",2.875462526724116E-4,0.59743663551300974,157.00013470872705,1499.2408502992412,3.7189376118210182,-2.9088820873213997E-4,2.9088820873213997E-4,{"$f":"FI_T-Rechentabelle!AL539","v":2.561062388178982},{"$f":"AP538","v":2.369823137726712E-7}]
[3.3624999225139618E-2,6.2499995692633092E-5,3.7091250419616699,157.00001525878906,0,null,0,null,{"$f":"C540","v":3.7091250419616699},{"$f":"AL538","v":3.709125103401723},{"$f":"I540-J540","v":-6.1440053045203058E-8},{"$f":"L538+KP_LR*(1+2*TA_SIM/TN_LR)*K540-KP_LR*K538","v":6.7192840652873257E-7},"-",{"$f":"L540","v":6.7192840652873257E-7},157.00013470872705,157.00001525878906,-1.1877800957904583E-4,-2.3092782776941269E-4,"-",-2.3092782776941269E-4,0,-2.3092782776941269E-4,-2.3092782776941269E-4,4.1078036096058805E-4,-6.4170818873000076E-4,-4.5053127070079711E-2,-4.5053127070079711E-2,-4.5053127070079711E-2,"-",-3.2249220910271216E-6,-3.2249220910271216E-6,-3.2249220910271216E-6,"-",-2.2574454637189849E-6,-4.6903084639912419E-3,157.00013441558278,1499.2408474999197,3.7287501202219921,-2.9088820873213997E-4,2.9088820873213997E-4,{"$f":"FI_T-Rechentabelle!AL540","v":2.5512498797780081},{"$f":"K540","v":-6.1440053045203058E-8}]
[3.3687498420476913E-2,6.2499995692633092E-5,3.7189373970031738,157.00001525878906,0,null,0,null,null,null,null,null,"-",{"$f":"N540+(L542-L540)/2","v":1.0141113538215512E-4},157.00013441558278,157.00001525878906,-1.7745658340118098E-5,-1.260124619387507E-6,"-",-1.260124619387507E-6,0,-1.260124619387507E-6,-1.260124619387507E-6,-3.2249220910271216E-6,1.9647974716396145E-6,1.3223990502107819E-4,1.3223990502107819E-4,1.3223990502107819E-4,"-",-1.9573108190033359E-6,-1.9573108190033359E-6,-1.9573108190033359E-6,"-",-1.370117573302335E-6,-2.8467017936886245E-3,157.00013423766393,1499.2408458009199,3.7385626286118461,-2.9088820873213997E-4,2.9088820873213997E-4,{"$f":"FI_T-Rechentabelle!AL541","v":2.5414373713881542},{"$f":"AP540","v":-6.1440053045203058E-8}]
[3.3749997615814209E-2,6.2499995692633092E-5,3.7287502288818359,157.00001525878906,0,null,0,null,{"$f":"C542","v":3.7287502288818359},{"$f":"AL540","v":3.7287501202219921},{"$f":"I542-J542","v":1.0865984378938265E-7},{"$f":"L540+KP_LR*(1+2*TA_SIM/TN_LR)*K542-KP_LR*K540","v":2.0215034235778151E-4},"-",{"$f":"L542","v":2.0215034235778151E-4},157.00013423766393,157.00001525878906,8.3171467480269712E-5,2.5274356546972025E-4,"-",2.5274356546972025E-4,0,2.5274356546972025E-4,2.5274356546972025E-4,-1.9573108190033359E-6,2.5470087628872356E-4,1.8349219206012068E-2,1.8349219206012068E-2,1.8349219206012068E-2,"-",1.6236583517371982E-4,1.6236583517371982E-4,1.6236583517371982E-4,"-",1.1365608462160387E-4,0.23614395308872607,157.00014899666098,1499.2409867389601,3.7483751379241372,-2.9088820873213997E-4,2.9088820873213997E-4,{"$f":"FI_T-Rechentabelle!AL542","v":2.531624862075863},{"$f":"K542","v":1.0865984378938265E-7}]
[3.3812496811151505E-2,6.2499995692633092E-5,3.7385625839233398,157.00001525878906,0,null,0,null,null,null,null,null,"-",{"$f":"N542+(L544-L542)/2","v":1.9868948474824051E-5},157.00014899666098,157.00001525878906,-1.1386892344944499E-4,-2.3136831135431562E-4,"-",-2.3136831135431562E-4,0,-2.3136831135431562E-4,-2.3136831135431562E-4,1.6236583517371982E-4,-3.9373414652803544E-4,-2.7903399831016758E-2,-2.7903399831016758E-2,-2.7903399831016758E-2,"-",-9.16561948443692E-5,-9.16561948443692E-5,-9.16561948443692E-5,"-",-6.4159336391058435E-5,-0.13330425179941499,157.00014066514524,1499.2409071788452,3.7581876467157089,-2.9088820873213997E-4,2.9088820873213997E-4,{"$f":"FI_T-Rechentabelle!AL543","v":2.5218123532842913},{"$f":"AP542","v":1.0865984378938265E-7}]
[3.38749960064888E-2,6.2499995692633092E-5,3.7483749389648438,157.00001525878906,0,null,0,null,{"$f":"C544","v":3.7483749389648438},{"$f":"AL542","v":3.7483751379241372},{"$f":"I544-J544","v":-1.9895929348479058E-7},{"$f":"L542+KP_LR*(1+2*TA_SIM/TN_LR)*K544-KP_LR*K542","v":-1.6241244540813343E-4},"-",{"$f":"L544","v":-1.6241244540813343E-4},157.00014066514524,157.00001525878906,-2.8781880158135209E-4,-7.0440956601646159E-4,"-",-7.0440956601646159E-4,0,-7.0440956601646159E-4,-7.0440956601646159E-4,-9.16561948443692E-5,-6.1275337117209236E-4,-4.4423578164998992E-2,-4.4423578164998992E-2,-4.4423578164998992E-2,"-",-4.8698095043926909E-4,-4.8698095043926909E-4,-4.8698095043926909E-4,"-",-3.4088666530748834E-4,-0.70826234221377171,157.00009639874884,1499.2404844658972,3.7680001527406306,-2.9088820873213997E-4,2.9088820873213997E-4,{"$f":"FI_T-Rechentabelle!AL544","v":2.5119998472593696},{"$f":"K544","v":-1.9895929348479058E-7}]
[3.3937498927116394E-2,6.2499995692633092E-5,3.7581877708435059,157.00001525878906,0,null,0,null,null,null,null,null,"-",{"$f":"N544+(L546-L544)/2","v":-6.5976072992587879E-5},157.00009639874884,157.00001525878906,-1.471160327639609E-4,-4.1440352771249668E-4,"-",-4.1440352771249668E-4,0,-4.1440352771249668E-4,-4.1440352771249668E-4,-4.8698095043926909E-4,7.2577422726772416E-5,3.8180120944230275E-3,3.8180120944230275E-3,3.8180120944230275E-3,"-",-4.4015680674457867E-4,-4.4015680674457867E-4,-4.4015680674457867E-4,"-",-3.0810976472120508E-4,-0.64016157224434878,157.00005638865056,1499.2401023976024,3.7778126562649215,-2.9088820873213997E-4,2.9088820873213997E-4,{"$f":"FI_T-Rechentabelle!AL545","v":2.5021873437350788},{"$f":"AP544","v":-1.9895929348479058E-7}]
[3.399999812245369E-2,6.2499995692633092E-5,3.7680001258850098,157.00001525878906,0,null,0,null,{"$f":"C546","v":3.7680001258850098},{"$f":"AL544","v":3.7680001527406306},{"$f":"I546-J546","v":-2.6855620838261984E-8},{"$f":"L544+KP_LR*(1+2*TA_SIM/TN_LR)*K546-KP_LR*K544","v":3.0460299422957677E-5},"-",{"$f":"L546","v":3.0460299422957677E-5},157.00005638865056,157.00001525878906,-1.0669562072962435E-5,-1.0099055863889634E-4,"-",-1.0099055863889634E-4,0,-1.0099055863889634E-4,-1.0099055863889634E-4,-4.4015680674457867E-4,3.3916624810568233E-4,2.3165396817475852E-2,2.3165396817475852E-2,2.3165396817475852E-2,"-",-2.2133987248284964E-4,-2.2133987248284964E-4,-2.2133987248284964E-4,"-",-1.5493791073799474E-4,-0.32191545966755603,157.00003626893434,1499.2399102684649,3.7876251585317298,-2.9088820873213997E-4,2.9088820873213997E-4,{"$f":"FI_T-Rechentabelle!AL546","v":2.4923748414682705},{"$f":"K546","v":-2.6855620838261984E-8}]
[3.4062497317790985E-2,6.2499995692633092E-5,3.7778124809265137,157.00001525878906,0,null,0,null,null,null,null,null,"-",{"$f":"N546+(L548-L546)/2","v":1.3927909646062705E-4},157.00003626893434,157.00001525878906,1.1826895118360881E-4,2.2646801569252295E-4,"-",2.2646801569252295E-4,0,2.2646801569252295E-4,2.2646801569252295E-4,-2.2133987248284964E-4,4.4780788817537259E-4,3.1629173149921586E-2,3.1629173149921586E-2,3.1629173149921586E-2,"-",6.7568442469002153E-5,6.7568442469002153E-5,6.7568442469002153E-5,"-",4.7297909728301504E-5,9.8271160873263042E-2,157.00004241088189,1499.2399689197437,3.7974376611824097,-2.9088820873213997E-4,2.9088820873213997E-4,{"$f":"FI_T-Rechentabelle!AL547","v":2.4825623388175906},{"$f":"AP546","v":-2.6855620838261984E-8}]
[3.4124996513128281E-2,6.2499995692633092E-5,3.7876253128051758,157.00001525878906,0,null,0,null,{"$f":"C548","v":3.7876253128051758},{"$f":"AL546","v":3.7876251585317298},{"$f":"I548-J548","v":1.5427344601803838E-7},{"$f":"L546+KP_LR*(1+2*TA_SIM/TN_LR)*K548-KP_LR*K546","v":2.4809789349829642E-4},"-",{"$f":"L548","v":2.4809789349829642E-4},157.00004241088189,157.00001525878906,2.2094580066323033E-4,5.1813564704156288E-4,"-",5.1813564704156288E-4,0,5.1813564704156288E-4,5.1813564704156288E-4,6.7568442469002153E-5,4.5056720457256074E-4,3.2665856064292224E-2,3.2665856064292224E-2,3.2665856064292224E-2,"-",3.5825696154807212E-4,3.5825696154807212E-4,3.5825696154807212E-4,"-",2.5077987308365048E-4,0.52104690023613232,157.00007497631316,1499.2402798967055,3.807250165868429,-2.9088820873213997E-4,2.9088820873213997E-4,{"$f":"FI_T-Rechentabelle!AL548","v":2.4727498341315712},{"$f":"K548","v":1.5427344601803838E-7}]
[3.4187499433755875E-2,6.2499995692633092E-5,3.7974376678466797,157.00001525878906,0,null,0,null,null,null,null,null,"-",{"$f":"N548+(L550-L548)/2","v":7.3935983775859403E-5},157.00007497631316,157.00001525878906,1.4218459682524554E-5,4.281526378214248E-5,"-",4.281526378214248E-5,0,4.281526378214248E-5,4.281526378214248E-5,3.5825696154807212E-4,-3.1544169776592963E-4,-2.1693208127932902E-2,-2.1693208127932902E-2,-2.1693208127932902E-2,"-",1.5474618879585803E-4,1.5474618879585803E-4,1.5474618879585803E-4,"-",1.0832233215710061E-4,0.22506198245813547,157.00008904268705,1499.2404142206815,3.8170626714335971,-2.9088820873213997E-4,2.9088820873213997E-4,{"$f":"FI_T-Rechentabelle!AL549","v":2.4629373285664031},{"$f":"AP548","v":1.5427344601803838E-7}]
[3.424999862909317E-2,6.2499995692633092E-5,3.8072500228881836,157.00001525878906,0,null,0,null,{"$f":"C550","v":3.8072500228881836},{"$f":"AL548","v":3.807250165868429},{"$f":"I550-J550","v":-1.4298024542114263E-7},{"$f":"L548+KP_LR*(1+2*TA_SIM/TN_LR)*K550-KP_LR*K548","v":-1.0022592594657761E-4},"-",{"$f":"L550","v":-1.0022592594657761E-4},157.00008904268705,157.00001525878906,-1.7400982392246078E-4,-4.3554941631986663E-4,"-",-4.3554941631986663E-4,0,-4.3554941631986663E-4,-4.3554941631986663E-4,1.5474618879585803E-4,-5.9029560511572468E-4,-4.2090603208251171E-2,-4.2090603208251171E-2,-4.2090603208251171E-2,"-",-2.2608968547235285E-4,-2.2608968547235285E-4,-2.2608968547235285E-4,"-",-1.5826277983064699E-4,-0.32882356083658215,157.00006849121451,1499.2402179685751,3.826875175714298,-2.9088820873213997E-4,2.9088820873213997E-4,{"$f":"FI_T-Rechentabelle!AL550","v":2.4531248242857022},{"$f":"K550","v":-1.4298024542114263E-7}]
[3.4312497824430466E-2,6.2499995692633092E-5,3.8170623779296875,157.00001525878906,0,null,0,null,null,null,null,null,"-",{"$f":"N550+(L552-L550)/2","v":1.4726894793148031E-6},157.00006849121451,157.00001525878906,-5.175973595328287E-5,-1.6503317853641068E-4,"-",-1.6503317853641068E-4,0,-1.6503317853641068E-4,-1.6503317853641068E-4,-2.2608968547235285E-4,6.1056506935942178E-5,3.744347540997589E-3,3.744347540997589E-3,3.744347540997589E-3,"-",-1.8669839067497225E-4,-1.8669839067497225E-4,-1.8669839067497225E-4,"-",-1.3068887347248058E-4,-0.2715330842976949,157.00005152039674,1499.2400559092027,3.8366876789343229,-2.9088820873213997E-4,2.9088820873213997E-4,{"$f":"FI_T-Rechentabelle!AL551","v":2.4433123210656773},{"$f":"AP550","v":-1.4298024542114263E-7}]
[3.4374997019767761E-2,6.2499995692633092E-5,3.8268752098083496,157.00001525878906,0,null,0,null,{"$f":"C552","v":3.8268752098083496},{"$f":"AL550","v":3.826875175714298},{"$f":"I552-J552","v":3.409405158194545E-8},{"$f":"L550+KP_LR*(1+2*TA_SIM/TN_LR)*K552-KP_LR*K550","v":1.0317130490520722E-4},"-",{"$f":"L552","v":1.0317130490520722E-4},157.00005152039674,157.00001525878906,6.6909697238770605E-5,1.2612088943944453E-4,"-",1.2612088943944453E-4,0,1.2612088943944453E-4,1.2612088943944453E-4,-1.8669839067497225E-4,3.1281928011441678E-4,2.2001744724320073E-2,2.2001744724320073E-2,2.2001744724320073E-2,"-",1.5120499721424288E-5,1.5120499721424288E-5,1.5120499721424288E-5,"-",1.0584349804997001E-5,2.1991169343438605E-2,157.00005289484483,1499.2400690342154,3.8465001822402507,-2.9088820873213997E-4,2.9088820873213997E-4,{"$f":"FI_T-Rechentabelle!AL552","v":2.4334998177597496},{"$f":"K552","v":3.409405158194545E-8}]
[3.4437496215105057E-2,6.2499995692633092E-5,3.8366875648498535,157.00001525878906,0,null,0,null,null,null,null,null,"-",{"$f":"N552+(L554-L552)/2","v":-7.5321446081553118E-5},157.00005289484483,157.00001525878906,-1.1295750184103781E-4,-3.1799516069363034E-4,"-",-3.1799516069363034E-4,0,-3.1799516069363034E-4,-3.1799516069363034E-4,1.5120499721424288E-5,-3.331156604150546E-4,-2.3961969433621954E-2,-2.3961969433621954E-2,-2.3961969433621954E-2,"-",-1.9979282957861228E-4,-1.9979282957861228E-4,-1.9979282957861228E-4,"-",-1.398549807050286E-4,-0.290577562237749,157.00003473374719,1499.2398956085076,3.85631268441111,-2.9088820873213997E-4,2.9088820873213997E-4,{"$f":"FI_T-Rechentabelle!AL553","v":2.4236873155888903},{"$f":"AP552","v":3.409405158194545E-8}]
[3.4499999135732651E-2,6.2499995692633092E-5,3.8464999198913574,157.00001525878906,0,null,0,null,{"$f":"C554","v":3.8464999198913574},{"$f":"AL552","v":3.8465001822402507},{"$f":"I554-J554","v":-2.623488932762541E-7},{"$f":"L552+KP_LR*(1+2*TA_SIM/TN_LR)*K554-KP_LR*K552","v":-2.5381419706831348E-4},"-",{"$f":"L554","v":-2.5381419706831348E-4},157.00003473374719,157.00001525878906,-2.732891551886496E-4,-7.5595397633969439E-4,"-",-7.5595397633969439E-4,0,-7.5595397633969439E-4,-7.5595397633969439E-4,-1.9979282957861228E-4,-5.5616114676108213E-4,-4.0658883136883206E-2,-4.0658883136883206E-2,-4.0658883136883206E-2,"-",-5.586064726502796E-4,-5.586064726502796E-4,-5.586064726502796E-4,"-",-3.910245308551957E-4,-0.81243409693578983,156.99998395661612,1499.2394107226232,3.8661251834083985,-2.9088820873213997E-4,2.9088820873213997E-4,{"$f":"FI_T-Rechentabelle!AL554","v":2.4138748165916017},{"$f":"K554","v":-2.623488932762541E-7}]
[3.4562498331069946E-2,6.2499995692633092E-5,3.8563127517700195,157.00001525878906,0,null,0,null,null,null,null,null,"-",{"$f":"N554+(L556-L554)/2","v":-1.5164075577738166E-4},156.99998395661612,157.00001525878906,-1.2033858283189147E-4,-4.310535114857184E-4,"-",-4.310535114857184E-4,0,-4.310535114857184E-4,-4.310535114857184E-4,-5.586064726502796E-4,1.2755296116456121E-4,7.5720836564633909E-3,7.5720836564633909E-3,7.5720836564633909E-3,"-",-4.7631423964088649E-4,-4.7631423964088649E-4,-4.7631423964088649E-4,"-",-3.334199677486205E-4,-0.69274873831003625,156.99994065981997,1499.2389972686756,3.8759376796996374,-2.9088820873213997E-4,2.9088820873213997E-4,{"$f":"FI_T-Rechentabelle!AL555","v":2.4040623203003628},{"$f":"AP554","v":-2.623488932762541E-7}]
[3.4624997526407242E-2,6.2499995692633092E-5,3.8661251068115234,157.00001525878906,0,null,0,null,{"$f":"C556","v":3.8661251068115234},{"$f":"AL554","v":3.8661251834083985},{"$f":"I556-J556","v":-7.6596875064893766E-8},{"$f":"L554+KP_LR*(1+2*TA_SIM/TN_LR)*K556-KP_LR*K554","v":-4.9467314486449827E-5},"-",{"$f":"L556","v":-4.9467314486449827E-5},156.99994065981997,157.00001525878906,2.5131654609822363E-5,-8.8013154113806094E-5,"-",-8.8013154113806094E-5,0,-8.8013154113806094E-5,-8.8013154113806094E-5,-4.7631423964088649E-4,3.8830108552708039E-4,2.6601418545928304E-2,2.6601418545928304E-2,2.6601418545928304E-2,"-",-2.2579741026857789E-4,-2.2579741026857789E-4,-2.2579741026857789E-4,"-",-1.5805818718800453E-4,-0.32839847743196449,156.99992013491513,1499.238801270272,3.8857501747080696,-2.9088820873213997E-4,2.9088820873213997E-4,{"$f":"FI_T-Rechentabelle!AL556","v":2.3942498252919306},{"$f":"K556","v":-7.6596875064893766E-8}]
[3.4687496721744537E-2,6.2499995692633092E-5,3.8759374618530273,157.00001525878906,0,null,0,null,null,null,null,null,"-",{"$f":"N556+(L558-L556)/2","v":6.6147777214640074E-5},156.99992013491513,157.00001525878906,1.6127165113744013E-4,2.6660801378641037E-4,"-",2.6660801378641037E-4,0,2.6660801378641037E-4,2.6660801378641037E-4,-2.2579741026857789E-4,4.9240542405498829E-4,3.4830146134054656E-2,3.4830146134054656E-2,3.4830146134054656E-2,"-",9.1883508476574594E-5,9.1883508476574594E-5,9.1883508476574594E-5,"-",6.4318455933602209E-5,0.13363485546146311,156.9999284870936,1499.2388810277012,3.8955626702385131,-2.9088820873213997E-4,2.9088820873213997E-4,{"$f":"FI_T-Rechentabelle!AL557","v":2.3844373297614871},{"$f":"AP556","v":-7.6596875064893766E-8}]
[3.4749995917081833E-2,6.2499995692633092E-5,3.8857502937316895,157.00001525878906,0,null,0,null,{"$f":"C558","v":3.8857502937316895},{"$f":"AL556","v":3.8857501747080696},{"$f":"I558-J558","v":1.1902361984894583E-7},{"$f":"L556+KP_LR*(1+2*TA_SIM/TN_LR)*K558-KP_LR*K556","v":1.8176286891572998E-4},"-",{"$f":"L558","v":1.8176286891572998E-4},156.9999284870936,157.00001525878906,2.6853456438402645E-4,5.8049889706419467E-4,"-",5.8049889706419467E-4,0,5.8049889706419467E-4,5.8049889706419467E-4,9.1883508476574594E-5,4.8861538858762006E-4,3.5478293726347851E-2,3.5478293726347851E-2,3.5478293726347851E-2,"-",4.0711924304923151E-4,4.0711924304923151E-4,4.0711924304923151E-4,"-",2.8498347013446206E-4,0.59211192631303144,156.999965494089,1499.2392344184759,3.9053751680818936,-2.9088820873213997E-4,2.9088820873213997E-4,{"$f":"FI_T-Rechentabelle!AL558","v":2.3746248319181067},{"$f":"K558","v":1.1902361984894583E-7}]
[3.4812498837709427E-2,6.2499995692633092E-5,3.8955626487731934,157.00001525878906,0,null,0,null,null,null,null,null,"-",{"$f":"N558+(L560-L558)/2","v":1.4658099443268311E-5},156.999965494089,157.00001525878906,6.4422799511021367E-5,1.234757152549687E-4,"-",1.234757152549687E-4,0,1.234757152549687E-4,1.234757152549687E-4,4.0711924304923151E-4,-2.8364352779426281E-4,-1.9259987778782611E-2,-1.9259987778782611E-2,-1.9259987778782611E-2,"-",2.24123418665835E-4,2.24123418665835E-4,2.24123418665835E-4,"-",1.568863930660845E-4,0.32596383350526592,156.99998586682858,1499.2394289638087,3.9151876671985701,-2.9088820873213997E-4,2.9088820873213997E-4,{"$f":"FI_T-Rechentabelle!AL559","v":2.3648123328014301},{"$f":"AP558","v":1.1902361984894583E-7}]
[3.4874998033046722E-2,6.2499995692633092E-5,3.9053750038146973,157.00001525878906,0,null,0,null,{"$f":"C560","v":3.9053750038146973},{"$f":"AL558","v":3.9053751680818936},{"$f":"I560-J560","v":-1.6426719628981346E-7},{"$f":"L558+KP_LR*(1+2*TA_SIM/TN_LR)*K560-KP_LR*K558","v":-1.5244667002919333E-4},"-",{"$f":"L560","v":-1.5244667002919333E-4},156.99998586682858,157.00001525878906,-1.2305470954743214E-4,-3.4072766658840706E-4,"-",-3.4072766658840706E-4,0,-3.4072766658840706E-4,-3.4072766658840706E-4,2.24123418665835E-4,-5.6485108525424204E-4,-4.0055762229674892E-2,-4.0055762229674892E-2,-4.0055762229674892E-2,"-",-1.4029663633690283E-4,-1.4029663633690283E-4,-1.4029663633690283E-4,"-",-9.8207645435831981E-5,-0.2040466350214668,156.99997311391388,1499.2393071824438,3.9250001655181896,-2.9088820873213997E-4,2.9088820873213997E-4,{"$f":"FI_T-Rechentabelle!AL560","v":2.3549998344818106},{"$f":"K560","v":-1.6426719628981346E-7}]
[3.4937497228384018E-2,6.2499995692633092E-5,3.9151878356933594,157.00001525878906,0,null,0,null,null,null,null,null,"-",{"$f":"N560+(L562-L560)/2","v":-4.4073026043989471E-5},156.99997311391388,157.00001525878906,-1.9281508514268353E-6,-6.0664982729847898E-5,"-",-6.0664982729847898E-5,0,-6.0664982729847898E-5,-6.0664982729847898E-5,-1.4029663633690283E-4,7.9631653607054937E-5,5.3317563403699891E-3,5.3317563403699891E-3,5.3317563403699891E-3,"-",-8.8921375945255488E-5,-8.8921375945255488E-5,-8.8921375945255488E-5,"-",-6.224496316167884E-5,-0.1293267466479926,156.99996503099223,1499.2392299962276,3.9348126633326266,-2.9088820873213997E-4,2.9088820873213997E-4,{"$f":"FI_T-Rechentabelle!AL561","v":2.3451873366673737},{"$f":"AP560","v":-1.6426719628981346E-7}]
[3.4999996423721313E-2,6.2499995692633092E-5,3.9250001907348633,157.00001525878906,0,null,0,null,{"$f":"C562","v":3.9250001907348633},{"$f":"AL560","v":3.9250001655181896},{"$f":"I562-J562","v":2.521667363808433E-8},{"$f":"L560+KP_LR*(1+2*TA_SIM/TN_LR)*K562-KP_LR*K560","v":6.4300617941214384E-5},"-",{"$f":"L562","v":6.4300617941214384E-5},156.99996503099223,157.00001525878906,1.1452841476966569E-4,2.3697311023540454E-4,"-",2.3697311023540454E-4,0,2.3697311023540454E-4,2.3697311023540454E-4,-8.8921375945255488E-5,3.2589448618066004E-4,2.3227556465487506E-2,2.3227556465487506E-2,2.3227556465487506E-2,"-",1.2133313126807258E-4,1.2133313126807258E-4,1.2133313126807258E-4,"-",8.4933191887650797E-5,0.17646622041897109,156.99997606013102,1499.2393353167449,3.9446251618363846,-2.9088820873213997E-4,2.9088820873213997E-4,{"$f":"FI_T-Rechentabelle!AL562","v":2.3353748381636157},{"$f":"K562","v":2.521667363808433E-8}]
[3.5062499344348907E-2,6.2499995692633092E-5,3.9348125457763672,157.00001525878906,0,null,0,null,null,null,null,null,"-",{"$f":"N562+(L564-L562)/2","v":-1.0835502190675771E-4},156.99997606013102,157.00001525878906,-6.9156363849742775E-5,-2.0530617388209068E-4,"-",-2.0530617388209068E-4,0,-2.0530617388209068E-4,-2.0530617388209068E-4,1.2133313126807258E-4,-3.2663930515016326E-4,-2.3187237393692522E-2,-2.3187237393692522E-2,-2.3187237393692522E-2,"-",-8.9401904312678824E-5,-8.9401904312678824E-5,-8.9401904312678824E-5,"-",-6.2581333018875174E-5,-0.13002562438993387,156.99996793352949,1499.2392577134167,3.9544376598322302,-2.9088820873213997E-4,2.9088820873213997E-4,{"$f":"FI_T-Rechentabelle!AL563","v":2.3255623401677701},{"$f":"AP562","v":2.521667363808433E-8}]
[3.5124998539686203E-2,6.2499995692633092E-5,3.9446249008178711,157.00001525878906,0,null,0,null,{"$f":"C564","v":3.9446249008178711},{"$f":"AL562","v":3.9446251618363846},{"$f":"I564-J564","v":-2.6101851346993499E-7},{"$f":"L562+KP_LR*(1+2*TA_SIM/TN_LR)*K564-KP_LR*K562","v":-2.8101066175472978E-4},"-",{"$f":"L564","v":-2.8101066175472978E-4},156.99996793352949,157.00001525878906,-2.3368540217916234E-4,-6.4333115590313342E-4,"-",-6.4333115590313342E-4,0,-6.4333115590313342E-4,-6.4333115590313342E-4,-8.9401904312678824E-5,-5.5392925159045462E-4,-4.0177909008089943E-2,-4.0177909008089943E-2,-4.0177909008089943E-2,"-",-4.4677561501619873E-4,-4.4677561501619873E-4,-4.4677561501619873E-4,"-",-3.1274293051133906E-4,-0.64978792958931864,156.9999273217839,1499.2388698998134,3.9642501552898417,-2.9088820873213997E-4,2.9088820873213997E-4,{"$f":"FI_T-Rechentabelle!AL564","v":2.3157498447101585},{"$f":"K564","v":-2.6101851346993499E-7}]
[3.5187497735023499E-2,6.2499995692633092E-5,3.9544377326965332,157.00001525878906,0,null,0,null,null,null,null,null,"-",{"$f":"N564+(L566-L564)/2","v":-1.7410309598500011E-4},156.9999273217839,157.00001525878906,-8.6166090824235653E-5,-3.2267865285097864E-4,"-",-3.2267865285097864E-4,0,-3.2267865285097864E-4,-3.2267865285097864E-4,-4.4677561501619873E-4,1.2409696216522008E-4,7.6473382479723441E-3,7.6473382479723441E-3,7.6473382479723441E-3,"-",-3.6671305878057357E-4,-3.6671305878057357E-4,-3.6671305878057357E-4,"-",-2.5669914114640147E-4,-0.53334540026262511,156.9998939876964,1499.2385515827254,3.9740626486640727,-2.9088820873213997E-4,2.9088820873213997E-4,{"$f":"FI_T-Rechentabelle!AL565","v":2.3059373513359276},{"$f":"AP564","v":-2.6101851346993499E-7}]
[3.5249996930360794E-2,6.2499995692633092E-5,3.9642500877380371,157.00001525878906,0,null,0,null,{"$f":"C566","v":3.9642500877380371},{"$f":"AL564","v":3.9642501552898417},{"$f":"I566-J566","v":-6.7551804594501164E-8},{"$f":"L564+KP_LR*(1+2*TA_SIM/TN_LR)*K566-KP_LR*K564","v":-6.7195530215270435E-5},"-",{"$f":"L566","v":-6.7195530215270435E-5},156.9998939876964,157.00001525878906,5.4075562445632386E-5,1.5308458016834837E-5,"-",1.5308458016834837E-5,0,1.5308458016834837E-5,1.5308458016834837E-5,-3.6671305878057357E-4,3.8202151679740844E-4,2.6466727888420461E-2,2.6466727888420461E-2,2.6466727888420461E-2,"-",-1.2024756407256888E-4,-1.2024756407256888E-4,-1.2024756407256888E-4,"-",-8.4173294850798205E-5,-0.1748873776247625,156.99988305723531,1499.2384472045105,3.9838751413551501,-2.9088820873213997E-4,2.9088820873213997E-4,{"$f":"FI_T-Rechentabelle!AL566","v":2.2961248586448502},{"$f":"K566","v":-6.7551804594501164E-8}]
[3.531249612569809E-2,6.2499995692633092E-5,3.974062442779541,157.00001525878906,0,null,0,null,null,null,null,null,"-",{"$f":"N566+(L568-L566)/2","v":5.1958382852437124E-5},156.99988305723531,157.00001525878906,1.8415993659459673E-4,3.6148461788918889E-4,"-",3.6148461788918889E-4,0,3.6148461788918889E-4,3.6148461788918889E-4,-1.2024756407256888E-4,4.8173218196175774E-4,3.436707866104647E-2,3.436707866104647E-2,3.436707866104647E-2,"-",1.9054739203179031E-4,1.9054739203179031E-4,1.9054739203179031E-4,"-",1.3338317442225322E-4,0.27713105011895534,156.99990037792594,1499.2386126049223,3.9936876351287705,-2.9088820873213997E-4,2.9088820873213997E-4,{"$f":"FI_T-Rechentabelle!AL567","v":2.2863123648712298},{"$f":"AP566","v":-6.7551804594501164E-8}]
[3.5374999046325684E-2,6.2499995692633092E-5,3.9838752746582031,157.00001525878906,0,null,0,null,{"$f":"C568","v":3.9838752746582031},{"$f":"AL566","v":3.9838751413551501},{"$f":"I568-J568","v":1.3330305304037893E-7},{"$f":"L566+KP_LR*(1+2*TA_SIM/TN_LR)*K568-KP_LR*K566","v":1.7111229592014468E-4},"-",{"$f":"L568","v":1.7111229592014468E-4},156.99990037792594,157.00001525878906,2.8599315905353251E-4,6.6705645088012888E-4,"-",6.6705645088012888E-4,0,6.6705645088012888E-4,6.6705645088012888E-4,1.9054739203179031E-4,4.765090588483386E-4,3.4891982193898205E-2,3.4891982193898205E-2,3.4891982193898205E-2,"-",4.9797259128878232E-4,4.9797259128878232E-4,4.9797259128878232E-4,"-",3.4858081390214758E-4,0.72424852254757444,156.9999456434586,1499.239044858919,4.0035001317314869,-2.9088820873213997E-4,2.9088820873213997E-4,{"$f":"FI_T-Rechentabelle!AL568","v":2.2764998682685134},{"$f":"K568","v":1.3330305304037893E-7}]
[3.5437498241662979E-2,6.2499995692633092E-5,3.993687629699707,157.00001525878906,0,null,0,null,null,null,null,null,"-",{"$f":"N568+(L570-L568)/2","v":6.39922018144868E-6},156.9999456434586,157.00001525878906,7.6014550643321854E-5,1.9927146659720748E-4,"-",1.9927146659720748E-4,0,1.9927146659720748E-4,1.9927146659720748E-4,4.9797259128878232E-4,-2.9870112469157484E-4,-2.0081631503358663E-2,-2.0081631503358663E-2,-2.0081631503358663E-2,"-",3.0526218826195929E-4,3.0526218826195929E-4,3.0526218826195929E-4,"-",2.1368353178337148E-4,0.44397160146139925,156.99997339168368,1499.2393098349498,4.0133126300684667,-2.9088820873213997E-4,2.9088820873213997E-4,{"$f":"FI_T-Rechentabelle!AL569","v":2.2666873699315335},{"$f":"AP568","v":1.3330305304037893E-7}]
[3.5499997437000275E-2,6.2499995692633092E-5,4.0034999847412109,157.00001525878906,0,null,0,null,{"$f":"C570","v":4.0034999847412109},{"$f":"AL568","v":4.0035001317314869},{"$f":"I570-J570","v":-1.4699027595099778E-7},{"$f":"L568+KP_LR*(1+2*TA_SIM/TN_LR)*K570-KP_LR*K568","v":-1.5831385555724735E-4},"-",{"$f":"L570","v":-1.5831385555724735E-4},156.99997339168368,157.00001525878906,-1.1644675018374073E-4,-2.748635550158013E-4,"-",-2.748635550158013E-4,0,-2.748635550158013E-4,-2.748635550158013E-4,3.0526218826195929E-4,-5.8012574327776065E-4,-4.0921220637347384E-2,-4.0921220637347384E-2,-4.0921220637347384E-2,"-",-6.9012484820467487E-5,-6.9012484820467487E-5,-6.9012484820467487E-5,"-",-4.8308739374327238E-5,-0.10037136790842974,156.99996711847319,1499.2392499302025,4.0231251280133709,-2.9088820873213997E-4,2.9088820873213997E-4,{"$f":"FI_T-Rechentabelle!AL570","v":2.2568748719866294},{"$f":"K570","v":-1.4699027595099778E-7}]
[3.556249663233757E-2,6.2499995692633092E-5,4.013312816619873,157.00001525878906,0,null,0,null,null,null,null,null,"-",{"$f":"N570+(L572-L570)/2","v":-4.8546479554055326E-5},156.99996711847319,157.00001525878906,-4.0616367869006353E-7,-6.2090864429460301E-6,"-",-6.2090864429460301E-6,0,-6.2090864429460301E-6,-6.2090864429460301E-6,-6.9012484820467487E-5,6.2803398377521457E-5,4.3257603093555183E-3,4.3257603093555183E-3,4.3257603093555183E-3,"-",-2.8494163286583207E-5,-2.8494163286583207E-5,-2.8494163286583207E-5,"-",-1.9945914300608246E-5,-4.1441750053206404E-2,156.99996452836382,1499.2392251964798,4.0329376257963938,-2.9088820873213997E-4,2.9088820873213997E-4,{"$f":"FI_T-Rechentabelle!AL571","v":2.2470623742036064},{"$f":"AP570","v":-1.4699027595099778E-7}]
[3.5624995827674866E-2,6.2499995692633092E-5,4.023125171661377,157.00001525878906,0,null,0,null,{"$f":"C572","v":4.023125171661377},{"$f":"AL570","v":4.0231251280133709},{"$f":"I572-J572","v":4.3648006098351289E-8},{"$f":"L570+KP_LR*(1+2*TA_SIM/TN_LR)*K572-KP_LR*K570","v":6.1220896449136684E-5},"-",{"$f":"L572","v":6.1220896449136684E-5},156.99996452836382,157.00001525878906,1.1195132168495547E-4,2.8130713704010806E-4,"-",2.8130713704010806E-4,0,2.8130713704010806E-4,2.8130713704010806E-4,-2.8494163286583207E-5,3.0980130032669126E-4,2.224304773065686E-2,2.224304773065686E-2,2.224304773065686E-2,"-",1.7137764337579774E-4,1.7137764337579774E-4,1.7137764337579774E-4,"-",1.1996435036305841E-4,0.2492506760088477,156.99998010653107,1499.2393739570193,4.0427501245530522,-2.9088820873213997E-4,2.9088820873213997E-4,{"$f":"FI_T-Rechentabelle!AL572","v":2.2372498754469481},{"$f":"K572","v":4.3648006098351289E-8}]
[3.568749874830246E-2,6.2499995692633092E-5,4.0329375267028809,157.00001525878906,0,null,0,null,null,null,null,null,"-",{"$f":"N572+(L574-L572)/2","v":1.7848208872275727E-4},156.99998010653107,157.00001525878906,2.1363434672139192E-4,5.6889056243425852E-4,"-",5.6889056243425852E-4,0,5.6889056243425852E-4,5.6889056243425852E-4,1.7137764337579774E-4,3.9751291905846078E-4,2.9143571332776896E-2,2.9143571332776896E-2,2.9143571332776896E-2,"-",4.2783759115544933E-4,4.2783759115544933E-4,4.2783759115544933E-4,"-",2.994863138088145E-4,0.62224457471185224,157.00001899681698,1499.2397453318936,4.0525626257403529,-2.9088820873213997E-4,2.9088820873213997E-4,{"$f":"FI_T-Rechentabelle!AL573","v":2.2274373742596474},{"$f":"AP572","v":4.3648006098351289E-8}]
[3.5749997943639755E-2,6.2499995692633092E-5,4.042750358581543,157.00001525878906,0,null,0,null,{"$f":"C574","v":4.042750358581543},{"$f":"AL572","v":4.0427501245530522},{"$f":"I574-J574","v":2.3402849080866872E-7},{"$f":"L572+KP_LR*(1+2*TA_SIM/TN_LR)*K574-KP_LR*K572","v":2.9574328099637781E-4},"-",{"$f":"L574","v":2.9574328099637781E-4},157.00001899681698,157.00001525878906,2.920052530726025E-4,8.215886699559316E-4,"-",8.215886699559316E-4,0,8.215886699559316E-4,8.215886699559316E-4,4.2783759115544933E-4,3.9375107880048227E-4,2.9616209983391952E-2,2.9616209983391952E-2,2.9616209983391952E-2,"-",6.8187054522027605E-4,6.8187054522027605E-4,6.8187054522027605E-4,"-",4.773093816541932E-4,0.99170866747183284,157.00008097860871,1499.2403372144056,4.0623751308015157,-2.9088820873213997E-4,2.9088820873213997E-4,{"$f":"FI_T-Rechentabelle!AL574","v":2.2176248691984846},{"$f":"K574","v":2.3402849080866872E-7}]
[3.5812497138977051E-2,6.2499995692633092E-5,4.0525627136230469,157.00001525878906,0,null,0,null,null,null,null,null,"-",{"$f":"N574+(L576-L574)/2","v":1.2544217149780529E-4},157.00008097860871,157.00001525878906,5.9722351863911172E-5,2.9817435460234554E-4,"-",2.9817435460234554E-4,0,2.9817435460234554E-4,2.9817435460234554E-4,6.8187054522027605E-4,-3.836961906179305E-4,-2.5673455736295342E-2,-2.5673455736295342E-2,-2.5673455736295342E-2,"-",4.343246157893526E-4,4.343246157893526E-4,4.343246157893526E-4,"-",3.0402723105254679E-4,0.63167926667888374,157.00012045856286,1499.2407142201971,4.0721876383301758,-2.9088820873213997E-4,2.9088820873213997E-4,{"$f":"FI_T-Rechentabelle!AL575","v":2.2078123616698244},{"$f":"AP574","v":2.3402849080866872E-7}]
[3.5874996334314346E-2,6.2499995692633092E-5,4.0623750686645508,157.00001525878906,0,null,0,null,{"$f":"C576","v":4.0623750686645508},{"$f":"AL574","v":4.0623751308015157},{"$f":"I576-J576","v":-6.213696490675602E-8},{"$f":"L574+KP_LR*(1+2*TA_SIM/TN_LR)*K576-KP_LR*K574","v":-4.4858938000767225E-5},"-",{"$f":"L576","v":-4.4858938000767225E-5},157.00012045856286,157.00001525878906,-1.5005871179596397E-4,-2.2426810746657721E-4,"-",-2.2426810746657721E-4,0,-2.2426810746657721E-4,-2.2426810746657721E-4,4.343246157893526E-4,-6.5859272325592981E-4,-4.6201624541751168E-2,-4.6201624541751168E-2,-4.6201624541751168E-2,"-",9.426084656494135E-6,9.426084656494135E-6,9.426084656494135E-6,"-",6.5982592595458938E-6,1.3709244254198822E-2,157.00012131539063,1499.2407224022995,4.0820001459123878,-2.9088820873213997E-4,2.9088820873213997E-4,{"$f":"FI_T-Rechentabelle!AL576","v":2.1979998540876124},{"$f":"K576","v":-6.213696490675602E-8}]
[3.593749925494194E-2,6.2499995692633092E-5,4.0721874237060547,157.00001525878906,0,null,0,null,null,null,null,null,"-",{"$f":"N576+(L578-L576)/2","v":5.6889445283584816E-5},157.00012131539063,157.00001525878906,-4.9167156277007962E-5,-2.5868213573373468E-6,"-",-2.5868213573373468E-6,0,-2.5868213573373468E-6,-2.5868213573373468E-6,9.426084656494135E-6,-1.2012906013831482E-5,-8.3836861368653814E-4,-8.3836861368653814E-4,-8.3836861368653814E-4,"-",1.6758227120861567E-6,1.6758227120861567E-6,1.6758227120861567E-6,"-",1.1730758984603095E-6,2.4373070817791595E-3,157.00012146772232,1499.2407238569601,4.0918126535041202,-2.9088820873213997E-4,2.9088820873213997E-4,{"$f":"FI_T-Rechentabelle!AL577","v":2.1881873464958801},{"$f":"AP576","v":-6.213696490675602E-8}]
[3.5999998450279236E-2,6.2499995692633092E-5,4.0820002555847168,157.00001525878906,0,null,0,null,{"$f":"C578","v":4.0820002555847168},{"$f":"AL576","v":4.0820001459123878},{"$f":"I578-J578","v":1.0967232899616874E-7},{"$f":"L576+KP_LR*(1+2*TA_SIM/TN_LR)*K578-KP_LR*K576","v":1.5863782856793686E-4},"-",{"$f":"L578","v":1.5863782856793686E-4},157.00012146772232,157.00001525878906,5.242889531587025E-5,2.4549446842690096E-4,"-",2.4549446842690096E-4,{"$f":"G578*(JM_EMS+JL_EMS)/KT_M*KP_VSR","v":0},2.4549446842690096E-4,{"$f":"IF(V578<-IM_R,-IM_R,IF(V578>IM_R,IM_R,V578))","v":2.4549446842690096E-4},1.6758227120861567E-6,2.4381864571481482E-4,1.7575532612539062E-2,{"$f":"IF(Z578<-U_ZWK,-U_ZWK,IF(Z578>U_ZWK,U_ZWK,Z578))","v":1.7575532612539062E-2},1.7575532612539062E-2,"-",1.5897817478615966E-4,1.5897817478615966E-4,1.5897817478615966E-4,"-",{"$f":"AF578*KT_M","v":1.1128472235031175E-4},{"$f":"AH578/(JM_EMS+JL_EMS)","v":0.23121695896595001},157.00013591878226,1499.2408618544175,4.1016251619990438,{"$f":"-DF_LR","v":-2.9088820873213997E-4},{"$f":"DF_LR","v":2.9088820873213997E-4},{"$f":"FI_T-Rechentabelle!AL578","v":2.1783748380009564},{"$f":"K578","v":1.0967232899616874E-7}]
[3.6062497645616531E-2,6.2499995692633092E-5,4.0918126106262207,157.00001525878906,0,null,{"$f":"E579/1000","v":0},null,null,null,null,null,"-",{"$f":"N578+(L580-L578)/2","v":-2.2622768488475846E-5},157.00013591878226,157.00001525878906,-1.4328276168384946E-4,{"$f":"R578+KP_DR*(1+TA_SIM/TN_DR)*Q579-KP_DR*Q578","v":-2.4271089791414325E-4},"-",{"$f":"R579","v":-2.4271089791414325E-4},0,{"$f":"T579+U579","v":-2.4271089791414325E-4},-2.4271089791414325E-4,1.5897817478615966E-4,{"$f":"W579-X579","v":-4.0168907270030291E-4},-2.8486491951587187E-2,-2.8486491951587187E-2,{"$f":"AA579","v":-2.8486491951587187E-2},"-",{"$f":"(1/R_M*AB579+AD578*T_M/TA_SIM)/(1+T_M/TA_SIM)","v":-1.0017606566564919E-4},{"$f":"AD579","v":-1.0017606566564919E-4},{"$f":"AE579","v":-1.0017606566564919E-4},"-",-7.0123245965954424E-5,-0.14569550377301976,157.00012681281328,1499.2407748988189,4.1114376699248449,-2.9088820873213997E-4,2.9088820873213997E-4,{"$f":"FI_T-Rechentabelle!AL579","v":2.1685623300751553},{"$f":"AP578","v":1.0967232899616874E-7}]
[3.6124996840953827E-2,6.2499995692633092E-5,4.1016249656677246,157.00001525878906,0,null,0,null,{"$f":"C580","v":4.1016249656677246},{"$f":"AL578","v":4.1016251619990438},{"$f":"I580-J580","v":-1.9633131920215874E-7},{"$f":"L578+KP_LR*(1+2*TA_SIM/TN_LR)*K580-KP_LR*K578","v":-2.0388336554488857E-4},"-",{"$f":"L580","v":-2.0388336554488857E-4},{"$f":"AJ579","v":157.00012681281328},{"$f":"D580*KP_VDR","v":157.00001525878906},{"$f":"N580-O580+P580","v":-3.1543738975869928E-4},-7.1832750796250035E-4,"-",-7.1832750796250035E-4,0,-7.1832750796250035E-4,-7.1832750796250035E-4,{"$f":"AF579","v":-1.0017606566564919E-4},-6.1815144229685121E-4,-4.4837295174016419E-2,-4.4837295174016419E-2,-4.4837295174016419E-2,"-",-4.9898344779265044E-4,-4.9898344779265044E-4,-4.9898344779265044E-4,"-",-3.4928841345485527E-4,-0.72571870653408521,157.00008145539411,1499.2403417673711,4.121250175015807,-2.9088820873213997E-4,2.9088820873213997E-4,{"$f":"FI_T-Rechentabelle!AL580","v":2.1587498249841932},{"$f":"K580","v":-1.9633131920215874E-7}]
[3.6187496036291122E-2,6.2499995692633092E-5,4.1114377975463867,157.00001525878906,0,null,0,null,null,null,null,null,"-",{"$f":"N580+(L582-L580)/2","v":-1.0624958279639122E-4},157.00008145539411,157.00001525878906,-1.7244618783252008E-4,-4.2919669511646945E-4,"-",-4.2919669511646945E-4,0,-4.2919669511646945E-4,-4.2919669511646945E-4,-4.9898344779265044E-4,6.9786752676180997E-5,3.5820965652266917E-3,3.5820965652266917E-3,3.5820965652266917E-3,"-",-4.5395973638866319E-4,-4.5395973638866319E-4,-4.5395973638866319E-4,"-",-3.1777181547206423E-4,-0.66023647511336836,157.00004019061441,1499.2399477177512,4.1310626775277202,-2.9088820873213997E-4,2.9088820873213997E-4,{"$f":"FI_T-Rechentabelle!AL581","v":2.1489373224722801},{"$f":"AP580","v":-1.9633131920215874E-7}]
[3.6249998956918716E-2,6.2499995692633092E-5,4.1212501525878906,157.00001525878906,0,null,0,null,{"$f":"C582","v":4.1212501525878906},{"$f":"AL580","v":4.121250175015807},{"$f":"I582-J582","v":-2.2427916412937066E-8},{"$f":"L580+KP_LR*(1+2*TA_SIM/TN_LR)*K582-KP_LR*K580","v":-8.6158000478938582E-6},"-",{"$f":"L582","v":-8.6158000478938582E-6},157.00004019061441,157.00001525878906,-3.3547625406527004E-5,-1.1568211128409016E-4,"-",-1.1568211128409016E-4,0,-1.1568211128409016E-4,-1.1568211128409016E-4,-4.5395973638866319E-4,3.3827762510457303E-4,2.3061330134912055E-2,2.3061330134912055E-2,2.3061330134912055E-2,"-",-2.3571610728893914E-4,-2.3571610728893914E-4,-2.3571610728893914E-4,"-",-1.650012751022574E-4,-0.34282417432424139,157.00001876410352,1499.2397431096438,4.1408751787004769,-2.9088820873213997E-4,2.9088820873213997E-4,{"$f":"FI_T-Rechentabelle!AL582","v":2.1391248212995233},{"$f":"K582","v":-2.2427916412937066E-8}]
[3.6312498152256012E-2,6.2499995692633092E-5,4.1310625076293945,157.00001525878906,0,null,0,null,null,null,null,null,"-",{"$f":"N582+(L584-L582)/2","v":1.0165871335254994E-4},157.00001876410352,157.00001525878906,9.8153398909062162E-5,2.1327049815917336E-4,"-",2.1327049815917336E-4,0,2.1327049815917336E-4,2.1327049815917336E-4,-2.3571610728893914E-4,4.489866054481125E-4,3.1672425758896963E-2,3.1672425758896963E-2,3.1672425758896963E-2,"-",5.3952670419520044E-5,5.3952670419520044E-5,5.3952670419520044E-5,"-",3.7766869293664027E-5,7.8468458952138012E-2,157.0000236683822,1499.2397899420553,4.1506876801797512,-2.9088820873213997E-4,2.9088820873213997E-4,{"$f":"FI_T-Rechentabelle!AL583","v":2.129312319820249},{"$f":"AP582","v":-2.2427916412937066E-8}]
[3.6374997347593307E-2,6.2499995692633092E-5,4.1408753395080566,157.00001525878906,0,null,0,null,{"$f":"C584","v":4.1408753395080566},{"$f":"AL582","v":4.1408751787004769},{"$f":"I584-J584","v":1.6080757969660908E-7},{"$f":"L582+KP_LR*(1+2*TA_SIM/TN_LR)*K584-KP_LR*K582","v":2.1193322675299375E-4},"-",{"$f":"L584","v":2.1193322675299375E-4},157.0000236683822,157.00001525878906,2.0352363361553216E-4,5.0692869460740677E-4,"-",5.0692869460740677E-4,0,5.0692869460740677E-4,5.0692869460740677E-4,5.3952670419520044E-5,4.5297602418788673E-4,3.2799960745369415E-2,3.2799960745369415E-2,3.2799960745369415E-2,"-",3.4619526666976899E-4,3.4619526666976899E-4,3.4619526666976899E-4,"-",2.4233668666883828E-4,0.50350443937011891,157.00005513740965,1499.2400904491319,4.1605001836258397,-2.9088820873213997E-4,2.9088820873213997E-4,{"$f":"FI_T-Rechentabelle!AL584","v":2.1194998163741605},{"$f":"K584","v":1.6080757969660908E-7}]
[3.6437496542930603E-2,6.2499995692633092E-5,4.1506876945495605,157.00001525878906,0,null,0,null,null,null,null,null,"-",{"$f":"N584+(L586-L584)/2","v":3.9496559922402988E-5},157.00005513740965,157.00001525878906,-3.8206064800760942E-7,3.458383061713977E-5,"-",3.458383061713977E-5,0,3.458383061713977E-5,3.458383061713977E-5,3.4619526666976899E-4,-3.1161143605262922E-4,-2.1452161086063327E-2,-2.1452161086063327E-2,-2.1452161086063327E-2,"-",1.4515563050678193E-4,1.4515563050678193E-4,1.4515563050678193E-4,"-",1.0160894135474735E-4,0.21111352868220931,157.00006833200518,1499.2402164482378,4.1703126878965904,-2.9088820873213997E-4,2.9088820873213997E-4,{"$f":"FI_T-Rechentabelle!AL585","v":2.1096873121034099},{"$f":"AP584","v":1.6080757969660908E-7}]
[3.6499995738267899E-2,6.2499995692633092E-5,4.1605000495910645,157.00001525878906,0,null,0,null,{"$f":"C586","v":4.1605000495910645},{"$f":"AL584","v":4.1605001836258397},{"$f":"I586-J586","v":-1.340347752787352E-7},{"$f":"L584+KP_LR*(1+2*TA_SIM/TN_LR)*K586-KP_LR*K584","v":-1.3294010690818777E-4},"-",{"$f":"L586","v":-1.3294010690818777E-4},157.00006833200518,157.00001525878906,-1.8601332303092022E-4,-4.4069243495945633E-4,"-",-4.4069243495945633E-4,0,-4.4069243495945633E-4,-4.4069243495945633E-4,1.4515563050678193E-4,-5.8584806546623826E-4,-4.1797906034484467E-2,-4.1797906034484467E-2,-4.1797906034484467E-2,"-",-2.3281086334240461E-4,-2.3281086334240461E-4,-2.3281086334240461E-4,"-",-1.6296760433968322E-4,-0.33859880394698361,157.00004716957994,1499.2400143619629,4.1801251908446888,-2.9088820873213997E-4,2.9088820873213997E-4,{"$f":"FI_T-Rechentabelle!AL586","v":2.0998748091553114},{"$f":"K586","v":-1.340347752787352E-7}]
[3.6562498658895493E-2,6.2499995692633092E-5,4.1703124046325684,157.00001525878906,0,null,0,null,null,null,null,null,"-",{"$f":"N586+(L588-L586)/2","v":-2.9288621020437448E-5},157.00004716957994,157.00001525878906,-6.1199411902634893E-5,-1.665396291476997E-4,"-",-1.665396291476997E-4,0,-1.665396291476997E-4,-1.665396291476997E-4,-2.3281086334240461E-4,6.6271234194704905E-5,4.1006529218221496E-3,4.1006529218221496E-3,4.1006529218221496E-3,"-",-1.900552283780794E-4,-1.900552283780794E-4,-1.900552283780794E-4,"-",-1.3303865986465557E-4,-0.27641525008239259,157.00002989362682,1499.2398493887624,4.1899376927130403,-2.9088820873213997E-4,2.9088820873213997E-4,{"$f":"FI_T-Rechentabelle!AL587","v":2.09006230728696},{"$f":"AP586","v":-1.340347752787352E-7}]
[3.6624997854232788E-2,6.2499995692633092E-5,4.1801252365112305,157.00001525878906,0,null,0,null,{"$f":"C588","v":4.1801252365112305},{"$f":"AL586","v":4.1801251908446888},{"$f":"I588-J588","v":4.5666541659272752E-8},{"$f":"L586+KP_LR*(1+2*TA_SIM/TN_LR)*K588-KP_LR*K586","v":7.4362864867312889E-5},"-",{"$f":"L588","v":7.4362864867312889E-5},157.00002989362682,157.00001525878906,5.9728027110850235E-5,1.2809320990408361E-4,"-",1.2809320990408361E-4,0,1.2809320990408361E-4,1.2809320990408361E-4,-1.900552283780794E-4,3.1814843828216303E-4,2.2376053099714872E-2,2.2376053099714872E-2,2.2376053099714872E-2,"-",1.5201828578154273E-5,1.5201828578154273E-5,1.5201828578154273E-5,"-",1.0641280004707992E-5,2.2109453573047975E-2,157.00003127546768,1499.2398625843707,4.1997501946677573,-2.9088820873213997E-4,2.9088820873213997E-4,{"$f":"FI_T-Rechentabelle!AL588","v":2.0802498053322429},{"$f":"K588","v":4.5666541659272752E-8}]
[3.6687497049570084E-2,6.2499995692633092E-5,4.1899375915527344,157.00001525878906,0,null,0,null,null,null,null,null,"-",{"$f":"N588+(L590-L588)/2","v":-1.0202556539775703E-4},157.00003127546768,157.00001525878906,-1.1804224402567343E-4,-3.1240591476517786E-4,"-",-3.1240591476517786E-4,0,-3.1240591476517786E-4,-3.1240591476517786E-4,1.5201828578154273E-5,-3.2760774334333214E-4,-2.3564808201284829E-2,-2.3564808201284829E-2,-2.3564808201284829E-2,"-",-1.961580058368992E-4,-1.961580058368992E-4,-1.961580058368992E-4,"-",-1.3731060408582943E-4,-0.28529109512950218,157.00001344477423,1499.2396923137908,4.2095626955080556,-2.9088820873213997E-4,2.9088820873213997E-4,{"$f":"FI_T-Rechentabelle!AL589","v":2.0704373044919446},{"$f":"AP588","v":4.5666541659272752E-8}]
[3.6749996244907379E-2,6.2499995692633092E-5,4.1997499465942383,157.00001525878906,0,null,0,null,{"$f":"C590","v":4.1997499465942383},{"$f":"AL588","v":4.1997501946677573},{"$f":"I590-J590","v":-2.4807351906019903E-7},{"$f":"L588+KP_LR*(1+2*TA_SIM/TN_LR)*K590-KP_LR*K588","v":-2.7841399566282696E-4},"-",{"$f":"L590","v":-2.7841399566282696E-4},157.00001344477423,157.00001525878906,-2.7659998082185666E-4,-7.4706344124728173E-4,"-",-7.4706344124728173E-4,0,-7.4706344124728173E-4,-7.4706344124728173E-4,-1.961580058368992E-4,-5.5090543541038252E-4,-4.0269591852630113E-2,-4.0269591852630113E-2,-4.0269591852630113E-2,"-",-5.5158086739198514E-4,-5.5158086739198514E-4,-5.5158086739198514E-4,"-",-3.8610660717438959E-4,-0.80221609635235724,156.9999633062682,1499.2392135263262,4.219375193214697,-2.9088820873213997E-4,2.9088820873213997E-4,{"$f":"FI_T-Rechentabelle!AL590","v":2.0606248067853032},{"$f":"K590","v":-2.4807351906019903E-7}]
[3.6812499165534973E-2,6.2499995692633092E-5,4.2095627784729004,157.00001525878906,0,null,0,null,null,null,null,null,"-",{"$f":"N590+(L592-L590)/2","v":-1.7407732341526499E-4},156.9999633062682,157.00001525878906,-1.2212480254447655E-4,-4.1906741044678189E-4,"-",-4.1906741044678189E-4,0,-4.1906741044678189E-4,-4.1906741044678189E-4,-5.5158086739198514E-4,1.3251345694520326E-4,7.9499336399046078E-3,7.9499336399046078E-3,7.9499336399046078E-3,"-",-4.6608831452411262E-4,-4.6608831452411262E-4,-4.6608831452411262E-4,"-",-3.262618201668788E-4,-0.67787621061059378,156.99992093900502,1499.2388089487647,4.2291876882733845,-2.9088820873213997E-4,2.9088820873213997E-4,{"$f":"FI_T-Rechentabelle!AL591","v":2.0508123117266157},{"$f":"AP590","v":-2.4807351906019903E-7}]
[3.6874998360872269E-2,6.2499995692633092E-5,4.2193751335144043,157.00001525878906,0,null,0,null,{"$f":"C592","v":4.2193751335144043},{"$f":"AL590","v":4.219375193214697},{"$f":"I592-J592","v":-5.9700292709408131E-8},{"$f":"L590+KP_LR*(1+2*TA_SIM/TN_LR)*K592-KP_LR*K590","v":-6.9740651167703031E-5},"-",{"$f":"L592","v":-6.9740651167703031E-5},156.99992093900502,157.00001525878906,2.4579132883673083E-5,-7.3304472164580873E-5,"-",-7.3304472164580873E-5,0,-7.3304472164580873E-5,-7.3304472164580873E-5,-4.6608831452411262E-4,3.9278384235953175E-4,2.6954121430821758E-2,2.6954121430821758E-2,2.6954121430821758E-2,"-",-2.1267938396957645E-4,-2.1267938396957645E-4,-2.1267938396957645E-4,"-",-1.488755687787035E-4,-0.30931969411739763,156.99990160652413,1499.2386243371711,4.2390001821237924,-2.9088820873213997E-4,2.9088820873213997E-4,{"$f":"FI_T-Rechentabelle!AL592","v":2.0409998178762079},{"$f":"K592","v":-5.9700292709408131E-8}]
[3.6937497556209564E-2,6.2499995692633092E-5,4.2291874885559082,157.00001525878906,0,null,0,null,null,null,null,null,"-",{"$f":"N592+(L594-L592)/2","v":4.8002927733697623E-5},156.99990160652413,157.00001525878906,1.616551926701959E-4,2.835781509981641E-4,"-",2.835781509981641E-4,0,2.835781509981641E-4,2.835781509981641E-4,-2.1267938396957645E-4,4.9625753496774052E-4,3.5145788919324704E-2,3.5145788919324704E-2,3.5145788919324704E-2,"-",1.0748676762251374E-4,1.0748676762251374E-4,1.0748676762251374E-4,"-",7.5240737335759605E-5,0.1563281473836684,156.99991137703336,1499.2387176386612,4.2488126765848566,-2.9088820873213997E-4,2.9088820873213997E-4,{"$f":"FI_T-Rechentabelle!AL593","v":2.0311873234151436},{"$f":"AP592","v":-5.9700292709408131E-8}]
[3.699999675154686E-2,6.2499995692633092E-5,4.2390003204345703,157.00001525878906,0,null,0,null,{"$f":"C594","v":4.2390003204345703},{"$f":"AL592","v":4.2390001821237924},{"$f":"I594-J594","v":1.3831077794179691E-7},{"$f":"L592+KP_LR*(1+2*TA_SIM/TN_LR)*K594-KP_LR*K592","v":1.6574650663509828E-4},"-",{"$f":"L594","v":1.6574650663509828E-4},156.99991137703336,157.00001525878906,2.6962826234466775E-4,5.9938041343365271E-4,"-",5.9938041343365271E-4,0,5.9938041343365271E-4,5.9938041343365271E-4,1.0748676762251374E-4,4.9189364581113892E-4,3.5759789198430543E-2,3.5759789198430543E-2,3.5759789198430543E-2,"-",4.2483750685550615E-4,4.2483750685550615E-4,4.2483750685550615E-4,"-",2.9738625479885429E-4,0.61788126906057395,156.99994999461268,1499.2390864093798,4.25862517345952,-2.9088820873213997E-4,2.9088820873213997E-4,{"$f":"FI_T-Rechentabelle!AL594","v":2.0213748265404803},{"$f":"K594","v":1.3831077794179691E-7}]
[3.7062495946884155E-2,6.2499995692633092E-5,4.2488126754760742,157.00001525878906,0,null,0,null,null,null,null,null,"-",{"$f":"N594+(L596-L594)/2","v":6.5229717223941894E-7},156.99994999461268,157.00001525878906,6.5916473545257759E-5,1.436477349755779E-4,"-",1.436477349755779E-4,0,1.436477349755779E-4,1.436477349755779E-4,4.2483750685550615E-4,-2.8118977187992824E-4,{"$f":"Z594+KP_SR*(1+TA_SIM/TN_SR)*Y595-KP_SR*Y594","v":-1.9031776081079064E-2},-1.9031776081079064E-2,-1.9031776081079064E-2,"-",2.434247508039391E-4,2.434247508039391E-4,2.434247508039391E-4,"-",1.7039732556275736E-4,0.35403558188813078,{"$f":"AJ594+AI595*TA_SIM","v":156.99997212183655},1499.239297708803,{"$f":"AL594+AJ595*TA_SIM","v":4.2684376717171348},-2.9088820873213997E-4,2.9088820873213997E-4,{"$f":"FI_T-Rechentabelle!AL595","v":2.0115623282828654},{"$f":"AP594","v":1.3831077794179691E-7}]
[3.7124998867511749E-2,6.2499995692633092E-5,4.2586250305175781,157.00001525878906,0,null,0,null,{"$f":"C596","v":4.2586250305175781},{"$f":"AL594","v":4.25862517345952},{"$f":"I596-J596","v":-1.4294194183861464E-7},{"$f":"L594+KP_LR*(1+2*TA_SIM/TN_LR)*K596-KP_LR*K594","v":-1.6444191229061941E-4},"-",{"$f":"L596","v":-1.6444191229061941E-4},156.99997212183655,157.00001525878906,-1.2130495977658029E-4,-3.1953599164518147E-4,"-",-3.1953599164518147E-4,0,-3.1953599164518147E-4,-3.1953599164518147E-4,2.434247508039391E-4,-5.6296074244912057E-4,-3.9863561726905236E-2,-3.9863561726905236E-2,-3.9863561726905236E-2,"-",-1.1977572819549381E-4,-1.1977572819549381E-4,-1.1977572819549381E-4,"-",-8.3843009736845665E-5,-0.17420114219165939,156.99996123426516,1499.2391937401546,4.2782501692942763,-2.9088820873213997E-4,2.9088820873213997E-4,{"$f":"FI_T-Rechentabelle!AL596","v":2.001749830705724},{"$f":"K596","v":-1.4294194183861464E-7}]
[3.7187498062849045E-2,6.2499995692633092E-5,4.2684378623962402,157.00001525878906,0,null,0,null,null,null,null,null,"-",{"$f":"N596+(L598-L596)/2","v":-5.4240792510001332E-5},156.99996123426516,157.00001525878906,-2.1626860302603745E-7,-3.9143665815652125E-5,"-",-3.9143665815652125E-5,0,-3.9143665815652125E-5,-3.9143665815652125E-5,-1.1977572819549381E-4,8.0632062379841686E-5,5.4633609481222686E-3,5.4633609481222686E-3,5.4633609481222686E-3,"-",-6.7755042789144641E-5,-6.7755042789144641E-5,-6.7755042789144641E-5,"-",-4.7428529952401245E-5,-9.8542551324332511E-2,156.9999550753557,1499.2391349269017,4.2880626664864856,-2.9088820873213997E-4,2.9088820873213997E-4,{"$f":"FI_T-Rechentabelle!AL597","v":1.9919373335135147},{"$f":"AP596","v":-1.4294194183861464E-7}]
[3.724999725818634E-2,6.2499995692633092E-5,4.2782502174377441,157.00001525878906,0,null,0,null,{"$f":"C598","v":4.2782502174377441},{"$f":"AL596","v":4.2782501692942763},{"$f":"I598-J598","v":4.814346787895829E-8},{"$f":"L596+KP_LR*(1+2*TA_SIM/TN_LR)*K598-KP_LR*K596","v":5.5960327270616734E-5},"-",{"$f":"L598","v":5.5960327270616734E-5},156.9999550753557,157.00001525878906,1.1614376063562304E-4,2.5866465541686805E-4,"-",2.5866465541686805E-4,0,2.5866465541686805E-4,2.5866465541686805E-4,-6.7755042789144641E-5,3.2641969820601269E-4,2.332678798211249E-2,2.332678798211249E-2,2.332678798211249E-2,"-",1.4283831089215355E-4,1.4283831089215355E-4,1.4283831089215355E-4,"-",9.9986817624507474E-5,0.20774323213070323,156.99996805930772,1499.2392589145104,4.2978751644901925,-2.9088820873213997E-4,2.9088820873213997E-4,{"$f":"FI_T-Rechentabelle!AL598","v":1.9821248355098078},{"$f":"K598","v":4.814346787895829E-8}]
[3.7312496453523636E-2,6.2499995692633092E-5,4.288062572479248,157.00001525878906,0,null,0,null,null,null,null,null,"-",{"$f":"N598+(L600-L598)/2","v":-1.1509434993769691E-4},156.99996805930772,157.00001525878906,-6.7894868607254466E-5,-1.8412661413183084E-4,"-",-1.8412661413183084E-4,0,-1.8412661413183084E-4,-1.8412661413183084E-4,1.4283831089215355E-4,-3.2696492502398439E-4,-2.314833801143153E-2,-2.314833801143153E-2,-2.314833801143153E-2,"-",-6.8106802026546333E-5,-6.8106802026546333E-5,-6.8106802026546333E-5,"-",-4.7674761418582432E-5,-9.905414797129114E-2,156.99996186842347,1499.2391997959205,4.3076876621069689,-2.9088820873213997E-4,2.9088820873213997E-4,{"$f":"FI_T-Rechentabelle!AL599","v":1.9723123378930314},{"$f":"AP598","v":4.814346787895829E-8}]
[3.7374995648860931E-2,6.2499995692633092E-5,4.297874927520752,157.00001525878906,0,null,0,null,{"$f":"C600","v":4.297874927520752},{"$f":"AL598","v":4.2978751644901925},{"$f":"I600-J600","v":-2.3696944051465607E-7},{"$f":"L598+KP_LR*(1+2*TA_SIM/TN_LR)*K600-KP_LR*K598","v":-2.8614902714601056E-4},"-",{"$f":"L600","v":-2.8614902714601056E-4},156.99996186842347,157.00001525878906,-2.3275866155358926E-4,-6.227009653702229E-4,"-",-6.227009653702229E-4,0,-6.227009653702229E-4,-6.227009653702229E-4,-6.8106802026546333E-5,-5.5459416334367653E-4,-4.0164069755224546E-2,-4.0164069755224546E-2,-4.0164069755224546E-2,"-",-4.2590948805472498E-4,-4.2590948805472498E-4,-4.2590948805472498E-4,"-",-2.9813664163830749E-4,-0.61944035245856521,156.99992315340145,1499.238830094693,4.3175001573040568,-2.9088820873213997E-4,2.9088820873213997E-4,{"$f":"FI_T-Rechentabelle!AL600","v":1.9624998426959435},{"$f":"K600","v":-2.3696944051465607E-7}]
[3.7437498569488525E-2,6.2499995692633092E-5,4.3076877593994141,157.00001525878906,0,null,0,null,null,null,null,null,"-",{"$f":"N600+(L602-L600)/2","v":-1.7788832236663207E-4},156.99992315340145,157.00001525878906,-8.5782934746703177E-5,-3.0321400984825795E-4,"-",-3.0321400984825795E-4,0,-3.0321400984825795E-4,-3.0321400984825795E-4,-4.2590948805472498E-4,1.2269547820646702E-4,7.6068527528105334E-3,7.6068527528105334E-3,7.6068527528105334E-3,"-",-3.4675111501829492E-4,-3.4675111501829492E-4,-3.4675111501829492E-4,"-",-2.4272578051280644E-4,-0.5043128620669155,156.99989163384757,{"$f":"AJ601/(2*PI())*60","v":1499.2385291051248},4.3273126505311721,-2.9088820873213997E-4,2.9088820873213997E-4,{"$f":"FI_T-Rechentabelle!AL601","v":1.9526873494688282},{"$f":"AP600","v":-2.3696944051465607E-7}]
[3.7499997764825821E-2,6.2499995692633092E-5,4.317500114440918,157.00001525878906,0,null,0,null,{"$f":"C602","v":4.317500114440918},{"$f":"AL600","v":4.3175001573040568},{"$f":"I602-J602","v":-4.2863138816073842E-8},{"$f":"L600+KP_LR*(1+2*TA_SIM/TN_LR)*K602-KP_LR*K600","v":-6.9627617587253584E-5},"-",{"$f":"L602","v":-6.9627617587253584E-5},156.99989163384757,157.00001525878906,5.3997323902876815E-5,3.3685423221590003E-5,"-",3.3685423221590003E-5,0,3.3685423221590003E-5,3.3685423221590003E-5,-3.4675111501829492E-4,3.804365382398849E-4,2.6410396812508299E-2,2.6410396812508299E-2,2.6410396812508299E-2,"-",-1.0130818712159522E-4,-1.0130818712159522E-4,-1.0130818712159522E-4,"-",-7.0915730985116656E-5,-0.14734205482052079,156.99988242496914,1499.2384411668133,4.3371251431827327,-2.9088820873213997E-4,2.9088820873213997E-4,{"$f":"FI_T-Rechentabelle!AL602","v":1.9428748568172676},{"$f":"K602","v":-4.2863138816073842E-8}]
[3.7562496960163116E-2,6.2499995692633092E-5,4.3273124694824219,157.00001525878906,0,null,0,null,null,null,null,null,"-",{"$f":"N602+(L604-L602)/2","v":5.0630276285725155E-5},156.99988242496914,157.00001525878906,1.8346409621017301E-4,3.7826155789016431E-4,"-",3.7826155789016431E-4,0,3.7826155789016431E-4,3.7826155789016431E-4,-1.0130818712159522E-4,4.7956974501175953E-4,3.4266167881743179E-2,3.4266167881743179E-2,3.4266167881743179E-2,"-",2.0809164836986229E-4,2.0809164836986229E-4,2.0809164836986229E-4,"-",1.4566415385890358E-4,0.30264731738812295,156.99990134042648,1499.2386217961255,4.3469376370165094,-2.9088820873213997E-4,2.9088820873213997E-4,{"$f":"FI_T-Rechentabelle!AL603","v":1.9330623629834909},{"$f":"AP602","v":-4.2863138816073842E-8}]
[3.7624996155500412E-2,6.2499995692633092E-5,4.337125301361084,157.00001525878906,0,null,0,null,{"$f":"C604","v":4.337125301361084},{"$f":"AL602","v":4.3371251431827327},{"$f":"I604-J604","v":1.5817835130604863E-7},{"$f":"L602+KP_LR*(1+2*TA_SIM/TN_LR)*K604-KP_LR*K602","v":1.7088817015870389E-4},"-",{"$f":"L604","v":1.7088817015870389E-4},156.99990134042648,157.00001525878906,2.8480653273277312E-4,6.8240742512924138E-4,"-",6.8240742512924138E-4,0,6.8240742512924138E-4,6.8240742512924138E-4,2.0809164836986229E-4,4.743157767593791E-4,3.4784802724803311E-2,3.4784802724803311E-2,3.4784802724803311E-2,"-",5.1410182692430018E-4,5.1410182692430018E-4,5.1410182692430018E-4,"-",3.598712788470101E-4,0.74770679170373999,156.99994807210095,1499.2390680507451,4.3567501337710155,-2.9088820873213997E-4,2.9088820873213997E-4,{"$f":"FI_T-Rechentabelle!AL604","v":1.9232498662289848},{"$f":"K604","v":1.5817835130604863E-7}]
[3.7687499076128006E-2,6.2499995692633092E-5,4.3469376564025879,157.00001525878906,0,null,0,null,null,null,null,null,"-",{"$f":"N604+(L606-L604)/2","v":7.0447350313498816E-6},156.99994807210095,157.00001525878906,7.4231423155879384E-5,2.128062128476803E-4,"-",2.128062128476803E-4,0,2.128062128476803E-4,2.128062128476803E-4,5.1410182692430018E-4,-3.0129561407661988E-4,-2.0221827342150802E-2,-2.0221827342150802E-2,-2.0221827342150802E-2,"-",3.1971755977809363E-4,3.1971755977809363E-4,3.1971755977809363E-4,"-",2.2380229184466554E-4,0.46499541210194373,156.99997713431421,1499.2393455744389,4.3665626323419104,-2.9088820873213997E-4,2.9088820873213997E-4,{"$f":"FI_T-Rechentabelle!AL605","v":1.9134373676580898},{"$f":"AP604","v":1.5817835130604863E-7}]
[3.7749998271465302E-2,6.2499995692633092E-5,4.3567500114440918,157.00001525878906,0,null,0,null,{"$f":"C606","v":4.3567500114440918},{"$f":"AL604","v":4.3567501337710155},{"$f":"I606-J606","v":-1.2232692370162113E-7},{"$f":"L604+KP_LR*(1+2*TA_SIM/TN_LR)*K606-KP_LR*K604","v":-1.567987000960041E-4},"-",{"$f":"L606","v":-1.567987000960041E-4},156.99997713431421,157.00001525878906,-1.1867422523437199E-4,-2.6290097310750944E-4,"-",-2.6290097310750944E-4,0,-2.6290097310750944E-4,-2.6290097310750944E-4,3.1971755977809363E-4,-5.8261853288560307E-4,-4.1058941736851207E-2,-4.1058941736851207E-2,-4.1058941736851207E-2,"-",-5.6165364664231146E-5,-5.6165364664231146E-5,-5.6165364664231146E-5,"-",-3.9315755264961797E-5,-8.1686588956912096E-2,156.99997202890239,1499.2392968213474,4.3763751305937166,-2.9088820873213997E-4,2.9088820873213997E-4,{"$f":"FI_T-Rechentabelle!AL606","v":1.9036248694062836},{"$f":"K606","v":-1.2232692370162113E-7}]
[3.7812497466802597E-2,6.2499995692633092E-5,4.3665628433227539,157.00001525878906,0,null,0,null,null,null,null,null,"-",{"$f":"N606+(L608-L606)/2","v":-4.6369724888923602E-5},156.99997202890239,157.00001525878906,-3.1398382134284475E-6,3.9146725057691073E-6,"-",3.9146725057691073E-6,0,3.9146725057691073E-6,3.9146725057691073E-6,-5.6165364664231146E-5,6.0080037170000253E-5,4.1667592501440434E-3,4.1667592501440434E-3,4.1667592501440434E-3,"-",-1.740405036100541E-5,-1.740405036100541E-5,-1.740405036100541E-5,"-",-1.2182835252703786E-5,-2.5312352488476596E-2,156.99997044688035,1499.2392817141495,4.3861876287466464,-2.9088820873213997E-4,2.9088820873213997E-4,{"$f":"FI_T-Rechentabelle!AL607","v":1.8938123712533539},{"$f":"AP606","v":-1.2232692370162113E-7}]
[3.7874996662139893E-2,6.2499995692633092E-5,4.3763751983642578,157.00001525878906,0,null,0,null,{"$f":"C608","v":4.3763751983642578},{"$f":"AL606","v":4.3763751305937166},{"$f":"I608-J608","v":6.7770541178902022E-8},{"$f":"L606+KP_LR*(1+2*TA_SIM/TN_LR)*K608-KP_LR*K606","v":6.40592503181569E-5},"-",{"$f":"L608","v":6.40592503181569E-5},156.99997044688035,157.00001525878906,1.0887115902846745E-4,2.8987749809406118E-4,"-",2.8987749809406118E-4,0,2.8987749809406118E-4,2.8987749809406118E-4,-1.740405036100541E-5,3.0728154845506659E-4,2.2093624358747212E-2,2.2093624358747212E-2,2.2093624358747212E-2,"-",1.8084210993258573E-4,1.8084210993258573E-4,1.8084210993258573E-4,"-",1.2658947695281001E-4,0.26301574268192396,156.99998688536428,1499.2394386901078,4.3960001279269818,-2.9088820873213997E-4,2.9088820873213997E-4,{"$f":"FI_T-Rechentabelle!AL608","v":1.8839998720730184},{"$f":"K608","v":6.7770541178902022E-8}]
[3.7937495857477188E-2,6.2499995692633092E-5,4.3861875534057617,157.00001525878906,0,null,0,null,null,null,null,null,"-",{"$f":"N608+(L610-L608)/2","v":-1.0750459561460266E-4},156.99998688536428,157.00001525878906,-7.9131170821256092E-5,-1.6483314904403175E-4,"-",-1.6483314904403175E-4,0,-1.6483314904403175E-4,-1.6483314904403175E-4,1.8084210993258573E-4,-3.4567525897661748E-4,-2.438647815712338E-2,-2.438647815712338E-2,-2.438647815712338E-2,"-",-4.2174186181361248E-5,-4.2174186181361248E-5,-4.2174186181361248E-5,"-",-2.9521930326952873E-5,-6.1337898040625116E-2,156.99998305174566,1499.2394020817467,4.405812626867716,-2.9088820873213997E-4,2.9088820873213997E-4,{"$f":"FI_T-Rechentabelle!AL609","v":1.8741873731322842},{"$f":"AP608","v":6.7770541178902022E-8}]
[3.7999998778104782E-2,6.2499995692633092E-5,4.3959999084472656,157.00001525878906,0,null,0,null,{"$f":"C610","v":4.3959999084472656},{"$f":"AL608","v":4.3960001279269818},{"$f":"I610-J610","v":-2.1947971617919393E-7},{"$f":"L608+KP_LR*(1+2*TA_SIM/TN_LR)*K610-KP_LR*K608","v":-2.7906844154736225E-4},"-",{"$f":"L610","v":-2.7906844154736225E-4},156.99998305174566,157.00001525878906,-2.4686139815344177E-4,-6.1348439190836673E-4,"-",-6.1348439190836673E-4,0,-6.1348439190836673E-4,-6.1348439190836673E-4,-4.2174186181361248E-5,-5.7131020572700553E-4,-4.1293498675220502E-2,-4.1293498675220502E-2,-4.1293498675220502E-2,"-",-4.1076141568265539E-4,-4.1076141568265539E-4,-4.1076141568265539E-4,"-",-2.8753299097785876E-4,-0.59740908160785111,156.99994571367804,1499.2390455294653,4.4156251234748209,-2.9088820873213997E-4,2.9088820873213997E-4,{"$f":"FI_T-Rechentabelle!AL610","v":1.8643748765251793},{"$f":"K610","v":-2.1947971617919393E-7}]
[3.8062497973442078E-2,6.2499995692633092E-5,4.4058127403259277,157.00001525878906,0,null,0,null,null,null,null,null,"-",{"$f":"N610+(L612-L610)/2","v":-1.7176466737245469E-4},156.99994571367804,157.00001525878906,-1.0221955636779967E-4,-3.0340991165699613E-4,"-",-3.0340991165699613E-4,0,-3.0340991165699613E-4,-3.0340991165699613E-4,-4.1076141568265539E-4,1.0735150402565926E-4,6.5450260878532618E-3,6.5450260878532618E-3,6.5450260878532618E-3,"-",-3.4150238082739163E-4,-3.4150238082739163E-4,-3.4150238082739163E-4,"-",-2.3905166657917413E-4,-0.49667913272215686,156.99991467123226,1499.2387490959438,4.4254376181417729,-2.9088820873213997E-4,2.9088820873213997E-4,{"$f":"FI_T-Rechentabelle!AL611","v":1.8545623818582273},{"$f":"AP610","v":-2.1947971617919393E-7}]
[3.8124997168779373E-2,6.2499995692633092E-5,4.4156250953674316,157.00001525878906,0,null,0,null,{"$f":"C612","v":4.4156250953674316},{"$f":"AL610","v":4.4156251234748209},{"$f":"I612-J612","v":-2.8107389304921071E-8},{"$f":"L610+KP_LR*(1+2*TA_SIM/TN_LR)*K612-KP_LR*K610","v":-6.4460893197547137E-5},"-",{"$f":"L612","v":-6.4460893197547137E-5},156.99991467123226,157.00001525878906,3.6126663616187216E-5,2.5811509293572498E-5,"-",2.5811509293572498E-5,0,2.5811509293572498E-5,2.5811509293572498E-5,-3.4150238082739163E-4,3.673138901209641E-4,2.5479940854640337E-2,2.5479940854640337E-2,2.5479940854640337E-2,"-",-1.0452567752354403E-4,-1.0452567752354403E-4,-1.0452567752354403E-4,"-",-7.3167974266480818E-5,-0.15202155467791567,156.9999051698851,1499.2386583647617,4.4352501122148906,-2.9088820873213997E-4,2.9088820873213997E-4,{"$f":"FI_T-Rechentabelle!AL612","v":1.8447498877851096},{"$f":"K612","v":-2.8107389304921071E-8}]
[3.8187496364116669E-2,6.2499995692633092E-5,4.4254374504089355,157.00001525878906,0,null,0,null,null,null,null,null,"-",{"$f":"N612+(L614-L612)/2","v":5.4653047921242814E-5},156.9999051698851,157.00001525878906,1.6474195189175589E-4,3.6385126035575898E-4,"-",3.6385126035575898E-4,0,3.6385126035575898E-4,3.6385126035575898E-4,-1.0452567752354403E-4,4.6837693787930303E-4,3.3450232929451471E-2,3.3450232929451471E-2,3.3450232929451471E-2,"-",1.9765299207600607E-4,1.9765299207600607E-4,1.9765299207600607E-4,"-",1.3835709445320424E-4,0.28746539466695248,156.99992313647226,1499.2388299330312,4.4450626074109199,-2.9088820873213997E-4,2.9088820873213997E-4,{"$f":"FI_T-Rechentabelle!AL613","v":1.8349373925890804},{"$f":"AP612","v":-2.8107389304921071E-8}]
[3.8249995559453964E-2,6.2499995692633092E-5,4.4352502822875977,157.00001525878906,0,null,0,null,{"$f":"C614","v":4.4352502822875977},{"$f":"AL612","v":4.4352501122148906},{"$f":"I614-J614","v":1.7007270702862343E-7},{"$f":"L612+KP_LR*(1+2*TA_SIM/TN_LR)*K614-KP_LR*K612","v":1.7376698904003276E-4},"-",{"$f":"L614","v":1.7376698904003276E-4},156.99992313647226,157.00001525878906,2.6588930583670844E-4,6.6293342980097063E-4,"-",6.6293342980097063E-4,0,6.6293342980097063E-4,6.6293342980097063E-4,1.9765299207600607E-4,4.6528043772496456E-4,3.4103403285974304E-2,3.4103403285974304E-2,3.4103403285974304E-2,"-",4.9783391964049921E-4,4.9783391964049921E-4,4.9783391964049921E-4,"-",3.4848374374834944E-4,0.724046839285995,156.99996838939973,1499.2392620666569,4.4548751054352573,-2.9088820873213997E-4,2.9088820873213997E-4,{"$f":"FI_T-Rechentabelle!AL614","v":1.8251248945647429},{"$f":"K614","v":1.7007270702862343E-7}]
[3.8312498480081558E-2,6.2499995692633092E-5,4.4450626373291016,157.00001525878906,0,null,0,null,null,null,null,null,"-",{"$f":"N614+(L616-L614)/2","v":8.8039039717302515E-6},156.99996838939973,157.00001525878906,5.5673293303470928E-5,1.8963956161164718E-4,"-",1.8963956161164718E-4,0,1.8963956161164718E-4,1.8963956161164718E-4,4.9783391964049921E-4,-3.0819435802885203E-4,-2.0766158918089511E-2,-2.0766158918089511E-2,-2.0766158918089511E-2,"-",2.9899884994446553E-4,2.9899884994446553E-4,2.9899884994446553E-4,"-",2.0929919496112586E-4,0.43486223760882159,156.99999556828956,1499.2395216059367,4.4646876051582751,-2.9088820873213997E-4,2.9088820873213997E-4,{"$f":"FI_T-Rechentabelle!AL615","v":1.8153123948417251},{"$f":"AP614","v":1.7007270702862343E-7}]
[3.8374997675418854E-2,6.2499995692633092E-5,4.4548749923706055,157.00001525878906,0,null,0,null,{"$f":"C616","v":4.4548749923706055},{"$f":"AL614","v":4.4548751054352573},{"$f":"I616-J616","v":-1.1306465186322612E-7},{"$f":"L614+KP_LR*(1+2*TA_SIM/TN_LR)*K616-KP_LR*K614","v":-1.5615918109657226E-4},"-",{"$f":"L616","v":-1.5615918109657226E-4},156.99999556828956,157.00001525878906,-1.3646868160321901E-4,-2.8863709107450331E-4,"-",-2.8863709107450331E-4,0,-2.8863709107450331E-4,-2.8863709107450331E-4,2.9899884994446553E-4,-5.8763594101896889E-4,-4.1480603084721596E-2,-4.1480603084721596E-2,-4.1480603084721596E-2,"-",-8.0121112003256456E-5,-8.0121112003256456E-5,-8.0121112003256456E-5,"-",-5.6084778402279516E-5,-0.11652769250421673,156.99998828530877,1499.2394520585931,4.4745001044261068,-2.9088820873213997E-4,2.9088820873213997E-4,{"$f":"FI_T-Rechentabelle!AL616","v":1.8054998955738935},{"$f":"K616","v":-1.1306465186322612E-7}]
[3.8437496870756149E-2,6.2499995692633092E-5,4.4646878242492676,157.00001525878906,0,null,0,null,null,null,null,null,"-",{"$f":"N616+(L618-L616)/2","v":-4.6673996409507995E-5},156.99998828530877,157.00001525878906,-1.9700516133980273E-5,-2.3001348850906907E-5,"-",-2.3001348850906907E-5,0,-2.3001348850906907E-5,-2.3001348850906907E-5,-8.0121112003256456E-5,5.7119763152349548E-5,3.8839568681695372E-3,3.8839568681695372E-3,3.8839568681695372E-3,"-",-4.3269651904966548E-5,-4.3269651904966548E-5,-4.3269651904966548E-5,"-",-3.028875633347658E-5,-6.2931137198164511E-2,156.9999843521127,1499.2394144993373,4.4843126034481138,-2.9088820873213997E-4,2.9088820873213997E-4,{"$f":"FI_T-Rechentabelle!AL617","v":1.7956873965518865},{"$f":"AP616","v":-1.1306465186322612E-7}]
[3.8499996066093445E-2,6.2499995692633092E-5,4.4745001792907715,157.00001525878906,0,null,0,null,{"$f":"C618","v":4.4745001792907715},{"$f":"AL616","v":4.4745001044261068},{"$f":"I618-J618","v":7.48646646897555E-8},{"$f":"L616+KP_LR*(1+2*TA_SIM/TN_LR)*K618-KP_LR*K616","v":6.2811188277556257E-5},"-",{"$f":"L618","v":6.2811188277556257E-5},156.9999843521127,157.00001525878906,9.371786464384968E-5,2.6252675769888531E-4,"-",2.6252675769888531E-4,0,2.6252675769888531E-4,2.6252675769888531E-4,-4.3269651904966548E-5,3.0579640960385186E-4,2.191158830157252E-2,2.191158830157252E-2,2.191158830157252E-2,"-",1.5401835429106677E-4,1.5401835429106677E-4,1.5401835429106677E-4,"-",1.0781284800374674E-4,0.22400342406762253,156.99999835232671,1499.2395481915332,4.4941251033451346,-2.9088820873213997E-4,2.9088820873213997E-4,{"$f":"FI_T-Rechentabelle!AL618","v":1.7858748966548657},{"$f":"K618","v":7.48646646897555E-8}]
[3.8562498986721039E-2,6.2499995692633092E-5,4.4843125343322754,157.00001525878906,0,null,0,null,null,null,null,null,"-",{"$f":"N618+(L620-L618)/2","v":1.7988146949949116E-4},156.99999835232671,157.00001525878906,1.9678793185562427E-4,5.4921558254054557E-4,"-",5.4921558254054557E-4,0,5.4921558254054557E-4,5.4921558254054557E-4,1.5401835429106677E-4,3.951972282494788E-4,2.8926350256777481E-2,2.8926350256777481E-2,2.8926350256777481E-2,"-",4.0898430800040777E-4,4.0898430800040777E-4,4.0898430800040777E-4,"-",2.862890156002854E-4,0.594824466237867,157.00003552885585,1499.2399032012358,4.5039376055656879,-2.9088820873213997E-4,2.9088820873213997E-4,{"$f":"FI_T-Rechentabelle!AL619","v":1.7760623944343124},{"$f":"AP618","v":7.48646646897555E-8}]
[3.8624998182058334E-2,6.2499995692633092E-5,4.4941253662109375,157.00001525878906,0,null,0,null,{"$f":"C620","v":4.4941253662109375},{"$f":"AL618","v":4.4941251033451346},{"$f":"I620-J620","v":2.6286580290246775E-7},{"$f":"L618+KP_LR*(1+2*TA_SIM/TN_LR)*K620-KP_LR*K618","v":2.969517507214261E-4},"-",{"$f":"L620","v":2.969517507214261E-4},157.00003552885585,157.00001525878906,2.7668168394257009E-4,8.0170487322138201E-4,"-",8.0170487322138201E-4,0,8.0170487322138201E-4,8.0170487322138201E-4,4.0898430800040777E-4,3.9272056522097424E-4,2.948727199977073E-2,2.948727199977073E-2,2.948727199977073E-2,"-",6.6235241459458452E-4,6.6235241459458452E-4,6.6235241459458452E-4,"-",4.6364669021620912E-4,0.96332160859382732,157.00009573645639,1499.2404781414702,4.513750111549216,-2.9088820873213997E-4,2.9088820873213997E-4,{"$f":"FI_T-Rechentabelle!AL620","v":1.7662498884507842},{"$f":"K620","v":2.6286580290246775E-7}]
[3.868749737739563E-2,6.2499995692633092E-5,4.5039377212524414,157.00001525878906,0,null,0,null,null,null,null,null,"-",{"$f":"N620+(L622-L620)/2","v":1.2662133705541187E-4},157.00009573645639,157.00001525878906,4.6143669720777325E-5,2.7902138584673972E-4,"-",2.7902138584673972E-4,0,2.7902138584673972E-4,2.7902138584673972E-4,6.6235241459458452E-4,-3.8333102874784481E-4,-2.5703743101633307E-2,-2.5703743101633307E-2,-2.5703743101633307E-2,"-",4.1504207346694251E-4,4.1504207346694251E-4,4.1504207346694251E-4,"-",2.9052945142685974E-4,0.60363484609777629,157.00013346363426,1499.2408384094811,4.5235626198906935,-2.9088820873213997E-4,2.9088820873213997E-4,{"$f":"FI_T-Rechentabelle!AL621","v":1.7564373801093067},{"$f":"AP620","v":2.6286580290246775E-7}]
[3.8749996572732925E-2,6.2499995692633092E-5,4.5137500762939453,157.00001525878906,0,null,0,null,{"$f":"C622","v":4.5137500762939453},{"$f":"AL620","v":4.513750111549216},{"$f":"I622-J622","v":-3.5255270702805319E-8},{"$f":"L620+KP_LR*(1+2*TA_SIM/TN_LR)*K622-KP_LR*K620","v":-4.3709076610602368E-5},"-",{"$f":"L622","v":-4.3709076610602368E-5},157.00013346363426,157.00001525878906,-1.6191392180076036E-4,-2.4231967585486365E-4,"-",-2.4231967585486365E-4,0,-2.4231967585486365E-4,-2.4231967585486365E-4,4.1504207346694251E-4,-6.5736174932180618E-4,-4.6168834373556039E-2,-4.6168834373556039E-2,-4.6168834373556039E-2,"-",-9.0622809342228138E-6,-9.0622809342228138E-6,-9.0622809342228138E-6,"-",-6.3435966539559692E-6,-1.3180130176513543E-2,157.00013263987611,1499.2408305431702,4.533375128180686,-2.9088820873213997E-4,2.9088820873213997E-4,{"$f":"FI_T-Rechentabelle!AL622","v":1.7466248718193143},{"$f":"K622","v":-3.5255270702805319E-8}]
[3.8812495768070221E-2,6.2499995692633092E-5,4.5235624313354492,157.00001525878906,0,null,0,null,null,null,null,null,"-",{"$f":"N622+(L624-L622)/2","v":5.8195464274168434E-5},157.00013263987611,157.00001525878906,-5.9185622774293734E-5,-1.8826864932873152E-5,"-",-1.8826864932873152E-5,0,-1.8826864932873152E-5,-1.8826864932873152E-5,-9.0622809342228138E-6,-9.7645839986503386E-6,-7.299606357732899E-4,-7.299606357732899E-4,-7.299606357732899E-4,"-",-1.5362012546255433E-5,-1.5362012546255433E-5,-1.5362012546255433E-5,"-",-1.0753408782378802E-5,-2.2342424230996884E-2,157.00013124347461,1499.2408172085181,4.5431876363834034,-2.9088820873213997E-4,2.9088820873213997E-4,{"$f":"FI_T-Rechentabelle!AL623","v":1.7368123636165969},{"$f":"AP622","v":-3.5255270702805319E-8}]
[3.8874998688697815E-2,6.2499995692633092E-5,4.5333752632141113,157.00001525878906,0,null,0,null,{"$f":"C624","v":4.5333752632141113},{"$f":"AL622","v":4.533375128180686},{"$f":"I624-J624","v":1.3503342533027762E-7},{"$f":"L622+KP_LR*(1+2*TA_SIM/TN_LR)*K624-KP_LR*K622","v":1.6010000515893924E-4},"-",{"$f":"L624","v":1.6010000515893924E-4},157.00013124347461,157.00001525878906,4.4115319610682491E-5,2.3117621463597865E-4,"-",2.3117621463597865E-4,0,2.3117621463597865E-4,2.3117621463597865E-4,-1.5362012546255433E-5,2.465382271822341E-4,1.7722108212812969E-2,1.7722108212812969E-2,1.7722108212812969E-2,"-",1.4369490821647605E-4,1.4369490821647605E-4,1.4369490821647605E-4,"-",1.0058643575153323E-4,0.20898906243825727,157.000144305291,1499.2409419396768,4.5530001454024838,-2.9088820873213997E-4,2.9088820873213997E-4,{"$f":"FI_T-Rechentabelle!AL624","v":1.7269998545975165},{"$f":"K624","v":1.3503342533027762E-7}]
[3.893749788403511E-2,6.2499995692633092E-5,4.5431876182556152,157.00001525878906,0,null,0,null,null,null,null,null,"-",{"$f":"N624+(L626-L624)/2","v":-2.0831587295974403E-5},157.000144305291,157.00001525878906,-1.498780892461582E-4,-2.5465752964426116E-4,"-",-2.5465752964426116E-4,0,-2.5465752964426116E-4,-2.5465752964426116E-4,1.4369490821647605E-4,-3.9835243786073718E-4,-2.8290360449426649E-2,-2.8290360449426649E-2,-2.8290360449426649E-2,"-",-1.133066645969029E-4,-1.133066645969029E-4,-1.133066645969029E-4,"-",-7.9314665217832024E-5,-0.1647925726528818,157.0001340057552,1499.2408435863547,4.5628126537778435,-2.9088820873213997E-4,2.9088820873213997E-4,{"$f":"FI_T-Rechentabelle!AL625","v":1.7171873462221567},{"$f":"AP624","v":1.3503342533027762E-7}]
[3.8999997079372406E-2,6.2499995692633092E-5,4.5529999732971191,157.00001525878906,0,null,0,null,{"$f":"C626","v":4.5529999732971191},{"$f":"AL624","v":4.5530001454024838},{"$f":"I626-J626","v":-1.7210536462641812E-7},{"$f":"L624+KP_LR*(1+2*TA_SIM/TN_LR)*K626-KP_LR*K624","v":-2.0176317975088802E-4},"-",{"$f":"L626","v":-2.0176317975088802E-4},157.0001340057552,157.00001525878906,-3.2051014588319049E-4,-7.27984519056107E-4,"-",-7.27984519056107E-4,0,-7.27984519056107E-4,-7.27984519056107E-4,-1.133066645969029E-4,-6.1467785445920413E-4,-4.4625051484165283E-2,-4.4625051484165283E-2,-4.4625051484165283E-2,"-",-5.0987302231251847E-4,-5.0987302231251847E-4,-5.0987302231251847E-4,"-",-3.5691111561876289E-4,-0.74155644217486572,157.00008765847755,1499.2404010024545,4.5726251592564982,-2.9088820873213997E-4,2.9088820873213997E-4,{"$f":"FI_T-Rechentabelle!AL626","v":1.7073748407435021},{"$f":"K626","v":-1.7210536462641812E-7}]
[3.9062496274709702E-2,6.2499995692633092E-5,4.5628128051757813,157.00001525878906,0,null,0,null,null,null,null,null,"-",{"$f":"N626+(L628-L626)/2","v":-1.0366520586927096E-4},157.00008765847755,157.00001525878906,-1.760648943616161E-4,-4.3636829763260652E-4,"-",-4.3636829763260652E-4,0,-4.3636829763260652E-4,-4.3636829763260652E-4,-5.0987302231251847E-4,7.3504724679911951E-5,3.8184506525492795E-3,3.8184506525492795E-3,3.8184506525492795E-3,"-",-4.6245061929322048E-4,-4.6245061929322048E-4,-4.6245061929322048E-4,"-",-3.2371543350525434E-4,-0.67258556722471285,157.00004562187959,1499.2399995825131,4.582437662107866,-2.9088820873213997E-4,2.9088820873213997E-4,{"$f":"FI_T-Rechentabelle!AL627","v":1.6975623378921343},{"$f":"AP626","v":-1.7210536462641812E-7}]
[3.9124995470046997E-2,6.2499995692633092E-5,4.5726251602172852,157.00001525878906,0,null,0,null,{"$f":"C628","v":4.5726251602172852},{"$f":"AL626","v":4.5726251592564982},{"$f":"I628-J628","v":9.6078700551061047E-10},{"$f":"L626+KP_LR*(1+2*TA_SIM/TN_LR)*K628-KP_LR*K626","v":-5.5672319876539094E-6},"-",{"$f":"L628","v":-5.5672319876539094E-6},157.00004562187959,157.00001525878906,-3.5930322525246083E-5,-1.2057196285226497E-4,"-",-1.2057196285226497E-4,0,-1.2057196285226497E-4,-1.2057196285226497E-4,-4.6245061929322048E-4,3.4187865644095552E-4,2.3296213155310771E-2,2.3296213155310771E-2,2.3296213155310771E-2,"-",-2.4188374417002346E-4,-2.4188374417002346E-4,-2.4188374417002346E-4,"-",-1.6931862091901641E-4,-0.35179435054854852,157.00002363473268,1499.2397896207262,4.592250163585037,-2.9088820873213997E-4,2.9088820873213997E-4,{"$f":"FI_T-Rechentabelle!AL628","v":1.6877498364149632},{"$f":"K628","v":9.6078700551061047E-10}]
[3.9187498390674591E-2,6.2499995692633092E-5,4.5824375152587891,157.00001525878906,0,null,0,null,null,null,null,null,"-",{"$f":"N628+(L630-L628)/2","v":1.0525520487653724E-4},157.00002363473268,157.00001525878906,9.6879261263893568E-5,2.1063747829228239E-4,"-",2.1063747829228239E-4,0,2.1063747829228239E-4,2.1063747829228239E-4,-2.4188374417002346E-4,4.5252122246230585E-4,3.1909260076771168E-2,3.1909260076771168E-2,3.1909260076771168E-2,"-",5.0065431612109357E-5,5.0065431612109357E-5,5.0065431612109357E-5,"-",3.5045802128476549E-5,7.2814880798829307E-2,157.00002818566273,1499.2398330789069,4.602062665346641,-2.9088820873213997E-4,2.9088820873213997E-4,{"$f":"FI_T-Rechentabelle!AL629","v":1.6779373346533593},{"$f":"AP628","v":9.6078700551061047E-10}]
[3.9249997586011887E-2,6.2499995692633092E-5,4.5922503471374512,157.00001525878906,0,null,0,null,{"$f":"C630","v":4.5922503471374512},{"$f":"AL628","v":4.592250163585037},{"$f":"I630-J630","v":1.8355241415690671E-7},{"$f":"L628+KP_LR*(1+2*TA_SIM/TN_LR)*K630-KP_LR*K628","v":2.1607764174072839E-4},"-",{"$f":"L630","v":2.1607764174072839E-4},157.00002818566273,157.00001525878906,2.0315076807264631E-4,5.0629214616045417E-4,"-",5.0629214616045417E-4,0,5.0629214616045417E-4,5.0629214616045417E-4,5.0065431612109357E-5,4.5622671454834482E-4,3.3022947180739719E-2,3.3022947180739719E-2,3.3022947180739719E-2,"-",3.4440524744975128E-4,3.4440524744975128E-4,3.4440524744975128E-4,"-",2.4108367321482588E-4,0.50090104553256987,157.00005949197808,1499.2401320321972,4.6118751690648896,-2.9088820873213997E-4,2.9088820873213997E-4,{"$f":"FI_T-Rechentabelle!AL630","v":1.6681248309351107},{"$f":"K630","v":1.8355241415690671E-7}]
[3.9312496781349182E-2,6.2499995692633092E-5,4.6020627021789551,157.00001525878906,0,null,0,null,null,null,null,null,"-",{"$f":"N630+(L632-L630)/2","v":4.4217289253134615E-5},157.00005949197808,157.00001525878906,-1.5899757954684901E-8,3.5748156945097486E-5,"-",3.5748156945097486E-5,0,3.5748156945097486E-5,3.5748156945097486E-5,3.4440524744975128E-4,-3.0865709050465379E-4,-2.1244448659408503E-2,-2.1244448659408503E-2,-2.1244448659408503E-2,"-",1.4527164067255536E-4,1.4527164067255536E-4,1.4527164067255536E-4,"-",1.0169014847078875E-4,0.21128225321169486,157.0000726971189,1499.2402581320034,4.6216876736084593,-2.9088820873213997E-4,2.9088820873213997E-4,{"$f":"FI_T-Rechentabelle!AL631","v":1.6583123263915409},{"$f":"AP630","v":1.8355241415690671E-7}]
[3.9374995976686478E-2,6.2499995692633092E-5,4.611875057220459,157.00001525878906,0,null,0,null,{"$f":"C632","v":4.611875057220459},{"$f":"AL630","v":4.6118751690648896},{"$f":"I632-J632","v":-1.1184443060585636E-7},{"$f":"L630+KP_LR*(1+2*TA_SIM/TN_LR)*K632-KP_LR*K630","v":-1.2764306323445913E-4},"-",{"$f":"L632","v":-1.2764306323445913E-4},157.0000726971189,157.00001525878906,-1.850813930559525E-4,-4.379905727468039E-4,"-",-4.379905727468039E-4,0,-4.379905727468039E-4,-4.379905727468039E-4,1.4527164067255536E-4,-5.832622134193592E-4,-4.1611221428464039E-2,-4.1611221428464039E-2,-4.1611221428464039E-2,"-",-2.310265615334827E-4,-2.310265615334827E-4,-2.310265615334827E-4,"-",-1.6171859307343787E-4,-0.33600372547982099,157.00005169688606,1499.2400575945517,4.6315001768395145,-2.9088820873213997E-4,2.9088820873213997E-4,{"$f":"FI_T-Rechentabelle!AL632","v":1.6484998231604857},{"$f":"K632","v":-1.1184443060585636E-7}]
[3.9437498897314072E-2,6.2499995692633092E-5,4.6216874122619629,157.00001525878906,0,null,0,null,null,null,null,null,"-",{"$f":"N632+(L634-L632)/2","v":-2.3438294738235691E-5},157.00005169688606,157.00001525878906,-5.9876391730995238E-5,-1.6260944769769681E-4,"-",-1.6260944769769681E-4,0,-1.6260944769769681E-4,-1.6260944769769681E-4,-2.310265615334827E-4,6.8417113835785883E-5,4.2604691750737431E-3,4.2604691750737431E-3,4.2604691750737431E-3,"-",-1.8688648809104004E-4,-1.8688648809104004E-4,-1.8688648809104004E-4,"-",-1.3082054166372803E-4,-0.27180665211661753,157.0000347089703,1499.2398953719057,4.6413126790088253,-2.9088820873213997E-4,2.9088820873213997E-4,{"$f":"FI_T-Rechentabelle!AL633","v":1.638687320991175},{"$f":"AP632","v":-1.1184443060585636E-7}]
[3.9499998092651367E-2,6.2499995692633092E-5,4.631500244140625,157.00001525878906,0,null,0,null,{"$f":"C634","v":4.631500244140625},{"$f":"AL632","v":4.6315001768395145},{"$f":"I634-J634","v":6.7301110462381075E-8},{"$f":"L632+KP_LR*(1+2*TA_SIM/TN_LR)*K634-KP_LR*K632","v":8.0766473757987734E-5},"-",{"$f":"L634","v":8.0766473757987734E-5},157.0000347089703,157.00001525878906,6.1316292516266913E-5,1.3302491470821705E-4,"-",1.3302491470821705E-4,0,1.3302491470821705E-4,1.3302491470821705E-4,-1.8688648809104004E-4,3.1991140279925709E-4,2.2512289631424397E-2,2.2512289631424397E-2,2.2512289631424397E-2,"-",1.9507965327835623E-5,1.9507965327835623E-5,1.9507965327835623E-5,"-",1.3655575729484935E-5,2.8372274526251681E-2,157.00003648223745,1499.2399123053597,4.6511251812889647,-2.9088820873213997E-4,2.9088820873213997E-4,{"$f":"FI_T-Rechentabelle!AL634","v":1.6288748187110356},{"$f":"K634","v":6.7301110462381075E-8}]
[3.9562497287988663E-2,6.2499995692633092E-5,4.6413125991821289,157.00001525878906,0,null,0,null,null,null,null,null,"-",{"$f":"N634+(L636-L634)/2","v":-9.5133815584944956E-5},157.00003648223745,157.00001525878906,-1.1635726397685175E-4,-3.0683943020461124E-4,"-",-3.0683943020461124E-4,0,-3.0683943020461124E-4,-3.0683943020461124E-4,1.9507965327835623E-5,-3.2634739553244685E-4,-2.3461494049564945E-2,-2.3461494049564945E-2,-2.3461494049564945E-2,"-",-1.9103874146729119E-4,-1.9103874146729119E-4,-1.9103874146729119E-4,"-",-1.3372711902710384E-4,-0.27784566596115484,157.00001911688332,1499.2397464784426,4.6609376824837696,-2.9088820873213997E-4,2.9088820873213997E-4,{"$f":"FI_T-Rechentabelle!AL635","v":1.6190623175162306},{"$f":"AP634","v":6.7301110462381075E-8}]
[3.9624996483325958E-2,6.2499995692633092E-5,4.6511249542236328,157.00001525878906,0,null,0,null,{"$f":"C636","v":4.6511249542236328},{"$f":"AL634","v":4.6511251812889647},{"$f":"I636-J636","v":-2.2706533187033529E-7},{"$f":"L634+KP_LR*(1+2*TA_SIM/TN_LR)*K636-KP_LR*K634","v":-2.7103410492787766E-4},"-",{"$f":"L636","v":-2.7103410492787766E-4},157.00001911688332,157.00001525878906,-2.7489219920084906E-4,-7.4102780297070707E-4,"-",-7.4102780297070707E-4,0,-7.4102780297070707E-4,-7.4102780297070707E-4,-1.9103874146729119E-4,-5.4998906150341594E-4,-4.0188707943759366E-2,-4.0188707943759366E-2,-4.0188707943759366E-2,"-",-5.4587039405014001E-4,-5.4587039405014001E-4,-5.4587039405014001E-4,"-",-3.8210927583509798E-4,-0.79391081619592341,156.9999694974573,1499.2392726478272,4.670750180577361,-2.9088820873213997E-4,2.9088820873213997E-4,{"$f":"FI_T-Rechentabelle!AL636","v":1.6092498194226392},{"$f":"K636","v":-2.2706533187033529E-7}]
[3.9687495678663254E-2,6.2499995692633092E-5,4.6609377861022949,157.00001525878906,0,null,0,null,null,null,null,null,"-",{"$f":"N636+(L638-L636)/2","v":-1.6630424770580659E-4},156.9999694974573,157.00001525878906,-1.2054291593699418E-4,-4.1293769649643046E-4,"-",-4.1293769649643046E-4,0,-4.1293769649643046E-4,-4.1293769649643046E-4,-5.4587039405014001E-4,1.3293269755370956E-4,7.9967063841896655E-3,7.9967063841896655E-3,7.9967063841896655E-3,"-",-4.6010736337032734E-4,-4.6010736337032734E-4,-4.6010736337032734E-4,"-",-3.2207515435922913E-4,-0.66917754905304194,156.9999276738605,1499.2388732618972,4.6805626760569776,-2.9088820873213997E-4,2.9088820873213997E-4,{"$f":"FI_T-Rechentabelle!AL637","v":1.5994373239430226},{"$f":"AP636","v":-2.2706533187033529E-7}]
[3.9749998599290848E-2,6.2499995692633092E-5,4.6707501411437988,157.00001525878906,0,null,0,null,{"$f":"C638","v":4.6707501411437988},{"$f":"AL636","v":4.670750180577361},{"$f":"I638-J638","v":-3.9433562193380567E-8},{"$f":"L636+KP_LR*(1+2*TA_SIM/TN_LR)*K638-KP_LR*K636","v":-6.1574390483735519E-5},"-",{"$f":"L638","v":-6.1574390483735519E-5},156.9999276738605,157.00001525878906,2.6010538078935497E-5,-6.7174311639949934E-5,"-",-6.7174311639949934E-5,0,-6.7174311639949934E-5,-6.7174311639949934E-5,-4.6010736337032734E-4,3.929330517303774E-4,2.6982218890279706E-2,2.6982218890279706E-2,2.6982218890279706E-2,"-",-2.0660216870556762E-4,-2.0660216870556762E-4,-2.0660216870556762E-4,"-",-1.4462151809389732E-4,-0.30048102658195991,156.99990889379634,1499.2386939254945,4.6903751703628398,-2.9088820873213997E-4,2.9088820873213997E-4,{"$f":"FI_T-Rechentabelle!AL638","v":1.5896248296371605},{"$f":"K638","v":-3.9433562193380567E-8}]
[3.9812497794628143E-2,6.2499995692633092E-5,4.6805624961853027,157.00001525878906,0,null,0,null,null,null,null,null,"-",{"$f":"N638+(L640-L638)/2","v":5.6450754919243725E-5},156.99990889379634,157.00001525878906,1.6281574764320794E-4,2.8936394902233966E-4,"-",2.8936394902233966E-4,0,2.8936394902233966E-4,2.8936394902233966E-4,-2.0660216870556762E-4,4.9596611772790731E-4,3.5142412001210148E-2,3.5142412001210148E-2,3.5142412001210148E-2,"-",1.1337597176405004E-4,1.1337597176405004E-4,1.1337597176405004E-4,"-",7.9363180234835024E-5,0.16489337260510081,156.99991919963213,1499.2387923389772,4.700187665312817,-2.9088820873213997E-4,2.9088820873213997E-4,{"$f":"FI_T-Rechentabelle!AL639","v":1.5798123346871833},{"$f":"AP638","v":-3.9433562193380567E-8}]
[3.9874996989965439E-2,6.2499995692633092E-5,4.6903753280639648,157.00001525878906,0,null,0,null,{"$f":"C640","v":4.6903753280639648},{"$f":"AL638","v":4.6903751703628398},{"$f":"I640-J640","v":1.5770112504753797E-7},{"$f":"L638+KP_LR*(1+2*TA_SIM/TN_LR)*K640-KP_LR*K638","v":1.7447590032222297E-4},"-",{"$f":"L640","v":1.7447590032222297E-4},156.99991919963213,157.00001525878906,2.7053505723984017E-4,6.0479956540664299E-4,"-",6.0479956540664299E-4,0,6.0479956540664299E-4,6.0479956540664299E-4,1.1337597176405004E-4,4.9142359364259293E-4,3.5742993808359387E-2,3.5742993808359387E-2,3.5742993808359387E-2,"-",4.3042345153346495E-4,4.3042345153346495E-4,4.3042345153346495E-4,"-",3.0129641607342544E-4,0.62600543543200793,156.99995832497186,1499.23916595845,4.7100001627081278,-2.9088820873213997E-4,2.9088820873213997E-4,{"$f":"FI_T-Rechentabelle!AL640","v":1.5699998372918724},{"$f":"K640","v":1.5770112504753797E-7}]
[3.9937496185302734E-2,6.2499995692633092E-5,4.7001876831054688,157.00001525878906,0,null,0,null,null,null,null,null,"-",{"$f":"N640+(L642-L640)/2","v":9.5472859409522534E-6},156.99995832497186,157.00001525878906,6.6481103146998066E-5,1.4841207437923834E-4,"-",1.4841207437923834E-4,0,1.4841207437923834E-4,1.4841207437923834E-4,4.3042345153346495E-4,-2.8201137715422661E-4,-1.9074785428054304E-2,-1.9074785428054304E-2,-1.9074785428054304E-2,"-",2.4848062756299623E-4,2.4848062756299623E-4,2.4848062756299623E-4,"-",1.7393643929409735E-4,0.36138882047391924,156.99998091177315,1499.2393816465146,4.7198126615151139,-2.9088820873213997E-4,2.9088820873213997E-4,{"$f":"FI_T-Rechentabelle!AL641","v":1.5601873384848863},{"$f":"AP640","v":1.5770112504753797E-7}]
[3.9999999105930328E-2,6.2499995692633092E-5,4.7100000381469727,157.00001525878906,-7850001.5,-5887501413957.4248,-7850.0015000000003,null,{"$f":"C642","v":4.7100000381469727},{"$f":"AL640","v":4.7100001627081278},{"$f":"I642-J642","v":-1.2456115516812361E-7},{"$f":"L640+KP_LR*(1+2*TA_SIM/TN_LR)*K642-KP_LR*K640","v":-1.5538132844031846E-4},"-",{"$f":"L642","v":-1.5538132844031846E-4},156.99998091177315,157.00001525878906,-1.2103431254217867E-4,-3.1538654244220603E-4,"-",-3.1538654244220603E-4,{"$f":"G642*(JM_EMS+JL_EMS)/KT_M*KP_VSR","v":-5.3974367456428585},-5.3977521321853006,{"$f":"IF(V642<-IM_R,-IM_R,IF(V642>IM_R,IM_R,V642))","v":-5.3977521321853006},2.4848062756299623E-4,-5.3980006128128633,-389.00358163275871,{"$f":"IF(Z642<-U_ZWK,-U_ZWK,IF(Z642>U_ZWK,U_ZWK,Z642))","v":-389.00358163275871},-389.00358163275871,"-",-3.4823325598968653,-3.4823325598968653,-3.4823325598968653,"-",{"$f":"AF642*KT_M","v":-2.4376327919278054},{"$f":"AH642/(JM_EMS+JL_EMS)","v":-5064.684795195938},156.68343811207342,1496.2166205701731,4.7296053763971182,{"$f":"-DF_LR","v":-2.9088820873213997E-4},{"$f":"DF_LR","v":2.9088820873213997E-4},{"$f":"FI_T-Rechentabelle!AL642","v":1.550394623602882},{"$f":"K642","v":-1.2456115516812361E-7}]
[4.0062498301267624E-2,6.2499995692633092E-5,4.7197970611567932,156.50938415527344,-7850001.5,-5795509204364.3398,{"$f":"E643/1000","v":-7850.0015000000003},null,null,null,null,null,"-",{"$f":"N642+(L644-L642)/2","v":-2.5251649955235208E-2},156.68343811207342,156.50938415527344,-0.19930560675521747,{"$f":"R642+KP_DR*(1+TA_SIM/TN_DR)*Q643-KP_DR*Q642","v":-0.51022208676983893},"-",{"$f":"R643","v":-0.51022208676983893},-5.3974367456428585,{"$f":"T643+U643","v":-5.9076588324126975},-5.9076588324126975,-3.4823325598968653,{"$f":"W643-X643","v":-2.4253262725158322},-184.87872870758378,-184.87872870758378,{"$f":"AA643","v":-184.87872870758378},"-",{"$f":"(1/R_M*AB643+AD642*T_M/TA_SIM)/(1+T_M/TA_SIM)","v":-5.0470591873264343},{"$f":"AD643","v":-5.0470591873264343},{"$f":"AE643","v":-5.0470591873264343},"-",-3.5329414311285037,-7340.4143592946257,156.2246622146175,1491.8356334590812,4.7393694177855314,-2.9088820873213997E-4,2.9088820873213997E-4,{"$f":"FI_T-Rechentabelle!AL643","v":1.5406305822144688},{"$f":"AP642","v":-1.2456115516812361E-7}]
[4.0124997496604919E-2,6.2499995692633092E-5,4.7295638969404052,156.01876831054688,-7850001.5,-5703516994771.2549,-7850.0015000000003,null,{"$f":"C644","v":4.7295638969404052},{"$f":"AL642","v":4.7296053763971182},{"$f":"I644-J644","v":-4.1479456712956164E-5},{"$f":"L642+KP_LR*(1+2*TA_SIM/TN_LR)*K644-KP_LR*K642","v":-5.0347918582030096E-2},"-",{"$f":"L644","v":-5.0347918582030096E-2},{"$f":"AJ643","v":156.2246622146175},{"$f":"D644*KP_VDR","v":156.01876831054688},{"$f":"N644-O644+P644","v":-0.25624182265264039},-0.70455794544877148,"-",-0.70455794544877148,-5.3974367456428585,-6.1019946910916296,-6.1019946910916296,{"$f":"AF643","v":-5.0470591873264343},-1.0549355037651953,-90.659888269422339,-90.659888269422339,-90.659888269422339,"-",-5.7276627381426888,-5.7276627381426888,-5.7276627381426888,"-",-4.0093639166998818,-8330.2803172654931,155.7040196947884,1486.863863622204,4.7491009190164561,-2.9088820873213997E-4,2.9088820873213997E-4,{"$f":"FI_T-Rechentabelle!AL644","v":1.5308990809835441},{"$f":"K644","v":-4.1479456712956164E-5}]
[4.0187496691942215E-2,6.2499995692633092E-5,4.7392995918234915,155.52813720703125,-7850001.5,-5611524785178.1699,-7850.0015000000003,null,null,null,null,null,"-",{"$f":"N644+(L646-L644)/2","v":-8.5271557460928987E-2},155.7040196947884,155.52813720703125,-0.26115404521809182,-0.77960223464449008,"-",-0.77960223464449008,-5.3974367456428585,-6.1770389802873487,-6.1770389802873487,-5.7276627381426888,-0.44937624214465988,-48.994303390651538,-48.994303390651538,-48.994303390651538,"-",-6.0175828943650504,-6.0175828943650504,-6.0175828943650504,"-",-4.2123080260555348,-8751.9385540318599,155.15702353516141,1481.640435062789,4.7587982329874041,-2.9088820873213997E-4,2.9088820873213997E-4,{"$f":"FI_T-Rechentabelle!AL645","v":1.5212017670125961},{"$f":"AP644","v":-4.1479456712956164E-5}]
[4.024999588727951E-2,6.2499995692633092E-5,4.749004622643211,155.03752136230469,-7850001.5,-5519532575585.085,-7850.0015000000003,null,{"$f":"C646","v":4.749004622643211},{"$f":"AL644","v":4.7491009190164561},{"$f":"I646-J646","v":-9.6296373245152722E-5},{"$f":"L644+KP_LR*(1+2*TA_SIM/TN_LR)*K646-KP_LR*K644","v":-0.12019519633982786},"-",{"$f":"L646","v":-0.12019519633982786},155.15702353516141,155.03752136230469,-0.2396973691965627,-0.78834438198113521,"-",-0.78834438198113521,-5.3974367456428585,-6.1857811276239936,-6.1857811276239936,-6.0175828943650504,-0.16819823325894312,-29.572114687222481,-29.572114687222481,-29.572114687222481,"-",-6.126097883564368,-6.126097883564368,-6.126097883564368,"-",-4.2882685184950571,-8909.7621410659813,154.60016340134479,1476.3228124883251,4.7684607431999879,-2.9088820873213997E-4,2.9088820873213997E-4,{"$f":"FI_T-Rechentabelle!AL646","v":1.5115392568000123},{"$f":"K646","v":-9.6296373245152722E-5}]
[4.0312498807907104E-2,6.2499995692633092E-5,4.758679466236722,154.54689025878906,-7850001.5,-5427540365992.001,-7850.0015000000003,null,null,null,null,null,"-",{"$f":"N646+(L648-L646)/2","v":-0.14910407980737933},154.60016340134479,154.54689025878906,-0.20237722236311129,-0.75124787671769044,"-",-0.75124787671769044,-5.3974367456428585,-6.1486846223605491,-6.1486846223605491,-6.126097883564368,-2.2586738796181116E-2,-19.393386264616296,-19.393386264616296,-19.393386264616296,"-",-6.1406699731102909,-6.1406699731102909,-6.1406699731102909,"-",-4.2984689811772032,-8930.9557057494349,154.04197866973544,1470.992540936682,4.7780883668668466,-2.9088820873213997E-4,2.9088820873213997E-4,{"$f":"FI_T-Rechentabelle!AL647","v":1.5019116331331537},{"$f":"AP646","v":-9.6296373245152722E-5}]
[4.03749980032444E-2,6.2499995692633092E-5,4.7683231689297081,154.05625915527344,-7850001.5,-5335548156398.916,-7850.0015000000003,null,{"$f":"C648","v":4.7683231689297081},{"$f":"AL646","v":4.7684607431999879},{"$f":"I648-J648","v":-1.3757427027982772E-4},{"$f":"L646+KP_LR*(1+2*TA_SIM/TN_LR)*K648-KP_LR*K646","v":-0.17801296327493077},"-",{"$f":"L648","v":-0.17801296327493077},154.04197866973544,154.05625915527344,-0.16373247773694288,-0.70166225883382094,"-",-0.70166225883382094,-5.3974367456428585,-6.0990990044766793,-6.0990990044766793,-6.1406699731102909,4.1570968633611649E-2,-14.812151182423442,-14.812151182423442,-14.812151182423442,"-",-6.113849993346669,-6.113849993346669,-6.113849993346669,"-",-4.279694995342668,-8891.948878750607,153.48623186481353,1465.6855498700311,4.7876812563583977,-2.9088820873213997E-4,2.9088820873213997E-4,{"$f":"FI_T-Rechentabelle!AL648","v":1.4923187436416026},{"$f":"K648","v":-1.3757427027982772E-4}]
[4.0437497198581696E-2,6.2499995692633092E-5,4.7779362075593266,153.56564331054688,-7850001.5,-5243555946805.8311,-7850.0015000000003,null,null,null,null,null,"-",{"$f":"N648+(L650-L648)/2","v":-0.19876266667471235},153.48623186481353,153.56564331054688,-0.11935122094138251,-0.62797088250073041,"-",-0.62797088250073041,-5.3974367456428585,-6.0254076281435891,-6.0254076281435891,-6.113849993346669,8.8442365203079909E-2,-11.35660872703823,-11.35660872703823,-11.35660872703823,"-",-6.0567904028930695,-6.0567904028930695,-6.0567904028930695,"-",-4.2397532820251485,-8808.9617328592321,152.93567175650983,1460.4280881076866,4.7972397358431795,-2.9088820873213997E-4,2.9088820873213997E-4,{"$f":"FI_T-Rechentabelle!AL649","v":1.4827602641568207},{"$f":"AP648","v":-1.3757427027982772E-4}]
[4.0499996393918991E-2,6.2499995692633092E-5,4.7875185821255783,153.07501220703125,-7850001.5,-5151563737212.7461,-7850.0015000000003,null,{"$f":"C650","v":4.7875185821255783},{"$f":"AL648","v":4.7876812563583977},{"$f":"I650-J650","v":-1.6267423281934867E-4},{"$f":"L648+KP_LR*(1+2*TA_SIM/TN_LR)*K650-KP_LR*K648","v":-0.21951237007449392},"-",{"$f":"L650","v":-0.21951237007449392},152.93567175650983,153.07501220703125,-8.0171919553066573E-2,-0.55677576604163703,"-",-0.55677576604163703,-5.3974367456428585,-5.9542125116844957,-5.9542125116844957,-6.0567904028930695,0.10257789120857375,-10.172466072907525,-10.172466072907525,-10.172466072907525,"-",-5.9906111182423762,-5.9906111182423762,-5.9906111182423762,"-",-4.1934277827696631,-8712.7109552662841,152.3911273218057,1455.2280717967058,4.8067641813007924,-2.9088820873213997E-4,2.9088820873213997E-4,{"$f":"FI_T-Rechentabelle!AL650","v":1.4732358186992078},{"$f":"K650","v":-1.6267423281934867E-4}]
[4.0562495589256287E-2,6.2499995692633092E-5,4.7970707694656216,152.58439636230469,-7850001.5,-5059571527619.6621,-7850.0015000000003,null,null,null,null,null,"-",{"$f":"N650+(L652-L650)/2","v":-0.23192033748333934},152.3911273218057,152.58439636230469,-3.8651296984340888E-2,-0.47003565714359818,"-",-0.47003565714359818,-5.3974367456428585,-5.8674724027864569,-5.8674724027864569,-5.9906111182423762,0.12313871545591937,-8.4988402968214807,-8.4988402968214807,-8.4988402968214807,"-",-5.9111667856901695,-5.9111667856901695,-5.9111667856901695,"-",-4.1378167499831182,-8597.1675669709493,151.85380434887,1450.0970153659327,4.8162550440725971,-2.9088820873213997E-4,2.9088820873213997E-4,{"$f":"FI_T-Rechentabelle!AL651","v":1.4637449559274032},{"$f":"AP650","v":-1.6267423281934867E-4}]
[4.0624998509883881E-2,6.2499995692633092E-5,4.80659181590514,152.09376525878906,-7850001.5,-4967579318026.5771,-7850.0015000000003,null,{"$f":"C652","v":4.80659181590514},{"$f":"AL650","v":4.8067641813007924},{"$f":"I652-J652","v":-1.7236539565246289E-4},{"$f":"L650+KP_LR*(1+2*TA_SIM/TN_LR)*K652-KP_LR*K650","v":-0.24432830489218479},"-",{"$f":"L652","v":-0.24432830489218479},151.85380434887,152.09376525878906,-4.3673949731157791E-3,-0.39169784773900967,"-",-0.39169784773900967,-5.3974367456428585,-5.7891345933818679,-5.7891345933818679,-5.9111667856901695,0.12203219230830165,-8.3481927876387267,-8.3481927876387267,-8.3481927876387267,"-",-5.8324363390396528,-5.8324363390396528,-5.8324363390396528,"-",-4.0827054373277569,-8482.662450296606,151.32363794572646,1445.0342991426403,4.8257127714442047,-2.9088820873213997E-4,2.9088820873213997E-4,{"$f":"FI_T-Rechentabelle!AL652","v":1.4542872285557955},{"$f":"K652","v":-1.7236539565246289E-4}]
[4.0687497705221176E-2,6.2499995692633092E-5,4.8160821982812907,151.60313415527344,-7850001.5,-4875587108433.4922,-7850.0015000000003,null,null,null,null,null,"-",{"$f":"N652+(L654-L652)/2","v":-0.2500394464215232},151.32363794572646,151.60313415527344,2.9456763125466523E-2,-0.30617873828148862,"-",-0.30617873828148862,-5.3974367456428585,-5.7036154839243469,-5.7036154839243469,-5.8324363390396528,0.12882085511530583,-7.6306527920023122,-7.6306527920023122,-7.6306527920023122,"-",-5.7493261099330031,-5.7493261099330031,-5.7493261099330031,"-",-4.0245282769531023,-8361.7874027697944,150.80102623305334,1440.0437248992612,4.8351378355837706,-2.9088820873213997E-4,2.9088820873213997E-4,{"$f":"FI_T-Rechentabelle!AL653","v":1.4448621644162296},{"$f":"AP652","v":-1.7236539565246289E-4}]
[4.0749996900558472E-2,6.2499995692633092E-5,4.8255423934312338,151.11251831054688,-7850001.5,-4783594898840.4072,-7850.0015000000003,null,{"$f":"C654","v":4.8255423934312338},{"$f":"AL652","v":4.8257127714442047},{"$f":"I654-J654","v":-1.7037801297092869E-4},{"$f":"L652+KP_LR*(1+2*TA_SIM/TN_LR)*K654-KP_LR*K652","v":-0.25575058795086159},"-",{"$f":"L654","v":-0.25575058795086159},150.80102623305334,151.11251831054688,5.5741489542668887E-2,-0.23171315651625501,"-",-0.23171315651625501,-5.3974367456428585,-5.6291499021591136,-5.6291499021591136,-5.7493261099330031,0.12017620777388949,-8.0126054553583224,-8.0126054553583224,-8.0126054553583224,"-",-5.6717930726595256,-5.6717930726595256,-5.6717930726595256,"-",-3.9702551508616675,-8249.0237915264224,150.28546224608294,1435.120451478871,4.8445306769741512,-2.9088820873213997E-4,2.9088820873213997E-4,{"$f":"FI_T-Rechentabelle!AL654","v":1.4354693230258491},{"$f":"K654","v":-1.7037801297092869E-4}]
[4.0812496095895767E-2,6.2499995692633092E-5,4.8349714476806502,150.62188720703125,-7850001.5,-4691602689247.3223,-7850.0015000000003,null,null,null,null,null,"-",{"$f":"N654+(L656-L654)/2","v":-0.25680023863805085},150.28546224608294,150.62188720703125,7.9624722310256857E-2,-0.15698694991285403,"-",-0.15698694991285403,-5.3974367456428585,-5.5544236955557125,-5.5544236955557125,-5.6717930726595256,0.11736937710381312,-7.990032541360419,-7.990032541360419,-7.990032541360419,"-",-5.5960708938828709,-5.5960708938828709,-5.5960708938828709,"-",-3.9172496257180094,-8138.8938826470167,149.7767813784175,1430.2629070061571,4.8538917258103025,-2.9088820873213997E-4,2.9088820873213997E-4,{"$f":"FI_T-Rechentabelle!AL655","v":1.4261082741896978},{"$f":"AP654","v":-1.7037801297092869E-4}]
[4.0874999016523361E-2,6.2499995692633092E-5,4.8443698378667008,150.13127136230469,-7850001.5,-4599610479654.2383,-7850.0015000000003,null,{"$f":"C656","v":4.8443698378667008},{"$f":"AL654","v":4.8445306769741512},{"$f":"I656-J656","v":-1.6083910745035013E-4},{"$f":"L654+KP_LR*(1+2*TA_SIM/TN_LR)*K656-KP_LR*K654","v":-0.25784988932524011},"-",{"$f":"L656","v":-0.25784988932524011},149.7767813784175,150.13127136230469,9.6640094561962542E-2,-9.4018692303225126E-2,"-",-9.4018692303225126E-2,-5.3974367456428585,-5.4914554379460832,-5.4914554379460832,-5.5960708938828709,0.10461545593678778,-8.6895433805576268,-8.6895433805576268,-8.6895433805576268,"-",-5.5285770513430075,-5.5285770513430075,-5.5285770513430075,"-",-3.8700039359401051,-8040.7312194891019,149.27423567719941,1425.4639490574507,4.8632213655401273,-2.9088820873213997E-4,2.9088820873213997E-4,{"$f":"FI_T-Rechentabelle!AL656","v":1.416778634459873},{"$f":"K656","v":-1.6083910745035013E-4}]
[4.0937498211860657E-2,6.2499995692633092E-5,4.8537380408265429,149.64064025878906,-7850001.5,-4507618270061.1533,-7850.0015000000003,null,null,null,null,null,"-",{"$f":"N656+(L658-L656)/2","v":-0.25546031493302751},149.27423567719941,149.64064025878906,0.11094426665661672,-3.3842403926457293E-2,"-",-3.3842403926457293E-2,-5.3974367456428585,-5.431279149569316,-5.431279149569316,-5.5285770513430075,9.7297901773691464E-2,-9.0211472372035448,-9.0211472372035448,-9.0211472372035448,"-",-5.4658042114890115,-5.4658042114890115,-5.4658042114890115,"-",-3.8260629480423076,-7949.4347559574226,148.77739600495207,1420.7194796717115,4.8725199527904364,-2.9088820873213997E-4,2.9088820873213997E-4,{"$f":"FI_T-Rechentabelle!AL657","v":1.4074800472095639},{"$f":"AP656","v":-1.6083910745035013E-4}]
[4.0999997407197952E-2,6.2499995692633092E-5,4.8630751028858592,149.15000915527344,-7850001.5,-4415626060468.0684,-7850.0015000000003,null,{"$f":"C658","v":4.8630751028858592},{"$f":"AL656","v":4.8632213655401273},{"$f":"I658-J658","v":-1.4626265426809226E-4},{"$f":"L656+KP_LR*(1+2*TA_SIM/TN_LR)*K658-KP_LR*K656","v":-0.25307074054081491},"-",{"$f":"L658","v":-0.25307074054081491},148.77739600495207,149.15000915527344,0.11954240978056418,1.5214713751189712E-2,"-",1.5214713751189712E-2,-5.3974367456428585,-5.3822220318916685,-5.3822220318916685,-5.4658042114890115,8.3582179597343043E-2,-9.8275228836257469,-9.8275228836257469,-9.8275228836257469,"-",-5.4118802246520161,-5.4118802246520161,-5.4118802246520161,"-",-3.788316157256411,-7871.0080142456072,148.28545800406172,1416.0218177995248,4.8817877939156906,-2.9088820873213997E-4,2.9088820873213997E-4,{"$f":"FI_T-Rechentabelle!AL658","v":1.3982122060843096},{"$f":"K658","v":-1.4626265426809226E-4}]
[4.1062496602535248E-2,6.2499995692633092E-5,4.8723815008818088,148.65939331054688,-7850001.5,-4323633850874.9834,-7850.0015000000003,null,null,null,null,null,"-",{"$f":"N658+(L660-L658)/2","v":-0.24941237390255042},148.28545800406172,148.65939331054688,0.12452293258260738,5.7107528762662785E-2,"-",5.7107528762662785E-2,-5.3974367456428585,-5.3403292168801961,-5.3403292168801961,-5.4118802246520161,7.1551007771819997E-2,{"$f":"Z658+KP_SR*(1+TA_SIM/TN_SR)*Y659-KP_SR*Y658","v":-10.538163897870024},-10.538163897870024,-10.538163897870024,"-",-5.3657182841540676,-5.3657182841540676,-5.3657182841540676,"-",-3.7560027989078471,-7803.8703488631763,{"$f":"AJ658+AI659*TA_SIM","v":147.79771610725777},1411.3642257697629,{"$f":"AL658+AJ659*TA_SIM","v":4.8910251511723946},-2.9088820873213997E-4,2.9088820873213997E-4,{"$f":"FI_T-Rechentabelle!AL659","v":1.3889748488276057},{"$f":"AP658","v":-1.4626265426809226E-4}]
[4.1124995797872543E-2,6.2499995692633092E-5,4.8816572348143916,148.16876220703125,-7850001.5,-4231641641281.8989,-7850.0015000000003,null,{"$f":"C660","v":4.8816572348143916},{"$f":"AL658","v":4.8817877939156906},{"$f":"I660-J660","v":-1.3055910129899928E-4},{"$f":"L658+KP_LR*(1+2*TA_SIM/TN_LR)*K660-KP_LR*K658","v":-0.24575400726428592},"-",{"$f":"L660","v":-0.24575400726428592},147.79771610725777,148.16876220703125,0.12529209250919848,8.9434216225754926E-2,"-",8.9434216225754926E-2,-5.3974367456428585,-5.3080025294171032,-5.3080025294171032,-5.3657182841540676,5.7715754736964442E-2,-11.401325085905565,-11.401325085905565,-11.401325085905565,"-",-5.3284823133560257,-5.3284823133560257,-5.3284823133560257,"-",-3.7299376193492177,-7749.7145633684131,147.31335894704725,1406.7389555935954,4.9002322361065849,-2.9088820873213997E-4,2.9088820873213997E-4,{"$f":"FI_T-Rechentabelle!AL660","v":1.3797677638934154},{"$f":"K660","v":-1.3055910129899928E-4}]
[4.1187498718500137E-2,6.2499995692633092E-5,4.8909027815207651,147.67814636230469,-7850001.5,-4139649431688.814,-7850.0015000000003,null,null,null,null,null,"-",{"$f":"N660+(L662-L660)/2","v":-0.24158270350796238},147.31335894704725,147.67814636230469,0.12320471174948011,0.11463618148331661,"-",0.11463618148331661,-5.3974367456428585,-5.2828005641595421,-5.2828005641595421,-5.3284823133560257,4.5681749196483601E-2,-12.160565556960091,-12.160565556960091,-12.160565556960091,"-",-5.2990102171002293,-5.2990102171002293,-5.2990102171002293,"-",-3.7093071519701604,-7706.8505131314359,146.83168078997653,1402.1392680129634,4.9094092161559582,-2.9088820873213997E-4,2.9088820873213997E-4,{"$f":"FI_T-Rechentabelle!AL661","v":1.3705907838440421},{"$f":"AP660","v":-1.3055910129899928E-4}]
[4.1249997913837433E-2,6.2499995692633092E-5,4.9001171873266136,147.18751525878906,-7850001.5,-4047657222095.7295,-7850.0015000000003,null,{"$f":"C662","v":4.9001171873266136},{"$f":"AL660","v":4.9002322361065849},{"$f":"I662-J662","v":-1.1504877997126073E-4},{"$f":"L660+KP_LR*(1+2*TA_SIM/TN_LR)*K662-KP_LR*K660","v":-0.23741139975163883},"-",{"$f":"L662","v":-0.23741139975163883},146.83168078997653,147.18751525878906,0.11842306906089561,0.13243242579102571,"-",0.13243242579102571,-5.3974367456428585,-5.2650043198518324,-5.2650043198518324,-5.2990102171002293,3.4005897248396977E-2,-12.916511098851363,-12.916511098851363,-12.916511098851363,"-",-5.2770709285528756,-5.2770709285528756,-5.2770709285528756,"-",-3.6939496499870126,-7674.9421358550017,146.3519969064856,1397.5586243422174,4.9185562159626137,-2.9088820873213997E-4,2.9088820873213997E-4,{"$f":"FI_T-Rechentabelle!AL662","v":1.3614437840373865},{"$f":"K662","v":-1.1504877997126073E-4}]
[4.1312497109174728E-2,6.2499995692633092E-5,4.9093009290690954,146.69688415527344,-7850001.5,-3955665012502.6445,-7850.0015000000003,null,null,null,null,null,"-",{"$f":"N662+(L664-L662)/2","v":-0.23394879066658647},146.3519969064856,146.69688415527344,0.11093845812126801,0.14214382128048719,"-",0.14214382128048719,-5.3974367456428585,-5.2552929243623714,-5.2552929243623714,-5.2770709285528756,2.1778004190504241E-2,-13.734084358558633,-13.734084358558633,-13.734084358558633,"-",-5.2630206032686795,-5.2630206032686795,-5.2630206032686795,"-",-3.6841144222880753,-7654.5074221651257,145.87359019260026,1392.9901767428255,4.9276733153496508,-2.9088820873213997E-4,2.9088820873213997E-4,{"$f":"FI_T-Rechentabelle!AL663","v":1.3523266846503494},{"$f":"AP662","v":-1.1504877997126073E-4}]
[4.1374996304512024E-2,6.2499995692633092E-5,4.9184544835853687,146.20626831054688,-7850001.5,-3863672802909.5596,-7850.0015000000003,null,{"$f":"C664","v":4.9184544835853687},{"$f":"AL662","v":4.9185562159626137},{"$f":"I664-J664","v":-1.0173237724497852E-4},{"$f":"L662+KP_LR*(1+2*TA_SIM/TN_LR)*K664-KP_LR*K662","v":-0.23048618158153408},"-",{"$f":"L664","v":-0.23048618158153408},145.87359019260026,146.20626831054688,0.10219193636507384,0.14680025574124578,"-",0.14680025574124578,-5.3974367456428585,-5.2506364899016127,-5.2506364899016127,-5.2630206032686795,1.2384113367066796E-2,-14.37030461199444,-14.37030461199444,-14.37030461199444,"-",-5.2550308527092815,-5.2550308527092815,-5.2550308527092815,"-",-3.6785215968964966,-7642.8871741045004,145.39590974421873,1388.428664468129,4.9367605597086648,-2.9088820873213997E-4,2.9088820873213997E-4,{"$f":"FI_T-Rechentabelle!AL664","v":1.3432394402913355},{"$f":"K664","v":-1.0173237724497852E-4}]
[4.1437495499849319E-2,6.2499995692633092E-5,4.9275768972011171,145.71563720703125,-7850001.5,-3771680593316.4751,-7850.0015000000003,null,null,null,null,null,"-",{"$f":"N664+(L666-L664)/2","v":-0.22861091543350792},145.39590974421873,145.71563720703125,9.1116547379016311E-2,0.1433628653421932,"-",0.1433628653421932,-5.3974367456428585,-5.2540738803006652,-5.2540738803006652,-5.2550308527092815,9.5697240861625232E-4,-15.170625719281169,-15.170625719281169,-15.170625719281169,"-",-5.2544134511553349,-5.2544134511553349,-5.2544134511553349,"-",-3.6780894158087341,-7641.9892287736002,144.91828541742038,{"$f":"AJ665/(2*PI())*60","v":1383.8676881150752},4.9458179525472534,-2.9088820873213997E-4,2.9088820873213997E-4,{"$f":"FI_T-Rechentabelle!AL665","v":1.3341820474527468},{"$f":"AP664","v":-1.0173237724497852E-4}]
[4.1499998420476913E-2,6.2499995692633092E-5,4.9366686467534979,145.22502136230469,-7850001.5,-3679688383723.3901,-7850.0015000000003,null,{"$f":"C666","v":4.9366686467534979},{"$f":"AL664","v":4.9367605597086648},{"$f":"I666-J666","v":-9.1912955166861821E-5},{"$f":"L664+KP_LR*(1+2*TA_SIM/TN_LR)*K666-KP_LR*K664","v":-0.22673564928548179},"-",{"$f":"L666","v":-0.22673564928548179},144.91828541742038,145.22502136230469,8.0000295598836146E-2,0.1371207751202323,"-",0.1371207751202323,-5.3974367456428585,-5.2603159705226261,-5.2603159705226261,-5.2544134511553349,-5.9025193672912479E-3,-15.663161210496575,-15.663161210496575,-15.663161210496575,"-",-5.2582215281664899,-5.2582215281664899,-5.2582215281664899,"-",-3.6807550697165428,-7647.5276744578068,144.44031493776677,1379.3034062457427,4.9548454722308639,-2.9088820873213997E-4,2.9088820873213997E-4,{"$f":"FI_T-Rechentabelle!AL666","v":1.3251545277691363},{"$f":"K666","v":-9.1912955166861821E-5}]
[4.1562497615814209E-2,6.2499995692633092E-5,4.9457302090796702,144.73439025878906,-7850001.5,-3587696174130.3057,-7850.0015000000003,null,null,null,null,null,"-",{"$f":"N666+(L668-L666)/2","v":-0.2261337458404232},144.44031493776677,144.73439025878906,6.794157518186239E-2,0.12575607191116817,"-",0.12575607191116817,-5.3974367456428585,-5.2716806737316899,-5.2716806737316899,-5.2582215281664899,-1.3459145565200004E-2,-16.21876924434919,-16.21876924434919,-16.21876924434919,"-",-5.2669048478859732,-5.2669048478859732,-5.2669048478859732,"-",-3.6868333935201809,-7660.1566455852499,143.9615551474177,1374.731587014481,4.9638430694275772,-2.9088820873213997E-4,2.9088820873213997E-4,{"$f":"FI_T-Rechentabelle!AL667","v":1.316156930572423},{"$f":"AP666","v":-9.1912955166861821E-5}]
[4.1624996811151505E-2,6.2499995692633092E-5,4.9547606305053176,144.24375915527344,-7850001.5,-3495703964537.2207,-7850.0015000000003,null,{"$f":"C668","v":4.9547606305053176},{"$f":"AL666","v":4.9548454722308639},{"$f":"I668-J668","v":-8.4841725546347391E-5},{"$f":"L666+KP_LR*(1+2*TA_SIM/TN_LR)*K668-KP_LR*K666","v":-0.22553184239536461},"-",{"$f":"L668","v":-0.22553184239536461},143.9615551474177,144.24375915527344,5.6672165460383894E-2,0.11347203687000595,"-",0.11347203687000595,-5.3974367456428585,-5.283964708772853,-5.283964708772853,-5.2669048478859732,-1.7059860886879719E-2,-16.503434678910935,-16.503434678910935,-16.503434678910935,"-",-5.2779112097484759,-5.2779112097484759,-5.2779112097484759,"-",-3.6945378468239327,-7676.1642360771502,143.48179488266288,1370.1502139563927,4.9728106816077435,-2.9088820873213997E-4,2.9088820873213997E-4,{"$f":"FI_T-Rechentabelle!AL668","v":1.3071893183922567},{"$f":"K668","v":-8.4841725546347391E-5}]
[4.16874960064888E-2,6.2499995692633092E-5,4.9637603878675973,143.75314331054688,-7850001.5,-3403711754944.1362,-7850.0015000000003,null,null,null,null,null,"-",{"$f":"N668+(L670-L668)/2","v":-0.22672722553925889},143.48179488266288,143.75314331054688,4.4621202344728772E-2,9.6439964556161412E-2,"-",9.6439964556161412E-2,-5.3974367456428585,-5.3009967810866971,-5.3009967810866971,-5.2779112097484759,-2.30855713382212E-2,-16.969593036321772,-16.969593036321772,-16.969593036321772,"-",-5.2928051267408769,-5.2928051267408769,-5.2928051267408769,"-",-3.7049635887186136,-7697.8258647799985,143.00068076611413,1365.5559125659913,4.9817482241556252,-2.9088820873213997E-4,2.9088820873213997E-4,{"$f":"FI_T-Rechentabelle!AL669","v":1.298251775844375},{"$f":"AP668","v":-8.4841725546347391E-5}]
[4.1749998927116394E-2,6.2499995692633092E-5,4.9727294811665113,143.26251220703125,-7850001.5,-3311719545351.0513,-7850.0015000000003,null,{"$f":"C670","v":4.9727294811665113},{"$f":"AL668","v":4.9728106816077435},{"$f":"I670-J670","v":-8.1200441232276432E-5},{"$f":"L668+KP_LR*(1+2*TA_SIM/TN_LR)*K670-KP_LR*K668","v":-0.2279226086831532},"-",{"$f":"L670","v":-0.2279226086831532},143.00068076611413,143.26251220703125,3.3908832233976227E-2,7.9896516915576143E-2,"-",7.9896516915576143E-2,-5.3974367456428585,-5.3175402287272826,-5.3175402287272826,-5.2928051267408769,-2.4735101986405716E-2,-17.131658023601162,-17.131658023601162,-17.131658023601162,"-",-5.3087632570546868,-5.3087632570546868,-5.3087632570546868,"-",-3.7161342799382804,-7721.0352793232496,142.51811606115643,1360.9477590766492,4.9906556064094474,-2.9088820873213997E-4,2.9088820873213997E-4,{"$f":"FI_T-Rechentabelle!AL670","v":1.2893443935905529},{"$f":"K670","v":-8.1200441232276432E-5}]
[4.181249812245369E-2,6.2499995692633092E-5,4.9816683872392158,142.77189636230469,-7850001.5,-3219727335757.9663,-7850.0015000000003,null,null,null,null,null,"-",{"$f":"N670+(L672-L670)/2","v":-0.2301215263164183},142.51811606115643,142.77189636230469,2.3658774831829987E-2,6.1924910863235857E-2,"-",6.1924910863235857E-2,-5.3974367456428585,-5.3355118347796227,-5.3355118347796227,-5.3087632570546868,-2.6748577724935885E-2,-17.323036756345935,-17.323036756345935,-17.323036756345935,"-",-5.3260204039739998,-5.3260204039739998,-5.3260204039739998,"-",-3.7282142827817997,-7746.1339762763337,142.03398268763917,1356.3246259059874,4.9995327303274246,-2.9088820873213997E-4,2.9088820873213997E-4,{"$f":"FI_T-Rechentabelle!AL671","v":1.2804672696725756},{"$f":"AP670","v":-8.1200441232276432E-5}]
[4.1874997317790985E-2,6.2499995692633092E-5,4.9905761524113954,142.28126525878906,-7850001.5,-3127735126164.8818,-7850.0015000000003,null,{"$f":"C672","v":4.9905761524113954},{"$f":"AL670","v":4.9906556064094474},{"$f":"I672-J672","v":-7.94539980519815E-5},{"$f":"L670+KP_LR*(1+2*TA_SIM/TN_LR)*K672-KP_LR*K670","v":-0.23232044394968338},"-",{"$f":"L672","v":-0.23232044394968338},142.03398268763917,142.28126525878906,1.4962127200220721E-2,4.543086987769538E-2,"-",4.543086987769538E-2,-5.3974367456428585,-5.3520058757651627,-5.3520058757651627,-5.3260204039739998,-2.5985471791162951E-2,-17.318089622539404,-17.318089622539404,-17.318089622539404,"-",-5.3427852244844267,-5.3427852244844267,-5.3427852244844267,"-",-3.7399496571390984,-7770.5166364826473,141.548325397859,1351.68694040696,5.0083795006647911,-2.9088820873213997E-4,2.9088820873213997E-4,{"$f":"FI_T-Rechentabelle!AL672","v":1.2716204993352092},{"$f":"K672","v":-7.94539980519815E-5}]
[4.1937496513128281E-2,6.2499995692633092E-5,4.9994532535202074,141.79063415527344,-7850001.5,-3035742916571.7969,-7850.0015000000003,null,null,null,null,null,"-",{"$f":"N672+(L674-L672)/2","v":-0.23543564342642498},141.548325397859,141.79063415527344,6.8731139880071623E-3,2.8372086600291641E-2,"-",2.8372086600291641E-2,-5.3974367456428585,-5.369064659042567,-5.369064659042567,-5.3427852244844267,-2.6279434558140302E-2,-17.387891886581819,-17.387891886581819,-17.387891886581819,"-",-5.3597396983929046,-5.3597396983929046,-5.3597396983929046,"-",-3.7518177888750328,-7795.1751275192864,141.06112695238906,1347.0345379551663,5.0171958210993157,-2.9088820873213997E-4,2.9088820873213997E-4,{"$f":"FI_T-Rechentabelle!AL673","v":1.2628041789006845},{"$f":"AP672","v":-7.94539980519815E-5}]
[4.1999995708465576E-2,6.2499995692633092E-5,5.0083001674028118,141.30001831054688,-7850001.5,-2943750706978.7124,-7850.0015000000003,null,{"$f":"C674","v":5.0083001674028118},{"$f":"AL672","v":5.0083795006647911},{"$f":"I674-J674","v":-7.9333261979286362E-5},{"$f":"L672+KP_LR*(1+2*TA_SIM/TN_LR)*K674-KP_LR*K672","v":-0.23855084290316658},"-",{"$f":"L674","v":-0.23855084290316658},141.06112695238906,141.30001831054688,3.4051525463496546E-4,1.3325406577381994E-2,"-",1.3325406577381994E-2,-5.3974367456428585,-5.3841113390654769,-5.3841113390654769,-5.3597396983929046,-2.4371640672572248E-2,-17.299575617679018,-17.299575617679018,-17.299575617679018,"-",-5.3754633375364991,-5.3754633375364991,-5.3754633375364991,"-",-3.7628243362755489,-7818.0434994297702,140.57249923367471,1342.3684869492599,5.0259816023014201,-2.9088820873213997E-4,2.9088820873213997E-4,{"$f":"FI_T-Rechentabelle!AL674","v":1.2540183976985801},{"$f":"K674","v":-7.9333261979286362E-5}]
[4.206249862909317E-2,6.2499995692633092E-5,5.0171159403848904,140.80938720703125,-7850001.5,-2851758497385.6274,-7850.0015000000003,null,null,null,null,null,"-",{"$f":"N674+(L676-L674)/2","v":-0.24247450227980821},140.57249923367471,140.80938720703125,-5.586528923259948E-3,-1.7637606273985915E-3,"-",-1.7637606273985915E-3,-5.3974367456428585,-5.3992005062702573,-5.3992005062702573,-5.3754633375364991,-2.3737168733758196E-2,-17.299451257927359,-17.299451257927359,-17.299451257927359,"-",-5.3907776399453757,-5.3907776399453757,-5.3907776399453757,"-",-3.7735443479617627,-7840.3165343065912,140.08247945028054,1337.6891427048599,5.0347367572670629,-2.9088820873213997E-4,2.9088820873213997E-4,{"$f":"FI_T-Rechentabelle!AL675","v":1.2452632427329373},{"$f":"AP674","v":-7.9333261979286362E-5}]
[4.2124997824430466E-2,6.2499995692633092E-5,5.0259010493036023,140.31875610351563,-7850001.5,-2759766287792.5425,-7850.0015000000003,null,{"$f":"C676","v":5.0259010493036023},{"$f":"AL674","v":5.0259816023014201},{"$f":"I676-J676","v":-8.0552997817839866E-5},{"$f":"L674+KP_LR*(1+2*TA_SIM/TN_LR)*K676-KP_LR*K674","v":-0.24639816165644987},"-",{"$f":"L676","v":-0.24639816165644987},140.08247945028054,140.31875610351563,-1.0121508421377712E-2,-1.4734458789103289E-2,"-",-1.4734458789103289E-2,-5.3974367456428585,-5.4121712044319619,-5.4121712044319619,-5.3907776399453757,-2.1393564486586136E-2,-17.174972028842703,-17.174972028842703,-17.174972028842703,"-",-5.4045799396141412,-5.4045799396141412,-5.4045799396141412,"-",-3.7832059577298986,-7860.3905209430677,139.59120504272161,1332.9978176822071,5.0434612075822329,-2.9088820873213997E-4,2.9088820873213997E-4,{"$f":"FI_T-Rechentabelle!AL676","v":1.2365387924177673},{"$f":"K676","v":-8.0552997817839866E-5}]
[4.2187497019767761E-2,6.2499995692633092E-5,5.0346559709961047,139.82814025878906,-7850001.5,-2667774078199.458,-7850.0015000000003,null,null,null,null,null,"-",{"$f":"N676+(L678-L676)/2","v":-0.250178471675362},139.59120504272161,139.82814025878906,-1.3243255607903848E-2,-2.5193127400368876E-2,"-",-2.5193127400368876E-2,-5.3974367456428585,-5.4226298730432276,-5.4226298730432276,-5.4045799396141412,-1.8049933429086451E-2,-16.974041543609403,-16.974041543609403,-16.974041543609403,"-",-5.4162250579554874,-5.4162250579554874,-5.4162250579554874,"-",-3.7913575405688409,-7877.3271152479547,139.0988720980186,1328.2963843744187,5.052154887088359,-2.9088820873213997E-4,2.9088820873213997E-4,{"$f":"FI_T-Rechentabelle!AL677","v":1.2278451129116412},{"$f":"AP676","v":-8.0552997817839866E-5}]
[4.2249996215105057E-2,6.2499995692633092E-5,5.0433797517880832,139.33750915527344,-7850001.5,-2575781868606.373,-7850.0015000000003,null,{"$f":"C678","v":5.0433797517880832},{"$f":"AL676","v":5.0434612075822329},{"$f":"I678-J678","v":-8.1455794149754013E-5},{"$f":"L676+KP_LR*(1+2*TA_SIM/TN_LR)*K678-KP_LR*K676","v":-0.2539587816942741},"-",{"$f":"L678","v":-0.2539587816942741},139.0988720980186,139.33750915527344,-1.5321724439445461E-2,-3.374224736724412E-2,"-",-3.374224736724412E-2,-5.3974367456428585,-5.4311789930101027,-5.4311789930101027,-5.4162250579554874,-1.4953935054615286E-2,-16.784700762006771,-16.784700762006771,-16.784700762006771,"-",-5.4258727579907235,-5.4258727579907235,-5.4258727579907235,"-",-3.7981109305935061,-7891.3586756565674,138.60566218079006,1323.586576595887,5.0608177409746586,-2.9088820873213997E-4,2.9088820873213997E-4,{"$f":"FI_T-Rechentabelle!AL678","v":1.2191822590253416},{"$f":"K678","v":-8.1455794149754013E-5}]
[4.2312495410442352E-2,6.2499995692633092E-5,5.052072868516694,138.84689331054688,-7850001.5,-2483789659013.2886,-7850.0015000000003,null,null,null,null,null,"-",{"$f":"N678+(L680-L678)/2","v":-0.25752314221176975},138.60566218079006,138.84689331054688,-1.6292012454954374E-2,-3.9961336311811063E-2,"-",-3.9961336311811063E-2,-5.3974367456428585,-5.4373980819546697,-5.4373980819546697,-5.4258727579907235,-1.1525323963946121E-2,-16.565597892865249,-16.565597892865249,-16.565597892865249,"-",-5.4333084508706886,-5.4333084508706886,-5.4333084508706886,"-",-3.8033159156094816,-7902.173105359404,138.1117763617051,1318.870314430065,5.0694497269972656,-2.9088820873213997E-4,2.9088820873213997E-4,{"$f":"FI_T-Rechentabelle!AL679","v":1.2105502730027347},{"$f":"AP678","v":-8.1455794149754013E-5}]
[4.2374998331069946E-2,6.2499995692633092E-5,5.0607357980190963,138.35626220703125,-7850001.5,-2391797449420.2036,-7850.0015000000003,null,{"$f":"C680","v":5.0607357980190963},{"$f":"AL678","v":5.0608177409746586},{"$f":"I680-J680","v":-8.194295556229747E-5},{"$f":"L678+KP_LR*(1+2*TA_SIM/TN_LR)*K680-KP_LR*K678","v":-0.26108750272926534},"-",{"$f":"L680","v":-0.26108750272926534},138.1117763617051,138.35626220703125,-1.6601657403100489E-2,-4.4725845202615688E-2,"-",-4.4725845202615688E-2,-5.3974367456428585,-5.4421625908454745,-5.4421625908454745,-5.4333084508706886,-8.8541399747859018E-3,-16.394663820546697,-16.394663820546697,-16.394663820546697,"-",-5.4390207992415185,-5.4390207992415185,-5.4390207992415185,"-",-3.8073145594690625,-7910.4811125473971,137.61737129217087,1314.1490937877011,5.0780508127030259,-2.9088820873213997E-4,2.9088820873213997E-4,{"$f":"FI_T-Rechentabelle!AL680","v":1.2019491872969743},{"$f":"K680","v":-8.194295556229747E-5}]
[4.2437497526407242E-2,6.2499995692633092E-5,5.0693675866209729,137.86563110351563,-7850001.5,-2299805239827.1191,-7850.0015000000003,null,null,null,null,null,"-",{"$f":"N680+(L682-L680)/2","v":-0.26447205734627743},137.61737129217087,137.86563110351563,-1.6212246001515496E-2,-4.7776382929750692E-2,"-",-4.7776382929750692E-2,-5.3974367456428585,-5.4452131285726093,-5.4452131285726093,-5.4390207992415185,-6.1923293310908178E-3,-16.21940753475711,-16.21940753475711,-16.21940753475711,"-",-5.4430158504228672,-5.4430158504228672,-5.4430158504228672,"-",-3.8101110952960067,-7916.2914924080742,137.12260307389536,1309.4244053303023,5.0866209753951441,-2.9088820873213997E-4,2.9088820873213997E-4,{"$f":"FI_T-Rechentabelle!AL681","v":1.1933790246048561},{"$f":"AP680","v":-8.194295556229747E-5}]
[4.2499996721744537E-2,6.2499995692633092E-5,5.0779687111594836,137.37501525878906,-7850001.5,-2207813030234.0342,-7850.0015000000003,null,{"$f":"C682","v":5.0779687111594836},{"$f":"AL680","v":5.0780508127030259},{"$f":"I682-J682","v":-8.2101543542378863E-5},{"$f":"L680+KP_LR*(1+2*TA_SIM/TN_LR)*K682-KP_LR*K680","v":-0.26785661196328958},"-",{"$f":"L682","v":-0.26785661196328958},137.12260307389536,137.37501525878906,-1.5444427069581934E-2,-4.976332883185166E-2,"-",-4.976332883185166E-2,-5.3974367456428585,-5.4472000744747104,-5.4472000744747104,-5.4430158504228672,-4.1842240518432661E-3,-16.086280047897894,-16.086280047897894,-16.086280047897894,"-",-5.4457153498111524,-5.4457153498111524,-5.4457153498111524,"-",-3.8120007448678064,-7920.2176290625512,136.62758947207897,1304.6973736326941,5.0951601997371494,-2.9088820873213997E-4,2.9088820873213997E-4,{"$f":"FI_T-Rechentabelle!AL682","v":1.1848398002628509},{"$f":"K682","v":-8.2101543542378863E-5}]
[4.2562495917081833E-2,6.2499995692633092E-5,5.0865391716346267,136.88438415527344,-7850001.5,-2115820820640.9495,-7850.0015000000003,null,null,null,null,null,"-",{"$f":"N682+(L684-L682)/2","v":-0.27033423284546498},136.62758947207897,136.88438415527344,-1.3539549651000016E-2,-4.8652417987839702E-2,"-",-4.8652417987839702E-2,-5.3974367456428585,-5.4460891636306981,-5.4460891636306981,-5.4457153498111524,-3.7381381954570969E-4,-15.819513226480286,-15.819513226480286,-15.819513226480286,"-",-5.4459565200173099,-5.4459565200173099,-5.4459565200173099,"-",-3.8121695640121165,-7920.568385647447,136.13255394797599,1299.9701325926696,5.1036684843588978,-2.9088820873213997E-4,2.9088820873213997E-4,{"$f":"FI_T-Rechentabelle!AL683","v":1.1763315156411025},{"$f":"AP682","v":-8.2101543542378863E-5}]
[4.2624998837709427E-2,6.2499995692633092E-5,5.0950794448835612,136.39376831054688,-7850001.5,-2023828611047.8647,-7850.0015000000003,null,{"$f":"C684","v":5.0950794448835612},{"$f":"AL682","v":5.0951601997371494},{"$f":"I684-J684","v":-8.0754853588160813E-5},{"$f":"L682+KP_LR*(1+2*TA_SIM/TN_LR)*K684-KP_LR*K682","v":-0.27281185372764033},"-",{"$f":"L684","v":-0.27281185372764033},136.13255394797599,136.39376831054688,-1.1597491156749129E-2,-4.6981935087986433E-2,"-",-4.6981935087986433E-2,-5.3974367456428585,-5.4444186807308448,-5.4444186807308448,-5.4459565200173099,1.5378392864651147E-3,-15.682450263986913,-15.682450263986913,-15.682450263986913,"-",-5.4449643656389455,-5.4449643656389455,-5.4449643656389455,"-",-3.8114750559472617,-7919.1254019265762,135.63760861035558,1295.243752770115,5.1121458348970448,-2.9088820873213997E-4,2.9088820873213997E-4,{"$f":"FI_T-Rechentabelle!AL684","v":1.1678541651029555},{"$f":"K684","v":-8.0754853588160813E-5}]
[4.2687498033046722E-2,6.2499995692633092E-5,5.10358857723197,135.90313720703125,-7850001.5,-1931836401454.7798,-7850.0015000000003,null,null,null,null,null,"-",{"$f":"N684+(L686-L684)/2","v":-0.27485999775070125},135.63760861035558,135.90313720703125,-9.3314010750304988E-3,-4.4008529203894815E-2,"-",-4.4008529203894815E-2,-5.3974367456428585,-5.4414452748467532,-5.4414452748467532,-5.4449643656389455,3.5190907921922587E-3,-15.536795085199513,-15.536795085199513,-15.536795085199513,"-",-5.4426939844826929,-5.4426939844826929,-5.4426939844826929,"-",-3.8098857891378848,-7915.8233724036663,135.14286964958035,1290.5193437012636,5.1205922642501438,-2.9088820873213997E-4,2.9088820873213997E-4,{"$f":"FI_T-Rechentabelle!AL685","v":1.1594077357498564},{"$f":"AP684","v":-8.0754853588160813E-5}]
[4.2749997228384018E-2,6.2499995692633092E-5,5.112067045517013,135.41250610351563,-7850001.5,-1839844191861.6951,-7850.0015000000003,null,{"$f":"C686","v":5.112067045517013},{"$f":"AL684","v":5.1121458348970448},{"$f":"I686-J686","v":-7.8789380031807354E-5},{"$f":"L684+KP_LR*(1+2*TA_SIM/TN_LR)*K686-KP_LR*K684","v":-0.27690814177376222},"-",{"$f":"L686","v":-0.27690814177376222},135.14286964958035,135.41250610351563,-7.2716878384824213E-3,-4.1010955373502897E-2,"-",-4.1010955373502897E-2,-5.3974367456428585,-5.4384477010163614,-5.4384477010163614,-5.4426939844826929,4.2462834663314908E-3,-15.477806191651958,-15.477806191651958,-15.477806191651958,"-",-5.4399544467624787,-5.4399544467624787,-5.4399544467624787,"-",-3.807968112733735,-7911.8390042255032,134.64837971181626,1285.7973126270019,5.1290077879821325,-2.9088820873213997E-4,2.9088820873213997E-4,{"$f":"FI_T-Rechentabelle!AL686","v":1.1509922120178677},{"$f":"K686","v":-7.8789380031807354E-5}]
[4.2812496423721313E-2,6.2499995692633092E-5,5.1205153265758465,134.92189025878906,-7850001.5,-1747851982268.6104,-7850.0015000000003,null,null,null,null,null,"-",{"$f":"N686+(L688-L686)/2","v":-0.27796570370567875},134.64837971181626,134.92189025878906,-4.4551567328880992E-3,-3.5573919044511904E-2,"-",-3.5573919044511904E-2,-5.3974367456428585,-5.4330106646873704,-5.4330106646873704,-5.4399544467624787,6.9437820751083734E-3,-15.275467600263093,-15.275467600263093,-15.275467600263093,"-",-5.4354745873591828,-5.4354745873591828,-5.4354745873591828,"-",-3.8048322111514277,-7905.3235220266515,134.15429699168959,1281.0791701947351,5.1373924315441135,-2.9088820873213997E-4,2.9088820873213997E-4,{"$f":"FI_T-Rechentabelle!AL687","v":1.1426075684558867},{"$f":"AP686","v":-7.8789380031807354E-5}]
[4.2874995619058609E-2,6.2499995692633092E-5,5.1289324667341551,134.43125915527344,-7850001.5,-1655859772675.5256,-7850.0015000000003,null,{"$f":"C688","v":5.1289324667341551},{"$f":"AL686","v":5.1290077879821325},{"$f":"I688-J688","v":-7.5321247977377936E-5},{"$f":"L686+KP_LR*(1+2*TA_SIM/TN_LR)*K688-KP_LR*K686","v":-0.27902326563759527},"-",{"$f":"L688","v":-0.27902326563759527},134.15429699168959,134.43125915527344,-2.0611020537444347E-3,-3.0531697915918442E-2,"-",-3.0531697915918442E-2,-5.3974367456428585,-5.4279684435587772,-5.4279684435587772,-5.4354745873591828,7.5061438004055958E-3,-15.221949682370504,-15.221949682370504,-15.221949682370504,"-",-5.4306319139395658,-5.4306319139395658,-5.4306319139395658,"-",-3.801442339757696,-7898.2803651728564,133.66065446886628,1276.365231337074,5.1457462224484178,-2.9088820873213997E-4,2.9088820873213997E-4,{"$f":"FI_T-Rechentabelle!AL688","v":1.1342537775515824},{"$f":"K688","v":-7.5321247977377936E-5}]
[4.2937498539686203E-2,6.2499995692633092E-5,5.1373189428290971,133.94064331054688,-7850001.5,-1563867563082.4409,-7850.0015000000003,null,null,null,null,null,"-",{"$f":"N688+(L690-L688)/2","v":-0.27941842975086523},133.66065446886628,133.94064331054688,5.7041192971496457E-4,-2.4297970157004981E-2,"-",-2.4297970157004981E-2,-5.3974367456428585,-5.4217347157998637,-5.4217347157998637,-5.4306319139395658,8.8971981397021338E-3,-15.10766027158302,-15.10766027158302,-15.10766027158302,"-",-5.4248917861074997,-5.4248917861074997,-5.4248917861074997,"-",-3.7974242502752493,-7889.9319556934324,133.16753372163544,1271.6562750692965,5.1540691933060199,-2.9088820873213997E-4,2.9088820873213997E-4,{"$f":"FI_T-Rechentabelle!AL689","v":1.1259308066939804},{"$f":"AP688","v":-7.5321247977377936E-5}]
[4.2999997735023499E-2,6.2499995692633092E-5,5.1456752316978296,133.45001220703125,-7850001.5,-1471875353489.3562,-7850.0015000000003,null,{"$f":"C690","v":5.1456752316978296},{"$f":"AL688","v":5.1457462224484178},{"$f":"I690-J690","v":-7.0990750588251217E-5},{"$f":"L688+KP_LR*(1+2*TA_SIM/TN_LR)*K690-KP_LR*K688","v":-0.27981359386413518},"-",{"$f":"L690","v":-0.27981359386413518},133.16753372163544,133.45001220703125,2.6648915316798139E-3,-1.8797411466514626E-2,"-",-1.8797411466514626E-2,-5.3974367456428585,-5.4162341571093728,-5.4162341571093728,-5.4248917861074997,8.6576289981268317E-3,-15.108278335137101,-15.108278335137101,-15.108278335137101,"-",-5.4193062190119345,-5.4193062190119345,-5.4193062190119345,"-",-3.7935143533083537,-7881.8083384756983,132.6749207004807,1266.9521672284041,5.1623613758497999,-2.9088820873213997E-4,2.9088820873213997E-4,{"$f":"FI_T-Rechentabelle!AL690","v":1.1176386241502003},{"$f":"K690","v":-7.0990750588251217E-5}]
[4.3062496930360794E-2,6.2499995692633092E-5,5.1540003796660372,132.95938110351563,-7850001.5,-1379883143896.2712,-7850.0015000000003,null,null,null,null,null,"-",{"$f":"N690+(L692-L690)/2","v":-0.27994519655283273},132.6749207004807,132.95938110351563,4.5152064820968008E-3,-1.341125228665052E-2,"-",-1.341125228665052E-2,-5.3974367456428585,-5.4108479979295092,-5.4108479979295092,-5.4193062190119345,8.4582210824253323E-3,-15.106450425517288,-15.106450425517288,-15.106450425517288,"-",-5.4138493021845626,-5.4138493021845626,-5.4138493021845626,"-",-3.7896945115291936,-7873.8718294809751,132.18280371113815,1262.2527961424018,5.1706228010817457,-2.9088820873213997E-4,2.9088820873213997E-4,{"$f":"FI_T-Rechentabelle!AL691","v":1.1093771989182546},{"$f":"AP690","v":-7.0990750588251217E-5}]
[4.312499612569809E-2,6.2499995692633092E-5,5.1622948635708781,132.46876525878906,-7850001.5,-1287890934303.1865,-7850.0015000000003,null,{"$f":"C692","v":5.1622948635708781},{"$f":"AL690","v":5.1623613758497999},{"$f":"I692-J692","v":-6.6512278921848633E-5},{"$f":"L690+KP_LR*(1+2*TA_SIM/TN_LR)*K692-KP_LR*K690","v":-0.28007679924153028},"-",{"$f":"L692","v":-0.28007679924153028},132.18280371113815,132.46876525878906,5.8847484093860203E-3,-8.8046936463385527E-3,"-",-8.8046936463385527E-3,-5.3974367456428585,-5.4062414392891966,-5.4062414392891966,-5.4138493021845626,7.6078628953659688E-3,-15.151906018004706,-15.151906018004706,-15.151906018004706,"-",-5.4089410035423908,-5.4089410035423908,-5.4089410035423908,"-",-3.7862587024796732,-7866.7332276743673,131.69113288440849,1257.5576855955155,5.1788534968870215,-2.9088820873213997E-4,2.9088820873213997E-4,{"$f":"FI_T-Rechentabelle!AL692","v":1.1011465031129788},{"$f":"K692","v":-6.6512278921848633E-5}]
[4.3187495321035385E-2,6.2499995692633092E-5,5.1705591602495105,131.97813415527344,-7850001.5,-1195898724710.1018,-7850.0015000000003,null,null,null,null,null,"-",{"$f":"N692+(L694-L692)/2","v":-0.27951117350347149},131.69113288440849,131.97813415527344,7.4900973614830946E-3,-3.2606265862911727E-3,"-",-3.2606265862911727E-3,-5.3974367456428585,-5.4006973722291498,-5.4006973722291498,-5.4089410035423908,8.2436313132410177E-3,-15.091855608538122,-15.091855608538122,-15.091855608538122,"-",-5.4036225317273967,-5.4036225317273967,-5.4036225317273967,"-",-3.7825357722091772,-7858.9980723232429,131.19994550488829,1252.8671916294159,5.187053493481077,-2.9088820873213997E-4,2.9088820873213997E-4,{"$f":"FI_T-Rechentabelle!AL693","v":1.0929465065189232},{"$f":"AP692","v":-6.6512278921848633E-5}]
[4.3249998241662979E-2,6.2499995692633092E-5,5.1787923160276179,131.48751831054688,-7850001.5,-1103906515117.0171,-7850.0015000000003,null,{"$f":"C694","v":5.1787923160276179},{"$f":"AL692","v":5.1788534968870215},{"$f":"I694-J694","v":-6.1180859403542343E-5},{"$f":"L692+KP_LR*(1+2*TA_SIM/TN_LR)*K694-KP_LR*K692","v":-0.27894554776541269},"-",{"$f":"L694","v":-0.27894554776541269},131.19994550488829,131.48751831054688,8.627257893181195E-3,1.4763333788079154E-3,"-",1.4763333788079154E-3,-5.3974367456428585,-5.395960412264051,-5.395960412264051,-5.4036225317273967,7.6621194633457179E-3,-15.118338410360641,-15.118338410360641,-15.118338410360641,"-",-5.3986792288478194,-5.3986792288478194,-5.3986792288478194,"-",-3.7790754601934733,-7851.8085605515744,130.70920746985382,1248.1809885870796,5.1952228189479426,-2.9088820873213997E-4,2.9088820873213997E-4,{"$f":"FI_T-Rechentabelle!AL694","v":1.0847771810520577},{"$f":"K694","v":-6.1180859403542343E-5}]
[4.3312497437000275E-2,6.2499995692633092E-5,5.1869948077423578,130.99688720703125,-7850001.5,-1011914305523.9324,-7850.0015000000003,null,null,null,null,null,"-",{"$f":"N694+(L696-L694)/2","v":-0.27836869182626978},130.70920746985382,130.99688720703125,9.3110453511542346E-3,5.3299700191111223E-3,"-",5.3299700191111223E-3,-5.3974367456428585,-5.3921067756237475,-5.3921067756237475,-5.3986792288478194,6.5724532240718503E-3,-15.18252910228528,-15.18252910228528,-15.18252910228528,"-",-5.3944389364451926,-5.3944389364451926,-5.3944389364451926,"-",-3.7761072555116346,-7845.6415032446175,130.21885487590103,1243.4984662359484,5.2033614973776867,-2.9088820873213997E-4,2.9088820873213997E-4,{"$f":"FI_T-Rechentabelle!AL695","v":1.0766385026223135},{"$f":"AP694","v":-6.1180859403542343E-5}]
[4.337499663233757E-2,6.2499995692633092E-5,5.1951666353937309,130.50625610351563,-7850001.5,-919922095930.84753,-7850.0015000000003,null,{"$f":"C696","v":5.1951666353937309},{"$f":"AL694","v":5.1952228189479426},{"$f":"I696-J696","v":-5.6183554211663989E-5},{"$f":"L694+KP_LR*(1+2*TA_SIM/TN_LR)*K696-KP_LR*K694","v":-0.2777918358871268},"-",{"$f":"L696","v":-0.2777918358871268},130.21885487590103,130.50625610351563,9.6093917274799878E-3,8.3636481726739979E-3,"-",8.3636481726739979E-3,-5.3974367456428585,-5.3890730974701846,-5.3890730974701846,-5.3944389364451926,5.3658389750079749E-3,-15.257186326330844,-15.257186326330844,-15.257186326330844,"-",-5.390977104848413,-5.390977104848413,-5.390977104848413,"-",-3.7736839733938887,-7840.60663493432,129.72881696121763,1238.81894885049,5.2114695484377629,-2.9088820873213997E-4,2.9088820873213997E-4,{"$f":"FI_T-Rechentabelle!AL696","v":1.0685304515622374},{"$f":"K696","v":-5.6183554211663989E-5}]
[4.3437495827674866E-2,6.2499995692633092E-5,5.2033082758188955,130.01564025878906,-7850001.5,-827929886337.76282,-7850.0015000000003,null,null,null,null,null,"-",{"$f":"N696+(L698-L696)/2","v":-0.27676376675721659},129.72881696121763,130.01564025878906,1.0059530814203299E-2,1.1858623404803374E-2,"-",1.1858623404803374E-2,-5.3974367456428585,-5.385578122238055,-5.385578122238055,-5.390977104848413,5.398982610357983E-3,-15.244758534655929,-15.244758534655929,-15.244758534655929,"-",-5.3874938902610854,-5.3874938902610854,-5.3874938902610854,"-",-3.7712457231827594,-7835.5406673234138,129.23909566950991,1234.1424549917319,5.2195469919171069,-2.9088820873213997E-4,2.9088820873213997E-4,{"$f":"FI_T-Rechentabelle!AL697","v":1.0604530080828933},{"$f":"AP696","v":-5.6183554211663989E-5}]
[4.349999874830246E-2,6.2499995692633092E-5,5.2114187753435344,129.52500915527344,-7850001.5,-735937676744.6781,-7850.0015000000003,null,{"$f":"C698","v":5.2114187753435344},{"$f":"AL696","v":5.2114695484377629},{"$f":"I698-J698","v":-5.0773094228517834E-5},{"$f":"L696+KP_LR*(1+2*TA_SIM/TN_LR)*K698-KP_LR*K696","v":-0.27573569762730632},"-",{"$f":"L698","v":-0.27573569762730632},129.23909566950991,129.52500915527344,1.0177788136218169E-2,1.4613780753134971E-2,"-",1.4613780753134971E-2,-5.3974367456428585,-5.3828229648897237,-5.3828229648897237,-5.3874938902610854,4.6709253713617116E-3,-15.287124304995185,-15.287124304995185,-15.287124304995185,"-",-5.3844803900214959,-5.3844803900214959,-5.3844803900214959,"-",-3.7691362730150471,-7831.1578496053326,128.74964830390957,1229.4685769346161,5.2275938449361012,-2.9088820873213997E-4,2.9088820873213997E-4,{"$f":"FI_T-Rechentabelle!AL698","v":1.052406155063899},{"$f":"K698","v":-5.0773094228517834E-5}]
[4.3562497943639755E-2,6.2499995692633092E-5,5.2194986108048065,129.03439331054688,-7850001.5,-643945467151.59326,-7850.0015000000003,null,null,null,null,null,"-",{"$f":"N698+(L700-L698)/2","v":-0.274625968958637},128.74964830390957,129.03439331054688,1.011903767866329E-2,1.6944659831322033E-2,"-",1.6944659831322033E-2,-5.3974367456428585,-5.3804920858115368,-5.3804920858115368,-5.3844803900214959,3.9883042099591037E-3,-15.327577917996296,-15.327577917996296,-15.327577917996296,"-",-5.3819072905311991,-5.3819072905311991,-5.3819072905311991,"-",-3.7673351033718392,-7827.4155482481592,128.26043483214406,1224.7969323990983,5.2356101221131102,-2.9088820873213997E-4,2.9088820873213997E-4,{"$f":"FI_T-Rechentabelle!AL699","v":1.0443898778868901},{"$f":"AP698","v":-5.0773094228517834E-5}]
[4.3624997138977051E-2,6.2499995692633092E-5,5.2275482590398701,128.54376220703125,-7850001.5,-551953257558.50854,-7850.0015000000003,null,{"$f":"C700","v":5.2275482590398701},{"$f":"AL698","v":5.2275938449361012},{"$f":"I700-J700","v":-4.5585896231159495E-5},{"$f":"L698+KP_LR*(1+2*TA_SIM/TN_LR)*K700-KP_LR*K698","v":-0.27351624028996768},"-",{"$f":"L700","v":-0.27351624028996768},128.26043483214406,128.54376220703125,9.8111345972142772E-3,1.8623429434323654E-2,"-",1.8623429434323654E-2,-5.3974367456428585,-5.378813316208535,-5.378813316208535,-5.3819072905311991,3.093974322664117E-3,-15.384565380062082,-15.384565380062082,-15.384565380062082,"-",-5.3799111780649644,-5.3799111780649644,-5.3799111780649644,"-",-3.7659378246454747,-7824.5124135580181,127.77140280629668,1220.1270205444671,5.2435958347885041,-2.9088820873213997E-4,2.9088820873213997E-4,{"$f":"FI_T-Rechentabelle!AL700","v":1.0364041652114961},{"$f":"K700","v":-4.5585896231159495E-5}]
[4.3687496334314346E-2,6.2499995692633092E-5,5.2355667663744088,128.05313110351563,-7850001.5,-459961047965.42377,-7850.0015000000003,null,null,null,null,null,"-",{"$f":"N700+(L702-L700)/2","v":-0.27269978073691792},127.77140280629668,128.05313110351563,9.0285164820329555E-3,1.9011948206041917E-2,"-",1.9011948206041917E-2,-5.3974367456428585,-5.3784247974368169,-5.3784247974368169,-5.3799111780649644,1.4863806281475433E-3,-15.494627115637421,-15.494627115637421,-15.494627115637421,"-",-5.3789522228209981,-5.3789522228209981,-5.3789522228209981,"-",-3.7652665559746983,-7823.1177144705962,127.28245794914227,1215.4579410895381,5.2515509884103251,-2.9088820873213997E-4,2.9088820873213997E-4,{"$f":"FI_T-Rechentabelle!AL701","v":1.0284490115896752},{"$f":"AP700","v":-4.5585896231159495E-5}]
[4.3749995529651642E-2,6.2499995692633092E-5,5.2435546096455807,127.56251525878906,-7850001.5,-367968838372.33905,-7850.0015000000003,null,{"$f":"C702","v":5.2435546096455807},{"$f":"AL700","v":5.2435958347885041},{"$f":"I702-J702","v":-4.1225142923373426E-5},{"$f":"L700+KP_LR*(1+2*TA_SIM/TN_LR)*K702-KP_LR*K700","v":-0.2718833211838681},"-",{"$f":"L702","v":-0.2718833211838681},127.28245794914227,127.56251525878906,8.1739884629286053E-3,1.9025593836271986E-2,"-",1.9025593836271986E-2,-5.3974367456428585,-5.3784111518065867,-5.3784111518065867,-5.3789522228209981,5.4107101441136507E-4,-15.55996942533594,-15.55996942533594,-15.55996942533594,"-",-5.378603144747184,-5.378603144747184,-5.378603144747184,"-",-3.7650222013230286,-7822.6100172928072,126.79354482306147,1210.7891646440419,5.2594755849617663,-2.9088820873213997E-4,2.9088820873213997E-4,{"$f":"FI_T-Rechentabelle!AL702","v":1.020524415038234},{"$f":"K702","v":-4.1225142923373426E-5}]
[4.3812498450279236E-2,6.2499995692633092E-5,5.2515122656905433,127.07188415527344,-7850001.5,-275976628779.25427,-7850.0015000000003,null,null,null,null,null,"-",{"$f":"N702+(L704-L702)/2","v":-0.27085530324612606},126.79354482306147,127.07188415527344,7.4840289658482106E-3,1.9252178066001959E-2,"-",1.9252178066001959E-2,-5.3974367456428585,-5.3781845675768567,-5.3781845675768567,-5.378603144747184,4.1857717032733888E-4,-15.567784558524579,-15.567784558524579,-15.567784558524579,"-",-5.378333094959876,-5.378333094959876,-5.378333094959876,"-",-3.764833166471913,-7822.2172584082955,126.30465624441095,1206.1206226092377,5.2673696259770422,-2.9088820873213997E-4,2.9088820873213997E-4,{"$f":"FI_T-Rechentabelle!AL703","v":1.0126303740229581},{"$f":"AP702","v":-4.1225142923373426E-5}]
[4.3874997645616531E-2,6.2499995692633092E-5,5.259438780834981,126.58126068115234,-7850001.5,-183984419186.16953,-7850.0015000000003,null,{"$f":"C704","v":5.259438780834981},{"$f":"AL702","v":5.2594755849617663},{"$f":"I704-J704","v":-3.6804126785305868E-5},{"$f":"L702+KP_LR*(1+2*TA_SIM/TN_LR)*K704-KP_LR*K702","v":-0.26982728530838396},"-",{"$f":"L704","v":-0.26982728530838396},126.30465624441095,126.58126068115234,6.7771514330132732E-3,1.9267248076582838E-2,"-",1.9267248076582838E-2,-5.3974367456428585,-5.3781694975662759,-5.3781694975662759,-5.378333094959876,1.6359739360005676E-4,-15.585376408373927,-15.585376408373927,-15.585376408373927,"-",-5.378227548254328,-5.378227548254328,-5.378227548254328,"-",-3.7647592837780293,-7822.0637518762287,125.81577725991869,1201.4521721918964,5.2752331120557869,-2.9088820873213997E-4,2.9088820873213997E-4,{"$f":"FI_T-Rechentabelle!AL704","v":1.0047668879442133},{"$f":"K704","v":-3.6804126785305868E-5}]
[4.3937496840953827E-2,6.2499995692633092E-5,5.2673346319160519,126.09063720703125,-7850001.5,-91992209593.084763,-7850.0015000000003,null,null,null,null,null,"-",{"$f":"N704+(L706-L704)/2","v":-0.26888467390076731},125.81577725991869,126.09063720703125,5.9752732117885898E-3,1.886680162758481E-2,"-",1.886680162758481E-2,-5.3974367456428585,-5.3785699440152737,-5.3785699440152737,-5.378227548254328,-3.4239576094563517E-4,-15.621534474774775,-15.621534474774775,-15.621534474774775,"-",-5.3784484487452611,-5.3784484487452611,-5.3784484487452611,"-",-3.7649139141216823,-7822.3850283018528,125.32687819564983,1196.7835300268127,5.2830660419430151,-2.9088820873213997E-4,2.9088820873213997E-4,{"$f":"FI_T-Rechentabelle!AL705","v":0.99693395805698515},{"$f":"AP704","v":-3.6804126785305868E-5}]
[4.3999996036291122E-2,6.2499995692633092E-5,5.2752002957709134,125.60001373291016,-7850001.5,0,-7850.0015000000003,null,{"$f":"C706","v":5.2752002957709134},{"$f":"AL704","v":5.2752331120557869},{"$f":"I706-J706","v":-3.2816284873504742E-5},{"$f":"L704+KP_LR*(1+2*TA_SIM/TN_LR)*K706-KP_LR*K704","v":-0.26794206249315067},"-",{"$f":"L706","v":-0.26794206249315067},125.32687819564983,125.60001373291016,5.1934747671822379E-3,1.8322263838775422E-2,"-",1.8322263838775422E-2,{"$f":"G706*(JM_EMS+JL_EMS)/KT_M*KP_VSR","v":-5.3974367456428585},-5.3791144818040832,{"$f":"IF(V706<-IM_R,-IM_R,IF(V706>IM_R,IM_R,V706))","v":-5.3791144818040832},-5.3784484487452611,-6.6603305882217967E-4,-15.64549785147126,{"$f":"IF(Z706<-U_ZWK,-U_ZWK,IF(Z706>U_ZWK,U_ZWK,Z706))","v":-15.64549785147126},-15.64549785147126,"-",-5.3788781474928884,-5.3788781474928884,-5.3788781474928884,"-",{"$f":"AF706*KT_M","v":-3.7652147032450216},{"$f":"AH706/(JM_EMS+JL_EMS)","v":-7823.0099797320199},124.83794007191658,1192.1145148713194,5.2908684131975097,{"$f":"-DF_LR","v":-2.9088820873213997E-4},{"$f":"DF_LR","v":2.9088820873213997E-4},{"$f":"FI_T-Rechentabelle!AL706","v":0.98913158680249058},{"$f":"K706","v":-3.2816284873504742E-5}]
[4.4062495231628418E-2,6.2499995692633092E-5,5.2830348187252509,125.10939025878906,-7850001.5,null,{"$f":"E707/1000","v":-7850.0015000000003},null,null,null,null,null,"-",{"$f":"N706+(L708-L706)/2","v":-0.26738980910766785},124.83794007191658,125.10939025878906,4.0603777648158257E-3,{"$f":"R706+KP_DR*(1+TA_SIM/TN_DR)*Q707-KP_DR*Q706","v":1.6687867315814522E-2},"-",{"$f":"R707","v":1.6687867315814522E-2},-5.3974367456428585,{"$f":"T707+U707","v":-5.3807488783270436},-5.3807488783270436,-5.3788781474928884,{"$f":"W707-X707","v":-1.870730834155232E-3},-15.733559940100477,-15.733559940100477,{"$f":"AA707","v":-15.733559940100477},"-",{"$f":"(1/R_M*AB707+AD706*T_M/TA_SIM)/(1+T_M/TA_SIM)","v":-5.3800850706116989},{"$f":"AD707","v":-5.3800850706116989},{"$f":"AE707","v":-5.3800850706116989},"-",-3.766059549428189,-7824.7653218952601,124.34889223929812,1187.4444520731431,5.2986402189624657,-2.9088820873213997E-4,2.9088820873213997E-4,{"$f":"FI_T-Rechentabelle!AL707","v":0.98135978103753452},{"$f":"AP706","v":-3.2816284873504742E-5}]
[4.4124998152256012E-2,6.2499995692633092E-5,5.2908386776162208,124.61875915527344,-7850001.5,null,-7850.0015000000003,null,{"$f":"C708","v":5.2908386776162208},{"$f":"AL706","v":5.2908684131975097},{"$f":"I708-J708","v":-2.9735581288825585E-5},{"$f":"L706+KP_LR*(1+2*TA_SIM/TN_LR)*K708-KP_LR*K706","v":-0.26683755572218509},"-",{"$f":"L708","v":-0.26683755572218509},{"$f":"AJ707","v":124.34889223929812},{"$f":"D708*KP_VDR","v":124.61875915527344},{"$f":"N708-O708+P708","v":3.029360253123059E-3},1.5038535482774085E-2,"-",1.5038535482774085E-2,-5.3974367456428585,-5.3823982101600842,-5.3823982101600842,{"$f":"AF707","v":-5.3800850706116989},-2.3131395483853012E-3,-15.768941987067283,-15.768941987067283,-15.768941987067283,"-",-5.3815774187074314,-5.3815774187074314,-5.3815774187074314,"-",-3.7671041930952018,-7826.9357845318955,123.85970875276487,1182.7730938755014,5.3063814507595133,-2.9088820873213997E-4,2.9088820873213997E-4,{"$f":"FI_T-Rechentabelle!AL708","v":0.97361854924048696},{"$f":"K708","v":-2.9735581288825585E-5}]
[4.4187497347593307E-2,6.2499995692633092E-5,5.298611872443824,124.12813568115234,-7850001.5,null,-7850.0015000000003,null,null,null,null,null,"-",{"$f":"N708+(L710-L708)/2","v":-0.26611061057370822},123.85970875276487,124.12813568115234,2.3163178137650675E-3,1.3951808982059112E-2,"-",1.3951808982059112E-2,-5.3974367456428585,-5.3834849366607997,-5.3834849366607997,-5.3815774187074314,-1.9075179533682984E-3,-15.74403887256852,-15.74403887256852,-15.74403887256852,"-",-5.3828080754515399,-5.3828080754515399,-5.3828080754515399,"-",-3.7679656528160779,-7828.7256447456421,123.37041339996827,1178.1006674337332,5.3140921015970113,-2.9088820873213997E-4,2.9088820873213997E-4,{"$f":"FI_T-Rechentabelle!AL709","v":0.96590789840298896},{"$f":"AP708","v":-2.9735581288825585E-5}]
[4.4249996542930603E-2,6.2499995692633092E-5,5.3063548800452178,123.63751220703125,-7850001.5,null,-7850.0015000000003,null,{"$f":"C710","v":5.3063548800452178},{"$f":"AL708","v":5.3063814507595133},{"$f":"I710-J710","v":-2.6570714295459652E-5},{"$f":"L708+KP_LR*(1+2*TA_SIM/TN_LR)*K710-KP_LR*K708","v":-0.2653836654252314},"-",{"$f":"L710","v":-0.2653836654252314},123.37041339996827,123.63751220703125,1.7151416377458872E-3,1.2977605784883418E-2,"-",1.2977605784883418E-2,-5.3974367456428585,-5.3844591398579746,-5.3844591398579746,-5.3828080754515399,-1.6510644064346991E-3,-15.729126576357091,-15.729126576357091,-15.729126576357091,"-",-5.3838732782944003,-5.3838732782944003,-5.3838732782944003,"-",-3.7687112948060801,-7830.2748697404522,122.8810212206095,1173.4273163664052,5.3217721654232992,-2.9088820873213997E-4,2.9088820873213997E-4,{"$f":"FI_T-Rechentabelle!AL710","v":0.95822783457670102},{"$f":"K710","v":-2.6570714295459652E-5}]
[4.4312495738267899E-2,6.2499995692633092E-5,5.3140667467460876,123.14688873291016,-7850001.5,null,-7850.0015000000003,null,null,null,null,null,"-",{"$f":"N710+(L712-L710)/2","v":-0.26502128388618473},122.8810212206095,123.14688873291016,8.4622841447412611E-4,1.1171480885836516E-2,"-",1.1171480885836516E-2,-5.3974367456428585,-5.3862652647570224,-5.3862652647570224,-5.3838732782944003,-2.3919864626220644E-3,-15.785609854069858,-15.785609854069858,-15.785609854069858,"-",-5.3854164953670605,-5.3854164953670605,-5.3854164953670605,"-",-3.7697915467569421,-7832.5193159296523,122.3914887633639,1168.7526257439317,5.3294216334710098,-2.9088820873213997E-4,2.9088820873213997E-4,{"$f":"FI_T-Rechentabelle!AL711","v":0.95057836652899041},{"$f":"AP710","v":-2.6570714295459652E-5}]
[4.4374998658895493E-2,6.2499995692633092E-5,5.3217479493835897,122.65626525878906,-7850001.5,null,-7850.0015000000003,null,{"$f":"C712","v":5.3217479493835897},{"$f":"AL710","v":5.3217721654232992},{"$f":"I712-J712","v":-2.4216039709479276E-5},{"$f":"L710+KP_LR*(1+2*TA_SIM/TN_LR)*K712-KP_LR*K710","v":-0.26465890234713813},"-",{"$f":"L712","v":-0.26465890234713813},122.3914887633639,122.65626525878906,1.1759307803060892E-4,9.512607859667864E-3,"-",9.512607859667864E-3,-5.3974367456428585,-5.387924137783191,-5.387924137783191,-5.3854164953670605,-2.5076424161305511E-3,-15.7984198739076,-15.7984198739076,-15.7984198739076,"-",-5.3870343291839191,-5.3870343291839191,-5.3870343291839191,"-",-3.770924030428743,-7834.8722842899288,121.90180924559577,1164.0765307969127,5.3370404965488598,-2.9088820873213997E-4,2.9088820873213997E-4,{"$f":"FI_T-Rechentabelle!AL712","v":0.94295950345114044},{"$f":"K712","v":-2.4216039709479276E-5}]
[4.4437497854232788E-2,6.2499995692633092E-5,5.3293989647948834,122.16563415527344,-7850001.5,null,-7850.0015000000003,null,null,null,null,null,"-",{"$f":"N712+(L714-L712)/2","v":-0.26407818180107112},121.90180924559577,122.16563415527344,-2.5327212340187089E-4,8.5919270198353357E-3,"-",8.5919270198353357E-3,-5.3974367456428585,-5.3888448186230233,-5.3888448186230233,-5.3870343291839191,-1.8104894391042237E-3,-15.752871600019173,-15.752871600019173,-15.752871600019173,"-",-5.3882023868865669,-5.3882023868865669,-5.3882023868865669,"-",-3.7717416708205964,-7836.5711008115441,121.41202355179504,1159.3994219434678,5.3446287480208472,-2.9088820873213997E-4,2.9088820873213997E-4,{"$f":"FI_T-Rechentabelle!AL713","v":0.93537125197915305},{"$f":"AP712","v":-2.4216039709479276E-5}]
[4.4499997049570084E-2,6.2499995692633092E-5,5.3370188393056512,121.67501068115234,-7850001.5,null,-7850.0015000000003,null,{"$f":"C714","v":5.3370188393056512},{"$f":"AL712","v":5.3370404965488598},{"$f":"I714-J714","v":-2.1657243208572652E-5},{"$f":"L712+KP_LR*(1+2*TA_SIM/TN_LR)*K714-KP_LR*K712","v":-0.26349746125500412},"-",{"$f":"L714","v":-0.26349746125500412},121.41202355179504,121.67501068115234,-5.1033189770066656E-4,7.8721536910801339E-3,"-",7.8721536910801339E-3,-5.3974367456428585,-5.3895645919517783,-5.3895645919517783,-5.3882023868865669,-1.3622050652113415E-3,-15.723953570864055,-15.723953570864055,-15.723953570864055,"-",-5.3890812288641232,-5.3890812288641232,-5.3890812288641232,"-",-3.7723568602048858,-7837.849283617049,120.92215797156898,1154.7215502308543,5.3521863828940699,-2.9088820873213997E-4,2.9088820873213997E-4,{"$f":"FI_T-Rechentabelle!AL714","v":0.92781361710593035},{"$f":"K714","v":-2.1657243208572652E-5}]
[4.4562496244907379E-2,6.2499995692633092E-5,5.3446080497530533,121.18438720703125,-7850001.5,null,-7850.0015000000003,null,null,null,null,null,"-",{"$f":"N714+(L716-L714)/2","v":-0.26323167607004433},120.92215797156898,121.18438720703125,-1.0024406077775438E-3,6.4880274765745979E-3,"-",6.4880274765745979E-3,-5.3974367456428585,-5.3909487181662836,-5.3909487181662836,-5.3890812288641232,-1.8674893021604078E-3,-15.762915276642328,-15.762915276642328,-15.762915276642328,"-",-5.3902860606719685,-5.3902860606719685,-5.3902860606719685,"-",-3.7732002424703777,-7839.6015841894396,120.43218287255714,1150.0426326908737,5.3597133943236051,-2.9088820873213997E-4,2.9088820873213997E-4,{"$f":"FI_T-Rechentabelle!AL715","v":0.9202866056763952},{"$f":"AP714","v":-2.1657243208572652E-5}]
[4.4624995440244675E-2,6.2499995692633092E-5,5.3521665961370877,120.69376373291016,-7850001.5,null,-7850.0015000000003,null,{"$f":"C716","v":5.3521665961370877},{"$f":"AL714","v":5.3521863828940699},{"$f":"I716-J716","v":-1.9786756982220766E-5},{"$f":"L714+KP_LR*(1+2*TA_SIM/TN_LR)*K716-KP_LR*K714","v":-0.26296589088508454},"-",{"$f":"L716","v":-0.26296589088508454},120.43218287255714,120.69376373291016,-1.3850305320630696E-3,5.2642774562747258E-3,"-",5.2642774562747258E-3,-5.3974367456428585,-5.3921724681865841,-5.3921724681865841,-5.3902860606719685,-1.8864075146156623E-3,-15.767772620711694,-15.767772620711694,-15.767772620711694,"-",-5.3915030977781724,-5.3915030977781724,-5.3915030977781724,"-",-3.7740521684447206,-7841.3716360787876,119.94209714530221,1145.3626587289893,5.3672097753951862,-2.9088820873213997E-4,2.9088820873213997E-4,{"$f":"FI_T-Rechentabelle!AL716","v":0.91279022460481407},{"$f":"K716","v":-1.9786756982220766E-5}]
[4.4687498360872269E-2,6.2499995692633092E-5,5.3596949552949136,120.20314025878906,-7850001.5,null,-7850.0015000000003,null,null,null,null,null,"-",{"$f":"N716+(L718-L716)/2","v":-0.26243427103971378},119.94209714530221,120.20314025878906,-1.3911575528595677E-3,4.910933120075821E-3,"-",4.910933120075821E-3,-5.3974367456428585,-5.3925258125227824,-5.3925258125227824,-5.3915030977781724,-1.0227147446100204E-3,-15.709060426765085,-15.709060426765085,-15.709060426765085,"-",-5.3921629137424363,-5.3921629137424363,-5.3921629137424363,"-",-3.7745140396197052,-7842.3312686883546,119.45195144100919,1140.6821120285797,5.3746755223602491,-2.9088820873213997E-4,2.9088820873213997E-4,{"$f":"FI_T-Rechentabelle!AL717","v":0.9053244776397511},{"$f":"AP716","v":-1.9786756982220766E-5}]
[4.4749997556209564E-2,6.2499995692633092E-5,5.3671921735522137,119.71250915527344,-7850001.5,null,-7850.0015000000003,null,{"$f":"C718","v":5.3671921735522137},{"$f":"AL716","v":5.3672097753951862},{"$f":"I718-J718","v":-1.7601842972503334E-5},{"$f":"L716+KP_LR*(1+2*TA_SIM/TN_LR)*K718-KP_LR*K716","v":-0.26190265119434303},"-",{"$f":"L718","v":-0.26190265119434303},119.45195144100919,119.71250915527344,-1.3449369300957414E-3,4.6900957483504719E-3,"-",4.6900957483504719E-3,-5.3974367456428585,-5.3927466498945078,-5.3927466498945078,-5.3921629137424363,-5.8373615207152341E-4,-15.679339113199161,-15.679339113199161,-15.679339113199161,"-",-5.3925395177115147,-5.3925395177115147,-5.3925395177115147,"-",-3.7747776623980602,-7842.8789993726568,118.96177150354839,1136.0012384254981,5.382110633079221,-2.9088820873213997E-4,2.9088820873213997E-4,{"$f":"FI_T-Rechentabelle!AL718","v":0.89788936692077925},{"$f":"K718","v":-1.7601842972503334E-5}]
[4.481249675154686E-2,6.2499995692633092E-5,5.3746592045833061,119.22188568115234,-7850001.5,null,-7850.0015000000003,null,null,null,null,null,"-",{"$f":"N718+(L720-L718)/2","v":-0.26135703085843331},118.96177150354839,119.22188568115234,-1.2428532544817017E-3,4.6235261358451756E-3,"-",4.6235261358451756E-3,-5.3974367456428585,-5.3928132195070129,-5.3928132195070129,-5.3925395177115147,-2.737017954981269E-4,-15.658088788819651,-15.658088788819651,-15.658088788819651,"-",-5.392716099515062,-5.392716099515062,-5.392716099515062,"-",-3.7749012696605431,-7843.1358189498087,118.47157551486403,1131.320211544522,5.3895151065488998,-2.9088820873213997E-4,2.9088820873213997E-4,{"$f":"FI_T-Rechentabelle!AL719","v":0.89048489345110049},{"$f":"AP718","v":-1.7601842972503334E-5}]
[4.4874995946884155E-2,6.2499995692633092E-5,5.3820950947138728,118.73126220703125,-7850001.5,null,-7850.0015000000003,null,{"$f":"C720","v":5.3820950947138728},{"$f":"AL718","v":5.382110633079221},{"$f":"I720-J720","v":-1.5538365348177763E-5},{"$f":"L718+KP_LR*(1+2*TA_SIM/TN_LR)*K720-KP_LR*K718","v":-0.26081141052252355},"-",{"$f":"L720","v":-0.26081141052252355},118.47157551486403,118.73126220703125,-1.1247183552995921E-3,4.6229320587549971E-3,"-",4.6229320587549971E-3,-5.3974367456428585,-5.3928138135841035,-5.3928138135841035,-5.392716099515062,-9.7714069041465734E-5,-15.64591840569819,-15.64591840569819,-15.64591840569819,"-",-5.3927791408499273,-5.3927791408499273,-5.3927791408499273,"-",-3.7749453985949488,-7843.227505910967,117.98137379574459,1126.6391299419217,5.3968889424111337,-2.9088820873213997E-4,2.9088820873213997E-4,{"$f":"FI_T-Rechentabelle!AL720","v":0.88311105758886654},{"$f":"K720","v":-1.5538365348177763E-5}]
[4.4937495142221451E-2,6.2499995692633092E-5,5.3895003207810728,118.24063873291016,-7850001.5,null,-7850.0015000000003,null,null,null,null,null,"-",{"$f":"N720+(L722-L720)/2","v":-0.26053776233901416},117.98137379574459,118.24063873291016,-1.2728251734444029E-3,3.9696068049434718E-3,"-",3.9696068049434718E-3,-5.3974367456428585,-5.3934671388379147,-5.3934671388379147,-5.3927791408499273,-6.8799798798746536E-4,-15.688639750566892,-15.688639750566892,-15.688639750566892,"-",-5.3932230105195975,-5.3932230105195975,-5.3932230105195975,"-",-3.7752561073637181,-7843.8730674500684,117.49113172902896,1121.957663048159,5.4042321381441978,-2.9088820873213997E-4,2.9088820873213997E-4,{"$f":"FI_T-Rechentabelle!AL721","v":0.87576786185580247},{"$f":"AP720","v":-1.5538365348177763E-5}]
[4.4999998062849045E-2,6.2499995692633092E-5,5.3968748827849051,117.75001525878906,-7850001.5,null,-7850.0015000000003,null,{"$f":"C722","v":5.3968748827849051},{"$f":"AL720","v":5.3968889424111337},{"$f":"I722-J722","v":-1.4059626228579702E-5},{"$f":"L720+KP_LR*(1+2*TA_SIM/TN_LR)*K722-KP_LR*K720","v":-0.26026411415550477},"-",{"$f":"L722","v":-0.26026411415550477},117.49113172902896,117.75001525878906,-1.3805843954060038E-3,3.3834568922020188E-3,"-",3.3834568922020188E-3,-5.3974367456428585,-5.3940532887506567,-5.3940532887506567,-5.3932230105195975,-8.3027823105918941E-4,-15.700180329480618,-15.700180329480618,-15.700180329480618,"-",-5.3937586738944745,-5.3937586738944745,-5.3937586738944745,"-",-3.7756310717261319,-7844.6521332352622,117.00084097070176,1117.2757311837561,5.4115446907048668,-2.9088820873213997E-4,2.9088820873213997E-4,{"$f":"FI_T-Rechentabelle!AL722","v":0.86845530929513348},{"$f":"K722","v":-1.4059626228579702E-5}]
[4.506249725818634E-2,6.2499995692633092E-5,5.4042192575625299,117.25938415527344,-7850001.5,null,-7850.0015000000003,null,null,null,null,null,"-",{"$f":"N722+(L724-L722)/2","v":-0.25969958325733888},117.00084097070176,117.25938415527344,-1.1563986856657493E-3,3.6207562505025754E-3,"-",3.6207562505025754E-3,-5.3974367456428585,-5.3938159893923556,-5.3938159893923556,-5.3937586738944745,-5.7315497881127442E-5,{"$f":"Z722+KP_SR*(1+TA_SIM/TN_SR)*Y723-KP_SR*Y722","v":-15.64603056791551},-15.64603056791551,-15.64603056791551,"-",-5.3937956516350427,-5.3937956516350427,-5.3937956516350427,"-",-3.7756569561445295,-7844.7059134521696,{"$f":"AJ722+AI723*TA_SIM","v":116.510546851111},1112.5937672216508,{"$f":"AL722+AJ723*TA_SIM","v":5.4188265998830616},-2.9088820873213997E-4,2.9088820873213997E-4,{"$f":"FI_T-Rechentabelle!AL723","v":0.86117340011693866},{"$f":"AP722","v":-1.4059626228579702E-5}]
[4.5124996453523636E-2,6.2499995692633092E-5,5.4115324914396288,116.76876068115234,-7850001.5,null,-7850.0015000000003,null,{"$f":"C724","v":5.4115324914396288},{"$f":"AL722","v":5.4115446907048668},{"$f":"I724-J724","v":-1.2199265237988755E-5},{"$f":"L722+KP_LR*(1+2*TA_SIM/TN_LR)*K724-KP_LR*K722","v":-0.25913505235917306},"-",{"$f":"L724","v":-0.25913505235917306},116.510546851111,116.76876068115234,-9.2122231782809649E-4,3.9408445709644439E-3,"-",3.9408445709644439E-3,-5.3974367456428585,-5.3934959010718941,-5.3934959010718941,-5.3937956516350427,2.9975056314857085E-4,-15.620406010448955,-15.620406010448955,-15.620406010448955,"-",-5.3936022641749464,-5.3936022641749464,-5.3936022641749464,"-",-3.7755215849224624,-7844.4246518231084,116.02027031037206,1107.9119711252147,5.4260778667774598,-2.9088820873213997E-4,2.9088820873213997E-4,{"$f":"FI_T-Rechentabelle!AL724","v":0.8539221332225404},{"$f":"K724","v":-1.2199265237988755E-5}]
[4.5187495648860931E-2,6.2499995692633092E-5,5.418815061253361,116.27813720703125,-7850001.5,null,-7850.0015000000003,null,null,null,null,null,"-",{"$f":"N724+(L726-L724)/2","v":-0.25854685096245078},116.02027031037206,116.27813720703125,-6.799543032514066E-4,4.3338606945803439E-3,"-",4.3338606945803439E-3,-5.3974367456428585,-5.3931028849482781,-5.3931028849482781,-5.3936022641749464,4.9937922666831724E-4,-15.60545904377264,-15.60545904377264,-15.60545904377264,"-",-5.3932800840287092,-5.3932800840287092,-5.3932800840287092,"-",-3.7752960588200963,-7843.9560748391768,115.53002305569461,1103.2304546900659,5.4332984932184409,-2.9088820873213997E-4,2.9088820873213997E-4,{"$f":"FI_T-Rechentabelle!AL725","v":0.84670150678155931},{"$f":"AP724","v":-1.2199265237988755E-5}]
[4.5249998569488525E-2,6.2499995692633092E-5,5.4260674438408847,115.78751373291016,-7850001.5,null,-7850.0015000000003,null,{"$f":"C726","v":5.4260674438408847},{"$f":"AL724","v":5.4260778667774598},{"$f":"I726-J726","v":-1.0422936575160691E-5},{"$f":"L724+KP_LR*(1+2*TA_SIM/TN_LR)*K726-KP_LR*K724","v":-0.2579586495657285},"-",{"$f":"L726","v":-0.2579586495657285},115.53002305569461,115.78751373291016,-4.6797235017947969E-4,4.7107290588317939E-3,"-",4.7107290588317939E-3,-5.3974367456428585,-5.3927260165840263,-5.3927260165840263,-5.3932800840287092,5.5406744468289304E-4,-15.600583641379371,-15.600583641379371,-15.600583641379371,"-",-5.3929226211611718,-5.3929226211611718,-5.3929226211611718,"-",-3.7750458348128202,-7843.4361828647825,115.03980829426557,1098.5492485425832,5.4404884812368328,-2.9088820873213997E-4,2.9088820873213997E-4,{"$f":"FI_T-Rechentabelle!AL726","v":0.83951151876316743},{"$f":"K726","v":-1.0422936575160691E-5}]
[4.5312497764825821E-2,6.2499995692633092E-5,5.4332886855278826,115.29688262939453,-7850001.5,null,-7850.0015000000003,null,null,null,null,null,"-",{"$f":"N726+(L728-L726)/2","v":-0.25764589757082357},115.03980829426557,115.29688262939453,-5.7156244186273852E-4,4.3314685746648355E-3,"-",4.3314685746648355E-3,-5.3974367456428585,-5.3931052770681935,-5.3931052770681935,-5.3929226211611718,-1.8265590702171153E-4,-15.652638610925065,-15.652638610925065,-15.652638610925065,"-",-5.3930404636818317,-5.3930404636818317,-5.3930404636818317,"-",-3.775128324577282,-7843.6075723608592,114.54958282099301,1093.8679401045297,5.4476478301631452,-2.9088820873213997E-4,2.9088820873213997E-4,{"$f":"FI_T-Rechentabelle!AL727","v":0.832352169836855},{"$f":"AP726","v":-1.0422936575160691E-5}]
[4.5374996960163116E-2,6.2499995692633092E-5,5.4404792631515146,114.80625915527344,-7850001.5,null,-7850.0015000000003,null,{"$f":"C728","v":5.4404792631515146},{"$f":"AL726","v":5.4404884812368328},{"$f":"I728-J728","v":-9.2180853181744737E-6},{"$f":"L726+KP_LR*(1+2*TA_SIM/TN_LR)*K728-KP_LR*K726","v":-0.25733314557591858},"-",{"$f":"L728","v":-0.25733314557591858},114.54958282099301,114.80625915527344,-6.5681129548522676E-4,3.9739039064243843E-3,"-",3.9739039064243843E-3,-5.3974367456428585,-5.3934628417364339,-5.3934628417364339,-5.3930404636818317,-4.2237805460221267E-4,-15.670255814805778,-15.670255814805778,-15.670255814805778,"-",-5.3933129656525436,-5.3933129656525436,-5.3933129656525436,"-",-3.7753190759567801,-7844.0038976870555,114.05933257738756,1089.186395127221,5.4547765384492317,-2.9088820873213997E-4,2.9088820873213997E-4,{"$f":"FI_T-Rechentabelle!AL728","v":0.82522346155076853},{"$f":"K728","v":-9.2180853181744737E-6}]
[4.5437496155500412E-2,6.2499995692633092E-5,5.4476391767117782,114.31563568115234,-7850001.5,null,-7850.0015000000003,null,null,null,null,null,"-",{"$f":"N728+(L730-L728)/2","v":-0.25674280210539679},114.05933257738756,114.31563568115234,-4.3969834061385882E-4,4.3695488205802505E-3,"-",4.3695488205802505E-3,-5.3974367456428585,-5.3930671968222779,-5.3930671968222779,-5.3933129656525436,2.457688302657246E-4,-15.622896388559711,-15.622896388559711,-15.622896388559711,"-",-5.3931544051168876,-5.3931544051168876,-5.3931544051168876,"-",-3.7752080835818211,-7843.7732881400807,113.56909674687881,{"$f":"AJ729/(2*PI())*60","v":1084.5049877848473},5.4618746069959112,-2.9088820873213997E-4,2.9088820873213997E-4,{"$f":"FI_T-Rechentabelle!AL729","v":0.81812539300408904},{"$f":"AP728","v":-9.2180853181744737E-6}]
[4.5499995350837708E-2,6.2499995692633092E-5,5.4547689030458342,113.82501220703125,-7850001.5,null,-7850.0015000000003,null,{"$f":"C730","v":5.4547689030458342},{"$f":"AL728","v":5.4547765384492317},{"$f":"I730-J730","v":-7.6354033975434277E-6},{"$f":"L728+KP_LR*(1+2*TA_SIM/TN_LR)*K730-KP_LR*K728","v":-0.25615245863487507},"-",{"$f":"L730","v":-0.25615245863487507},113.56909674687881,113.82501220703125,-2.3699848243552424E-4,4.7812293027687074E-3,"-",4.7812293027687074E-3,-5.3974367456428585,-5.3926555163400893,-5.3926555163400893,-5.3931544051168876,4.9888877679826749E-4,-15.604195596536837,-15.604195596536837,-15.604195596536837,"-",-5.3928325413899216,-5.3928325413899216,-5.3928325413899216,"-",-3.7749827789729449,-7843.3051713545492,113.07889017366915,1079.8238598290998,5.4689420376317655,-2.9088820873213997E-4,2.9088820873213997E-4,{"$f":"FI_T-Rechentabelle!AL730","v":0.8110579623682348},{"$f":"K730","v":-7.6354033975434277E-6}]
[4.5562498271465302E-2,6.2499995692633092E-5,5.4618674884793652,113.33438873291016,-7850001.5,null,-7850.0015000000003,null,null,null,null,null,"-",{"$f":"N730+(L732-L730)/2","v":-0.25584750965372466},113.07889017366915,113.33438873291016,-3.4895041271454375E-4,4.4368737230991353E-3,"-",4.4368737230991353E-3,-5.3974367456428585,-5.3929998719197592,-5.3929998719197592,-5.3928325413899216,-1.6733052983752827E-4,-15.651272963697162,-15.651272963697162,-15.651272963697162,"-",-5.3929404965704615,-5.3929404965704615,-5.3929404965704615,"-",-3.7750583475993227,-7843.4621807590329,112.58867378737172,1075.1426381652668,5.4759788297434762,-2.9088820873213997E-4,2.9088820873213997E-4,{"$f":"FI_T-Rechentabelle!AL731","v":0.80402117025652409},{"$f":"AP730","v":-7.6354033975434277E-6}]
[4.5624997466802597E-2,6.2499995692633092E-5,5.4689354098495286,112.84375762939453,-7850001.5,null,-7850.0015000000003,null,{"$f":"C732","v":5.4689354098495286},{"$f":"AL730","v":5.4689420376317655},{"$f":"I732-J732","v":-6.627782236812152E-6},{"$f":"L730+KP_LR*(1+2*TA_SIM/TN_LR)*K732-KP_LR*K730","v":-0.25554256067257425},"-",{"$f":"L732","v":-0.25554256067257425},112.58867378737172,112.84375762939453,-4.5871864976732013E-4,4.0708149543728853E-3,"-",4.0708149543728853E-3,-5.3974367456428585,-5.3933659306884856,-5.3933659306884856,-5.3929404965704615,-4.2543411802409281E-4,-15.670186143914561,-15.670186143914561,-15.670186143914561,"-",-5.3932149701949932,-5.3932149701949932,-5.3932149701949932,"-",-3.7752504791364951,-7843.8613736474026,112.09843245151876,1070.4611782507286,5.482984981771696,-2.9088820873213997E-4,2.9088820873213997E-4,{"$f":"FI_T-Rechentabelle!AL732","v":0.79701501822830423},{"$f":"K732","v":-6.627782236812152E-6}]
[4.5687496662139893E-2,6.2499995692633092E-5,5.4759731439934836,112.35313415527344,-7850001.5,null,-7850.0015000000003,null,null,null,null,null,"-",{"$f":"N732+(L734-L732)/2","v":-0.25496927243030976},112.09843245151876,112.35313415527344,-2.6756867563904052E-4,4.4482927696455699E-3,"-",4.4482927696455699E-3,-5.3974367456428585,-5.3929884528732126,-5.3929884528732126,-5.3932149701949932,2.2651732178058381E-4,-15.623999552376553,-15.623999552376553,-15.623999552376553,"-",-5.393068829987393,-5.393068829987393,-5.393068829987393,"-",-3.7751481809911747,-7843.6488281553593,111.60820439975905,1065.7798451899364,5.4899604945466809,-2.9088820873213997E-4,2.9088820873213997E-4,{"$f":"FI_T-Rechentabelle!AL733","v":0.79003950545331936},{"$f":"AP732","v":-6.627782236812152E-6}]
[4.5749995857477188E-2,6.2499995692633092E-5,5.4829797372369136,111.86251068115234,-7850001.5,null,-7850.0015000000003,null,{"$f":"C734","v":5.4829797372369136},{"$f":"AL732","v":5.482984981771696},{"$f":"I734-J734","v":-5.2445347824559008E-6},{"$f":"L732+KP_LR*(1+2*TA_SIM/TN_LR)*K734-KP_LR*K732","v":-0.25439598418804532},"-",{"$f":"L734","v":-0.25439598418804532},111.60820439975905,111.86251068115234,-8.9702794753065973E-5,4.8383666180244981E-3,"-",4.8383666180244981E-3,-5.3974367456428585,-5.3925983790248342,-5.3925983790248342,-5.393068829987393,4.7045096255882157E-4,-15.605996785984233,-15.605996785984233,-15.605996785984233,"-",-5.392765313237355,-5.392765313237355,-5.392765313237355,"-",-3.7749357192661481,-7843.2073951093862,111.11800393756471,1061.0987755900867,5.4969053697927786,-2.9088820873213997E-4,2.9088820873213997E-4,{"$f":"FI_T-Rechentabelle!AL734","v":0.7830946302072217},{"$f":"K734","v":-5.2445347824559008E-6}]
[4.5812495052814484E-2,6.2499995692633092E-5,5.489955666416976,111.37188720703125,-7850001.5,null,-7850.0015000000003,null,null,null,null,null,"-",{"$f":"N734+(L736-L734)/2","v":-0.2538279415510486},111.11800393756471,111.37188720703125,5.5327915490011037E-5,5.1877506433283191E-3,"-",5.1877506433283191E-3,-5.3974367456428585,-5.3922489949995303,-5.3922489949995303,-5.392765313237355,5.1631823782471997E-4,-15.601811184410929,-15.601811184410929,-15.601811184410929,"-",-5.3924322046968234,-5.3924322046968234,-5.3924322046968234,"-",-3.7747025432877761,-7842.7229239305543,110.62783375481905,1056.417995137673,5.5038196094024547,-2.9088820873213997E-4,2.9088820873213997E-4,{"$f":"FI_T-Rechentabelle!AL735","v":0.77618039059754551},{"$f":"AP734","v":-5.2445347824559008E-6}]
[4.5874997973442078E-2,6.2499995692633092E-5,5.4969014083708307,110.88126373291016,-7850001.5,null,-7850.0015000000003,null,{"$f":"C736","v":5.4969014083708307},{"$f":"AL734","v":5.4969053697927786},{"$f":"I736-J736","v":-3.961421947806798E-6},{"$f":"L734+KP_LR*(1+2*TA_SIM/TN_LR)*K736-KP_LR*K734","v":-0.25325989891405182},"-",{"$f":"L736","v":-0.25325989891405182},110.62783375481905,110.88126373291016,1.7007917705313957E-4,5.4949820677709493E-3,"-",5.4949820677709493E-3,-5.3974367456428585,-5.3919417635750877,-5.3919417635750877,-5.3924322046968234,4.9044112173568521E-4,-15.602709991493157,-15.602709991493157,-15.602709991493157,"-",-5.3921157910698971,-5.3921157910698971,-5.3921157910698971,"-",-3.7744810537489277,-7842.2627337397207,110.13769233396032,1051.7374893410481,5.5107032151733275,-2.9088820873213997E-4,2.9088820873213997E-4,{"$f":"FI_T-Rechentabelle!AL736","v":0.76929678482667274},{"$f":"K736","v":-3.961421947806798E-6}]
[4.5937497168779373E-2,6.2499995692633092E-5,5.5038160094241597,110.39063262939453,-7850001.5,null,-7850.0015000000003,null,null,null,null,null,"-",{"$f":"N736+(L738-L736)/2","v":-0.25299860951657083},110.13769233396032,110.39063262939453,-5.8314082352239893E-5,4.9517998659615895E-3,"-",4.9517998659615895E-3,-5.3974367456428585,-5.3924849457768973,-5.3924849457768973,-5.3921157910698971,-3.6915470700016328E-4,-15.663738749439455,-15.663738749439455,-15.663738749439455,"-",-5.3923539553969944,-5.3923539553969944,-5.3923539553969944,"-",-3.7746477687778959,-7842.6091185910982,109.64752926404837,1047.056776811193,5.5175561857523308,-2.9088820873213997E-4,2.9088820873213997E-4,{"$f":"FI_T-Rechentabelle!AL737","v":0.76244381424766949},{"$f":"AP736","v":-3.961421947806798E-6}]
[4.5999996364116669E-2,6.2499995692633092E-5,5.5106999464141211,109.90000915527344,-7850001.5,null,-7850.0015000000003,null,{"$f":"C738","v":5.5106999464141211},{"$f":"AL736","v":5.5107032151733275},{"$f":"I738-J738","v":-3.2687592064206683E-6},{"$f":"L736+KP_LR*(1+2*TA_SIM/TN_LR)*K738-KP_LR*K736","v":-0.25273732011908989},"-",{"$f":"L738","v":-0.25273732011908989},109.64752926404837,109.90000915527344,-2.5742889403090885E-4,4.4278847041407223E-3,"-",4.4278847041407223E-3,-5.3974367456428585,-5.3930088609387177,-5.3930088609387177,-5.3923539553969944,-6.5490554172331628E-4,-15.685021921625827,-15.685021921625827,-15.685021921625827,"-",-5.392776475101333,-5.392776475101333,-5.392776475101333,"-",-3.7749435325709326,-7843.2236288612767,109.15732778724454,1042.3756975225363,5.5243785187390335,-2.9088820873213997E-4,2.9088820873213997E-4,{"$f":"FI_T-Rechentabelle!AL738","v":0.75562148126096673},{"$f":"K738","v":-3.2687592064206683E-6}]
[4.6062495559453964E-2,6.2499995692633092E-5,5.5175536961778748,109.40938568115234,-7850001.5,null,-7850.0015000000003,null,null,null,null,null,"-",{"$f":"N738+(L740-L738)/2","v":-0.25222835628520707},109.15732778724454,109.40938568115234,-1.7046237739748449E-4,4.5877442992780038E-3,"-",4.5877442992780038E-3,-5.3974367456428585,-5.3928490013435804,-5.3928490013435804,-5.392776475101333,-7.2526242247406003E-5,-15.644278346348109,-15.644278346348109,-15.644278346348109,"-",-5.3928232662253635,-5.3928232662253635,-5.3928232662253635,"-",-3.7749762863577541,-7843.2916816076331,108.66712205714407,1037.6945776178886,5.5311702138676049,-2.9088820873213997E-4,2.9088820873213997E-4,{"$f":"FI_T-Rechentabelle!AL739","v":0.74882978613239537},{"$f":"AP738","v":-3.2687592064206683E-6}]
[4.6124998480081558E-2,6.2499995692633092E-5,5.5243763050411028,108.91876220703125,-7850001.5,null,-7850.0015000000003,null,{"$f":"C740","v":5.5243763050411028},{"$f":"AL738","v":5.5243785187390335},{"$f":"I740-J740","v":-2.2136979307418869E-6},{"$f":"L738+KP_LR*(1+2*TA_SIM/TN_LR)*K740-KP_LR*K738","v":-0.25171939245132424},"-",{"$f":"L740","v":-0.25171939245132424},108.66712205714407,108.91876220703125,-7.9242564140713512E-5,4.7796933763616205E-3,"-",4.7796933763616205E-3,-5.3974367456428585,-5.3926570522664967,-5.3926570522664967,-5.3928232662253635,1.662139588667344E-4,-15.627209343533959,-15.627209343533959,-15.627209343533959,"-",-5.3927160314131912,-5.3927160314131912,-5.3927160314131912,"-",-3.7749012219892335,-7843.1357199028325,108.17692607465014,1033.0135507960267,5.5379312717472704,-2.9088820873213997E-4,2.9088820873213997E-4,{"$f":"FI_T-Rechentabelle!AL740","v":0.74206872825272985},{"$f":"K740","v":-2.2136979307418869E-6}]
[4.6187497675418854E-2,6.2499995692633092E-5,5.531168249840964,108.42813873291016,-7850001.5,null,-7850.0015000000003,null,null,null,null,null,"-",{"$f":"N740+(L742-L740)/2","v":-0.25152153001933542},108.17692607465014,108.42813873291016,-3.0887175931582078E-4,4.1725645927262658E-3,"-",4.1725645927262658E-3,-5.3974367456428585,-5.3932641810501325,-5.3932641810501325,-5.3927160314131912,-5.4814963694127528E-4,-15.67837862945076,-15.67837862945076,-15.67837862945076,"-",-5.3930696763402501,-5.3930696763402501,-5.3930696763402501,"-",-3.775148773438175,-7843.6500590861724,107.68669794595725,1028.332217000577,5.5446616903688923,-2.9088820873213997E-4,2.9088820873213997E-4,{"$f":"FI_T-Rechentabelle!AL741","v":0.73533830963110791},{"$f":"AP740","v":-2.2136979307418869E-6}]
[4.6249996870756149E-2,6.2499995692633092E-5,5.5379295305774585,107.93750762939453,-7850001.5,null,-7850.0015000000003,null,{"$f":"C742","v":5.5379295305774585},{"$f":"AL740","v":5.5379312717472704},{"$f":"I742-J742","v":-1.7411698118863228E-6},{"$f":"L740+KP_LR*(1+2*TA_SIM/TN_LR)*K742-KP_LR*K740","v":-0.25132366758734653},"-",{"$f":"L742","v":-0.25132366758734653},107.68669794595725,107.93750762939453,-5.1398415006076448E-4,3.5722125743661453E-3,"-",3.5722125743661453E-3,-5.3974367456428585,-5.3938645330684922,-5.3938645330684922,-5.3930696763402501,-7.948567282420882E-4,-15.697183026899424,-15.697183026899424,-15.697183026899424,"-",-5.3935824871326643,-5.3935824871326643,-5.3935824871326643,"-",-3.7755077409928646,-7844.3958882045799,107.19642320294446,1023.6504380711613,5.5513614668190767,-2.9088820873213997E-4,2.9088820873213997E-4,{"$f":"FI_T-Rechentabelle!AL742","v":0.72863853318092353},{"$f":"K742","v":-1.7411698118863228E-6}]
[4.6312496066093445E-2,6.2499995692633092E-5,5.5446606240877445,107.44688415527344,-7850001.5,null,-7850.0015000000003,null,null,null,null,null,"-",{"$f":"N742+(L744-L742)/2","v":-0.25087718316788343},107.19642320294446,107.44688415527344,-4.1623083890840462E-4,3.6971381680881571E-3,"-",3.6971381680881571E-3,-5.3974367456428585,-5.3937396074747701,-5.3937396074747701,-5.3935824871326643,-1.5712034210579873E-4,-15.652712014112636,-15.652712014112636,-15.652712014112636,"-",-5.393683855095313,-5.393683855095313,-5.393683855095313,"-",-3.775578698566719,-7844.5433171965897,106.70613924561967,1018.9685711515474,5.5580306005219278,-2.9088820873213997E-4,2.9088820873213997E-4,{"$f":"FI_T-Rechentabelle!AL743","v":0.72196939947807248},{"$f":"AP742","v":-1.7411698118863228E-6}]
[4.637499526143074E-2,6.2499995692633092E-5,5.5513605766975047,106.95626068115234,-7850001.5,null,-7850.0015000000003,null,{"$f":"C744","v":5.5513605766975047},{"$f":"AL742","v":5.5513614668190767},{"$f":"I744-J744","v":-8.9012157200585307E-7},{"$f":"L742+KP_LR*(1+2*TA_SIM/TN_LR)*K744-KP_LR*K742","v":-0.25043069874842033},"-",{"$f":"L744","v":-0.25043069874842033},106.70613924561967,106.95626068115234,-3.0926321574042959E-4,3.8694823047529629E-3,"-",3.8694823047529629E-3,-5.3974367456428585,-5.3935672633381051,-5.3935672633381051,-5.393683855095313,1.1659175720790671E-4,-15.633281051208614,-15.633281051208614,-15.633281051208614,"-",-5.3936086346067915,-5.3936086346067915,-5.3936086346067915,"-",-3.7755260442247538,-7844.4339169431823,106.21586212581072,1014.2867695254005,5.5646690919047908,-2.9088820873213997E-4,2.9088820873213997E-4,{"$f":"FI_T-Rechentabelle!AL744","v":0.71533090809520949},{"$f":"K744","v":-8.9012157200585307E-7}]
[4.6437498182058334E-2,6.2499995692633092E-5,5.5580298652438982,106.46563720703125,-7850001.5,null,-7850.0015000000003,null,null,null,null,null,"-",{"$f":"N744+(L746-L744)/2","v":-0.25000240317486955},106.21586212581072,106.46563720703125,-2.273219543411642E-4,4.0038413112888542E-3,"-",4.0038413112888542E-3,-5.3974367456428585,-5.3934329043315694,-5.3934329043315694,-5.3936086346067915,1.7573027522210793E-4,-15.628801123106621,-15.628801123106621,-15.628801123106621,"-",-5.3934952602356807,-5.3934952602356807,-5.3934952602356807,"-",-3.7754466821649761,-7844.2690258985576,105.72559531169206,1009.6050663113464,5.5712769416117718,-2.9088820873213997E-4,2.9088820873213997E-4,{"$f":"FI_T-Rechentabelle!AL745","v":0.70872305838822847},{"$f":"AP744","v":-8.9012157200585307E-7}]
[4.649999737739563E-2,6.2499995692633092E-5,5.5646689665640832,105.97501373291016,-7850001.5,null,-7850.0015000000003,null,{"$f":"C746","v":5.5646689665640832},{"$f":"AL744","v":5.5646690919047908},{"$f":"I746-J746","v":-1.2534070759073757E-7},{"$f":"L744+KP_LR*(1+2*TA_SIM/TN_LR)*K746-KP_LR*K744","v":-0.24957410760131879},"-",{"$f":"L746","v":-0.24957410760131879},105.72559531169206,105.97501373291016,-1.556863832234967E-4,4.131796254151391E-3,"-",4.131796254151391E-3,-5.3974367456428585,-5.3933049493887069,-5.3933049493887069,-5.3934952602356807,1.9031084697385126E-4,-15.627421595582225,-15.627421595582225,-15.627421595582225,"-",-5.3933724790440847,-5.3933724790440847,-5.3933724790440847,"-",-3.7753607353308589,-7844.0904536273811,105.23533965834035,1004.923469674766,5.5778541503404178,-2.9088820873213997E-4,2.9088820873213997E-4,{"$f":"FI_T-Rechentabelle!AL746","v":0.70214584965958249},{"$f":"K746","v":-1.2534070759073757E-7}]
[4.6562496572732925E-2,6.2499995692633092E-5,5.5712769269837432,105.48438262939453,-7850001.5,null,-7850.0015000000003,null,null,null,null,null,"-",{"$f":"N746+(L748-L746)/2","v":-0.24945879837425877},105.23533965834035,105.48438262939453,-4.1582732008293988E-4,3.4279263806608271E-3,"-",3.4279263806608271E-3,-5.3974367456428585,-5.394008819262198,-5.394008819262198,-5.3933724790440847,-6.363402181133182E-4,-15.686637739139654,-15.686637739139654,-15.686637739139654,"-",-5.3937830211202868,-5.3937830211202868,-5.3937830211202868,"-",-3.7756481147842007,-7844.6875437028884,104.74504668685893,1000.2415166762972,5.5844007157583464,-2.9088820873213997E-4,2.9088820873213997E-4,{"$f":"FI_T-Rechentabelle!AL747","v":0.69559928424165385},{"$f":"AP746","v":-1.2534070759073757E-7}]
[4.6624995768070221E-2,6.2499995692633092E-5,5.5778542233400357,104.99375915527344,-7850001.5,null,-7850.0015000000003,null,{"$f":"C748","v":5.5778542233400357},{"$f":"AL746","v":5.5778541503404178},{"$f":"I748-J748","v":7.2999617906077674E-8},{"$f":"L746+KP_LR*(1+2*TA_SIM/TN_LR)*K748-KP_LR*K746","v":-0.24934348914719875},"-",{"$f":"L748","v":-0.24934348914719875},104.74504668685893,104.99375915527344,-6.3102073268339609E-4,2.7756937550998451E-3,"-",2.7756937550998451E-3,-5.3974367456428585,-5.3946610518877582,-5.3946610518877582,-5.3937830211202868,-8.7803076747139386E-4,-15.70524562365309,-15.70524562365309,-15.70524562365309,"-",-5.3943494925831716,-5.3943494925831716,-5.3943494925831716,"-",-3.7760446448082199,-7845.5114165971736,104.2547022233216,995.55907196491466,5.5909166346473036,-2.9088820873213997E-4,2.9088820873213997E-4,{"$f":"FI_T-Rechentabelle!AL748","v":0.68908336535269665},{"$f":"K748","v":7.2999617906077674E-8}]
[4.6687494963407516E-2,6.2499995692633092E-5,5.5844008556329614,104.50313568115234,-7850001.5,null,-7850.0015000000003,null,null,null,null,null,"-",{"$f":"N748+(L750-L748)/2","v":-0.24898073660105402},104.2547022233216,104.50313568115234,-5.472787703126869E-4,2.8362201225523962E-3,"-",2.8362201225523962E-3,-5.3974367456428585,-5.394600525520306,-5.394600525520306,-5.3943494925831716,-2.5103293713435448E-4,-15.661704095638264,-15.661704095638264,-15.661704095638264,"-",-5.3945114493168065,-5.3945114493168065,-5.3945114493168065,"-",-3.7761580145217644,-7845.7469655552959,103.7643430379744,990.87648667060341,5.5974019060871774,-2.9088820873213997E-4,2.9088820873213997E-4,{"$f":"FI_T-Rechentabelle!AL749","v":0.68259809391282289},{"$f":"AP748","v":7.2999617906077674E-8}]
[4.674999788403511E-2,6.2499995692633092E-5,5.5909173006996786,104.01251220703125,-7850001.5,null,-7850.0015000000003,null,{"$f":"C750","v":5.5909173006996786},{"$f":"AL748","v":5.5909166346473036},{"$f":"I750-J750","v":6.6605237503125636E-7},{"$f":"L748+KP_LR*(1+2*TA_SIM/TN_LR)*K750-KP_LR*K748","v":-0.24861798405490931},"-",{"$f":"L750","v":-0.24861798405490931},103.7643430379744,104.01251220703125,-4.4881499805171643E-4,2.954847387405978E-3,"-",2.954847387405978E-3,-5.3974367456428585,-5.3944818982554521,-5.3944818982554521,-5.3945114493168065,2.9551061354382568E-5,-15.641953620081166,-15.641953620081166,-15.641953620081166,"-",-5.3944923841159325,-5.3944923841159325,-5.3944923841159325,"-",-3.7761446688811526,-7845.7192372348891,103.27398558564722,986.19391792541421,5.6038565301862802,-2.9088820873213997E-4,2.9088820873213997E-4,{"$f":"FI_T-Rechentabelle!AL750","v":0.67614346981372009},{"$f":"K750","v":6.6605237503125636E-7}]
[4.6812497079372406E-2,6.2499995692633092E-5,5.5974026048658709,103.52188873291016,-7850001.5,null,-7850.0015000000003,null,null,null,null,null,"-",{"$f":"N750+(L752-L750)/2","v":-0.24827237810071767},103.27398558564722,103.52188873291016,-3.6923083779072385E-4,3.0491509355516297E-3,"-",3.0491509355516297E-3,-5.3974367456428585,-5.3943875947073066,-5.3943875947073066,-5.3944923841159325,1.0478940862590491E-4,-15.636476315908162,-15.636476315908162,-15.636476315908162,"-",-5.3944247780458507,-5.3944247780458507,-5.3944247780458507,"-",-3.7760973446320953,-7845.6209113486284,102.78363427868794,981.51140786416568,5.6102805073286985,-2.9088820873213997E-4,2.9088820873213997E-4,{"$f":"FI_T-Rechentabelle!AL751","v":0.66971949267130171},{"$f":"AP750","v":6.6605237503125636E-7}]
[4.6874996274709702E-2,6.2499995692633092E-5,5.6038577218058538,103.03125762939453,-7850001.5,null,-7850.0015000000003,null,{"$f":"C752","v":5.6038577218058538},{"$f":"AL750","v":5.6038565301862802},{"$f":"I752-J752","v":1.1916195736816348E-6},{"$f":"L750+KP_LR*(1+2*TA_SIM/TN_LR)*K752-KP_LR*K750","v":-0.247926772146526},"-",{"$f":"L752","v":-0.247926772146526},102.78363427868794,103.03125762939453,-3.0342143993777881E-4,3.1275955664877204E-3,"-",3.1275955664877204E-3,-5.3974367456428585,-5.3943091500763707,-5.3943091500763707,-5.3944247780458507,1.1562796948005882E-4,-15.635499182661437,-15.635499182661437,-15.635499182661437,"-",-5.3943501793558628,-5.3943501793558628,-5.3943501793558628,"-",-3.7760451255491039,-7845.5124154354944,102.29328975272323,976.82896255664548,5.6166738379382437,-2.9088820873213997E-4,2.9088820873213997E-4,{"$f":"FI_T-Rechentabelle!AL752","v":0.66332616206175654},{"$f":"K752","v":1.1916195736816348E-6}]
[4.6937495470046997E-2,6.2499995692633092E-5,5.6102816978453118,102.54063415527344,-7850001.5,null,-7850.0015000000003,null,null,null,null,null,"-",{"$f":"N752+(L754-L752)/2","v":-0.2478909276627832},102.29328975272323,102.54063415527344,-5.4652511256847447E-4,2.4313213495438415E-3,"-",2.4313213495438415E-3,-5.3974367456428585,-5.3950054242933145,-5.3950054242933145,-5.3943501793558628,-6.5524493745172663E-4,-15.690835429495495,-15.690835429495495,-15.690835429495495,"-",-5.3947729180251862,-5.3947729180251862,-5.3947729180251862,"-",-3.7763410426176303,-7846.1272441671099,101.80290679996278,972.14615030025618,5.6230365196132412,-2.9088820873213997E-4,2.9088820873213997E-4,{"$f":"FI_T-Rechentabelle!AL753","v":0.656963480386759},{"$f":"AP752","v":1.1916195736816348E-6}]
[4.6999998390674591E-2,6.2499995692633092E-5,5.6166750098214031,102.05001068115234,-7850001.5,null,-7850.0015000000003,null,{"$f":"C754","v":5.6166750098214031},{"$f":"AL752","v":5.6166738379382437},{"$f":"I754-J754","v":1.1718831594009771E-6},{"$f":"L752+KP_LR*(1+2*TA_SIM/TN_LR)*K754-KP_LR*K752","v":-0.24785508317904043},"-",{"$f":"L754","v":-0.24785508317904043},101.80290679996278,102.05001068115234,-7.5120198948752659E-4,1.7741460310938574E-3,"-",1.7741460310938574E-3,-5.3974367456428585,-5.3956625996117644,-5.3956625996117644,-5.3947729180251862,-8.8968158657820595E-4,-15.708955935318745,-15.708955935318745,-15.708955935318745,"-",-5.3953469061455595,-5.3953469061455595,-5.3953469061455595,"-",-3.7767428343018912,-7846.962049245566,101.31247167188494,967.46283980628641,5.6293685490927343,-2.9088820873213997E-4,2.9088820873213997E-4,{"$f":"FI_T-Rechentabelle!AL754","v":0.65063145090726593},{"$f":"K754","v":1.1718831594009771E-6}]
[4.7062497586011887E-2,6.2499995692633092E-5,5.6230376577341277,101.55938720703125,-7850001.5,null,-7850.0015000000003,null,null,null,null,null,"-",{"$f":"N754+(L756-L754)/2","v":-0.24756691423772409},101.31247167188494,101.55938720703125,-6.5137909140844386E-4,1.846537437232113E-3,"-",1.846537437232113E-3,-5.3974367456428585,-5.3955902082056264,-5.3955902082056264,-5.3953469061455595,-2.4330206006695221E-4,-15.664039473054078,-15.664039473054078,-15.664039473054078,"-",-5.39550387521657,-5.39550387521657,-5.39550387521657,"-",-3.7768527126515989,-7847.1903441753557,100.82202227537398,962.77939305881705,5.6356699254849456,-2.9088820873213997E-4,2.9088820873213997E-4,{"$f":"FI_T-Rechentabelle!AL755","v":0.64433007451505464},{"$f":"AP754","v":1.1718831594009771E-6}]
[4.7124996781349182E-2,6.2499995692633092E-5,5.6293701184206428,101.06875610351563,-7850001.5,null,-7850.0015000000003,null,{"$f":"C756","v":5.6293701184206428},{"$f":"AL754","v":5.6293685490927343},{"$f":"I756-J756","v":1.5693279085127187E-6},{"$f":"L754+KP_LR*(1+2*TA_SIM/TN_LR)*K756-KP_LR*K754","v":-0.24727874529640773},"-",{"$f":"L756","v":-0.24727874529640773},100.82202227537398,101.06875610351563,-5.4491715476956415E-4,1.9602596928839705E-3,"-",1.9602596928839705E-3,-5.3974367456428585,-5.3954764859499749,-5.3954764859499749,-5.39550387521657,2.7389266595179151E-5,-15.644987443883778,-15.644987443883778,-15.644987443883778,"-",-5.3954862047219923,-5.3954862047219923,-5.3954862047219923,"-",-3.7768403433053943,-7847.1646443079035,100.33157448510474,958.09596164982622,5.641940648890265,-2.9088820873213997E-4,2.9088820873213997E-4,{"$f":"FI_T-Rechentabelle!AL756","v":0.63805935110973522},{"$f":"K756","v":1.5693279085127187E-6}]
[4.7187495976686478E-2,6.2499995692633092E-5,5.6356714382066331,100.57813262939453,-7850001.5,null,-7850.0015000000003,null,null,null,null,null,"-",{"$f":"N756+(L758-L756)/2","v":-0.24729117872063652},100.33157448510474,100.57813262939453,-7.3303443083716502E-4,1.34586602511558E-3,"-",1.34586602511558E-3,-5.3974367456428585,-5.3960908796177431,-5.3960908796177431,-5.3954862047219923,-6.0467489575088962E-4,-15.690485597471476,-15.690485597471476,-15.690485597471476,"-",-5.3958763175579598,-5.3958763175579598,-5.3958763175579598,"-",-3.7771134222905718,-7847.7320222118669,99.841091233716497,953.41219161209278,5.6481807170923721,-2.9088820873213997E-4,2.9088820873213997E-4,{"$f":"FI_T-Rechentabelle!AL757","v":0.63181928290762812},{"$f":"AP756","v":1.5693279085127187E-6}]
[4.7249995172023773E-2,6.2499995692633092E-5,5.6419420939292566,100.08750915527344,-7850001.5,null,-7850.0015000000003,null,{"$f":"C758","v":5.6419420939292566},{"$f":"AL756","v":5.641940648890265},{"$f":"I758-J758","v":1.4450389915765527E-6},{"$f":"L756+KP_LR*(1+2*TA_SIM/TN_LR)*K758-KP_LR*K756","v":-0.24730361214486532},"-",{"$f":"L758","v":-0.24730361214486532},99.841091233716497,100.08750915527344,-8.8569058792131727E-4,7.7638492794220048E-4,"-",7.7638492794220048E-4,-5.3974367456428585,-5.3966603607149164,-5.3966603607149164,-5.3958763175579598,-7.840431569565709E-4,-15.704543011648477,-15.704543011648477,-15.704543011648477,"-",-5.3963821518527704,-5.3963821518527704,-5.3963821518527704,"-",-3.7774675062969392,-7848.467704751587,99.350562002169525,948.72798249618654,5.6543901272175079,-2.9088820873213997E-4,2.9088820873213997E-4,{"$f":"FI_T-Rechentabelle!AL758","v":0.62560987278249236},{"$f":"K758","v":1.4450389915765527E-6}]
[4.7312498092651367E-2,6.2499995692633092E-5,5.6481825624256716,99.596885681152344,-7850001.5,null,-7850.0015000000003,null,null,null,null,null,"-",{"$f":"N758+(L760-L758)/2","v":-0.24705282566552561},99.350562002169525,99.596885681152344,-7.2914668270129823E-4,9.6118472616548226E-4,"-",9.6118472616548226E-4,-5.3974367456428585,-5.3964755609166932,-5.3964755609166932,-5.3963821518527704,-9.3409063922855751E-5,-15.65623971936674,-15.65623971936674,-15.65623971936674,"-",-5.3964424157649784,-5.3964424157649784,-5.3964424157649784,"-",-3.7775096910354846,-7848.5553522449291,98.860027292654223,944.04372106953622,5.6605688789232991,-2.9088820873213997E-4,2.9088820873213997E-4,{"$f":"FI_T-Rechentabelle!AL759","v":0.61943112107670117},{"$f":"AP758","v":1.4450389915765527E-6}]
[4.7374997287988663E-2,6.2499995692633092E-5,5.6543918900215608,99.10626220703125,-7850001.5,null,-7850.0015000000003,null,{"$f":"C760","v":5.6543918900215608},{"$f":"AL758","v":5.6543901272175079},{"$f":"I760-J760","v":1.7628040529515943E-6},{"$f":"L758+KP_LR*(1+2*TA_SIM/TN_LR)*K760-KP_LR*K758","v":-0.24680203918618587},"-",{"$f":"L760","v":-0.24680203918618587},98.860027292654223,99.10626220703125,-5.6712480916587538E-4,1.1981714039630443E-3,"-",1.1981714039630443E-3,-5.3974367456428585,-5.3962385742388959,-5.3962385742388959,-5.3964424157649784,2.038415260825488E-4,-15.634993264774335,-15.634993264774335,-15.634993264774335,"-",-5.3963109051029896,-5.3963109051029896,-5.3963109051029896,"-",-3.7774176335720924,-7848.3640838813462,98.369504537411643,939.35957379778142,5.6667169729568876,-2.9088820873213997E-4,2.9088820873213997E-4,{"$f":"FI_T-Rechentabelle!AL760","v":0.61328302704311266},{"$f":"K760","v":1.7628040529515943E-6}]
[4.7437496483325958E-2,6.2499995692633092E-5,5.6605705535540842,98.615631103515625,-7850001.5,null,-7850.0015000000003,null,null,null,null,null,"-",{"$f":"N760+(L762-L760)/2","v":-0.24684217114914023},98.369504537411643,98.615631103515625,-7.1560504515844059E-4,6.7982746903923349E-4,"-",6.7982746903923349E-4,-5.3974367456428585,-5.3967569181738195,-5.3967569181738195,-5.3963109051029896,-4.4601307082992037E-4,-15.681443340935292,-15.681443340935292,-15.681443340935292,"-",-5.3965986554712666,-5.3965986554712666,-5.3965986554712666,"-",-3.7776190588298864,-7848.7825863907874,97.878955625762217,934.67517675074009,5.6728344076834976,-2.9088820873213997E-4,2.9088820873213997E-4,{"$f":"FI_T-Rechentabelle!AL761","v":0.60716559231650269},{"$f":"AP760","v":1.7628040529515943E-6}]
[4.7499995678663254E-2,6.2499995692633092E-5,5.66671855302324,98.125007629394531,-7850001.5,null,-7850.0015000000003,null,{"$f":"C762","v":5.66671855302324},{"$f":"AL760","v":5.6667169729568876},{"$f":"I762-J762","v":1.5800663524245806E-6},{"$f":"L760+KP_LR*(1+2*TA_SIM/TN_LR)*K762-KP_LR*K760","v":-0.24688230311209458},"-",{"$f":"L762","v":-0.24688230311209458},97.878955625762217,98.125007629394531,-8.3029947977308893E-4,2.1177080727108875E-4,"-",2.1177080727108875E-4,-5.3974367456428585,-5.3972249748355869,-5.3972249748355869,-5.3965986554712666,-6.2631936432033797E-4,-15.695271502798702,-15.695271502798702,-15.695271502798702,"-",-5.3970027324805052,-5.3970027324805052,-5.3970027324805052,"-",-3.7779019127363536,-7849.3702737094391,97.38836998365538,929.99042895366722,5.6789211808074764,-2.9088820873213997E-4,2.9088820873213997E-4,{"$f":"FI_T-Rechentabelle!AL762","v":0.60107881919252382},{"$f":"K762","v":1.5800663524245806E-6}]
[4.7562494874000549E-2,6.2499995692633092E-5,5.6728363652661864,97.634384155273438,-7850001.5,null,-7850.0015000000003,null,null,null,null,null,"-",{"$f":"N762+(L764-L762)/2","v":-0.2466515990918034},97.38836998365538,97.634384155273438,-6.3742747374817554E-4,5.0306804757590151E-4,"-",5.0306804757590151E-4,-5.3974367456428585,-5.3969336775952828,-5.3969336775952828,-5.3970027324805052,6.9054885222463724E-5,-15.646331517303604,-15.646331517303604,-15.646331517303604,"-",-5.3969581809416516,-5.3969581809416516,-5.3969581809416516,"-",-3.777870726659156,-7849.3054782031077,96.897788391267682,925.3057198285635,5.6849772925819311,-2.9088820873213997E-4,2.9088820873213997E-4,{"$f":"FI_T-Rechentabelle!AL763","v":0.59502270741806917},{"$f":"AP762","v":1.5800663524245806E-6}]
[4.7624997794628143E-2,6.2499995692633092E-5,5.6789230366086088,97.143760681152344,-7850001.5,null,-7850.0015000000003,null,{"$f":"C764","v":5.6789230366086088},{"$f":"AL762","v":5.6789211808074764},{"$f":"I764-J764","v":1.855801132322199E-6},{"$f":"L762+KP_LR*(1+2*TA_SIM/TN_LR)*K764-KP_LR*K762","v":-0.24642089507151224},"-",{"$f":"L764","v":-0.24642089507151224},96.897788391267682,97.143760681152344,-4.4860518684686213E-4,8.3101950031325774E-4,"-",8.3101950031325774E-4,-5.3974367456428585,-5.3966057261425453,-5.3966057261425453,-5.3969581809416516,3.5245479910628319E-4,-15.625779240175884,-15.625779240175884,-15.625779240175884,"-",-5.3967307907486806,-5.3967307907486806,-5.3967307907486806,"-",-3.7777115535240759,-7848.9747631915134,96.407227468568209,920.62120808444297,5.691002744298717,-2.9088820873213997E-4,2.9088820873213997E-4,{"$f":"FI_T-Rechentabelle!AL764","v":0.58899725570128325},{"$f":"K764","v":1.855801132322199E-6}]
[4.7687496989965439E-2,6.2499995692633092E-5,5.6849795207248217,96.65313720703125,-7850001.5,null,-7850.0015000000003,null,null,null,null,null,"-",{"$f":"N764+(L766-L764)/2","v":-0.24618634245995719},96.407227468568209,96.65313720703125,-2.7660399692308602E-4,1.1619454106405191E-3,"-",1.1619454106405191E-3,-5.3974367456428585,-5.3962748002322183,-5.3962748002322183,-5.3967307907486806,4.5599051646227906E-4,-15.617658557242935,-15.617658557242935,-15.617658557242935,"-",-5.3964366033187057,-5.3964366033187057,-5.3964366033187057,"-",-3.7775056223230936,-7848.5468986559181,95.916693287402211,915.93695170315675,5.6969975376291799,-2.9088820873213997E-4,2.9088820873213997E-4,{"$f":"FI_T-Rechentabelle!AL765","v":0.58300246237082032},{"$f":"AP764","v":1.855801132322199E-6}]
[4.7749996185302734E-2,6.2499995692633092E-5,5.6910048639405098,96.162506103515625,-7850001.5,null,-7850.0015000000003,null,{"$f":"C766","v":5.6910048639405098},{"$f":"AL764","v":5.691002744298717},{"$f":"I766-J766","v":2.1196417927527023E-6},{"$f":"L764+KP_LR*(1+2*TA_SIM/TN_LR)*K766-KP_LR*K764","v":-0.24595178984840216},"-",{"$f":"L766","v":-0.24595178984840216},95.916693287402211,96.162506103515625,-1.389737349910547E-4,1.4468204628573672E-3,"-",1.4468204628573672E-3,-5.3974367456428585,-5.3959899251800012,-5.3959899251800012,-5.3964366033187057,4.4667813870447048E-4,-15.617476505693134,-15.617476505693134,-15.617476505693134,"-",-5.3961484238743802,-5.3961484238743802,-5.3961484238743802,"-",-3.7773038967120658,-7848.1277721006973,95.426185301645916,911.25294546960686,5.7029616742105329,-2.9088820873213997E-4,2.9088820873213997E-4,{"$f":"FI_T-Rechentabelle!AL766","v":0.57703832578946734},{"$f":"K766","v":2.1196417927527023E-6}]
[4.781249538064003E-2,6.2499995692633092E-5,5.6969995430928311,95.671882629394531,-7850001.5,null,-7850.0015000000003,null,null,null,null,null,"-",{"$f":"N766+(L768-L766)/2","v":-0.24600971803153193},95.426185301645916,95.671882629394531,-3.1239028291452087E-4,9.6902407070749885E-4,"-",9.6902407070749885E-4,-5.3974367456428585,-5.3964677215721508,-5.3964677215721508,-5.3961484238743802,-3.1929769777061523E-4,-15.671840463326697,-15.671840463326697,-15.671840463326697,"-",-5.3963544223890709,-5.3963544223890709,-5.3963544223890709,"-",-3.7774480956723493,-7848.4273751762912,94.9356585906974,906.56876042364297,5.7088951528724516,-2.9088820873213997E-4,2.9088820873213997E-4,{"$f":"FI_T-Rechentabelle!AL767","v":0.57110484712754861},{"$f":"AP766","v":2.1196417927527023E-6}]
[4.7874998301267624E-2,6.2499995692633092E-5,5.7029635581817848,95.181259155273438,-7850001.5,null,-7850.0015000000003,null,{"$f":"C768","v":5.7029635581817848},{"$f":"AL766","v":5.7029616742105329},{"$f":"I768-J768","v":1.8839712518925467E-6},{"$f":"L766+KP_LR*(1+2*TA_SIM/TN_LR)*K768-KP_LR*K766","v":-0.24606764621466171},"-",{"$f":"L768","v":-0.24606764621466171},94.9356585906974,95.181259155273438,-4.6708163861808316E-4,4.9688317298880876E-4,"-",4.9688317298880876E-4,-5.3974367456428585,-5.3969398624698695,-5.3969398624698695,-5.3963544223890709,-5.8544008079852716E-4,-15.691617281073635,-15.691617281073635,-15.691617281073635,"-",-5.3967321256670049,-5.3967321256670049,-5.3967321256670049,"-",-3.7777124879669031,-7848.9767046891811,94.445097546654324,901.8842475207764,5.7147979714691175,-2.9088820873213997E-4,2.9088820873213997E-4,{"$f":"FI_T-Rechentabelle!AL768","v":0.56520202853088275},{"$f":"K768","v":1.8839712518925467E-6}]
[4.7937497496604919E-2,6.2499995692633092E-5,5.7088973860445309,94.690635681152344,-7850001.5,null,-7850.0015000000003,null,null,null,null,null,"-",{"$f":"N768+(L770-L768)/2","v":-0.24586003915772894},94.445097546654324,94.690635681152344,-3.2190465971382309E-4,7.5463943569912466E-4,"-",7.5463943569912466E-4,-5.3974367456428585,-5.3966821062071597,-5.3966821062071597,-5.3967321256670049,5.0019459845174197E-5,-15.646918536263579,-15.646918536263579,-15.646918536263579,"-",-5.3966998550477498,-5.3966998550477498,-5.3966998550477498,"-",-3.7776898985334246,-7848.9297704829096,93.954539435999138,897.19976262970079,5.7206701301838674,-2.9088820873213997E-4,2.9088820873213997E-4,{"$f":"FI_T-Rechentabelle!AL769","v":0.55932986981613286},{"$f":"AP768","v":1.8839712518925467E-6}]
[4.7999996691942215E-2,6.2499995692633092E-5,5.7148000730067512,94.20001220703125,-7850001.5,null,-7850.0015000000003,null,{"$f":"C770","v":5.7148000730067512},{"$f":"AL768","v":5.7147979714691175},{"$f":"I770-J770","v":2.1015376336919189E-6},{"$f":"L768+KP_LR*(1+2*TA_SIM/TN_LR)*K770-KP_LR*K768","v":-0.24565243210079618},"-",{"$f":"L770","v":-0.24565243210079618},93.954539435999138,94.20001220703125,-1.7966106868527731E-4,1.0402798243749737E-3,"-",1.0402798243749737E-3,{"$f":"G770*(JM_EMS+JL_EMS)/KT_M*KP_VSR","v":-5.3974367456428585},-5.3963964658184835,{"$f":"IF(V770<-IM_R,-IM_R,IF(V770>IM_R,IM_R,V770))","v":-5.3963964658184835},-5.3966998550477498,3.033892292663154E-4,-15.628565981632681,{"$f":"IF(Z770<-U_ZWK,-U_ZWK,IF(Z770>U_ZWK,U_ZWK,Z770))","v":-15.628565981632681},-15.628565981632681,"-",-5.3965041200611257,-5.3965041200611257,-5.3965041200611257,"-",{"$f":"AF770*KT_M","v":-3.7775528840427879},{"$f":"AH770/(JM_EMS+JL_EMS)","v":-7848.6450946245322},93.463999117585104,892.51544764201276,5.7265116301287167,{"$f":"-DF_LR","v":-2.9088820873213997E-4},{"$f":"DF_LR","v":2.9088820873213997E-4},{"$f":"FI_T-Rechentabelle!AL770","v":0.55348836987128358},{"$f":"K770","v":2.1015376336919189E-6}]
[4.806249588727951E-2,6.2499995692633092E-5,5.7206720959056039,93.709381103515625,-7850001.5,null,{"$f":"E771/1000","v":-7850.0015000000003},null,null,null,null,null,"-",{"$f":"N770+(L772-L770)/2","v":-0.24544680571210553},93.463999117585104,93.709381103515625,-6.4819781584901648E-5,{"$f":"R770+KP_DR*(1+TA_SIM/TN_DR)*Q771-KP_DR*Q770","v":1.2904531135287673E-3},"-",{"$f":"R771","v":1.2904531135287673E-3},-5.3974367456428585,{"$f":"T771+U771","v":-5.3961462925293295},-5.3961462925293295,-5.3965041200611257,{"$f":"W771-X771","v":3.5782753179613991E-4},-15.624075280240776,-15.624075280240776,{"$f":"AA771","v":-15.624075280240776},"-",{"$f":"(1/R_M*AB771+AD770*T_M/TA_SIM)/(1+T_M/TA_SIM)","v":-5.3962732635889994},{"$f":"AD771","v":-5.3962732635889994},{"$f":"AE771","v":-5.3962732635889994},"-",-3.7773912845122992,-7848.3093382761244,92.97347978394285,887.83133304413434,5.7323224726152127,-2.9088820873213997E-4,2.9088820873213997E-4,{"$f":"FI_T-Rechentabelle!AL771","v":0.54767752738478759},{"$f":"AP770","v":2.1015376336919189E-6}]
[4.8124995082616806E-2,6.2499995692633092E-5,5.726513931578249,93.218757629394531,-7850001.5,null,-7850.0015000000003,null,{"$f":"C772","v":5.726513931578249},{"$f":"AL770","v":5.7265116301287167},{"$f":"I772-J772","v":2.3014495322826178E-6},{"$f":"L770+KP_LR*(1+2*TA_SIM/TN_LR)*K772-KP_LR*K770","v":-0.24524117932341485},"-",{"$f":"L772","v":-0.24524117932341485},{"$f":"AJ771","v":92.97347978394285},{"$f":"D772*KP_VDR","v":93.218757629394531},{"$f":"N772-O772+P772","v":3.6666128266915621E-5},1.5344364651435896E-3,"-",1.5344364651435896E-3,-5.3974367456428585,-5.395902309177715,-5.395902309177715,{"$f":"AF771","v":-5.3962732635889994},3.7095441128442985E-4,-15.622459814253,-15.622459814253,-15.622459814253,"-",-5.3960339381623648,-5.3960339381623648,-5.3960339381623648,"-",-3.7772237567136551,-7847.9612647281419,92.48298220489734,883.14742618735238,5.7381026590030189,-2.9088820873213997E-4,2.9088820873213997E-4,{"$f":"FI_T-Rechentabelle!AL772","v":0.54189734099698139},{"$f":"K772","v":2.3014495322826178E-6}]
[4.81874980032444E-2,6.2499995692633092E-5,5.7323246263503682,92.728134155273438,-7850001.5,null,-7850.0015000000003,null,null,null,null,null,"-",{"$f":"N772+(L774-L772)/2","v":-0.2453329011746736},92.48298220489734,92.728134155273438,-1.8095079857971541E-4,9.8631464489260965E-4,"-",9.8631464489260965E-4,-5.3974367456428585,-5.396450430997966,-5.396450430997966,-5.3960339381623648,-4.1649283560118988E-4,-15.678512775339708,-15.678512775339708,-15.678512775339708,"-",-5.3963026432175907,-5.3963026432175907,-5.3963026432175907,"-",-3.7774118502523133,-7848.3520678419136,91.99246020065722,878.46328608714282,5.7438521877655599,-2.9088820873213997E-4,2.9088820873213997E-4,{"$f":"FI_T-Rechentabelle!AL773","v":0.5361478122344403},{"$f":"AP772","v":2.3014495322826178E-6}]
[4.8249997198581696E-2,6.2499995692633092E-5,5.7381046570591208,92.237510681152344,-7850001.5,null,-7850.0015000000003,null,{"$f":"C774","v":5.7381046570591208},{"$f":"AL772","v":5.7381026590030189},{"$f":"I774-J774","v":1.9980561019039556E-6},{"$f":"L772+KP_LR*(1+2*TA_SIM/TN_LR)*K774-KP_LR*K772","v":-0.24542462302593238},"-",{"$f":"L774","v":-0.24542462302593238},91.99246020065722,92.237510681152344,-3.7414253080214621E-4,4.4766358765677486E-4,"-",4.4766358765677486E-4,-5.3974367456428585,-5.3969890820552013,-5.3969890820552013,-5.3963026432175907,-6.8643883761065894E-4,-15.698745548015644,-15.698745548015644,-15.698745548015644,"-",-5.3967455069837911,-5.3967455069837911,-5.3967455069837911,"-",-3.7777218548886533,-7848.9961664006914,91.50189794025718,873.77876156892273,5.7495710563868263,-2.9088820873213997E-4,2.9088820873213997E-4,{"$f":"FI_T-Rechentabelle!AL774","v":0.53042894361317394},{"$f":"K774","v":1.9980561019039556E-6}]
[4.8312496393918991E-2,6.2499995692633092E-5,5.7438540237045066,91.74688720703125,-7850001.5,null,-7850.0015000000003,null,null,null,null,null,"-",{"$f":"N774+(L776-L774)/2","v":-0.24525423279422223},91.50189794025718,91.74688720703125,-2.6496602015413373E-4,6.3592290439219549E-4,"-",6.3592290439219549E-4,-5.3974367456428585,-5.3968008227384665,-5.3968008227384665,-5.3967455069837911,-5.5315754675433482E-5,-15.654548273348036,-15.654548273348036,-15.654548273348036,"-",-5.3967811945674526,-5.3967811945674526,-5.3967811945674526,"-",-3.7777468361972164,-7849.048070220686,91.011332435868383,869.09420607289212,5.7552592646640681,-2.9088820873213997E-4,2.9088820873213997E-4,{"$f":"FI_T-Rechentabelle!AL775","v":0.52474073533593213},{"$f":"AP774","v":1.9980561019039556E-6}]
[4.8374995589256287E-2,6.2499995692633092E-5,5.7495732031236839,91.256256103515625,-7850001.5,null,-7850.0015000000003,null,{"$f":"C776","v":5.7495732031236839},{"$f":"AL774","v":5.7495710563868263},{"$f":"I776-J776","v":2.1467368576111312E-6},{"$f":"L774+KP_LR*(1+2*TA_SIM/TN_LR)*K776-KP_LR*K774","v":-0.24508384256251209},"-",{"$f":"L776","v":-0.24508384256251209},91.011332435868383,91.256256103515625,-1.6017491526554295E-4,8.3957278955311973E-4,"-",8.3957278955311973E-4,-5.3974367456428585,-5.3965971728533058,-5.3965971728533058,-5.3967811945674526,1.8402171414688695E-4,-15.637404028458427,-15.637404028458427,-15.637404028458427,"-",-5.3966624708809059,-5.3966624708809059,-5.3966624708809059,"-",-3.7776637296166338,-7848.8753991619224,90.520777723420764,864.40975363230837,5.7609168132717823,-2.9088820873213997E-4,2.9088820873213997E-4,{"$f":"FI_T-Rechentabelle!AL776","v":0.51908318672821796},{"$f":"K776","v":2.1467368576111312E-6}]
[4.8437498509883881E-2,6.2499995692633092E-5,5.7552612416423354,90.765632629394531,-7850001.5,null,-7850.0015000000003,null,null,null,null,null,"-",{"$f":"N776+(L778-L776)/2","v":-0.24491704464229958},90.520777723420764,90.765632629394531,-6.2138668525335561E-5,1.0514787354475878E-3,"-",1.0514787354475878E-3,-5.3974367456428585,-5.3963852669074113,-5.3963852669074113,-5.3966624708809059,2.7720397349462189E-4,-15.630344595335737,-15.630344595335737,-15.630344595335737,"-",-5.3964836296076832,-5.3964836296076832,-5.3964836296076832,"-",-3.7775385407253781,-7848.6152934248448,90.030239267581706,859.7254564309012,5.7665437032260058,-2.9088820873213997E-4,2.9088820873213997E-4,{"$f":"FI_T-Rechentabelle!AL777","v":0.5134562967739944},{"$f":"AP776","v":2.1467368576111312E-6}]
[4.8499997705221176E-2,6.2499995692633092E-5,5.7609190929347784,90.275009155273438,-7850001.5,null,-7850.0015000000003,null,{"$f":"C778","v":5.7609190929347784},{"$f":"AL776","v":5.7609168132717823},{"$f":"I778-J778","v":2.2796629961518988E-6},{"$f":"L776+KP_LR*(1+2*TA_SIM/TN_LR)*K778-KP_LR*K776","v":-0.24475024672208709},"-",{"$f":"L778","v":-0.24475024672208709},90.030239267581706,90.275009155273438,1.9640969640022377E-5,1.2456711608072996E-3,"-",1.2456711608072996E-3,-5.3974367456428585,-5.3961910744820516,-5.3961910744820516,-5.3964836296076832,2.9255512563164388E-4,-15.628719682292614,-15.628719682292614,-15.628719682292614,"-",-5.3962948843653402,-5.3962948843653402,-5.3962948843653402,"-",-3.7774064190557377,-7848.3407834110476,89.539717968618518,855.0413230655904,5.7721399355990446,-2.9088820873213997E-4,2.9088820873213997E-4,{"$f":"FI_T-Rechentabelle!AL778","v":0.50786006440095566},{"$f":"K778","v":2.2796629961518988E-6}]
[4.8562496900558472E-2,6.2499995692633092E-5,5.7665458033266965,89.784385681152344,-7850001.5,null,-7850.0015000000003,null,null,null,null,null,"-",{"$f":"N778+(L780-L778)/2","v":-0.24488058959278103},89.539717968618518,89.784385681152344,-2.1287705895645104E-4,6.552545534638484E-4,"-",6.552545534638484E-4,-5.3974367456428585,-5.3967814910893948,-5.3967814910893948,-5.3962948843653402,-4.8660672405453909E-4,-15.684322242773657,-15.684322242773657,-15.684322242773657,"-",-5.3966088241873109,-5.3966088241873109,-5.3966088241873109,"-",-3.7776261769311175,-7848.7973757139353,89.049168132636396,850.35691719182194,5.7777055086073341,-2.9088820873213997E-4,2.9088820873213997E-4,{"$f":"FI_T-Rechentabelle!AL779","v":0.50229449139266613},{"$f":"AP778","v":2.2796629961518988E-6}]
[4.8624996095895767E-2,6.2499995692633092E-5,5.772141849655247,89.29376220703125,-7850001.5,null,-7850.0015000000003,null,{"$f":"C780","v":5.772141849655247},{"$f":"AL778","v":5.7721399355990446},{"$f":"I780-J780","v":1.9140562024233532E-6},{"$f":"L778+KP_LR*(1+2*TA_SIM/TN_LR)*K780-KP_LR*K778","v":-0.24501093246347494},"-",{"$f":"L780","v":-0.24501093246347494},89.049168132636396,89.29376220703125,-4.1685806861835317E-4,8.1201471477054593E-5,"-",8.1201471477054593E-5,-5.3974367456428585,-5.397355544171381,-5.397355544171381,-5.3966088241873109,-7.4671998407005447E-4,-15.703977604479135,-15.703977604479135,-15.703977604479135,"-",-5.3970905790157433,-5.3970905790157433,-5.3970905790157433,"-",-3.77796340531102,-7849.4980372138371,88.558574505310531,845.67209314152433,5.7832404195139162,-2.9088820873213997E-4,2.9088820873213997E-4,{"$f":"FI_T-Rechentabelle!AL780","v":0.49675958048608404},{"$f":"K780","v":1.9140562024233532E-6}]
[4.8687495291233063E-2,6.2499995692633092E-5,5.7777072319204317,88.803131103515625,-7850001.5,null,-7850.0015000000003,null,null,null,null,null,"-",{"$f":"N780+(L782-L780)/2","v":-0.24487746012157491},88.558574505310531,88.803131103515625,-3.2086191647806572E-4,2.2530767340515944E-4,"-",2.2530767340515944E-4,-5.3974367456428585,-5.3972114379694531,-5.3972114379694531,-5.3970905790157433,-1.2085895370983479E-4,-15.660272321164662,-15.660272321164662,-15.660272321164662,"-",-5.3971685525342661,-5.3971685525342661,-5.3971685525342661,"-",-3.7780179867739858,-7849.6114414585199,88.067973790219369,840.98720140805369,5.7887446678758048,-2.9088820873213997E-4,2.9088820873213997E-4,{"$f":"FI_T-Rechentabelle!AL781","v":0.49125533212419548},{"$f":"AP780","v":1.9140562024233532E-6}]
[4.8749998211860657E-2,6.2499995692633092E-5,5.7832424269594069,88.312507629394531,-7850001.5,null,-7850.0015000000003,null,{"$f":"C782","v":5.7832424269594069},{"$f":"AL780","v":5.7832404195139162},{"$f":"I782-J782","v":2.0074454907259565E-6},{"$f":"L780+KP_LR*(1+2*TA_SIM/TN_LR)*K782-KP_LR*K780","v":-0.24474398777967488},"-",{"$f":"L782","v":-0.24474398777967488},88.067973790219369,88.312507629394531,-2.1014860450918604E-4,4.3049035066958956E-4,"-",4.3049035066958956E-4,-5.3974367456428585,-5.3970062552921885,-5.3970062552921885,-5.3971685525342661,1.6229724207761365E-4,-15.640092930130017,-15.640092930130017,-15.640092930130017,"-",-5.3970638446361523,-5.3970638446361523,-5.3970638446361523,"-",-3.7779446912453065,-7849.4591548832459,87.577382593039161,836.30240056393757,5.7942182542878697,-2.9088820873213997E-4,2.9088820873213997E-4,{"$f":"FI_T-Rechentabelle!AL782","v":0.48578174571213051},{"$f":"K782","v":2.0074454907259565E-6}]
[4.8812497407197952E-2,6.2499995692633092E-5,5.7887464810978573,87.821884155273438,-7850001.5,null,-7850.0015000000003,null,null,null,null,null,"-",{"$f":"N782+(L784-L782)/2","v":-0.24490039474071876},87.577382593039161,87.821884155273438,-3.9883250644834334E-4,-1.0373967038815671E-4,"-",-1.0373967038815671E-4,-5.3974367456428585,-5.3975404853132467,-5.3975404853132467,-5.3970638446361523,-4.7664067709440872E-4,-15.685834029207108,-15.685834029207108,-15.685834029207108,"-",-5.3973713547504065,-5.3973713547504065,-5.3973713547504065,"-",-3.7781599483252841,-7849.9063958555653,87.086763443298182,831.61733279252849,5.7996611770030757,-2.9088820873213997E-4,2.9088820873213997E-4,{"$f":"FI_T-Rechentabelle!AL783","v":0.48033882299692454},{"$f":"AP782","v":2.0074454907259565E-6}]
[4.8874996602535248E-2,6.2499995692633092E-5,5.79421987117294,87.331260681152344,-7850001.5,null,-7850.0015000000003,null,{"$f":"C784","v":5.79421987117294},{"$f":"AL782","v":5.7942182542878697},{"$f":"I784-J784","v":1.6168850702769078E-6},{"$f":"L782+KP_LR*(1+2*TA_SIM/TN_LR)*K784-KP_LR*K782","v":-0.24505680170176264},"-",{"$f":"L784","v":-0.24505680170176264},87.086763443298182,87.331260681152344,-5.5956384760236233E-4,-6.1241583789826645E-4,"-",-6.1241583789826645E-4,-5.3974367456428585,-5.3980491614807571,-5.3980491614807571,-5.3973713547504065,-6.7780673035056083E-4,-15.701222742827937,-15.701222742827937,-15.701222742827937,"-",-5.3978086494151487,-5.3978086494151487,-5.3978086494151487,"-",-3.7784660545906039,-7850.542394744657,86.596104543626637,826.93188543724307,5.8050734335370526,-2.9088820873213997E-4,2.9088820873213997E-4,{"$f":"FI_T-Rechentabelle!AL784","v":0.47492656646294762},{"$f":"K784","v":1.6168850702769078E-6}]
[4.8937495797872543E-2,6.2499995692633092E-5,5.7996630740218151,86.84063720703125,-7850001.5,null,-7850.0015000000003,null,null,null,null,null,"-",{"$f":"N784+(L786-L784)/2","v":-0.24494001222799688},86.596104543626637,86.84063720703125,-4.0734882338711031E-4,-3.591899087683802E-4,"-",-3.591899087683802E-4,-5.3974367456428585,-5.3977959355516267,-5.3977959355516267,-5.3978086494151487,1.2713863521973678E-5,-15.652728864881135,-15.652728864881135,-15.652728864881135,"-",-5.3978004469225533,-5.3978004469225533,-5.3978004469225533,"-",-3.778460312845787,-7850.5304650857815,86.105446389558779,822.2464452019484,5.8104550239363997,-2.9088820873213997E-4,2.9088820873213997E-4,{"$f":"FI_T-Rechentabelle!AL785","v":0.46954497606360057},{"$f":"AP784","v":1.6168850702769078E-6}]
[4.8999994993209839E-2,6.2499995692633092E-5,5.8050751359701644,86.350006103515625,-7850001.5,null,-7850.0015000000003,null,{"$f":"C786","v":5.8050751359701644},{"$f":"AL784","v":5.8050734335370526},{"$f":"I786-J786","v":1.7024331118165037E-6},{"$f":"L784+KP_LR*(1+2*TA_SIM/TN_LR)*K786-KP_LR*K784","v":-0.2448232227542311},"-",{"$f":"L786","v":-0.2448232227542311},86.105446389558779,86.350006103515625,-2.6350879738856747E-4,-9.0293587785043698E-5,"-",-9.0293587785043698E-5,-5.3974367456428585,-5.3975270392306438,-5.3975270392306438,-5.3978004469225533,2.7340769190953296E-4,-15.633918303052036,-15.633918303052036,-15.633918303052036,"-",-5.3976240548632566,-5.3976240548632566,-5.3976240548632566,"-",-3.7783368384042793,-7850.2739214715957,85.614804269466802,817.56115807984474,5.8158059492032415,-2.9088820873213997E-4,2.9088820873213997E-4,{"$f":"FI_T-Rechentabelle!AL786","v":0.46419405079675879},{"$f":"K786","v":1.7024331118165037E-6}]
[4.9062497913837433E-2,6.2499995692633092E-5,5.810456533855147,85.859382629394531,-7850001.5,null,-7850.0015000000003,null,null,null,null,null,"-",{"$f":"N786+(L788-L786)/2","v":-0.24498786480342605},85.614804269466802,85.859382629394531,-4.0950487569091365E-4,-5.2825917052291035E-4,"-",-5.2825917052291035E-4,-5.3974367456428585,-5.3979650048133818,-5.3979650048133818,-5.3976240548632566,-3.4094995012523555E-4,{"$f":"Z786+KP_SR*(1+TA_SIM/TN_SR)*Y787-KP_SR*Y786","v":-15.677680152283484},-15.677680152283484,-15.677680152283484,"-",-5.3978440225730147,-5.3978440225730147,-5.3978440225730147,"-",-3.7784908158011099,-7850.5938412655505,{"$f":"AJ786+AI787*TA_SIM","v":85.124142154387698},812.87568001967907,{"$f":"AL786+AJ787*TA_SIM","v":5.8211262080878905},-2.9088820873213997E-4,2.9088820873213997E-4,{"$f":"FI_T-Rechentabelle!AL787","v":0.45887379191210975},{"$f":"AP786","v":1.7024331118165037E-6}]
[4.9124997109174728E-2,6.2499995692633092E-5,5.815807267676762,85.368759155273438,-7850001.5,null,-7850.0015000000003,null,{"$f":"C788","v":5.815807267676762},{"$f":"AL786","v":5.8158059492032415},{"$f":"I788-J788","v":1.318473520584007E-6},{"$f":"L786+KP_LR*(1+2*TA_SIM/TN_LR)*K788-KP_LR*K786","v":-0.24515250685262097},"-",{"$f":"L788","v":-0.24515250685262097},85.124142154387698,85.368759155273438,-5.355059668801232E-4,-9.5063390035383152E-4,"-",-9.5063390035383152E-4,-5.3974367456428585,-5.3983873795432125,-5.3983873795432125,-5.3978440225730147,-5.4335697019780582E-4,-15.692904422604432,-15.692904422604432,-15.692904422604432,"-",-5.3981945754570129,-5.3981945754570129,-5.3981945754570129,"-",-3.7787362028199087,-7851.1036833989374,84.633448174175271,808.18989766990433,5.8264157985987763,-2.9088820873213997E-4,2.9088820873213997E-4,{"$f":"FI_T-Rechentabelle!AL788","v":0.45358420140122391},{"$f":"K788","v":1.318473520584007E-6}]
[4.9187496304512024E-2,6.2499995692633092E-5,5.8211278142721694,84.878135681152344,-7850001.5,null,-7850.0015000000003,null,null,null,null,null,"-",{"$f":"N788+(L790-L788)/2","v":-0.24503716772517947},84.633448174175271,84.878135681152344,-3.496607480997227E-4,-6.0545550103502789E-4,"-",-6.0545550103502789E-4,-5.3974367456428585,-5.3980422011438938,-5.3980422011438938,-5.3981945754570129,1.5237431311909688E-4,-15.643783487679963,-15.643783487679963,-15.643783487679963,"-",-5.3980962694485486,-5.3980962694485486,-5.3980962694485486,"-",-3.7786673886139837,-7850.9607076957891,84.142763129944285,803.50420065246681,5.831674721294398,-2.9088820873213997E-4,2.9088820873213997E-4,{"$f":"FI_T-Rechentabelle!AL789","v":0.44832527870560224},{"$f":"AP788","v":1.318473520584007E-6}]
[4.9249995499849319E-2,6.2499995692633092E-5,5.826417219967051,84.387504577636719,-7850001.5,null,-7850.0015000000003,null,{"$f":"C790","v":5.826417219967051},{"$f":"AL788","v":5.8264157985987763},{"$f":"I790-J790","v":1.4213682746344602E-6},{"$f":"L788+KP_LR*(1+2*TA_SIM/TN_LR)*K790-KP_LR*K788","v":-0.24492182859773795},"-",{"$f":"L790","v":-0.24492182859773795},84.142763129944285,84.387504577636719,-1.803809053058103E-4,-2.5737383101995942E-4,"-",-2.5737383101995942E-4,-5.3974367456428585,-5.3976941194738783,-5.3976941194738783,-5.3980962694485486,4.0214997467025171E-4,-15.625498438064925,-15.625498438064925,-15.625498438064925,"-",-5.3978368178519869,-5.3978368178519869,-5.3978368178519869,"-",-3.7784857724963907,-7850.583362760005,83.652101669771781,798.81872884619827,5.8369029776487587,-2.9088820873213997E-4,2.9088820873213997E-4,{"$f":"FI_T-Rechentabelle!AL790","v":0.4430970223512416},{"$f":"K790","v":1.4213682746344602E-6}]
[4.9312498420476913E-2,6.2499995692633092E-5,5.831676438435724,83.896881103515625,-7850001.5,null,-7850.0015000000003,null,null,null,null,null,"-",{"$f":"N790+(L792-L790)/2","v":-0.244793810253945},83.652101669771781,83.896881103515625,-1.437651009439378E-5,1.2359245356045547E-4,"-",1.2359245356045547E-4,-5.3974367456428585,-5.3973131531892982,-5.3973131531892982,-5.3978368178519869,5.2366466268871648E-4,-15.615989131240276,-15.615989131240276,-15.615989131240276,"-",-5.3974989696825109,-5.3974989696825109,-5.3974989696825109,"-",-3.7782492787777575,-7850.0919982916212,83.161470919878553,794.13355030149478,5.8421005695812509,-2.9088820873213997E-4,2.9088820873213997E-4,{"$f":"FI_T-Rechentabelle!AL791","v":0.43789943041874935},{"$f":"AP790","v":1.4213682746344602E-6}]
[4.9374997615814209E-2,6.2499995692633092E-5,5.8369045160038722,83.406257629394531,-7850001.5,null,-7850.0015000000003,null,{"$f":"C792","v":5.8369045160038722},{"$f":"AL790","v":5.8369029776487587},{"$f":"I792-J792","v":1.5383551135172979E-6},{"$f":"L790+KP_LR*(1+2*TA_SIM/TN_LR)*K792-KP_LR*K790","v":-0.24466579191015206},"-",{"$f":"L792","v":-0.24466579191015206},83.161470919878553,83.406257629394531,1.209176058267758E-4,4.6641651731559367E-4,"-",4.6641651731559367E-4,-5.3974367456428585,-5.3969703291255433,-5.3969703291255433,-5.3974989696825109,5.286405569675523E-4,-15.614650786135281,-15.614650786135281,-15.614650786135281,"-",-5.3971579112586605,-5.3971579112586605,-5.3971579112586605,"-",-3.778010537881062,-7849.5959648474163,82.670871172075593,789.44866780494613,5.8472674990295053,-2.9088820873213997E-4,2.9088820873213997E-4,{"$f":"FI_T-Rechentabelle!AL792","v":0.43273250097049498},{"$f":"K792","v":1.5383551135172979E-6}]
[4.9437496811151505E-2,6.2499995692633092E-5,5.8421019295086527,82.915634155273438,-7850001.5,null,-7850.0015000000003,null,null,null,null,null,"-",{"$f":"N792+(L794-L792)/2","v":-0.24482153152097719},82.670871172075593,82.915634155273438,-5.8548323139007152E-5,3.649437812331595E-5,"-",3.649437812331595E-5,-5.3974367456428585,-5.3974002512647354,-5.3974002512647354,-5.3971579112586605,-2.423400060749259E-4,-15.66922205792666,-15.66922205792666,-15.66922205792666,"-",-5.3973142596496775,-5.3973142596496775,-5.3973142596496775,"-",-3.7781199817547741,-7849.8233570637312,82.180257212259107,{"$f":"AJ793/(2*PI())*60","v":784.76364959366515},5.8524037651052714,-2.9088820873213997E-4,2.9088820873213997E-4,{"$f":"FI_T-Rechentabelle!AL793","v":0.42759623489472887},{"$f":"AP792","v":1.5383551135172979E-6}]
[4.94999960064888E-2,6.2499995692633092E-5,5.8472686789500665,82.425010681152344,-7850001.5,null,-7850.0015000000003,null,{"$f":"C794","v":5.8472686789500665},{"$f":"AL792","v":5.8472674990295053},{"$f":"I794-J794","v":1.1799205612561536E-6},{"$f":"L792+KP_LR*(1+2*TA_SIM/TN_LR)*K794-KP_LR*K792","v":-0.24497727113180229},"-",{"$f":"L794","v":-0.24497727113180229},82.180257212259107,82.425010681152344,-2.2380223856544035E-4,-4.0079999851129011E-4,"-",-4.0079999851129011E-4,-5.3974367456428585,-5.3978375456413694,-5.3978375456413694,-5.3973142596496775,-5.2328599169193524E-4,-15.689921704772491,-15.689921704772491,-15.689921704772491,"-",-5.3976518635152857,-5.3976518635152857,-5.3976518635152857,"-",-3.7783563044606998,-7850.31436621795,81.689612564370492,780.0783383328818,5.8575093658905448,-2.9088820873213997E-4,2.9088820873213997E-4,{"$f":"FI_T-Rechentabelle!AL794","v":0.42249063410945542},{"$f":"K794","v":1.1799205612561536E-6}]
[4.9562495201826096E-2,6.2499995692633092E-5,5.8524047643281136,81.934379577636719,-7850001.5,null,-7850.0015000000003,null,null,null,null,null,"-",{"$f":"N794+(L796-L794)/2","v":-0.24485913491354772},81.689612564370492,81.934379577636719,-9.2121647327303435E-5,-1.1828236844164063E-4,"-",-1.1828236844164063E-4,-5.3974367456428585,-5.3975550280113005,-5.3975550280113005,-5.3976518635152857,9.6835503985204241E-5,-15.646212000455568,-15.646212000455568,-15.646212000455568,"-",-5.397589388996586,-5.397589388996586,-5.397589388996586,"-",-3.7783125722976099,-7850.2235036310194,81.198973595393554,775.39308130171048,5.8625843017402568,-2.9088820873213997E-4,2.9088820873213997E-4,{"$f":"FI_T-Rechentabelle!AL795","v":0.41741569825974345},{"$f":"AP794","v":1.1799205612561536E-6}]
[4.962499812245369E-2,6.2499995692633092E-5,5.8575106624799522,81.443756103515625,-7850001.5,null,-7850.0015000000003,null,{"$f":"C796","v":5.8575106624799522},{"$f":"AL794","v":5.8575093658905448},{"$f":"I796-J796","v":1.2965894073957429E-6},{"$f":"L794+KP_LR*(1+2*TA_SIM/TN_LR)*K796-KP_LR*K794","v":-0.24474099869529314},"-",{"$f":"L796","v":-0.24474099869529314},81.198973595393554,81.443756103515625,4.1509426779384739E-5,2.0133091088752976E-4,"-",2.0133091088752976E-4,-5.3974367456428585,-5.3972354147319708,-5.3972354147319708,-5.397589388996586,3.5397426461525328E-4,-15.627500243988514,-15.627500243988514,-15.627500243988514,"-",-5.3973610185032861,-5.3973610185032861,-5.3973610185032861,"-",-3.7781527129522998,-7849.8913628761675,80.708355385213792,770.70802250244992,5.8676285739518326,-2.9088820873213997E-4,2.9088820873213997E-4,{"$f":"FI_T-Rechentabelle!AL796","v":0.41237142604816768},{"$f":"K796","v":1.2965894073957429E-6}]
[4.9687497317790985E-2,6.2499995692633092E-5,5.862585419731265,80.953132629394531,-7850001.5,null,-7850.0015000000003,null,null,null,null,null,"-",{"$f":"N796+(L798-L796)/2","v":-0.24461663570015496},80.708355385213792,80.953132629394531,1.6060848058430111E-4,5.1632306683283002E-4,"-",5.1632306683283002E-4,-5.3974367456428585,-5.3969204225760254,-5.3969204225760254,-5.3973610185032861,4.4059592726064523E-4,-15.620595621353111,-15.620595621353111,-15.620595621353111,"-",-5.3970767630663437,-5.3970767630663437,-5.3970767630663437,"-",-3.7779537341464402,-7849.4779433751091,80.217763013752844,766.0232104447789,5.8726421841401919,-2.9088820873213997E-4,2.9088820873213997E-4,{"$f":"FI_T-Rechentabelle!AL797","v":0.40735781585980835},{"$f":"AP796","v":1.2965894073957429E-6}]
[4.9749996513128281E-2,6.2499995692633092E-5,5.8676299897563702,80.462509155273438,-7850001.5,null,-7850.0015000000003,null,{"$f":"C798","v":5.8676299897563702},{"$f":"AL796","v":5.8676285739518326},{"$f":"I798-J798","v":1.4158045376078121E-6},{"$f":"L796+KP_LR*(1+2*TA_SIM/TN_LR)*K798-KP_LR*K796","v":-0.24449227270501678},"-",{"$f":"L798","v":-0.24449227270501678},80.217763013752844,80.462509155273438,2.538688155766522E-4,7.9420815613173452E-4,"-",7.9420815613173452E-4,-5.3974367456428585,-5.3966425374867271,-5.3966425374867271,-5.3970767630663437,4.3422557961658725E-4,-15.620230356606521,-15.620230356606521,-15.620230356606521,"-",-5.3967966175311073,-5.3967966175311073,-5.3967966175311073,"-",-3.7777576322717747,-7849.0705012918643,79.727196107422103,761.33864156118864,5.8776251338969061,-2.9088820873213997E-4,2.9088820873213997E-4,{"$f":"FI_T-Rechentabelle!AL798","v":0.40237486610309414},{"$f":"K798","v":1.4158045376078121E-6}]
[4.9812495708465576E-2,6.2499995692633092E-5,5.8726434188809495,79.971885681152344,-7850001.5,null,-7850.0015000000003,null,null,null,null,null,"-",{"$f":"N798+(L800-L798)/2","v":-0.24465737435217344},79.727196107422103,79.971885681152344,3.2199378068753504E-5,2.8866504348286891E-4,"-",2.8866504348286891E-4,-5.3974367456428585,-5.3971480805993757,-5.3971480805993757,-5.3967966175311073,-3.5146306826838725E-4,-15.67603820679224,-15.67603820679224,-15.67603820679224,"-",-5.3970233678977326,-5.3970233678977326,-5.3970233678977326,"-",-3.7779163575284125,-7849.4002857436362,79.236608589563119,756.65387585200222,5.8825774219337541,-2.9088820873213997E-4,2.9088820873213997E-4,{"$f":"FI_T-Rechentabelle!AL799","v":0.39742257806624615},{"$f":"AP798","v":1.4158045376078121E-6}]
[4.9874994903802872E-2,6.2499995692633092E-5,5.8776261839421613,79.481254577636719,-7850001.5,null,-7850.0015000000003,null,{"$f":"C800","v":5.8776261839421613},{"$f":"AL798","v":5.8776251338969061},{"$f":"I800-J800","v":1.0500452551909234E-6},{"$f":"L798+KP_LR*(1+2*TA_SIM/TN_LR)*K800-KP_LR*K798","v":-0.2448224759993301},"-",{"$f":"L800","v":-0.2448224759993301},79.236608589563119,79.481254577636719,-1.7648792572799721E-4,-2.3768748567225213E-4,"-",-2.3768748567225213E-4,-5.3974367456428585,-5.3976744331285307,-5.3976744331285307,-5.3970233678977326,-6.5106523079805356E-4,-15.698286467729364,-15.698286467729364,-15.698286467729364,"-",-5.3974434099821176,-5.3974434099821176,-5.3974434099821176,"-",-3.7782103869874821,-7850.0111925773563,78.745982890027037,751.96874553465705,5.8874990458643808,-2.9088820873213997E-4,2.9088820873213997E-4,{"$f":"FI_T-Rechentabelle!AL800","v":0.39250095413561947},{"$f":"K800","v":1.0500452551909234E-6}]
[4.9937497824430466E-2,6.2499995692633092E-5,5.8825782849400072,78.990631103515625,-7850001.5,null,-7850.0015000000003,null,null,null,null,null,"-",{"$f":"N800+(L802-L800)/2","v":-0.24471796505113802},78.745982890027037,78.990631103515625,-6.9751562548958645E-5,-7.4877759760168185E-6,"-",-7.4877759760168185E-6,-5.3974367456428585,-5.3974442334188346,-5.3974442334188346,-5.3974434099821176,-8.2343671703455357E-7,-15.652645229516761,-15.652645229516761,-15.652645229516761,"-",-5.3974439412316126,-5.3974439412316126,-5.3974439412316126,"-",-3.7782107588621288,-7850.0119652236199,78.255357142200566,747.28361475617271,5.8923900056857681,-2.9088820873213997E-4,2.9088820873213997E-4,{"$f":"FI_T-Rechentabelle!AL801","v":0.38760999431423215},{"$f":"AP800","v":1.0500452551909234E-6}]
[4.9999997019767761E-2,6.2499995692633092E-5,5.8875001987116438,78.500007629394531,-7850001.5,null,-7850.0015000000003,null,{"$f":"C802","v":5.8875001987116438},{"$f":"AL800","v":5.8874990458643808},{"$f":"I802-J802","v":1.1528472629862563E-6},{"$f":"L800+KP_LR*(1+2*TA_SIM/TN_LR)*K802-KP_LR*K800","v":-0.24461345410294597},"-",{"$f":"L802","v":-0.24461345410294597},78.255357142200566,78.500007629394531,3.7033091018656705E-5,2.4885708826314978E-4,"-",2.4885708826314978E-4,-5.3974367456428585,-5.397187888554595,-5.397187888554595,-5.3974439412316126,2.5605267701767076E-4,-15.634135117298896,-15.634135117298896,-15.634135117298896,"-",-5.3972787459561182,-5.3972787459561182,-5.3972787459561182,"-",-3.7780951221692827,-7849.7717061485191,77.764746410566289,742.59862737176104,5.8972503023364284,-2.9088820873213997E-4,2.9088820873213997E-4,{"$f":"FI_T-Rechentabelle!AL802","v":0.38274969766357181},{"$f":"K802","v":1.1528472629862563E-6}]
[5.0062496215105057E-2,6.2499995692633092E-5,5.8923909715827554,78.009384155273438,-7850001.5,null,-7850.0015000000003,null,null,null,null,null,"-",{"$f":"N802+(L804-L802)/2","v":-0.24479458925551104},77.764746410566289,78.009384155273438,-1.5684454835707129E-4,-2.3840690187161697E-4,"-",-2.3840690187161697E-4,-5.3974367456428585,-5.3976751525447302,-5.3976751525447302,-5.3972787459561182,-3.9640658861195277E-4,-15.680675212271463,-15.680675212271463,-15.680675212271463,"-",-5.3975344921423192,-5.3975344921423192,-5.3975344921423192,"-",-3.7782741444996231,-7850.1436619564156,77.274112431694007,737.91341799257896,5.9020799343634094,-2.9088820873213997E-4,2.9088820873213997E-4,{"$f":"FI_T-Rechentabelle!AL803","v":0.37792006563659086},{"$f":"AP802","v":1.1528472629862563E-6}]
[5.0124995410442352E-2,6.2499995692633092E-5,5.8972510803905003,77.518760681152344,-7850001.5,null,-7850.0015000000003,null,{"$f":"C804","v":5.8972510803905003},{"$f":"AL802","v":5.8972503023364284},{"$f":"I804-J804","v":7.7805407183717534E-7},{"$f":"L802+KP_LR*(1+2*TA_SIM/TN_LR)*K804-KP_LR*K802","v":-0.24497572440807611},"-",{"$f":"L804","v":-0.24497572440807611},77.274112431694007,77.518760681152344,-3.2747494974216806E-4,-7.1342802558653257E-4,"-",-7.1342802558653257E-4,-5.3974367456428585,-5.3981501736684452,-5.3981501736684452,-5.3975344921423192,-6.1568152612601068E-4,-15.697218818482622,-15.697218818482622,-15.697218818482622,"-",-5.3979317060301426,-5.3979317060301426,-5.3979317060301426,"-",-3.7785521942210996,-7850.7213675900666,76.78344234621963,733.22786382074469,5.9068788995100485,-2.9088820873213997E-4,2.9088820873213997E-4,{"$f":"FI_T-Rechentabelle!AL804","v":0.37312110048995173},{"$f":"K804","v":7.7805407183717534E-7}]
[5.0187498331069946E-2,6.2499995692633092E-5,5.9020810019720358,77.028129577636719,-7850001.5,null,-7850.0015000000003,null,null,null,null,null,"-",{"$f":"N804+(L806-L804)/2","v":-0.24488074080227101},76.78344234621963,77.028129577636719,-1.9350938518414296E-4,-4.5033591281141104E-4,"-",-4.5033591281141104E-4,-5.3974367456428585,-5.3978870815556697,-5.3978870815556697,-5.3979317060301426,4.4624474472954034E-5,-15.650786106327047,-15.650786106327047,-15.650786106327047,"-",-5.3979029160466112,-5.3979029160466112,-5.3979029160466112,"-",-3.7785320412326278,-7850.6794956007216,76.292774877744591,728.54233463941341,5.9116471979399074,-2.9088820873213997E-4,2.9088820873213997E-4,{"$f":"FI_T-Rechentabelle!AL805","v":0.3683528020600928},{"$f":"AP804","v":7.7805407183717534E-7}]
[5.0249997526407242E-2,6.2499995692633092E-5,5.9068797826530473,76.537506103515625,-7850001.5,null,-7850.0015000000003,null,{"$f":"C806","v":5.9068797826530473},{"$f":"AL804","v":5.9068788995100485},{"$f":"I806-J806","v":8.8314299873104574E-7},{"$f":"L804+KP_LR*(1+2*TA_SIM/TN_LR)*K806-KP_LR*K804","v":-0.24478575719646589},"-",{"$f":"L806","v":-0.24478575719646589},76.292774877744591,76.537506103515625,-5.4531425433879122E-5,-1.4175313838340261E-4,"-",-1.4175313838340261E-4,-5.3974367456428585,-5.3975784987812423,-5.3975784987812423,-5.3979029160466112,3.244172653689148E-4,-15.630539483282497,-15.630539483282497,-15.630539483282497,"-",-5.3976936145850836,-5.3976936145850836,-5.3976936145850836,"-",-3.7783855302095581,-7850.3750887379138,75.802126434698465,723.85698713754539,5.9163848308420759,-2.9088820873213997E-4,2.9088820873213997E-4,{"$f":"FI_T-Rechentabelle!AL806","v":0.36361516915792436},{"$f":"K806","v":8.8314299873104574E-7}]
[5.0312496721744537E-2,6.2499995692633092E-5,5.9116478992706911,76.046882629394531,-7850001.5,null,-7850.0015000000003,null,null,null,null,null,"-",{"$f":"N806+(L808-L806)/2","v":-0.24497005058622312},75.802126434698465,76.046882629394531,-2.1385589015210371E-4,-5.6288988231544392E-4,"-",-5.6288988231544392E-4,-5.3974367456428585,-5.3979996355251743,-5.3979996355251743,-5.3976936145850836,-3.0602094009068992E-4,-15.675364733269769,-15.675364733269769,-15.675364733269769,"-",-5.397891047449658,-5.397891047449658,-5.397891047449658,"-",-3.7785237332147603,-7850.6622339803862,75.311460045074696,719.17146825848477,5.9210917970948929,-2.9088820873213997E-4,2.9088820873213997E-4,{"$f":"FI_T-Rechentabelle!AL807","v":0.35890820290510739},{"$f":"AP806","v":8.8314299873104574E-7}]
[5.0374995917081833E-2,6.2499995692633092E-5,5.9163853518249674,75.556259155273438,-7850001.5,null,-7850.0015000000003,null,{"$f":"C808","v":5.9163853518249674},{"$f":"AL806","v":5.9163848308420759},{"$f":"I808-J808","v":5.2098289149427046E-7},{"$f":"L806+KP_LR*(1+2*TA_SIM/TN_LR)*K808-KP_LR*K806","v":-0.24515434397598032},"-",{"$f":"L808","v":-0.24515434397598032},75.311460045074696,75.556259155273438,-3.5523377724189231E-4,-9.7692870097296127E-4,"-",-9.7692870097296127E-4,-5.3974367456428585,-5.3984136743438311,-5.3984136743438311,-5.397891047449658,-5.2262689417315045E-4,-15.691546891848654,-15.691546891848654,-15.691546891848654,"-",-5.3982282260910601,-5.3982282260910601,-5.3982282260910601,"-",-3.778759758263742,-7851.1526246909243,74.820763006031513,714.48565669902803,5.9257680947827698,-2.9088820873213997E-4,2.9088820873213997E-4,{"$f":"FI_T-Rechentabelle!AL808","v":0.35423190521723047},{"$f":"K808","v":5.2098289149427046E-7}]
[5.0437495112419128E-2,6.2499995692633092E-5,5.921092617153036,75.065635681152344,-7850001.5,null,-7850.0015000000003,null,null,null,null,null,"-",{"$f":"N808+(L810-L808)/2","v":-0.24505710143518386},74.820763006031513,75.065635681152344,-1.8442631434822943E-4,-6.2629525781169118E-4,"-",-6.2629525781169118E-4,-5.3974367456428585,-5.39806304090067,-5.39806304090067,-5.3982282260910601,1.6518519039010471E-4,-15.642957864846968,-15.642957864846968,-15.642957864846968,"-",-5.3981216550004865,-5.3981216550004865,-5.3981216550004865,"-",-3.7786851585003403,-7850.9976282990647,74.330075654262828,709.79993764622861,5.930413724511161,-2.9088820873213997E-4,2.9088820873213997E-4,{"$f":"FI_T-Rechentabelle!AL809","v":0.34958627548883925},{"$f":"AP808","v":5.2098289149427046E-7}]
[5.0499998033046722E-2,6.2499995692633092E-5,5.9257687415805789,74.575004577636719,-7850001.5,null,-7850.0015000000003,null,{"$f":"C810","v":5.9257687415805789},{"$f":"AL808","v":5.9257680947827698},{"$f":"I810-J810","v":6.4679780908960538E-7},{"$f":"L808+KP_LR*(1+2*TA_SIM/TN_LR)*K810-KP_LR*K808","v":-0.2449598588943874},"-",{"$f":"L810","v":-0.2449598588943874},74.330075654262828,74.575004577636719,-3.0935520499042468E-5,-2.7834781518906238E-4,"-",-2.7834781518906238E-4,-5.3974367456428585,-5.3977150934580473,-5.3977150934580473,-5.3981216550004865,4.0656154243912113E-4,-15.625254138668899,-15.625254138668899,-15.625254138668899,"-",-5.3978593572311704,-5.3978593572311704,-5.3978593572311704,"-",-3.7785015500618191,-7850.6161439057114,73.839412145268724,705.11444627515505,5.9350286877702407,-2.9088820873213997E-4,2.9088820873213997E-4,{"$f":"FI_T-Rechentabelle!AL810","v":0.34497131222975952},{"$f":"K810","v":6.4679780908960538E-7}]
[5.0562497228384018E-2,6.2499995692633092E-5,5.9304146787819132,74.084381103515625,-7850001.5,null,-7850.0015000000003,null,null,null,null,null,"-",{"$f":"N810+(L812-L810)/2","v":-0.24484864866919198},73.839412145268724,74.084381103515625,1.2030957771003159E-4,1.0127097049418598E-4,"-",1.0127097049418598E-4,-5.3974367456428585,-5.3973354746723645,-5.3973354746723645,-5.3978593572311704,5.2388255880586598E-4,-15.616038792861648,-15.616038792861648,-15.616038792861648,"-",-5.3975213684835532,-5.3975213684835532,-5.3975213684835532,"-",-3.7782649579384868,-7850.1245749812724,73.348779359332397,700.42924828767218,5.9396129864801992,-2.9088820873213997E-4,2.9088820873213997E-4,{"$f":"FI_T-Rechentabelle!AL811","v":0.34038701351980105},{"$f":"AP810","v":6.4679780908960538E-7}]
[5.0624996423721313E-2,6.2499995692633092E-5,5.9350294750827226,73.593757629394531,-7850001.5,null,-7850.0015000000003,null,{"$f":"C812","v":5.9350294750827226},{"$f":"AL810","v":5.9350286877702407},{"$f":"I812-J812","v":7.873124818758015E-7},{"$f":"L810+KP_LR*(1+2*TA_SIM/TN_LR)*K812-KP_LR*K810","v":-0.24473743844399656},"-",{"$f":"L812","v":-0.24473743844399656},73.348779359332397,73.593757629394531,2.4083161814303367E-4,4.3911661672061433E-4,"-",4.3911661672061433E-4,-5.3974367456428585,-5.3969976290261377,-5.3969976290261377,-5.3975213684835532,5.2373945741557293E-4,-15.615068938026008,-15.615068938026008,-15.615068938026008,"-",-5.3971834720594147,-5.3971834720594147,-5.3971834720594147,"-",-3.7780284304415899,-7849.6331403315799,72.858177288061668,695.74434360364057,5.9441666225607035,-2.9088820873213997E-4,2.9088820873213997E-4,{"$f":"FI_T-Rechentabelle!AL812","v":0.33583337743929675},{"$f":"K812","v":7.873124818758015E-7}]
[5.0687495619058609E-2,6.2499995692633092E-5,5.9396136073201653,73.103134155273438,-7850001.5,null,-7850.0015000000003,null,null,null,null,null,"-",{"$f":"N812+(L814-L812)/2","v":-0.2449087217957506},72.858177288061668,73.103134155273438,4.8145416016609488E-5,4.5870755722668844E-6,"-",4.5870755722668844E-6,-5.3974367456428585,-5.3974321585672866,-5.3974321585672866,-5.3971834720594147,-2.4868650787190916E-4,-15.669753541829948,-15.669753541829948,-15.669753541829948,"-",-5.3973439149677196,-5.3973439149677196,-5.3973439149677196,"-",-3.7781407404774034,-7849.8664875906979,72.367560632587256,691.05929965072266,5.9486895951002401,-2.9088820873213997E-4,2.9088820873213997E-4,{"$f":"FI_T-Rechentabelle!AL813","v":0.33131040489976016},{"$f":"AP812","v":7.873124818758015E-7}]
[5.0749994814395905E-2,6.2499995692633092E-5,5.9441670754942404,72.612510681152344,-7850001.5,null,-7850.0015000000003,null,{"$f":"C814","v":5.9441670754942404},{"$f":"AL812","v":5.9441666225607035},{"$f":"I814-J814","v":4.5293353689856986E-7},{"$f":"L812+KP_LR*(1+2*TA_SIM/TN_LR)*K814-KP_LR*K812","v":-0.24508000514750464},"-",{"$f":"L814","v":-0.24508000514750464},72.367560632587256,72.612510681152344,-1.2995658241266028E-4,-4.3958496748693716E-4,"-",-4.3958496748693716E-4,-5.3974367456428585,-5.3978763306103454,-5.3978763306103454,-5.3973439149677196,-5.3241564262584973E-4,-15.690665629071782,-15.690665629071782,-15.690665629071782,"-",-5.3976874089307039,-5.3976874089307039,-5.3976874089307039,"-",-3.7783811862514924,-7850.3660632692545,71.876912753632922,686.37395753553437,5.9531819021473424,-2.9088820873213997E-4,2.9088820873213997E-4,{"$f":"FI_T-Rechentabelle!AL814","v":0.32681809785265781},{"$f":"K814","v":4.5293353689856986E-7}]
[5.0812497735023499E-2,6.2499995692633092E-5,5.948690356442107,72.121879577636719,-7850001.5,null,-7850.0015000000003,null,null,null,null,null,"-",{"$f":"N814+(L816-L814)/2","v":-0.24497603225546299},71.876912753632922,72.121879577636719,-9.2082516687241878E-6,-1.6217310593467455E-4,"-",-1.6217310593467455E-4,-5.3974367456428585,-5.3975989187487929,-5.3975989187487929,-5.3976874089307039,8.849018191092739E-5,-15.646916483757495,-15.646916483757495,-15.646916483757495,"-",-5.3976303184907612,-5.3976303184907612,-5.3976303184907612,"-",-3.7783412229435327,-7850.2830312560409,71.386270064179413,681.68866497642875,5.9576435440263538,-2.9088820873213997E-4,2.9088820873213997E-4,{"$f":"FI_T-Rechentabelle!AL815","v":0.32235645597364648},{"$f":"AP814","v":4.5293353689856986E-7}]
[5.0874996930360794E-2,6.2499995692633092E-5,5.9531824964894486,71.631256103515625,-7850001.5,null,-7850.0015000000003,null,{"$f":"C816","v":5.9531824964894486},{"$f":"AL814","v":5.9531819021473424},{"$f":"I816-J816","v":5.9434210619713213E-7},{"$f":"L814+KP_LR*(1+2*TA_SIM/TN_LR)*K816-KP_LR*K814","v":-0.24487205936342132},"-",{"$f":"L816","v":-0.24487205936342132},71.386270064179413,71.631256103515625,1.1397997279516403E-4,1.5092200524982505E-4,"-",1.5092200524982505E-4,-5.3974367456428585,-5.3972858236376089,-5.3972858236376089,-5.3976303184907612,3.4449485315235506E-4,-15.628302068721876,-15.628302068721876,-15.628302068721876,"-",-5.3974080637467923,-5.3974080637467923,-5.3974080637467923,"-",-3.7781856446227544,-7849.9597852124543,70.89564757760364,677.00356534059449,5.9620745219999538,-2.9088820873213997E-4,2.9088820873213997E-4,{"$f":"FI_T-Rechentabelle!AL816","v":0.31792547800004645},{"$f":"K816","v":5.9434210619713213E-7}]
[5.093749612569809E-2,6.2499995692633092E-5,5.9576439724734236,71.140632629394531,-7850001.5,null,-7850.0015000000003,null,null,null,null,null,"-",{"$f":"N816+(L818-L816)/2","v":-0.24476030004691526},70.89564757760364,71.140632629394531,2.2475174397129649E-4,4.6226557966911198E-4,"-",4.6226557966911198E-4,-5.3974367456428585,-5.3969744800631894,-5.3969744800631894,-5.3974080637467923,4.3358368360291166E-4,-15.621237386505445,-15.621237386505445,-15.621237386505445,"-",-5.397128332338017,-5.397128332338017,-5.397128332338017,"-",-3.7779898326366115,-7849.5529454323942,70.405050518514116,672.31870851936787,5.9664748376573611,-2.9088820873213997E-4,2.9088820873213997E-4,{"$f":"FI_T-Rechentabelle!AL817","v":0.31352516234263916},{"$f":"AP816","v":5.9434210619713213E-7}]
[5.0999995321035385E-2,6.2499995692633092E-5,5.9620752612311891,70.650009155273438,-7850001.5,null,-7850.0015000000003,null,{"$f":"C818","v":5.9620752612311891},{"$f":"AL816","v":5.9620745219999538},{"$f":"I818-J818","v":7.392312353360353E-7},{"$f":"L816+KP_LR*(1+2*TA_SIM/TN_LR)*K818-KP_LR*K816","v":-0.2446485407304092},"-",{"$f":"L818","v":-0.2446485407304092},70.405050518514116,70.650009155273438,3.1009602891174382E-4,7.3552463972143824E-4,"-",7.3552463972143824E-4,-5.3974367456428585,-5.3967012210031369,-5.3967012210031369,-5.397128332338017,4.2711133488015918E-4,-15.620892592098917,-15.620892592098917,-15.620892592098917,"-",-5.3968527766380943,-5.3968527766380943,-5.3968527766380943,"-",-3.7777969436466656,-7849.152178779691,69.914478507340391,667.63409088811807,5.97084449256407,-2.9088820873213997E-4,2.9088820873213997E-4,{"$f":"FI_T-Rechentabelle!AL818","v":0.30915550743593023},{"$f":"K818","v":7.392312353360353E-7}]
[5.1062498241662979E-2,6.2499995692633092E-5,5.9664754090884298,70.159378051757813,-7850001.5,null,-7850.0015000000003,null,null,null,null,null,"-",{"$f":"N818+(L820-L818)/2","v":-0.24482450451104643},69.914478507340391,70.159378051757813,7.5039906377583065E-5,2.0942176741838546E-4,"-",2.0942176741838546E-4,-5.3974367456428585,-5.3972273238754402,-5.3972273238754402,-5.3968527766380943,-3.7454723734597906E-4,-15.677864617677308,-15.677864617677308,-15.677864617677308,"-",-5.3970944200170274,-5.3970944200170274,-5.3970944200170274,"-",-3.7779660940119189,-7849.5036235443977,69.423884530868861,662.94926350372486,5.975183485347249,-2.9088820873213997E-4,2.9088820873213997E-4,{"$f":"FI_T-Rechentabelle!AL819","v":0.30481651465275128},{"$f":"AP818","v":7.392312353360353E-7}]
[5.1124997437000275E-2,6.2499995692633092E-5,5.9708448928823037,69.668754577636719,-7850001.5,null,-7850.0015000000003,null,{"$f":"C820","v":5.9708448928823037},{"$f":"AL818","v":5.97084449256407},{"$f":"I820-J820","v":4.0031823367314701E-7},{"$f":"L818+KP_LR*(1+2*TA_SIM/TN_LR)*K820-KP_LR*K818","v":-0.24500046829168362},"-",{"$f":"L820","v":-0.24500046829168362},69.423884530868861,69.668754577636719,-1.3042152382070071E-4,-2.9822889175098446E-4,"-",-2.9822889175098446E-4,-5.3974367456428585,-5.3977349745346093,-5.3977349745346093,-5.3970944200170274,-6.4055451758182613E-4,-15.697735069413211,-15.697735069413211,-15.697735069413211,"-",-5.397507680996112,-5.397507680996112,-5.397507680996112,"-",-3.778255376697278,-7850.1046679768906,68.933252989120305,658.26407739735998,5.9794918136590693,-2.9088820873213997E-4,2.9088820873213997E-4,{"$f":"FI_T-Rechentabelle!AL820","v":0.30050818634093091},{"$f":"K820","v":4.0031823367314701E-7}]
[5.118749663233757E-2,6.2499995692633092E-5,5.9751837126128109,69.178131103515625,-7850001.5,null,-7850.0015000000003,null,null,null,null,null,"-",{"$f":"N820+(L822-L820)/2","v":-0.24490483719892395},68.933252989120305,69.178131103515625,-2.6722803610823576E-5,-6.4574359813354102E-5,"-",-6.4574359813354102E-5,-5.3974367456428585,-5.3975013200026716,-5.3975013200026716,-5.397507680996112,6.3609934404240676E-6,-15.652313872974373,-15.652313872974373,-15.652313872974373,"-",-5.3975035771293767,-5.3975035771293767,-5.3975035771293767,"-",-3.7782525039905632,-7850.0986993363031,68.442621820411787,653.57889485326518,5.9837694775228449,-2.9088820873213997E-4,2.9088820873213997E-4,{"$f":"FI_T-Rechentabelle!AL821","v":0.29623052247715531},{"$f":"AP820","v":4.0031823367314701E-7}]
[5.1249995827674866E-2,6.2499995692633092E-5,5.9794923451171087,68.687507629394531,-7850001.5,null,-7850.0015000000003,null,{"$f":"C822","v":5.9794923451171087},{"$f":"AL820","v":5.9794918136590693},{"$f":"I822-J822","v":5.3145803935450431E-7},{"$f":"L820+KP_LR*(1+2*TA_SIM/TN_LR)*K822-KP_LR*K820","v":-0.24480920610616427},"-",{"$f":"L822","v":-0.24480920610616427},68.442621820411787,68.687507629394531,7.6602876575293521E-5,1.9340624051003102E-4,"-",1.9340624051003102E-4,-5.3974367456428585,-5.3972433394023485,-5.3972433394023485,-5.3975035771293767,2.6023772702821191E-4,-15.634006467798416,-15.634006467798416,-15.634006467798416,"-",-5.3973356818216169,-5.3973356818216169,-5.3973356818216169,"-",-3.7781349772751316,-7849.8545133495354,67.95200591332744,648.89385804694587,5.9880164778924279,-2.9088820873213997E-4,2.9088820873213997E-4,{"$f":"FI_T-Rechentabelle!AL822","v":0.29198352210757239},{"$f":"K822","v":5.3145803935450431E-7}]
[5.1312495023012161E-2,6.2499995692633092E-5,5.9837698367208816,68.196884155273438,-7850001.5,null,-7850.0015000000003,null,null,null,null,null,"-",{"$f":"N822+(L824-L822)/2","v":-0.24470794343408869},67.95200591332744,68.196884155273438,1.702985119038658E-4,4.5192567356370345E-4,"-",4.5192567356370345E-4,-5.3974367456428585,-5.3969848199692949,-5.3969848199692949,-5.3973356818216169,3.5086185232202638E-4,-15.626988787666997,-15.626988787666997,-15.626988787666997,"-",-5.3971093193362485,-5.3971093193362485,-5.3971093193362485,"-",-3.7779765235353735,-7849.5252930300712,67.461410582513054,644.20901772953107,5.9922328160538347,-2.9088820873213997E-4,2.9088820873213997E-4,{"$f":"FI_T-Rechentabelle!AL823","v":0.28776718394616552},{"$f":"AP822","v":5.3145803935450431E-7}]
[5.1374997943639755E-2,6.2499995692633092E-5,5.988017141098446,67.706253051757813,-7850001.5,null,-7850.0015000000003,null,{"$f":"C824","v":5.988017141098446},{"$f":"AL822","v":5.9880164778924279},{"$f":"I824-J824","v":6.6320601810332391E-7},{"$f":"L822+KP_LR*(1+2*TA_SIM/TN_LR)*K824-KP_LR*K822","v":-0.24460668076201314},"-",{"$f":"L824","v":-0.24460668076201314},67.461410582513054,67.706253051757813,2.3578848274041775E-4,6.6108591221378851E-4,"-",6.6108591221378851E-4,-5.3974367456428585,-5.3967756597306451,-5.3967756597306451,-5.3971093193362485,3.3365960560338692E-4,-15.627572008045536,-15.627572008045536,-15.627572008045536,"-",-5.3968940550745694,-5.3968940550745694,-5.3968940550745694,"-",-3.7778258385521983,-7849.2122139044213,66.970834819144031,639.52436426745544,5.9964184932300313,-2.9088820873213997E-4,2.9088820873213997E-4,{"$f":"FI_T-Rechentabelle!AL824","v":0.28358150676996896},{"$f":"K824","v":6.6320601810332391E-7}]
[5.1437497138977051E-2,6.2499995692633092E-5,5.9922333045754854,67.215629577636719,-7850001.5,null,-7850.0015000000003,null,null,null,null,null,"-",{"$f":"N824+(L826-L824)/2","v":-0.2447939068229335},66.970834819144031,67.215629577636719,8.5166975338779594E-7,1.1717281838416894E-4,"-",1.1717281838416894E-4,-5.3974367456428585,-5.3973195728244745,-5.3973195728244745,-5.3968940550745694,-4.2551774990506885E-4,-15.681657490467501,-15.681657490467501,-15.681657490467501,"-",-5.3971685826551523,-5.3971685826551523,-5.3971685826551523,"-",-3.7780180078586065,-7849.6114852661667,66.480234101314892,634.8394725078391,6.0005735078613638,-2.9088820873213997E-4,2.9088820873213997E-4,{"$f":"FI_T-Rechentabelle!AL825","v":0.27942649213863646},{"$f":"AP824","v":6.6320601810332391E-7}]
[5.1499996334314346E-2,6.2499995692633092E-5,5.9964188039891573,66.725006103515625,-7850001.5,null,-7850.0015000000003,null,{"$f":"C826","v":5.9964188039891573},{"$f":"AL824","v":5.9964184932300313},{"$f":"I826-J826","v":3.1075912598765854E-7},{"$f":"L824+KP_LR*(1+2*TA_SIM/TN_LR)*K826-KP_LR*K824","v":-0.2449811328838539},"-",{"$f":"L826","v":-0.2449811328838539},66.480234101314892,66.725006103515625,-2.0913068311756433E-4,-4.201371473599946E-4,"-",-4.201371473599946E-4,-5.3974367456428585,-5.3978568827902187,-5.3978568827902187,-5.3971685826551523,-6.8830013506637755E-4,-15.701390905885077,-15.701390905885077,-15.701390905885077,"-",-5.3976126472584216,-5.3976126472584216,-5.3976126472584216,"-",-3.7783288530808949,-7850.2573303155923,65.989593018170169,630.15419528785242,6.0046978574249996,-2.9088820873213997E-4,2.9088820873213997E-4,{"$f":"FI_T-Rechentabelle!AL826","v":0.27530214257500063},{"$f":"K826","v":3.1075912598765854E-7}]
[5.1562495529651642E-2,6.2499995692633092E-5,6.0005736393394624,66.234382629394531,-7850001.5,null,-7850.0015000000003,null,null,null,null,null,"-",{"$f":"N826+(L828-L826)/2","v":-0.24489629180611855},65.989593018170169,66.234382629394531,-1.0668058175156148E-4,-2.0886757199818748E-4,"-",-2.0886757199818748E-4,-5.3974367456428585,-5.3976456132148565,-5.3976456132148565,-5.3976126472584216,-3.2965956434871657E-5,-15.655452352748659,-15.655452352748659,-15.655452352748659,"-",-5.397633915617412,-5.397633915617412,-5.397633915617412,"-",-3.7783437409321881,-7850.2882628967127,65.498950001739118,625.46889960634121,6.0087915418001083,-2.9088820873213997E-4,2.9088820873213997E-4,{"$f":"FI_T-Rechentabelle!AL827","v":0.27120845819989192},{"$f":"AP826","v":3.1075912598765854E-7}]
[5.1624994724988937E-2,6.2499995692633092E-5,6.004698287463559,65.743759155273438,-7850001.5,null,-7850.0015000000003,null,{"$f":"C828","v":6.004698287463559},{"$f":"AL826","v":6.0046978574249996},{"$f":"I828-J828","v":4.300385594291356E-7},{"$f":"L826+KP_LR*(1+2*TA_SIM/TN_LR)*K828-KP_LR*K826","v":-0.24481145072838323},"-",{"$f":"L828","v":-0.24481145072838323},65.498950001739118,65.743759155273438,-2.2971940580873706E-6,3.2327454247055298E-5,"-",3.2327454247055298E-5,-5.3974367456428585,-5.3974044181886116,-5.3974044181886116,-5.397633915617412,2.2949742880040702E-4,-15.636599734131162,-15.636599734131162,-15.636599734131162,"-",-5.3974858527601208,-5.3974858527601208,-5.3974858527601208,"-",-3.7782400969320844,-7850.072921113825,65.008320444169499,620.78373244748957,6.0128545618278686,-2.9088820873213997E-4,2.9088820873213997E-4,{"$f":"FI_T-Rechentabelle!AL828","v":0.26714543817213166},{"$f":"K828","v":4.300385594291356E-7}]
[5.1687497645616531E-2,6.2499995692633092E-5,6.0087917946871308,65.253128051757813,-7850001.5,null,-7850.0015000000003,null,null,null,null,null,"-",{"$f":"N828+(L830-L828)/2","v":-0.24500898759812179},65.008320444169499,65.253128051757813,-2.0138000981262394E-4,-4.7784929862699919E-4,"-",-4.7784929862699919E-4,-5.3974367456428585,-5.3979145949414855,-5.3979145949414855,-5.3974858527601208,-4.2874218136468301E-4,-15.68360607084853,-15.68360607084853,-15.68360607084853,"-",-5.3977624606190657,-5.3977624606190657,-5.3977624606190657,"-",-3.7784337224333457,-7850.4752180206633,64.51766574304321,616.09832518535814,6.0168869159368086,-2.9088820873213997E-4,2.9088820873213997E-4,{"$f":"FI_T-Rechentabelle!AL829","v":0.26311308406319167},{"$f":"AP828","v":4.300385594291356E-7}]
[5.1749996840953827E-2,6.2499995692633092E-5,6.0128546378473349,64.762504577636719,-7850001.5,null,-7850.0015000000003,null,{"$f":"C830","v":6.0128546378473349},{"$f":"AL828","v":6.0128545618278686},{"$f":"I830-J830","v":7.6019466277443826E-8},{"$f":"L828+KP_LR*(1+2*TA_SIM/TN_LR)*K830-KP_LR*K828","v":-0.24520652446786032},"-",{"$f":"L830","v":-0.24520652446786032},64.51766574304321,64.762504577636719,-3.676898743520951E-4,-9.5266803168417313E-4,"-",-9.5266803168417313E-4,-5.3974367456428585,-5.3983894136745425,-5.3983894136745425,-5.3977624606190657,-6.2695305547677549E-4,-15.69869220437387,-15.69869220437387,-15.69869220437387,"-",-5.3981669464613091,-5.3981669464613091,-5.3981669464613091,"-",-3.7787168625229159,-7851.0634999437261,64.026974274296734,611.41256681831658,6.0208886018289522,-2.9088820873213997E-4,2.9088820873213997E-4,{"$f":"FI_T-Rechentabelle!AL830","v":0.259111398171048},{"$f":"K830","v":7.6019466277443826E-8}]
[5.1812496036291122E-2,6.2499995692633092E-5,6.0168872937813305,64.271881103515625,-7850001.5,null,-7850.0015000000003,null,null,null,null,null,"-",{"$f":"N830+(L832-L830)/2","v":-0.24512401256188698},64.026974274296734,64.271881103515625,-2.1718334299691833E-4,-6.5703807899659603E-4,"-",-6.5703807899659603E-4,-5.3974367456428585,-5.3980937837218548,-5.3980937837218548,-5.3981669464613091,7.3162739454346593E-5,-15.649411707320372,-15.649411707320372,-15.649411707320372,"-",-5.3981197446939193,-5.3981197446939193,-5.3981197446939193,"-",-3.7786838212857434,-7850.9948499599896,63.536287096174235,606.72684942371609,6.0248596197724629,-2.9088820873213997E-4,2.9088820873213997E-4,{"$f":"FI_T-Rechentabelle!AL831","v":0.25514038022753738},{"$f":"AP830","v":7.6019466277443826E-8}]
[5.1874995231628418E-2,6.2499995692633092E-5,6.0208888088148012,63.781257629394531,-7850001.5,null,-7850.0015000000003,null,{"$f":"C832","v":6.0208888088148012},{"$f":"AL830","v":6.0208886018289522},{"$f":"I832-J832","v":2.0698584890510574E-7},{"$f":"L830+KP_LR*(1+2*TA_SIM/TN_LR)*K832-KP_LR*K830","v":-0.24504150065591368},"-",{"$f":"L832","v":-0.24504150065591368},63.536287096174235,63.781257629394531,-7.0967435618740637E-5,-3.3569897848541265E-4,"-",-3.3569897848541265E-4,-5.3974367456428585,-5.397772444621344,-5.397772444621344,-5.3981197446939193,3.4730007257532947E-4,-15.629519247930673,-15.629519247930673,-15.629519247930673,"-",-5.3978956801309677,-5.3978956801309677,-5.3978956801309677,"-",-3.7785269760916771,-7850.6689717259023,63.045620285441366,602.04132652335977,6.0287999710403026,-2.9088820873213997E-4,2.9088820873213997E-4,{"$f":"FI_T-Rechentabelle!AL832","v":0.25120002895969762},{"$f":"K832","v":2.0698584890510574E-7}]
[5.1937498152256012E-2,6.2499995692633092E-5,6.0248596597849051,63.290630340576172,-7850001.5,null,-7850.0015000000003,null,null,null,null,null,"-",{"$f":"N832+(L834-L832)/2","v":-0.24523422510656839},63.045620285441366,63.290630340576172,-2.2416997176577524E-4,-7.4517164890897352E-4,"-",-7.4517164890897352E-4,-5.3974367456428585,-5.3981819172917671,-5.3981819172917671,-5.3978956801309677,-2.8623716079945183E-4,-15.674525014870992,-15.674525014870992,-15.674525014870992,"-",-5.3980803492669667,-5.3980803492669667,-5.3980803492669667,"-",-3.7786562444868763,-7850.9375534736673,62.554936688349265,597.35564332508056,6.0327096545833241,-2.9088820873213997E-4,2.9088820873213997E-4,{"$f":"FI_T-Rechentabelle!AL833","v":0.24729034541667616},{"$f":"AP832","v":2.0698584890510574E-7}]
[5.1999997347593307E-2,6.2499995692633092E-5,6.0287998466916424,62.800006866455078,-7850001.5,2943750706978.7129,-7850.0015000000003,null,{"$f":"C834","v":6.0287998466916424},{"$f":"AL832","v":6.0287999710403026},{"$f":"I834-J834","v":-1.2434866025756719E-7},{"$f":"L832+KP_LR*(1+2*TA_SIM/TN_LR)*K834-KP_LR*K832","v":-0.24542694955722313},"-",{"$f":"L834","v":-0.24542694955722313},62.554936688349265,62.800006866455078,-3.5677145140766697E-4,-1.1392589176086132E-3,"-",-1.1392589176086132E-3,{"$f":"G834*(JM_EMS+JL_EMS)/KT_M*KP_VSR","v":-5.3974367456428585},-5.3985760045604669,{"$f":"IF(V834<-IM_R,-IM_R,IF(V834>IM_R,IM_R,V834))","v":-5.3985760045604669},-5.3980803492669667,-4.9565529350026338E-4,-15.690152171767121,{"$f":"IF(Z834<-U_ZWK,-U_ZWK,IF(Z834>U_ZWK,U_ZWK,Z834))","v":-15.690152171767121},-15.690152171767121,"-",-5.3984001268756767,-5.3984001268756767,-5.3984001268756767,"-",{"$f":"AF834*KT_M","v":-3.7788800888129734},{"$f":"AH834/(JM_EMS+JL_EMS)","v":-7851.4026362205968},62.064224023585481,592.66968255098345,6.0365886685847983,{"$f":"-DF_LR","v":-2.9088820873213997E-4},{"$f":"DF_LR","v":2.9088820873213997E-4},{"$f":"FI_T-Rechentabelle!AL834","v":0.24341133141520199},{"$f":"K834","v":-1.2434866025756719E-7}]
[5.2062496542930603E-2,6.2499995692633092E-5,6.0327098463721702,62.309379577636719,-7850001.5,2920752654580.4419,{"$f":"E835/1000","v":-7850.0015000000003},null,null,null,null,null,"-",{"$f":"N834+(L836-L834)/2","v":-0.24533430697232306},62.064224023585481,62.309379577636719,-1.7875292108726626E-4,{"$f":"R834+KP_DR*(1+TA_SIM/TN_DR)*Q835-KP_DR*Q834","v":-7.7054129389483525E-4},"-",{"$f":"R835","v":-7.7054129389483525E-4},-5.3974367456428585,{"$f":"T835+U835","v":-5.3982072869367537},-5.3982072869367537,-5.3984001268756767,{"$f":"W835-X835","v":1.9283993892305062E-4},-15.641463451050647,-15.641463451050647,{"$f":"AA835","v":-15.641463451050647},"-",{"$f":"(1/R_M*AB835+AD834*T_M/TA_SIM)/(1+T_M/TA_SIM)","v":-5.3982757140118558},{"$f":"AD835","v":-5.3982757140118558},{"$f":"AE835","v":-5.3982757140118558},"-",-3.778792999808299,-7851.2216908545579,61.573522667907071,587.98382977069662,6.0404370137515428,-2.9088820873213997E-4,2.9088820873213997E-4,{"$f":"FI_T-Rechentabelle!AL835","v":0.2395629862484574},{"$f":"AP834","v":-1.2434866025756719E-7}]
[5.2124995738267899E-2,6.2499995692633092E-5,6.0365887051521732,61.818756103515625,-7850001.5,2897754602182.1704,-7850.0015000000003,null,{"$f":"C836","v":6.0365887051521732},{"$f":"AL834","v":6.0365886685847983},{"$f":"I836-J836","v":3.6567374905871475E-8},{"$f":"L834+KP_LR*(1+2*TA_SIM/TN_LR)*K836-KP_LR*K834","v":-0.24524166438742298},"-",{"$f":"L836","v":-0.24524166438742298},{"$f":"AJ835","v":61.573522667907071},{"$f":"D836*KP_VDR","v":61.818756103515625},{"$f":"N836-O836+P836","v":-8.228778867191977E-6},-3.7760836768735212E-4,"-",-3.7760836768735212E-4,-5.3974367456428585,-5.3978143540105457,-5.3978143540105457,{"$f":"AF835","v":-5.3982757140118558},4.6136000131014043E-4,-15.621751885378702,-15.621751885378702,-15.621751885378702,"-",-5.3979780623981082,-5.3979780623981082,-5.3979780623981082,"-",-3.7785846436786756,-7850.7887880296603,61.08284836865522,583.29823536025162,6.0442546917745839,-2.9088820873213997E-4,2.9088820873213997E-4,{"$f":"FI_T-Rechentabelle!AL836","v":0.23574530822541639},{"$f":"K836","v":3.6567374905871475E-8}]
[5.2187494933605194E-2,6.2499995692633092E-5,6.0404373767059667,61.328132629394531,-7850001.5,2874756549783.8994,-7850.0015000000003,null,null,null,null,null,"-",{"$f":"N836+(L838-L836)/2","v":-0.24513158174040178},61.08284836865522,61.328132629394531,1.5267899890858416E-4,3.2280901112153682E-5,"-",3.2280901112153682E-5,-5.3974367456428585,-5.3974044647417463,-5.3974044647417463,-5.3979780623981082,5.7359765636189053E-4,-15.612800343396071,-15.612800343396071,-15.612800343396071,"-",-5.3976079993940029,-5.3976079993940029,-5.3976079993940029,"-",-3.7783255995758016,-7850.2505704878477,60.592207707999727,578.61296217473989,6.0480417047563337,-2.9088820873213997E-4,2.9088820873213997E-4,{"$f":"FI_T-Rechentabelle!AL837","v":0.23195829524366651},{"$f":"AP836","v":3.6567374905871475E-8}]
[5.2249997854232788E-2,6.2499995692633092E-5,6.0442549073592362,60.837505340576172,-7850001.5,2851758497385.6279,-7850.0015000000003,null,{"$f":"C838","v":6.0442549073592362},{"$f":"AL836","v":6.0442546917745839},{"$f":"I838-J838","v":2.1558465235216318E-7},{"$f":"L836+KP_LR*(1+2*TA_SIM/TN_LR)*K838-KP_LR*K836","v":-0.24502149909338056},"-",{"$f":"L838","v":-0.24502149909338056},60.592207707999727,60.837505340576172,2.761334830623241E-4,3.8552451001732291E-4,"-",3.8552451001732291E-4,-5.3974367456428585,-5.3970512211328412,-5.3970512211328412,-5.3976079993940029,5.567782611617389E-4,-15.61293924226085,-15.61293924226085,-15.61293924226085,"-",-5.3972487876126092,-5.3972487876126092,-5.3972487876126092,"-",-3.7780741513288261,-7849.7281349030245,60.10159969956829,573.928000795,6.0517980547375565,-2.9088820873213997E-4,2.9088820873213997E-4,{"$f":"FI_T-Rechentabelle!AL838","v":0.22820194526244375},{"$f":"K838","v":2.1558465235216318E-7}]
[5.2312497049570084E-2,6.2499995692633092E-5,6.0480417739491381,60.346881866455078,-7850001.5,2828760444987.3569,-7850.0015000000003,null,null,null,null,null,"-",{"$f":"N838+(L840-L838)/2","v":-0.24519113338670667},60.10159969956829,60.346881866455078,9.1033500083881336E-5,-2.0979320209754617E-5,"-",-2.0979320209754617E-5,-5.3974367456428585,-5.3974577249630684,-5.3974577249630684,-5.3972487876126092,-2.0893735045923734E-4,-15.667078453138718,-15.667078453138718,-15.667078453138718,"-",-5.3973835859032278,-5.3973835859032278,-5.3973835859032278,"-",-3.7781685101322591,-7849.9241847751064,59.610979438019847,569.24292240661157,6.0555237409524327,-2.9088820873213997E-4,2.9088820873213997E-4,{"$f":"FI_T-Rechentabelle!AL839","v":0.22447625904756752},{"$f":"AP838","v":2.1558465235216318E-7}]
[5.2374996244907379E-2,6.2499995692633092E-5,6.0517979764756733,59.856254577636719,-7850001.5,2805762392589.0859,-7850.0015000000003,null,{"$f":"C840","v":6.0517979764756733},{"$f":"AL838","v":6.0517980547375565},{"$f":"I840-J840","v":-7.8261883196262261E-8},{"$f":"L838+KP_LR*(1+2*TA_SIM/TN_LR)*K840-KP_LR*K838","v":-0.24536076768003282},"-",{"$f":"L840","v":-0.24536076768003282},59.610979438019847,59.856254577636719,-8.5628063160925194E-5,-4.5100830534716517E-4,"-",-4.5100830534716517E-4,-5.3974367456428585,-5.397887753948206,-5.397887753948206,-5.3973835859032278,-5.0416804497821488E-4,-15.68874502532846,-15.68874502532846,-15.68874502532846,"-",-5.3977088556096646,-5.3977088556096646,-5.3977088556096646,"-",-3.7783961989267651,-7850.3972551979323,59.120329609569978,564.55756167511231,6.0592187615530309,-2.9088820873213997E-4,2.9088820873213997E-4,{"$f":"FI_T-Rechentabelle!AL840","v":0.2207812384469694},{"$f":"K840","v":-7.8261883196262261E-8}]
[5.2437495440244675E-2,6.2499995692633092E-5,6.0555235149388418,59.365631103515625,-7850001.5,2782764340190.8145,-7850.0015000000003,null,null,null,null,null,"-",{"$f":"N840+(L842-L840)/2","v":-0.24525294662546637},59.120329609569978,59.365631103515625,4.8547320183445208E-5,-1.2841860284387052E-4,"-",-1.2841860284387052E-4,-5.3974367456428585,-5.3975651642457025,-5.3975651642457025,-5.3977088556096646,1.4369136396208404E-4,-15.643000632652205,-15.643000632652205,-15.643000632652205,"-",-5.3976161515038825,-5.3976161515038825,-5.3976161515038825,"-",-3.7783313060527175,-7850.2624268703867,58.629688207890581,559.87228141334356,6.0628831170660238,-2.9088820873213997E-4,2.9088820873213997E-4,{"$f":"FI_T-Rechentabelle!AL841","v":0.21711688293397646},{"$f":"AP840","v":-7.8261883196262261E-8}]
[5.249999463558197E-2,6.2499995692633092E-5,6.0592188661758017,58.875007629394531,-7850001.5,2759766287792.5435,-7850.0015000000003,null,{"$f":"C842","v":6.0592188661758017},{"$f":"AL840","v":6.0592187615530309},{"$f":"I842-J842","v":1.0462277089118288E-7},{"$f":"L840+KP_LR*(1+2*TA_SIM/TN_LR)*K842-KP_LR*K840","v":-0.2451451255708999},"-",{"$f":"L842","v":-0.2451451255708999},58.629688207890581,58.875007629394531,1.742959330499616E-4,2.0531103203937887E-4,"-",2.0531103203937887E-4,-5.3974367456428585,-5.397231434610819,-5.397231434610819,-5.3976161515038825,3.8471689306351919E-4,-15.625362402615998,-15.625362402615998,-15.625362402615998,"-",-5.3973679470567442,-5.3973679470567442,-5.3973679470567442,"-",-3.7781575629397208,-7849.9014397251622,58.139069367907759,555.18721659990683,6.0665168089015182,-2.9088820873213997E-4,2.9088820873213997E-4,{"$f":"FI_T-Rechentabelle!AL842","v":0.21348319109848202},{"$f":"K842","v":1.0462277089118288E-7}]
[5.2562497556209564E-2,6.2499995692633092E-5,6.0628830765122359,58.384380340576172,-7850001.5,2736768235394.272,-7850.0015000000003,null,null,null,null,null,"-",{"$f":"N842+(L844-L842)/2","v":-0.24502801569715635},58.139069367907759,58.384380340576172,2.8295697125457764E-4,5.2595609140765136E-4,"-",5.2595609140765136E-4,-5.3974367456428585,-5.396910789551451,-5.396910789551451,-5.3973679470567442,4.57157505293182E-4,-15.619422212050878,-15.619422212050878,-15.619422212050878,"-",-5.3970730067307491,-5.3970730067307491,-5.3970730067307491,"-",-3.7779511047115242,-7849.4724801818484,57.648477337896395,550.50240780283923,6.0701198387351365,-2.9088820873213997E-4,2.9088820873213997E-4,{"$f":"FI_T-Rechentabelle!AL843","v":0.20988016126486375},{"$f":"AP842","v":1.0462277089118288E-7}]
[5.262499675154686E-2,6.2499995692633092E-5,6.0665170996224616,57.893756866455078,-7850001.5,2713770182996.001,-7850.0015000000003,null,{"$f":"C844","v":6.0665170996224616},{"$f":"AL842","v":6.0665168089015182},{"$f":"I844-J844","v":2.9072094331894505E-7},{"$f":"L842+KP_LR*(1+2*TA_SIM/TN_LR)*K844-KP_LR*K842","v":-0.24491090582341279},"-",{"$f":"L844","v":-0.24491090582341279},57.648477337896395,57.893756866455078,3.6862273527304978E-4,8.1422808689790907E-4,"-",8.1422808689790907E-4,-5.3974367456428585,-5.3966225175559606,-5.3966225175559606,-5.3970730067307491,4.5048917478851536E-4,-15.619047435116698,-15.619047435116698,-15.619047435116698,"-",-5.3967823685534659,-5.3967823685534659,-5.3967823685534659,"-",-3.7777476579874261,-7849.0497776593093,57.15791172679269,545.81785128775607,6.0736922082180609,-2.9088820873213997E-4,2.9088820873213997E-4,{"$f":"FI_T-Rechentabelle!AL844","v":0.20630779178193936},{"$f":"K844","v":2.9072094331894505E-7}]
[5.2687495946884155E-2,6.2499995692633092E-5,6.0701199818321623,57.403129577636719,-7850001.5,2690772130597.73,-7850.0015000000003,null,null,null,null,null,"-",{"$f":"N844+(L846-L844)/2","v":-0.24508062773344463},57.15791172679269,57.403129577636719,1.3722311058472769E-4,3.1175358106150003E-4,"-",3.1175358106150003E-4,-5.3974367456428585,-5.397124992061797,-5.397124992061797,-5.3967823685534659,-3.4262350833103028E-4,-15.675359866147387,-15.675359866147387,-15.675359866147387,"-",-5.3970034159781957,-5.3970034159781957,-5.3970034159781957,"-",-3.7779023911847367,-7849.371267784617,56.667326022556153,541.13310289738831,6.0772339160944711,-2.9088820873213997E-4,2.9088820873213997E-4,{"$f":"FI_T-Rechentabelle!AL845","v":0.20276608390552919},{"$f":"AP844","v":2.9072094331894505E-7}]
[5.2749995142221451E-2,6.2499995692633092E-5,6.0736921999784954,56.912506103515625,-7850001.5,2667774078199.4585,-7850.0015000000003,null,{"$f":"C846","v":6.0736921999784954},{"$f":"AL844","v":6.0736922082180609},{"$f":"I846-J846","v":-8.239565474355004E-9},{"$f":"L844+KP_LR*(1+2*TA_SIM/TN_LR)*K846-KP_LR*K844","v":-0.24525034964347645},"-",{"$f":"L846","v":-0.24525034964347645},56.667326022556153,56.912506103515625,-7.026868400572539E-5,-1.8593464351220385E-4,"-",-1.8593464351220385E-4,-5.3974367456428585,-5.3976226802863705,-5.3976226802863705,-5.3970034159781957,-6.1926430817482725E-4,-15.695936889061395,-15.695936889061395,-15.695936889061395,"-",-5.3974029413383091,-5.3974029413383091,-5.3974029413383091,"-",-3.778182058936816,-7849.9523352105043,56.176704001605493,536.4480077079462,6.0807449600945711,-2.9088820873213997E-4,2.9088820873213997E-4,{"$f":"FI_T-Rechentabelle!AL846","v":0.19925503990542914},{"$f":"K846","v":-8.239565474355004E-9}]
[5.2812498062849045E-2,6.2499995692633092E-5,6.0772337540614627,56.421878814697266,-7850001.5,2644776025801.1875,-7850.0015000000003,null,null,null,null,null,"-",{"$f":"N846+(L848-L846)/2","v":-0.24543741608429051},56.176704001605493,56.421878814697266,-2.6260299252101049E-4,-6.9540736320966882E-4,"-",-6.9540736320966882E-4,-5.3974367456428585,-5.3981321530060677,-5.3981321530060677,-5.3974029413383091,-7.2921166775863355E-4,-15.705018815873794,-15.705018815873794,-15.705018815873794,"-",-5.3978734004787992,-5.3978734004787992,-5.3978734004787992,"-",-3.7785113803351593,-7850.636568325699,55.686039216085135,531.76250414694493,6.0842253375455764,-2.9088820873213997E-4,2.9088820873213997E-4,{"$f":"FI_T-Rechentabelle!AL847","v":0.19577466245442388},{"$f":"AP846","v":-8.239565474355004E-9}]
[5.287499725818634E-2,6.2499995692633092E-5,6.0807446440810624,55.931255340576172,-7850001.5,2621777973402.916,-7850.0015000000003,null,{"$f":"C848","v":6.0807446440810624},{"$f":"AL846","v":6.0807449600945711},{"$f":"I848-J848","v":-3.1601350869436828E-7},{"$f":"L846+KP_LR*(1+2*TA_SIM/TN_LR)*K848-KP_LR*K846","v":-0.24562448252510458},"-",{"$f":"L848","v":-0.24562448252510458},55.686039216085135,55.931255340576172,-4.0835803406480409E-4,-1.1325351060183916E-3,"-",-1.1325351060183916E-3,-5.3974367456428585,-5.3985692807488768,-5.3985692807488768,-5.3978734004787992,-6.95880270077609E-4,-15.703981136335425,-15.703981136335425,-15.703981136335425,"-",-5.3983223554917528,-5.3983223554917528,-5.3983223554917528,"-",-3.7788256488442267,-7851.2895259593315,55.195333620712674,527.07661088056216,6.0876750458968711,-2.9088820873213997E-4,2.9088820873213997E-4,{"$f":"FI_T-Rechentabelle!AL848","v":0.19232495410312911},{"$f":"K848","v":-3.1601350869436828E-7}]
[5.2937496453523636E-2,6.2499995692633092E-5,6.0842253468744527,55.440631866455078,-7850001.5,2598779921004.645,-7850.0015000000003,null,null,null,null,null,"-",{"$f":"N848+(L850-L848)/2","v":-0.24523931810903438},55.195333620712674,55.440631866455078,5.892763336845519E-5,-3.5921323260676755E-5,"-",-3.5921323260676755E-5,-5.3974367456428585,-5.3974726669661193,-5.3974726669661193,-5.3983223554917528,8.4968852563349628E-4,-15.593902438465939,-15.593902438465939,-15.593902438465939,"-",-5.3977741693461825,-5.3977741693461825,-5.3977741693461825,"-",-3.7784419185423275,-7850.4922471272121,54.704677855267221,522.39119345493123,6.0910940882628255,-2.9088820873213997E-4,2.9088820873213997E-4,{"$f":"FI_T-Rechentabelle!AL849","v":0.18890591173717475},{"$f":"AP848","v":-3.1601350869436828E-7}]
[5.2999995648860931E-2,6.2499995692633092E-5,6.0876753856044772,54.950004577636719,-7850001.5,2575781868606.374,-7850.0015000000003,null,{"$f":"C850","v":6.0876753856044772},{"$f":"AL848","v":6.0876750458968711},{"$f":"I850-J850","v":3.3970760604518091E-7},{"$f":"L848+KP_LR*(1+2*TA_SIM/TN_LR)*K850-KP_LR*K848","v":-0.2448541536929642},"-",{"$f":"L850","v":-0.2448541536929642},54.704677855267221,54.950004577636719,4.7256867653544532E-4,1.0372925380407138E-3,"-",1.0372925380407138E-3,-5.3974367456428585,-5.3963994531048174,-5.3963994531048174,-5.3977741693461825,1.3747162413650926E-3,-15.554476830355256,-15.554476830355256,-15.554476830355256,"-",-5.3968872556420751,-5.3968872556420751,-5.3968872556420751,"-",-3.7778210789494522,-7849.2023248482274,54.214102709964209,517.70654589495132,6.0944824696821982,-2.9088820873213997E-4,2.9088820873213997E-4,{"$f":"FI_T-Rechentabelle!AL850","v":0.18551753031780205},{"$f":"K850","v":3.3970760604518091E-7}]
[5.3062494844198227E-2,6.2499995692633092E-5,6.0910942834339759,54.459381103515625,-7850001.5,2552783816208.1025,-7850.0015000000003,null,null,null,null,null,"-",{"$f":"N850+(L852-L850)/2","v":-0.245017801732624},54.214102709964209,54.459381103515625,2.6059181879389826E-4,6.0987812760161645E-4,"-",6.0987812760161645E-4,-5.3974367456428585,-5.3968268675152569,-5.3968268675152569,-5.3968872556420751,6.0388126818189392E-5,{"$f":"Z850+KP_SR*(1+TA_SIM/TN_SR)*Y851-KP_SR*Y850","v":-15.646621200222954},-15.646621200222954,-15.646621200222954,"-",-5.3968482955602566,-5.3968482955602566,-5.3968482955602566,"-",-3.7777938068921793,-7849.1456615254083,{"$f":"AJ850+AI851*TA_SIM","v":53.72353110611887},513.02193215340105,{"$f":"AL850+AJ851*TA_SIM","v":6.0978401903763304},-2.9088820873213997E-4,2.9088820873213997E-4,{"$f":"FI_T-Rechentabelle!AL851","v":0.18215980962366984},{"$f":"AP850","v":3.3970760604518091E-7}]
[5.3124997764825821E-2,6.2499995692633092E-5,6.0944825172001078,53.968753814697266,-7850001.5,2529785763809.8315,-7850.0015000000003,null,{"$f":"C852","v":6.0944825172001078},{"$f":"AL850","v":6.0944824696821982},{"$f":"I852-J852","v":4.7517909607108777E-8},{"$f":"L850+KP_LR*(1+2*TA_SIM/TN_LR)*K852-KP_LR*K850","v":-0.24518144977228376},"-",{"$f":"L852","v":-0.24518144977228376},53.72353110611887,53.968753814697266,4.1258806113830815E-5,1.1195486699783447E-4,"-",1.1195486699783447E-4,-5.3974367456428585,-5.397324790775861,-5.397324790775861,-5.3968482955602566,-4.7649521560444441E-4,-15.685198454275106,-15.685198454275106,-15.685198454275106,"-",-5.3971557118283879,-5.3971557118283879,-5.3971557118283879,"-",-3.7780089982798715,-7849.592766008459,53.232931558243344,508.33705156601877,6.1011672485987205,-2.9088820873213997E-4,2.9088820873213997E-4,{"$f":"FI_T-Rechentabelle!AL852","v":0.17883275140127974},{"$f":"K852","v":4.7517909607108777E-8}]
[5.3187496960163116E-2,6.2499995692633092E-5,6.0978400869028739,53.478130340576172,-7850001.5,2506787711411.5601,-7850.0015000000003,null,null,null,null,null,"-",{"$f":"N852+(L854-L852)/2","v":-0.24536373067488187},53.232931558243344,53.478130340576172,-1.6494834205360576E-4,-4.0584028156601262E-4,"-",-4.0584028156601262E-4,-5.3974367456428585,-5.3978425859244243,-5.3978425859244243,-5.3971557118283879,-6.8687409603640504E-4,-15.701250813674784,-15.701250813674784,-15.701250813674784,"-",-5.3975988564064759,-5.3975988564064759,-5.3975988564064759,"-",-3.7783191994845327,-7850.2372729784593,52.74229172868219,503.65178631687343,6.1044636418317628,-2.9088820873213997E-4,2.9088820873213997E-4,{"$f":"FI_T-Rechentabelle!AL853","v":0.17553635816823743},{"$f":"AP852","v":4.7517909607108777E-8}]
[5.3249996155500412E-2,6.2499995692633092E-5,6.1011669925422716,52.987506866455078,-7850001.5,2483789659013.2891,-7850.0015000000003,null,{"$f":"C854","v":6.1011669925422716},{"$f":"AL852","v":6.1011672485987205},{"$f":"I854-J854","v":-2.5605644893289536E-7},{"$f":"L852+KP_LR*(1+2*TA_SIM/TN_LR)*K854-KP_LR*K852","v":-0.24554601157747996},"-",{"$f":"L854","v":-0.24554601157747996},52.74229172868219,52.987506866455078,-3.3087380459306814E-4,-8.7079324120787499E-4,"-",-8.7079324120787499E-4,-5.3974367456428585,-5.3983075388840662,-5.3983075388840662,-5.3975988564064759,-7.0868247759037217E-4,-15.704107543415484,-15.704107543415484,-15.704107543415484,"-",-5.3980560709081473,-5.3980560709081473,-5.3980560709081473,"-",-3.7786392496357029,-7850.9022431658059,52.251610338484326,498.96612419288181,6.1077293674779183,-2.9088820873213997E-4,2.9088820873213997E-4,{"$f":"FI_T-Rechentabelle!AL854","v":0.17227063252208197},{"$f":"K854","v":-2.5605644893289536E-7}]
[5.3312495350837708E-2,6.2499995692633092E-5,6.1044637109554607,52.496879577636719,-7850001.5,2460791606615.0181,-7850.0015000000003,null,null,null,null,null,"-",{"$f":"N854+(L856-L854)/2","v":-0.24544886743087174},52.251610338484326,52.496879577636719,-1.7962827848094776E-4,-5.6429610613311428E-4,"-",-5.6429610613311428E-4,-5.3974367456428585,-5.3980010417489916,-5.3980010417489916,-5.3980560709081473,5.5029159155672858E-5,-15.650396955906116,-15.650396955906116,-15.650396955906116,"-",-5.3980205682248208,-5.3980205682248208,-5.3980205682248208,"-",-3.7786143977573743,-7850.8506082638141,51.760932175467836,494.28049288620235,6.1109644257388851,-2.9088820873213997E-4,2.9088820873213997E-4,{"$f":"FI_T-Rechentabelle!AL855","v":0.16903557426111515},{"$f":"AP854","v":-2.5605644893289536E-7}]
[5.3374994546175003E-2,6.2499995692633092E-5,6.1077292884681249,52.006256103515625,-7850001.5,2437793554216.7466,-7850.0015000000003,null,{"$f":"C856","v":6.1077292884681249},{"$f":"AL854","v":6.1077293674779183},{"$f":"I856-J856","v":-7.9009793374495985E-8},{"$f":"L854+KP_LR*(1+2*TA_SIM/TN_LR)*K856-KP_LR*K854","v":-0.24535172328426352},"-",{"$f":"L856","v":-0.24535172328426352},51.760932175467836,52.006256103515625,-2.779523647689075E-5,-2.1942248851048525E-4,"-",-2.1942248851048525E-4,-5.3974367456428585,-5.3976561681313688,-5.3976561681313688,-5.3980205682248208,3.6440009345195534E-4,-15.627999331440021,-15.627999331440021,-15.627999331440021,"-",-5.3977854713903355,-5.3977854713903355,-5.3977854713903355,"-",-3.7784498299732348,-7850.5086847563562,51.270275382670562,489.59506565008417,6.1141688179503024,-2.9088820873213997E-4,2.9088820873213997E-4,{"$f":"FI_T-Rechentabelle!AL856","v":0.16583118204969782},{"$f":"K856","v":-7.9009793374495985E-8}]
[5.3437497466802597E-2,6.2499995692633092E-5,6.1109646787545806,51.515628814697266,-7850001.5,2414795501818.4756,-7850.0015000000003,null,null,null,null,null,"-",{"$f":"N856+(L858-L856)/2","v":-0.24524010052958278},51.270275382670562,51.515628814697266,1.1333149711845181E-4,1.3506065572962381E-4,"-",1.3506065572962381E-4,-5.3974367456428585,-5.3973016849871289,-5.3973016849871289,-5.3977854713903355,4.837864032065653E-4,-15.618714033975118,-15.618714033975118,-15.618714033975118,"-",-5.3974733511302011,-5.3974733511302011,-5.3974733511302011,"-",-3.7782313457911405,-7850.0547388139212,50.779646961494691,{"$f":"AJ857/(2*PI())*60","v":484.90990934299344},6.1173425458853963,-2.9088820873213997E-4,2.9088820873213997E-4,{"$f":"FI_T-Rechentabelle!AL857","v":0.16265745411460397},{"$f":"AP856","v":-7.9009793374495985E-8}]
[5.3499996662139893E-2,6.2499995692633092E-5,6.1141689281405114,51.025005340576172,-7850001.5,2391797449420.2041,-7850.0015000000003,null,{"$f":"C858","v":6.1141689281405114},{"$f":"AL856","v":6.1141688179503024},{"$f":"I858-J858","v":1.1019020895730591E-7},{"$f":"L856+KP_LR*(1+2*TA_SIM/TN_LR)*K858-KP_LR*K856","v":-0.24512847777490207},"-",{"$f":"L858","v":-0.24512847777490207},50.779646961494691,51.025005340576172,2.2990130657518648E-4,4.610880866433158E-4,"-",4.610880866433158E-4,-5.3974367456428585,-5.3969756575562151,-5.3969756575562151,-5.3974733511302011,4.9769357398599112E-4,-15.616806671687788,-15.616806671687788,-15.616806671687788,"-",-5.3971522585018228,-5.3971522585018228,-5.3971522585018228,"-",-3.7780065809512755,-7849.5877435098173,50.289047727525329,480.22503175319412,6.120485611368367,-2.9088820873213997E-4,2.9088820873213997E-4,{"$f":"FI_T-Rechentabelle!AL858","v":0.15951438863163325},{"$f":"K858","v":1.1019020895730591E-7}]
[5.3562495857477188E-2,6.2499995692633092E-5,6.1173425134630746,50.534378051757813,-7850001.5,2368799397021.9331,-7850.0015000000003,null,null,null,null,null,"-",{"$f":"N858+(L860-L858)/2","v":-0.2452980881808744},50.289047727525329,50.534378051757813,3.2236051609402239E-5,1.1148323431563862E-5,"-",1.1148323431563862E-5,-5.3974367456428585,-5.3974255973194269,-5.3974255973194269,-5.3971522585018228,-2.733388176041629E-4,-15.671439579285247,-15.671439579285247,-15.671439579285247,"-",-5.3973286061260835,-5.3973286061260835,-5.3973286061260835,"-",-3.7781300242882581,-7849.8442224979381,49.798432463619207,475.54000108877449,6.1235980133973431,-2.9088820873213997E-4,2.9088820873213997E-4,{"$f":"FI_T-Rechentabelle!AL859","v":0.15640198660265714},{"$f":"AP858","v":1.1019020895730591E-7}]
[5.3624995052814484E-2,6.2499995692633092E-5,6.120485434722271,50.043754577636719,-7850001.5,2345801344623.6621,-7850.0015000000003,null,{"$f":"C860","v":6.120485434722271},{"$f":"AL858","v":6.120485611368367},{"$f":"I860-J860","v":-1.7664609597289882E-7},{"$f":"L858+KP_LR*(1+2*TA_SIM/TN_LR)*K860-KP_LR*K858","v":-0.24546769858684669},"-",{"$f":"L860","v":-0.24546769858684669},49.798432463619207,50.043754577636719,-1.4558456933855268E-4,-4.3618202910106712E-4,"-",-4.3618202910106712E-4,-5.3974367456428585,-5.3978729276719593,-5.3978729276719593,-5.3973286061260835,-5.4432154587580328E-4,-15.691479226587823,-15.691479226587823,-15.691479226587823,"-",-5.3976797813169703,-5.3976797813169703,-5.3976797813169703,"-",-3.7783758469218789,-7850.3549697109465,49.307785278012275,470.85466559456631,6.1266797499772192,-2.9088820873213997E-4,2.9088820873213997E-4,{"$f":"FI_T-Rechentabelle!AL860","v":0.15332025002278105},{"$f":"K860","v":-1.7664609597289882E-7}]
[5.3687497973442078E-2,6.2499995692633092E-5,6.1235976919181017,49.553131103515625,-7850001.5,2322803292225.3906,-7850.0015000000003,null,null,null,null,null,"-",{"$f":"N860+(L862-L860)/2","v":-0.24536038430616142},49.307785278012275,49.553131103515625,-1.4558802810427096E-5,-1.3627174216238904E-4,"-",-1.3627174216238904E-4,-5.3974367456428585,-5.3975730173850209,-5.3975730173850209,-5.3976797813169703,1.0676393194941625E-4,-15.645577474723282,-15.645577474723282,-15.645577474723282,"-",-5.3976109013608742,-5.3976109013608742,-5.3976109013608742,"-",-3.7783276309526115,-7850.2547910920657,48.81714435356902,466.16938989006707,6.1297308214993169,-2.9088820873213997E-4,2.9088820873213997E-4,{"$f":"FI_T-Rechentabelle!AL861","v":0.15026917850068333},{"$f":"AP860","v":-1.7664609597289882E-7}]
[5.3749997168779373E-2,6.2499995692633092E-5,6.126679761887722,49.062503814697266,-7850001.5,2299805239827.1196,-7850.0015000000003,null,{"$f":"C862","v":6.126679761887722},{"$f":"AL860","v":6.1266797499772192},{"$f":"I862-J862","v":1.1910502806244949E-8},{"$f":"L860+KP_LR*(1+2*TA_SIM/TN_LR)*K862-KP_LR*K860","v":-0.24525307002547614},"-",{"$f":"L862","v":-0.24525307002547614},48.81714435356902,49.062503814697266,1.063911027685549E-4,1.697892445122466E-4,"-",1.697892445122466E-4,-5.3974367456428585,-5.3972669563983464,-5.3972669563983464,-5.3976109013608742,3.4394496252776463E-4,-15.62828538664699,-15.62828538664699,-15.62828538664699,"-",-5.3973890013850498,-5.3973890013850498,-5.3973890013850498,"-",-3.7781723009695347,-7849.9320610212644,48.326523599755191,461.48430680089052,6.1327512292243016,-2.9088820873213997E-4,2.9088820873213997E-4,{"$f":"FI_T-Rechentabelle!AL862","v":0.14724877077569865},{"$f":"K862","v":1.1910502806244949E-8}]
[5.3812496364116669E-2,6.2499995692633092E-5,6.1297311677939765,48.571880340576172,-7850001.5,2276807187428.8481,-7850.0015000000003,null,null,null,null,null,"-",{"$f":"N862+(L864-L862)/2","v":-0.24513630315089785},48.326523599755191,48.571880340576172,2.2043767008028681E-4,4.8766560581083197E-4,"-",4.8766560581083197E-4,-5.3974367456428585,-5.3969490800370474,-5.3969490800370474,-5.3973890013850498,4.3992134800241445E-4,-15.620725384938055,-15.620725384938055,-15.620725384938055,"-",-5.3971051811605317,-5.3971051811605317,-5.3971051811605317,"-",-3.777973626812372,-7849.5192744906954,47.835928645099521,456.79947007552687,6.1357409747646203,-2.9088820873213997E-4,2.9088820873213997E-4,{"$f":"FI_T-Rechentabelle!AL863","v":0.14425902523537992},{"$f":"AP862","v":1.1910502806244949E-8}]
[5.3874995559453964E-2,6.2499995692633092E-5,6.1327514327997052,48.081253051757813,-7850001.5,2253809135030.5771,-7850.0015000000003,null,{"$f":"C864","v":6.1327514327997052},{"$f":"AL862","v":6.1327512292243016},{"$f":"I864-J864","v":2.0357540364557281E-7},{"$f":"L862+KP_LR*(1+2*TA_SIM/TN_LR)*K864-KP_LR*K862","v":-0.24501953627631959},"-",{"$f":"L864","v":-0.24501953627631959},47.835928645099521,48.081253051757813,3.0487038197435368E-4,7.5753946101208311E-4,"-",7.5753946101208311E-4,-5.3974367456428585,-5.3966792061818465,-5.3966792061818465,-5.3971051811605317,4.2597497868523959E-4,-15.620907344643554,-15.620907344643554,-15.620907344643554,"-",-5.3968303585936379,-5.3968303585936379,-5.3968303585936379,"-",-3.7777812510155462,-7849.1195741025258,47.345358671718117,452.11487190376022,6.1387000596816028,-2.9088820873213997E-4,2.9088820873213997E-4,{"$f":"FI_T-Rechentabelle!AL864","v":0.14129994031839743},{"$f":"K864","v":2.0357540364557281E-7}]
[5.393749475479126E-2,6.2499995692633092E-5,6.1357410337420673,47.590629577636719,-7850001.5,2230811082632.3062,-7850.0015000000003,null,null,null,null,null,"-",{"$f":"N864+(L866-L864)/2","v":-0.24518891799333559},47.345358671718117,47.590629577636719,8.1987925263149464E-5,2.6132504074364844E-4,"-",2.6132504074364844E-4,-5.3974367456428585,-5.3971754206021147,-5.3971754206021147,-5.3968303585936379,-3.4506200847683743E-4,-15.675674766596984,-15.675674766596984,-15.675674766596984,"-",-5.3970529792442683,-5.3970529792442683,-5.3970529792442683,"-",-3.7779370854709877,-7849.4433523186935,46.854768462198201,447.43008049110523,6.1416284827104901,-2.9088820873213997E-4,2.9088820873213997E-4,{"$f":"FI_T-Rechentabelle!AL865","v":0.13837151728951014},{"$f":"AP864","v":2.0357540364557281E-7}]
[5.3999997675418854E-2,6.2499995692633092E-5,6.1386999706210617,47.100006103515625,-7850001.5,2207813030234.0347,-7850.0015000000003,null,{"$f":"C866","v":6.1386999706210617},{"$f":"AL864","v":6.1387000596816028},{"$f":"I866-J866","v":-8.9060541164087681E-8},{"$f":"L864+KP_LR*(1+2*TA_SIM/TN_LR)*K866-KP_LR*K864","v":-0.24535829971035159},"-",{"$f":"L866","v":-0.24535829971035159},46.854768462198201,47.100006103515625,-1.2065839293029512E-4,-2.374255549079989E-4,"-",-2.374255549079989E-4,-5.3974367456428585,-5.3976741711977665,-5.3976741711977665,-5.3970529792442683,-6.2119195349819023E-4,-15.696219537360511,-15.696219537360511,-15.696219537360511,"-",-5.3974537482465248,-5.3974537482465248,-5.3974537482465248,"-",-3.7782176237725671,-7850.0262284906848,46.364141822917531,442.74494119986031,6.1445262415744226,-2.9088820873213997E-4,2.9088820873213997E-4,{"$f":"FI_T-Rechentabelle!AL866","v":0.13547375842557763},{"$f":"K866","v":-8.9060541164087681E-8}]
[5.4062496870756149E-2,6.2499995692633092E-5,6.1416282434366902,46.609378814697266,-7850001.5,2184814977835.7637,-7850.0015000000003,null,null,null,null,null,"-",{"$f":"N866+(L868-L866)/2","v":-0.24525477834545262},46.364141822917531,46.609378814697266,-1.7786565720712133E-5,-3.5075430056403221E-6,"-",-3.5075430056403221E-6,-5.3974367456428585,-5.3974402531858638,-5.3974402531858638,-5.3974537482465248,1.3495060660950742E-5,-15.651643354898297,-15.651643354898297,-15.651643354898297,"-",-5.3974450417557751,-5.3974450417557751,-5.3974450417557751,"-",-3.7782115292290421,-7850.0135658197423,45.873515975053799,438.05980946609037,6.1473933363228639,-2.9088820873213997E-4,2.9088820873213997E-4,{"$f":"FI_T-Rechentabelle!AL867","v":0.13260666367713636},{"$f":"AP866","v":-8.9060541164087681E-8}]
[5.4124996066093445E-2,6.2499995692633092E-5,6.1445263290261094,46.118755340576172,-7850001.5,2161816925437.4924,-7850.0015000000003,null,{"$f":"C868","v":6.1445263290261094},{"$f":"AL866","v":6.1445262415744226},{"$f":"I868-J868","v":8.7451686781037097E-8},{"$f":"L866+KP_LR*(1+2*TA_SIM/TN_LR)*K868-KP_LR*K866","v":-0.24515125698055362},"-",{"$f":"L868","v":-0.24515125698055362},45.873515975053799,46.118755340576172,8.8108541817177866E-5,2.6322892483890875E-4,"-",2.6322892483890875E-4,-5.3974367456428585,-5.3971735167180199,-5.3971735167180199,-5.3974450417557751,2.7152503775518255E-4,-15.633023300629043,-15.633023300629043,-15.633023300629043,"-",-5.3972698643120625,-5.3972698643120625,-5.3972698643120625,"-",-3.7780889050184436,-7849.7587887355976,45.382906050757825,433.37482979119164,6.1502297679510365,-2.9088820873213997E-4,2.9088820873213997E-4,{"$f":"FI_T-Rechentabelle!AL868","v":0.12977023204896376},{"$f":"K868","v":8.7451686781037097E-8}]
[5.418749526143074E-2,6.2499995692633092E-5,6.1473932737150037,45.628128051757813,-7850001.5,2138818873039.2212,-7850.0015000000003,null,null,null,null,null,"-",{"$f":"N868+(L870-L868)/2","v":-0.24504109957731471},45.382906050757825,45.628128051757813,1.8090142267368492E-4,5.2224246298765572E-4,"-",5.2224246298765572E-4,-5.3974367456428585,-5.3969145031798709,-5.3969145031798709,-5.3972698643120625,3.5536113219158949E-4,-15.626473678462569,-15.626473678462569,-15.626473678462569,"-",-5.3970405990654875,-5.3970405990654875,-5.3970405990654875,"-",-3.7779284193458409,-7849.4253466566397,44.892316966591785,428.69004912487458,6.1530355377614487,-2.9088820873213997E-4,2.9088820873213997E-4,{"$f":"FI_T-Rechentabelle!AL869","v":0.12696446223855151},{"$f":"AP868","v":8.7451686781037097E-8}]
[5.4249994456768036E-2,6.2499995692633092E-5,6.1502300311776894,45.137504577636719,-7850001.5,2115820820640.95,-7850.0015000000003,null,{"$f":"C870","v":6.1502300311776894},{"$f":"AL868","v":6.1502297679510365},{"$f":"I870-J870","v":2.6322665291900194E-7},{"$f":"L868+KP_LR*(1+2*TA_SIM/TN_LR)*K870-KP_LR*K868","v":-0.24493094217407579},"-",{"$f":"L870","v":-0.24493094217407579},44.892316966591785,45.137504577636719,2.5666887085407097E-4,7.6029613319499945E-4,"-",7.6029613319499945E-4,-5.3974367456428585,-5.3966764495096635,-5.3966764495096635,-5.3970405990654875,3.6414955582397823E-4,-15.625175475750895,-15.625175475750895,-15.625175475750895,"-",-5.3968056638681814,-5.3968056638681814,-5.3968056638681814,"-",-3.7777639647077268,-7849.0836582333814,44.401749237952203,424.00547238881342,6.1558106470888205,-2.9088820873213997E-4,2.9088820873213997E-4,{"$f":"FI_T-Rechentabelle!AL870","v":0.12418935291117972},{"$f":"K870","v":2.6322665291900194E-7}]
[5.431249737739563E-2,6.2499995692633092E-5,6.1530356477398493,44.646881103515625,-7850001.5,2092822768242.679,-7850.0015000000003,null,null,null,null,null,"-",{"$f":"N870+(L872-L870)/2","v":-0.24510851202718495},44.401749237952203,44.646881103515625,2.335353623550418E-5,2.256242214562121E-4,"-",2.256242214562121E-4,-5.3974367456428585,-5.3972111214214022,-5.3972111214214022,-5.3968056638681814,-4.0545755322085597E-4,-15.679955527601487,-15.679955527601487,-15.679955527601487,"-",-5.3970672493863887,-5.3970672493863887,-5.3970672493863887,"-",-3.7779470745704717,-7849.4641067327475,43.911157731281406,419.32066858927999,6.158555094447026,-2.9088820873213997E-4,2.9088820873213997E-4,{"$f":"FI_T-Rechentabelle!AL871","v":0.12144490555297427},{"$f":"AP870","v":2.6322665291900194E-7}]
[5.4374996572732925E-2,6.2499995692633092E-5,6.1558106002386435,44.156253814697266,-7850001.5,2069824715844.4077,-7850.0015000000003,null,{"$f":"C872","v":6.1558106002386435},{"$f":"AL870","v":6.1558106470888205},{"$f":"I872-J872","v":-4.6850177071178223E-8},{"$f":"L870+KP_LR*(1+2*TA_SIM/TN_LR)*K872-KP_LR*K870","v":-0.2452860818802941},"-",{"$f":"L872","v":-0.2452860818802941},43.911157731281406,44.156253814697266,-1.8999846443534807E-4,-3.1482565584340727E-4,"-",-3.1482565584340727E-4,-5.3974367456428585,-5.3977515712987021,-5.3977515712987021,-5.3970672493863887,-6.8432191231337924E-4,-15.700810350707924,-15.700810350707924,-15.700810350707924,"-",-5.3975087473943333,-5.3975087473943333,-5.3975087473943333,"-",-3.7782561231760332,-7850.1062189404383,43.420526092597626,414.63548155725192,6.1612688773278137,-2.9088820873213997E-4,2.9088820873213997E-4,{"$f":"FI_T-Rechentabelle!AL872","v":0.11873112267218655},{"$f":"K872","v":-4.6850177071178223E-8}]
[5.4437495768070221E-2,6.2499995692633092E-5,6.1585548886740691,43.665630340576172,-7850001.5,2046826663446.1365,-7850.0015000000003,null,null,null,null,null,"-",{"$f":"N872+(L874-L872)/2","v":-0.24548055728528861},43.420526092597626,43.665630340576172,-3.7630930674481533E-4,-8.3806860912301524E-4,"-",-8.3806860912301524E-4,-5.3974367456428585,-5.3982748142519812,-5.3982748142519812,-5.3975087473943333,-7.6606685764790683E-4,-15.707981604862489,-15.707981604862489,-15.707981604862489,"-",-5.3980029840766868,-5.3980029840766868,-5.3980029840766868,"-",-3.7786020888536807,-7850.8250339781434,42.929849527973992,409.94986551409983,6.1639519929233124,-2.9088820873213997E-4,2.9088820873213997E-4,{"$f":"FI_T-Rechentabelle!AL873","v":0.11604800707668783},{"$f":"AP872","v":-4.6850177071178223E-8}]
[5.4499994963407516E-2,6.2499995692633092E-5,6.1612685130461289,43.175003051757813,-7850001.5,2023828611047.8652,-7850.0015000000003,null,{"$f":"C874","v":6.1612685130461289},{"$f":"AL872","v":6.1612688773278137},{"$f":"I874-J874","v":-3.6428168481705825E-7},{"$f":"L872+KP_LR*(1+2*TA_SIM/TN_LR)*K874-KP_LR*K872","v":-0.24567503269028315},"-",{"$f":"L874","v":-0.24567503269028315},42.929849527973992,43.175003051757813,-5.2150890646629477E-4,-1.3014952818099896E-3,"-",-1.3014952818099896E-3,-5.3974367456428585,-5.3987382409246685,-5.3987382409246685,-5.3980029840766868,-7.3525684798170232E-4,-15.707194582802789,-15.707194582802789,-15.707194582802789,"-",-5.3984773433334503,-5.3984773433334503,-5.3984773433334503,"-",-3.7789341403334151,-7851.5149394004047,42.439129844261466,405.26383771397946,6.1666044385385792,-2.9088820873213997E-4,2.9088820873213997E-4,{"$f":"FI_T-Rechentabelle!AL874","v":0.11339556146142105},{"$f":"K874","v":-3.6428168481705825E-7}]
[5.456249788403511E-2,6.2499995692633092E-5,6.1639519501919802,42.684379577636719,-7850001.5,2000830558649.594,-7850.0015000000003,null,null,null,null,null,"-",{"$f":"N874+(L876-L874)/2","v":-0.24529587249905704},42.439129844261466,42.684379577636719,-4.6139123803357052E-5,-2.1177294710299005E-4,"-",-2.1177294710299005E-4,-5.3974367456428585,-5.3976485185899614,-5.3976485185899614,-5.3984773433334503,8.2882474348888735E-4,-15.595855441571745,-15.595855441571745,-15.595855441571745,"-",-5.3979426176924905,-5.3979426176924905,-5.3979426176924905,"-",-3.7785598323847429,-7850.7372374501192,41.94845876692083,400.57827407052014,6.169226217211512,-2.9088820873213997E-4,2.9088820873213997E-4,{"$f":"FI_T-Rechentabelle!AL875","v":0.11077378278848826},{"$f":"AP874","v":-3.6428168481705825E-7}]
[5.4624997079372406E-2,6.2499995692633092E-5,6.1666047232744639,42.193752288818359,-7850001.5,1977832506251.323,-7850.0015000000003,null,{"$f":"C876","v":6.1666047232744639},{"$f":"AL874","v":6.1666044385385792},{"$f":"I876-J876","v":2.8473588464805744E-7},{"$f":"L874+KP_LR*(1+2*TA_SIM/TN_LR)*K876-KP_LR*K874","v":-0.24491671230783094},"-",{"$f":"L876","v":-0.24491671230783094},41.94845876692083,42.193752288818359,3.7680958969588119E-4,8.5965239808171996E-4,"-",8.5965239808171996E-4,-5.3974367456428585,-5.396577093244777,-5.396577093244777,-5.3979426176924905,1.3655244477135398E-3,-15.555627732721415,-15.555627732721415,-15.555627732721415,"-",-5.3970616341778372,-5.3970616341778372,-5.3970616341778372,"-",-3.7779431439244857,-7849.4559400051639,41.457867770670504,395.89347514514316,6.1718173339471791,-2.9088820873213997E-4,2.9088820873213997E-4,{"$f":"FI_T-Rechentabelle!AL876","v":0.10818266605282112},{"$f":"K876","v":2.8473588464805744E-7}]
[5.4687496274709702E-2,6.2499995692633092E-5,6.1692263554564226,41.703128814697266,-7850001.5,1954834453853.0518,-7850.0015000000003,null,null,null,null,null,"-",{"$f":"N876+(L878-L876)/2","v":-0.24508433699142079},41.457867770670504,41.703128814697266,1.7670703534378163E-4,4.3928873864384729E-4,"-",4.3928873864384729E-4,-5.3974367456428585,-5.3969974569042147,-5.3969974569042147,-5.3970616341778372,6.4177273622512132E-5,-15.646853834945674,-15.646853834945674,-15.646853834945674,"-",-5.397020229485177,-5.397020229485177,-5.397020229485177,"-",-3.7779141606396238,-7849.3957212541518,40.967280538092119,391.20871216018577,6.1743777889808102,-2.9088820873213997E-4,2.9088820873213997E-4,{"$f":"FI_T-Rechentabelle!AL877","v":0.10562221101919},{"$f":"AP876","v":2.8473588464805744E-7}]
[5.4749995470046997E-2,6.2499995692633092E-5,6.1718173235750147,41.212505340576172,-7850001.5,1931836401454.7805,-7850.0015000000003,null,{"$f":"C878","v":6.1718173235750147},{"$f":"AL876","v":6.1718173339471791},{"$f":"I878-J878","v":-1.0372164460648037E-8},{"$f":"L876+KP_LR*(1+2*TA_SIM/TN_LR)*K878-KP_LR*K876","v":-0.24525196167501068},"-",{"$f":"L878","v":-0.24525196167501068},40.967280538092119,41.212505340576172,-2.7159190956638213E-5,-3.9492783632829329E-5,"-",-3.9492783632829329E-5,-5.3974367456428585,-5.3974762384264912,-5.3974762384264912,-5.397020229485177,-4.5600894131414549E-4,-15.684220729213363,-15.684220729213363,-15.684220729213363,"-",-5.3973144288021535,-5.3973144288021535,-5.3973144288021535,"-",-3.778120100161507,-7849.8236030781354,40.476666562899737,386.52369380207585,6.1769075806409912,-2.9088820873213997E-4,2.9088820873213997E-4,{"$f":"FI_T-Rechentabelle!AL878","v":0.10309241935900904},{"$f":"K878","v":-1.0372164460648037E-8}]
[5.4812494665384293E-2,6.2499995692633092E-5,6.1743776276302391,40.721878051757813,-7850001.5,1908838349056.5093,-7850.0015000000003,null,null,null,null,null,"-",{"$f":"N878+(L880-L878)/2","v":-0.2454360028596316},40.476666562899737,40.721878051757813,-2.2451400155887313E-4,-5.5130732151391164E-4,"-",-5.5130732151391164E-4,-5.3974367456428585,-5.3979880529643722,-5.3979880529643722,-5.3973144288021535,-6.7362416221872223E-4,-15.700756242829396,-15.700756242829396,-15.700756242829396,"-",-5.3977490250358429,-5.3977490250358429,-5.3977490250358429,"-",-3.7784243175250896,-7850.4556773843533,39.986013083063213,381.83829820240248,6.1794067064586828,-2.9088820873213997E-4,2.9088820873213997E-4,{"$f":"FI_T-Rechentabelle!AL879","v":0.10059329354131741},{"$f":"AP878","v":-1.0372164460648037E-8}]
[5.4874997586011887E-2,6.2499995692633092E-5,6.1769072676220977,40.231254577636719,-7850001.5,1885840296658.2383,-7850.0015000000003,null,{"$f":"C880","v":6.1769072676220977},{"$f":"AL878","v":6.1769075806409912},{"$f":"I880-J880","v":-3.1301889347190581E-7},{"$f":"L878+KP_LR*(1+2*TA_SIM/TN_LR)*K880-KP_LR*K878","v":-0.24562004404425253},"-",{"$f":"L880","v":-0.24562004404425253},39.986013083063213,40.231254577636719,-3.7854947074578149E-4,-1.000345675448453E-3,"-",-1.000345675448453E-3,-5.3974367456428585,-5.3984370913183071,-5.3984370913183071,-5.3977490250358429,-6.8806628246420587E-4,-15.703057336314464,-15.703057336314464,-15.703057336314464,"-",-5.3981929387664653,-5.3981929387664653,-5.3981929387664653,"-",-3.7787350571365255,-7851.1013030054546,39.495319251625375,377.15251727332054,6.1818751639119096,-2.9088820873213997E-4,2.9088820873213997E-4,{"$f":"FI_T-Rechentabelle!AL880","v":9.8124836088090639E-2},{"$f":"K880","v":-3.1301889347190581E-7}]
[5.4937496781349182E-2,6.2499995692633092E-5,6.179406720387747,39.740627288818359,-7850001.5,1862842244259.967,-7850.0015000000003,null,null,null,null,null,"-",{"$f":"N880+(L882-L880)/2","v":-0.24552256882676243},39.495319251625375,39.740627288818359,-2.1453163378026829E-4,-6.7277666542318447E-4,"-",-6.7277666542318447E-4,-5.3974367456428585,-5.3981095223082818,-5.3981095223082818,-5.3981929387664653,8.341645818354948E-5,-15.648748155726588,-15.648748155726588,-15.648748155726588,"-",-5.3981391216966692,-5.3981391216966692,-5.3981391216966692,"-",-3.7786973851876682,-7851.0230317632822,39.004630312140172,372.46678305894511,6.1843129533064181,-2.9088820873213997E-4,2.9088820873213997E-4,{"$f":"FI_T-Rechentabelle!AL881","v":9.568704669358219E-2},{"$f":"AP880","v":-3.1301889347190581E-7}]
[5.4999995976686478E-2,6.2499995692633092E-5,6.1818750322528704,39.250003814697266,-7850001.5,1839844191861.6958,-7850.0015000000003,null,{"$f":"C882","v":6.1818750322528704},{"$f":"AL880","v":6.1818751639119096},{"$f":"I882-J882","v":-1.3165903922640609E-7},{"$f":"L880+KP_LR*(1+2*TA_SIM/TN_LR)*K882-KP_LR*K880","v":-0.24542509360927237},"-",{"$f":"L882","v":-0.24542509360927237},39.004630312140172,39.250003814697266,-5.1591052177002439E-5,-3.0797889674587676E-4,"-",-3.0797889674587676E-4,-5.3974367456428585,-5.3977447245396046,-5.3977447245396046,-5.3981391216966692,3.9439715706457434E-4,-15.62618141263385,-15.62618141263385,-15.62618141263385,"-",-5.3978846719179181,-5.3978846719179181,-5.3978846719179181,"-",-3.7785192703425423,-7850.6529614430538,38.51396450204998,367.78126971402253,6.1867200760877958,-2.9088820873213997E-4,2.9088820873213997E-4,{"$f":"FI_T-Rechentabelle!AL882","v":9.327992391220441E-2},{"$f":"K882","v":-1.3165903922640609E-7}]
[5.5062495172023773E-2,6.2499995692633092E-5,6.1843131568917862,38.759380340576172,-7850001.5,1816846139463.4246,-7850.0015000000003,null,null,null,null,null,"-",{"$f":"N882+(L884-L882)/2","v":-0.24531133567319896},38.51396450204998,38.759380340576172,1.0450285299157258E-4,7.9016308543496786E-5,"-",7.9016308543496786E-5,-5.3974367456428585,-5.3973577293343151,-5.3973577293343151,-5.3978846719179181,5.2694258360297397E-4,-15.615891686246865,-15.615891686246865,-15.615891686246865,"-",-5.3975447089607549,-5.3975447089607549,-5.3975447089607549,"-",-3.7782812962725281,-7850.1585212394093,38.023329594472514,363.0960514663592,6.18909653418745,-2.9088820873213997E-4,2.9088820873213997E-4,{"$f":"FI_T-Rechentabelle!AL883","v":9.0903465812550266E-2},{"$f":"AP882","v":-1.3165903922640609E-7}]
[5.5124994367361069E-2,6.2499995692633092E-5,6.1867201406301762,38.268753051757813,-7850001.5,1793848087065.1533,-7850.0015000000003,null,{"$f":"C884","v":6.1867201406301762},{"$f":"AL882","v":6.1867200760877958},{"$f":"I884-J884","v":6.4542380329157822E-8},{"$f":"L882+KP_LR*(1+2*TA_SIM/TN_LR)*K884-KP_LR*K882","v":-0.24519757773712558},"-",{"$f":"L884","v":-0.24519757773712558},38.023329594472514,38.268753051757813,2.2587954817510081E-4,4.1519615627267248E-4,"-",4.1519615627267248E-4,-5.3974367456428585,-5.3970215494865856,-5.3970215494865856,-5.3975447089607549,5.2315947416925468E-4,-15.615178421621897,-15.615178421621897,-15.615178421621897,"-",-5.3972071867193545,-5.3972071867193545,-5.3972071867193545,"-",-3.7780450307035478,-7849.6676307989765,37.532725367547577,358.41112619734628,6.1914423295229213,-2.9088820873213997E-4,2.9088820873213997E-4,{"$f":"FI_T-Rechentabelle!AL884","v":8.8557670477078965E-2},{"$f":"K884","v":6.4542380329157822E-8}]
[5.5187497287988663E-2,6.2499995692633092E-5,6.1890964603051994,37.778129577636719,-7850001.5,1770850034666.8823,-7850.0015000000003,null,null,null,null,null,"-",{"$f":"N884+(L886-L884)/2","v":-0.24536374878234102},37.532725367547577,37.778129577636719,4.0461306802797026E-5,-4.3738984512376768E-6,"-",-4.3738984512376768E-6,-5.3974367456428585,-5.3974411195413099,-5.3974411195413099,-5.3972071867193545,-2.339328219553849E-4,-15.668759097107078,-15.668759097107078,-15.668759097107078,"-",-5.3973581111206164,-5.3973581111206164,-5.3973581111206164,"-",-3.7781506777844314,-7849.8871343952442,37.042107421647877,353.72606992177452,6.1937574612367738,-2.9088820873213997E-4,2.9088820873213997E-4,{"$f":"FI_T-Rechentabelle!AL885","v":8.6242538763226406E-2},{"$f":"AP884","v":6.4542380329157822E-8}]
[5.5249996483325958E-2,6.2499995692633092E-5,6.191442115916856,37.287502288818359,-7850001.5,1747851982268.6111,-7850.0015000000003,null,{"$f":"C886","v":6.191442115916856},{"$f":"AL884","v":6.1914423295229213},{"$f":"I886-J886","v":-2.1360606528020298E-7},{"$f":"L884+KP_LR*(1+2*TA_SIM/TN_LR)*K886-KP_LR*K884","v":-0.24552991982755643},"-",{"$f":"L886","v":-0.24552991982755643},37.042107421647877,37.287502288818359,-1.3505265707181024E-4,-4.4379436113842761E-4,"-",-4.4379436113842761E-4,-5.3974367456428585,-5.3978805400039969,-5.3978805400039969,-5.3973581111206164,-5.2242888338049909E-4,-15.689987106942469,-15.689987106942469,-15.689987106942469,"-",-5.3976951620131191,-5.3976951620131191,-5.3976951620131191,"-",-3.7783866134091832,-7850.3773393085039,36.551458837941098,349.04072107669623,6.1960419274141447,-2.9088820873213997E-4,2.9088820873213997E-4,{"$f":"FI_T-Rechentabelle!AL886","v":8.3958072585855525E-2},{"$f":"K886","v":-2.1360606528020298E-7}]
[5.5312495678663254E-2,6.2499995692633092E-5,6.1937571074651459,36.796878814697266,-7850001.5,1724853929870.3398,-7850.0015000000003,null,null,null,null,null,"-",{"$f":"N886+(L888-L886)/2","v":-0.24541837178821024},36.551458837941098,36.796878814697266,1.6049679558705066E-6,-1.2689991219629363E-4,"-",-1.2689991219629363E-4,-5.3974367456428585,-5.3975636455550546,-5.3975636455550546,-5.3976951620131191,1.3151645806441792E-4,-15.643838299924667,-15.643838299924667,-15.643838299924667,"-",-5.3976103126853356,-5.3976103126853356,-5.3976103126853356,"-",-3.7783272188797348,-7850.2539349256895,36.060817967008241,344.35544588318362,6.198295728537083,-2.9088820873213997E-4,2.9088820873213997E-4,{"$f":"FI_T-Rechentabelle!AL887","v":8.1704271462917255E-2},{"$f":"AP886","v":-2.1360606528020298E-7}]
[5.5374994874000549E-2,6.2499995692633092E-5,6.1960419117872263,36.306255340576172,-7850001.5,1701855877472.0686,-7850.0015000000003,null,{"$f":"C888","v":6.1960419117872263},{"$f":"AL886","v":6.1960419274141447},{"$f":"I888-J888","v":-1.562691842593722E-8},{"$f":"L886+KP_LR*(1+2*TA_SIM/TN_LR)*K888-KP_LR*K886","v":-0.24530682374886403},"-",{"$f":"L888","v":-0.24530682374886403},36.060817967008241,36.306255340576172,1.3054981906890362E-4,2.035673259983302E-4,"-",2.035673259983302E-4,-5.3974367456428585,-5.3972331783168599,-5.3972331783168599,-5.3976103126853356,3.771343684757511E-4,-15.625891901007678,-15.625891901007678,-15.625891901007678,"-",-5.3973670001895444,-5.3973670001895444,-5.3973670001895444,"-",-3.7781569001326809,-7849.9000626068573,35.570199213095314,339.6703818916539,6.2005188659879016,-2.9088820873213997E-4,2.9088820873213997E-4,{"$f":"FI_T-Rechentabelle!AL888","v":7.9481134012098664E-2},{"$f":"K888","v":-1.562691842593722E-8}]
[5.5437497794628143E-2,6.2499995692633092E-5,6.1982955752087818,35.815628051757813,-7850001.5,1678857825073.7974,-7850.0015000000003,null,null,null,null,null,"-",{"$f":"N888+(L890-L888)/2","v":-0.24518547187306078},35.570199213095314,35.815628051757813,2.4336678944081314E-4,5.2418585433409146E-4,"-",5.2418585433409146E-4,-5.3974367456428585,-5.3969125597885244,-5.3969125597885244,-5.3973670001895444,4.544404010200509E-4,-15.619615272940726,-15.619615272940726,-15.619615272940726,"-",-5.3970738128340479,-5.3970738128340479,-5.3970738128340479,"-",-3.7779516689838331,-7849.4736525739308,35.079607109809444,334.98557239486615,6.2027113414322645,-2.9088820873213997E-4,2.9088820873213997E-4,{"$f":"FI_T-Rechentabelle!AL889","v":7.7288658567735702E-2},{"$f":"AP888","v":-1.562691842593722E-8}]
[5.5499996989965439E-2,6.2499995692633092E-5,6.2005190514041288,35.325004577636719,-7850001.5,1655859772675.5264,-7850.0015000000003,null,{"$f":"C890","v":6.2005190514041288},{"$f":"AL888","v":6.2005188659879016},{"$f":"I890-J890","v":1.8541622726075957E-7},{"$f":"L888+KP_LR*(1+2*TA_SIM/TN_LR)*K890-KP_LR*K888","v":-0.2450641199972575},"-",{"$f":"L890","v":-0.2450641199972575},35.079607109809444,35.325004577636719,3.3334783001492951E-4,8.1385239784921549E-4,"-",8.1385239784921549E-4,-5.3974367456428585,-5.3966228932450093,-5.3966228932450093,-5.3970738128340479,4.5091958903853424E-4,-15.619018755221614,-15.619018755221614,-15.619018755221614,"-",-5.3967828969701515,-5.3967828969701515,-5.3967828969701515,"-",-3.7777480278791056,-7849.05054618555,34.589041450672845,330.30101542110276,6.2048731565229316,-2.9088820873213997E-4,2.9088820873213997E-4,{"$f":"FI_T-Rechentabelle!AL890","v":7.5126843477068661E-2},{"$f":"K890","v":1.8541622726075957E-7}]
[5.5562496185302734E-2,6.2499995692633092E-5,6.2027113866989509,34.834377288818359,-7850001.5,1632861720277.2551,-7850.0015000000003,null,null,null,null,null,"-",{"$f":"N890+(L892-L890)/2","v":-0.24522899605515427},34.589041450672845,34.834377288818359,1.0684209036071479E-4,3.1530560782539493E-4,"-",3.1530560782539493E-4,-5.3974367456428585,-5.3971214400350327,-5.3971214400350327,-5.3967828969701515,-3.3854306488123598E-4,-15.675067343372985,-15.675067343372985,-15.675067343372985,"-",-5.3970013118507207,-5.3970013118507207,-5.3970013118507207,"-",-3.7779009182955043,-7849.3682075535089,34.098455937700749,325.61626885717584,6.2070043100190375,-2.9088820873213997E-4,2.9088820873213997E-4,{"$f":"FI_T-Rechentabelle!AL891","v":7.299568998096273E-2},{"$f":"AP890","v":1.8541622726075957E-7}]
[5.562499538064003E-2,6.2499995692633092E-5,6.2048730579304054,34.343753814697266,-7850001.5,1609863667878.9839,-7850.0015000000003,null,{"$f":"C892","v":6.2048730579304054},{"$f":"AL890","v":6.2048731565229316},{"$f":"I892-J892","v":-9.8592526143193027E-8},{"$f":"L890+KP_LR*(1+2*TA_SIM/TN_LR)*K892-KP_LR*K890","v":-0.24539387211305105},"-",{"$f":"L892","v":-0.24539387211305105},34.098455937700749,34.343753814697266,-9.5995116531355507E-5,-1.7787436654142851E-4,"-",-1.7787436654142851E-4,-5.3974367456428585,-5.3976146200094002,-5.3976146200094002,-5.3970013118507207,-6.1330815867943755E-4,-15.69550156006035,-15.69550156006035,-15.69550156006035,"-",-5.3973969945337394,-5.3973969945337394,-5.3973969945337394,"-",-3.7781778961736174,-7849.9436862115463,33.607834457312528,320.9311788297249,6.2091047996726196,-2.9088820873213997E-4,2.9088820873213997E-4,{"$f":"FI_T-Rechentabelle!AL892","v":7.0895200327380614E-2},{"$f":"K892","v":-9.8592526143193027E-8}]
[5.5687494575977325E-2,6.2499995692633092E-5,6.2070040650984932,33.853126525878906,-7850001.5,1586865615480.7126,-7850.0015000000003,null,null,null,null,null,"-",{"$f":"N892+(L894-L892)/2","v":-0.2452862143038923},33.607834457312528,33.853126525878906,5.8542624827850887E-6,5.9439084497506104E-5,"-",5.9439084497506104E-5,-5.3974367456428585,-5.3973773065583606,-5.3973773065583606,-5.3973969945337394,1.968797537887923E-5,-15.651032479728643,-15.651032479728643,-15.651032479728643,"-",-5.3973842926141407,-5.3973842926141407,-5.3973842926141407,"-",-3.7781690048298984,-7849.9252126114652,33.117214131524314,316.2460998278919,6.2111746255558398,-2.9088820873213997E-4,2.9088820873213997E-4,{"$f":"FI_T-Rechentabelle!AL893","v":6.8825374444160481E-2},{"$f":"AP892","v":-9.8592526143193027E-8}]
[5.5749997496604919E-2,6.2499995692633092E-5,6.2091048850403725,33.362503051757813,-7850001.5,1563867563082.4414,-7850.0015000000003,null,{"$f":"C894","v":6.2091048850403725},{"$f":"AL892","v":6.2091047996726196},{"$f":"I894-J894","v":8.5367752866716273E-8},{"$f":"L892+KP_LR*(1+2*TA_SIM/TN_LR)*K894-KP_LR*K892","v":-0.24517855649473355},"-",{"$f":"L894","v":-0.24517855649473355},33.117214131524314,33.362503051757813,1.1036373876294192E-4,3.2839204188187947E-4,"-",3.2839204188187947E-4,-5.3974367456428585,-5.3971083536009763,-5.3971083536009763,-5.3973842926141407,2.7593901316436131E-4,-15.632529037116232,-15.632529037116232,-15.632529037116232,"-",-5.3972062674443579,-5.3972062674443579,-5.3972062674443579,"-",-3.7780443872110503,-7849.6662938106174,32.62660998816115,311.56117535683512,6.2132137886800995,-2.9088820873213997E-4,2.9088820873213997E-4,{"$f":"FI_T-Rechentabelle!AL894","v":6.6786211319900701E-2},{"$f":"K894","v":8.5367752866716273E-8}]
[5.5812496691942215E-2,6.2499995692633092E-5,6.2111745640817269,32.871879577636719,-7850001.5,1540869510684.1704,-7850.0015000000003,null,null,null,null,null,"-",{"$f":"N894+(L896-L894)/2","v":-0.24506479740640941},32.62660998816115,32.871879577636719,2.0479206916235171E-4,5.9701769412511918E-4,"-",5.9701769412511918E-4,-5.3974367456428585,-5.3968397279487332,-5.3968397279487332,-5.3972062674443579,3.66539495624707E-4,-15.625483684194297,-15.625483684194297,-15.625483684194297,"-",-5.3969697903504059,-5.3969697903504059,-5.3969697903504059,"-",-3.7778788532452841,-7849.3223628615906,32.1360273404823,306.87645615444319,6.2152222903888799,-2.9088820873213997E-4,2.9088820873213997E-4,{"$f":"FI_T-Rechentabelle!AL895","v":6.4777709611120393E-2},{"$f":"AP894","v":8.5367752866716273E-8}]
[5.587499588727951E-2,6.2499995692633092E-5,6.2132140558968718,32.381252288818359,-7850001.5,1517871458285.8992,-7850.0015000000003,null,{"$f":"C896","v":6.2132140558968718},{"$f":"AL894","v":6.2132137886800995},{"$f":"I896-J896","v":2.6721677226504426E-7},{"$f":"L894+KP_LR*(1+2*TA_SIM/TN_LR)*K896-KP_LR*K894","v":-0.24495103831808529},"-",{"$f":"L896","v":-0.24495103831808529},32.1360273404823,32.381252288818359,2.7391001797383296E-4,8.2387418857335793E-4,"-",8.2387418857335793E-4,-5.3974367456428585,-5.3966128714542849,-5.3966128714542849,-5.3969697903504059,3.5691889612099459E-4,-15.625491204469945,-15.625491204469945,-15.625491204469945,"-",-5.3967395200948438,-5.3967395200948438,-5.3967395200948438,"-",-3.7777176640663903,-7848.9874591032412,31.645465624288349,302.19193683300853,6.2172001319903982,-2.9088820873213997E-4,2.9088820873213997E-4,{"$f":"FI_T-Rechentabelle!AL896","v":6.2799868009602022E-2},{"$f":"K896","v":2.6721677226504426E-7}]
[5.5937495082616806E-2,6.2499995692633092E-5,6.2152224068114919,31.890628814697266,-7850001.5,1494873405887.6279,-7850.0015000000003,null,null,null,null,null,"-",{"$f":"N896+(L898-L896)/2","v":-0.24512569810202339},31.645465624288349,31.890628814697266,3.7492306894648664E-5,2.8546400786541104E-4,"-",2.8546400786541104E-4,-5.3974367456428585,-5.3971512816349927,-5.3971512816349927,-5.3967395200948438,-4.1176154014888056E-4,-15.680218004426457,-15.680218004426457,-15.680218004426457,"-",-5.3970051727013919,-5.3970051727013919,-5.3970051727013919,"-",-3.777903620890974,-7849.3738227529057,31.154879760366292,297.50718691775637,6.219147311975421,-2.9088820873213997E-4,2.9088820873213997E-4,{"$f":"FI_T-Rechentabelle!AL897","v":6.0852688024579216E-2},{"$f":"AP896","v":2.6721677226504426E-7}]
[5.5999994277954102E-2,6.2499995692633092E-5,6.2172000936627452,31.400003433227539,-7850001.5,1471875353489.3567,-7850.0015000000003,null,{"$f":"C898","v":6.2172000936627452},{"$f":"AL896","v":6.2172001319903982},{"$f":"I898-J898","v":-3.8327653051339894E-8},{"$f":"L896+KP_LR*(1+2*TA_SIM/TN_LR)*K898-KP_LR*K896","v":-0.2453003578859615},"-",{"$f":"L898","v":-0.2453003578859615},31.154879760366292,31.400003433227539,-1.7668502471579473E-4,-2.5365164210231742E-4,"-",-2.5365164210231742E-4,{"$f":"G898*(JM_EMS+JL_EMS)/KT_M*KP_VSR","v":-5.3974367456428585},-5.3976903972849604,{"$f":"IF(V898<-IM_R,-IM_R,IF(V898>IM_R,IM_R,V898))","v":-5.3976903972849604},-5.3970051727013919,-6.8522458356845561E-4,-15.70069537888865,{"$f":"IF(Z898<-U_ZWK,-U_ZWK,IF(Z898>U_ZWK,U_ZWK,Z898))","v":-15.70069537888865},-15.70069537888865,"-",-5.3974472530778872,-5.3974472530778872,-5.3974472530778872,"-",{"$f":"AF898*KT_M","v":-3.7782130771545206},{"$f":"AH898/(JM_EMS+JL_EMS)","v":-7850.0167819541248},30.664253711494158,292.82205326449758,6.2210638278323893,{"$f":"-DF_LR","v":-2.9088820873213997E-4},{"$f":"DF_LR","v":2.9088820873213997E-4},{"$f":"FI_T-Rechentabelle!AL898","v":5.8936172167610934E-2},{"$f":"K898","v":-3.8327653051339894E-8}]
[5.6062497198581696E-2,6.2499995692633092E-5,6.2191471164506318,30.909378051757813,-7850001.5,1448877301091.0854,{"$f":"E899/1000","v":-7850.0015000000003},null,null,null,null,null,"-",{"$f":"N898+(L900-L898)/2","v":-0.24549260925493532},30.664253711494158,30.909378051757813,-3.682689912807291E-4,{"$f":"R898+KP_DR*(1+TA_SIM/TN_DR)*Q899-KP_DR*Q898","v":-7.8714714001844061E-4},"-",{"$f":"R899","v":-7.8714714001844061E-4},-5.3974367456428585,{"$f":"T899+U899","v":-5.3982238927828767},-5.3982238927828767,-5.3974472530778872,{"$f":"W899-X899","v":-7.7663970498953461E-4},-15.708565198472574,-15.708565198472574,{"$f":"AA899","v":-15.708565198472574},"-",{"$f":"(1/R_M*AB899+AD898*T_M/TA_SIM)/(1+T_M/TA_SIM)","v":-5.3979483109520743},{"$f":"AD899","v":-5.3979483109520743},{"$f":"AE899","v":-5.3979483109520743},"-",-3.7785638176664516,-7850.7455176946833,30.17358211663824,288.1364846791314,6.2229496767146788,-2.9088820873213997E-4,2.9088820873213997E-4,{"$f":"FI_T-Rechentabelle!AL899","v":5.7050323285321447E-2},{"$f":"AP898","v":-3.8327653051339894E-8}]
[5.6124996393918991E-2,6.2499995692633092E-5,6.2210634751751517,30.418752670288086,-7850001.5,1425879248692.8145,-7850.0015000000003,null,{"$f":"C900","v":6.2210634751751517},{"$f":"AL898","v":6.2210638278323893},{"$f":"I900-J900","v":-3.5265723763444612E-7},{"$f":"L898+KP_LR*(1+2*TA_SIM/TN_LR)*K900-KP_LR*K898","v":-0.24568486062390918},"-",{"$f":"L900","v":-0.24568486062390918},{"$f":"AJ899","v":30.17358211663824},{"$f":"D900*KP_VDR","v":30.418752670288086},{"$f":"N900-O900+P900","v":-5.1430697406473769E-4},-1.2507597549831317E-3,"-",-1.2507597549831317E-3,-5.3974367456428585,-5.3986875053978416,-5.3986875053978416,{"$f":"AF899","v":-5.3979483109520743},-7.3919444576731053E-4,-15.70731979182054,-15.70731979182054,-15.70731979182054,"-",-5.398425210594505,-5.398425210594505,-5.398425210594505,"-",-3.7788976474161533,-7851.4391178395035,29.682867171773271,283.45050213167178,6.2248048559129145,-2.9088820873213997E-4,2.9088820873213997E-4,{"$f":"FI_T-Rechentabelle!AL900","v":5.5195144087085701E-2},{"$f":"K900","v":-3.5265723763444612E-7}]
[5.6187495589256287E-2,6.2499995692633092E-5,6.2229496466734622,29.928127288818359,-7850001.5,1402881196294.5432,-7850.0015000000003,null,null,null,null,null,"-",{"$f":"N900+(L902-L900)/2","v":-0.24559343207519876},29.682867171773271,29.928127288818359,-3.3331503011169161E-4,-9.1283672039491558E-4,"-",-9.1283672039491558E-4,-5.3974367456428585,-5.3983495823632532,-5.3983495823632532,-5.398425210594505,7.5628231251734235E-5,-15.649982998833249,-15.649982998833249,-15.649982998833249,"-",-5.3983764181872456,-5.3983764181872456,-5.3983764181872456,"-",-3.7788634927310718,-7851.3681544381288,29.192156662120887,278.7645619373726,6.226629365704297,-2.9088820873213997E-4,2.9088820873213997E-4,{"$f":"FI_T-Rechentabelle!AL901","v":5.3370634295703212E-2},{"$f":"AP900","v":-3.5265723763444612E-7}]
[5.6249994784593582E-2,6.2499995692633092E-5,6.2248046772712478,29.437503814697266,-7850001.5,1379883143896.272,-7850.0015000000003,null,{"$f":"C902","v":6.2248046772712478},{"$f":"AL900","v":6.2248048559129145},{"$f":"I902-J902","v":-1.7864166679260052E-7},{"$f":"L900+KP_LR*(1+2*TA_SIM/TN_LR)*K902-KP_LR*K900","v":-0.24550200352648835},"-",{"$f":"L902","v":-0.24550200352648835},29.192156662120887,29.437503814697266,-1.5485095011058547E-4,-5.3726006562713211E-4,"-",-5.3726006562713211E-4,-5.3974367456428585,-5.3979740057084857,-5.3979740057084857,-5.3983764181872456,4.0241247875982822E-4,-15.626291952176937,-15.626291952176937,-15.626291952176937,"-",-5.3981167972332065,-5.3981167972332065,-5.3981167972332065,"-",-3.7786817580632444,-7850.9905631897864,28.701469751921525,274.07884710124955,6.2284232075637922,-2.9088820873213997E-4,2.9088820873213997E-4,{"$f":"FI_T-Rechentabelle!AL902","v":5.1576792436208052E-2},{"$f":"K902","v":-1.7864166679260052E-7}]
[5.6312497705221176E-2,6.2499995692633092E-5,6.2266295206428239,28.946878433227539,-7850001.5,1356885091498.0007,-7850.0015000000003,null,null,null,null,null,"-",{"$f":"N902+(L904-L902)/2","v":-0.24539135030951936},28.701469751921525,28.946878433227539,1.7330996495701356E-5,-1.3425632950182217E-4,"-",-1.3425632950182217E-4,-5.3974367456428585,-5.3975710019723602,-5.3975710019723602,-5.3981167972332065,5.4579526084630459E-4,-15.615206240597928,-15.615206240597928,-15.615206240597928,"-",-5.3977646712584662,-5.3977646712584662,-5.3977646712584662,"-",-3.778435269880926,-7850.4784331621149,28.210814849848894,269.3934379202218,6.2301863834919073,-2.9088820873213997E-4,2.9088820873213997E-4,{"$f":"FI_T-Rechentabelle!AL903","v":4.9813616508092906E-2},{"$f":"AP902","v":-1.7864166679260052E-7}]
[5.6374996900558472E-2,6.2499995692633092E-5,6.2284232231138761,28.456253051757813,-7850001.5,1333887039099.7297,-7850.0015000000003,null,{"$f":"C904","v":6.2284232231138761},{"$f":"AL902","v":6.2284232075637922},{"$f":"I904-J904","v":1.5550083887205801E-8},{"$f":"L902+KP_LR*(1+2*TA_SIM/TN_LR)*K904-KP_LR*K902","v":-0.2452806970925504},"-",{"$f":"L904","v":-0.2452806970925504},28.210814849848894,28.456253051757813,1.5750481636800373E-4,2.2878896799170251E-4,"-",2.2878896799170251E-4,-5.3974367456428585,-5.3972079566748672,-5.3972079566748672,-5.3977646712584662,5.5671458359896064E-4,-15.613398179560555,-15.613398179560555,-15.613398179560555,"-",-5.39740550055937,-5.39740550055937,-5.39740550055937,"-",-3.7781838503915588,-7849.9560573271528,27.720192596265946,264.70834050930512,6.2319188955291738,-2.9088820873213997E-4,2.9088820873213997E-4,{"$f":"FI_T-Rechentabelle!AL904","v":4.8081104470826475E-2},{"$f":"K904","v":1.5550083887205801E-8}]
[5.6437496095895767E-2,6.2499995692633092E-5,6.2301862615215606,27.965627670288086,-7850001.5,1310888986701.4585,-7850.0015000000003,null,null,null,null,null,"-",{"$f":"N904+(L906-L904)/2","v":-0.24544705338304484},27.720192596265946,27.965627670288086,-1.1979360905911562E-5,-1.6666196385787307E-4,"-",-1.6666196385787307E-4,-5.3974367456428585,-5.3976034076067165,-5.3976034076067165,-5.39740550055937,-1.9790704734656828E-4,-15.666738027227767,-15.666738027227767,-15.666738027227767,"-",-5.3975331825253994,-5.3975331825253994,-5.3975331825253994,"-",-3.7782732277677793,-7850.141757256969,27.229558736437387,260.02313226690683,6.2336207429502011,-2.9088820873213997E-4,2.9088820873213997E-4,{"$f":"FI_T-Rechentabelle!AL905","v":4.6379257049799172E-2},{"$f":"AP904","v":1.5550083887205801E-8}]
[5.6499995291233063E-2,6.2499995692633092E-5,6.2319186358658785,27.475002288818359,-7850001.5,1287890934303.1873,-7850.0015000000003,null,{"$f":"C906","v":6.2319186358658785},{"$f":"AL904","v":6.2319188955291738},{"$f":"I906-J906","v":-2.5966329531001975E-7},{"$f":"L904+KP_LR*(1+2*TA_SIM/TN_LR)*K906-KP_LR*K904","v":-0.24561340967353926},"-",{"$f":"L906","v":-0.24561340967353926},27.229558736437387,27.475002288818359,-1.6985729256546733E-4,-5.7372195948162644E-4,"-",-5.7372195948162644E-4,-5.3974367456428585,-5.3980104676023402,-5.3980104676023402,-5.3975331825253994,-4.7728507694078104E-4,-15.687241547449043,-15.687241547449043,-15.687241547449043,"-",-5.3978411083814901,-5.3978411083814901,-5.3978411083814901,"-",-3.7784887758670429,-7850.589602881867,26.738896886257269,255.33765673633997,6.2352919240055922,-2.9088820873213997E-4,2.9088820873213997E-4,{"$f":"FI_T-Rechentabelle!AL906","v":4.470807599440807E-2},{"$f":"K906","v":-2.5966329531001975E-7}]
[5.6562494486570358E-2,6.2499995692633092E-5,6.2336203461468296,26.984376907348633,-7850001.5,1264892881904.916,-7850.0015000000003,null,null,null,null,null,"-",{"$f":"N906+(L908-L906)/2","v":-0.24549953550823617},26.738896886257269,26.984376907348633,-1.9514416873533946E-5,-2.3028080898663606E-4,"-",-2.3028080898663606E-4,-5.3974367456428585,-5.3976670264518454,-5.3976670264518454,-5.3978411083814901,1.7408192964474267E-4,-15.641194084279704,-15.641194084279704,-15.641194084279704,"-",-5.3977287974591395,-5.3977287974591395,-5.3977287974591395,"-",-3.7784101582213974,-7850.4262585111092,26.248245245100325,250.65227869476328,6.2369324393334109,-2.9088820873213997E-4,2.9088820873213997E-4,{"$f":"FI_T-Rechentabelle!AL907","v":4.3067560666589344E-2},{"$f":"AP906","v":-2.5966329531001975E-7}]
[5.6624997407197952E-2,6.2499995692633092E-5,6.2352918692015713,26.493753433227539,-7850001.5,1241894829506.6448,-7850.0015000000003,null,{"$f":"C908","v":6.2352918692015713},{"$f":"AL906","v":6.2352919240055922},{"$f":"I908-J908","v":-5.4804020876986215E-8},{"$f":"L906+KP_LR*(1+2*TA_SIM/TN_LR)*K908-KP_LR*K906","v":-0.24538566134293305},"-",{"$f":"L908","v":-0.24538566134293305},26.248245245100325,26.493753433227539,1.2252678428126274E-4,1.2856201295227459E-4,"-",1.2856201295227459E-4,-5.3974367456428585,-5.3973081836299066,-5.3973081836299066,-5.3977287974591395,4.2061382923286317E-4,-15.623102180550696,-15.623102180550696,-15.623102180550696,"-",-5.3974574336983441,-5.3974574336983441,-5.3974574336983441,"-",-3.7782202035888406,-7850.0315885909831,25.757618270813389,245.9671362044441,6.2385422904753369,-2.9088820873213997E-4,2.9088820873213997E-4,{"$f":"FI_T-Rechentabelle!AL908","v":4.1457709524663322E-2},{"$f":"K908","v":-5.4804020876986215E-8}]
[5.6687496602535248E-2,6.2499995692633092E-5,6.2369327281929472,26.003128051757813,-7850001.5,1218896777108.3738,-7850.0015000000003,null,null,null,null,null,"-",{"$f":"N908+(L910-L908)/2","v":-0.24526007562116489},25.757618270813389,26.003128051757813,2.4970532325951922E-4,4.839876539973919E-4,"-",4.839876539973919E-4,-5.3974367456428585,-5.3969527579888608,-5.3969527579888608,-5.3974574336983441,5.0467570948331542E-4,-15.616257346919243,-15.616257346919243,-15.616257346919243,"-",-5.3971318364664187,-5.3971318364664187,-5.3971318364664187,"-",-3.7779922855264929,-7849.5580418169384,25.267020893199831,241.282276341537,6.2401214792811617,-2.9088820873213997E-4,2.9088820873213997E-4,{"$f":"FI_T-Rechentabelle!AL909","v":3.9878520718838573E-2},{"$f":"AP908","v":-5.4804020876986215E-8}]
[5.6749995797872543E-2,6.2499995692633092E-5,6.2385424462837964,25.512502670288086,-7850001.5,1195898724710.1025,-7850.0015000000003,null,{"$f":"C910","v":6.2385424462837964},{"$f":"AL908","v":6.2385422904753369},{"$f":"I910-J910","v":1.5580845946772115E-7},{"$f":"L908+KP_LR*(1+2*TA_SIM/TN_LR)*K910-KP_LR*K908","v":-0.24513448989939673},"-",{"$f":"L910","v":-0.24513448989939673},25.267020893199831,25.512502670288086,3.4728718885901344E-4,7.9465624995297827E-4,"-",7.9465624995297827E-4,-5.3974367456428585,-5.3966420893929055,-5.3966420893929055,-5.3971318364664187,4.8974707351323588E-4,-15.616388939874312,-15.616388939874312,-15.616388939874312,"-",-5.3968158706125386,-5.3968158706125386,-5.3968158706125386,"-",-3.7777711094287767,-7849.0985028646919,24.776452236770787,236.59769074573907,6.2416700075459595,-2.9088820873213997E-4,2.9088820873213997E-4,{"$f":"FI_T-Rechentabelle!AL910","v":3.8329992454040784E-2},{"$f":"K910","v":1.5580845946772115E-7}]
[5.6812494993209839E-2,6.2499995692633092E-5,6.2401215003112798,25.021877288818359,-7850001.5,1172900672311.8313,-7850.0015000000003,null,null,null,null,null,"-",{"$f":"N910+(L912-L910)/2","v":-0.24529392270449152},24.776452236770787,25.021877288818359,1.3112934308168178E-4,3.2599654680976191E-4,"-",3.2599654680976191E-4,-5.3974367456428585,-5.3971107490960488,-5.3971107490960488,-5.3968158706125386,-2.9487848351017476E-4,-15.672016300007426,-15.672016300007426,-15.672016300007426,"-",-5.397006114795448,-5.397006114795448,-5.397006114795448,"-",-3.7779042803568132,-7849.3751929291766,24.285866287212713,231.91294001272314,6.2431878741889104,-2.9088820873213997E-4,2.9088820873213997E-4,{"$f":"FI_T-Rechentabelle!AL911","v":3.6812125811089835E-2},{"$f":"AP910","v":1.5580845946772115E-7}]
[5.6874997913837433E-2,6.2499995692633092E-5,6.2416698902753964,24.531251907348633,-7850001.5,1149902619913.5601,-7850.0015000000003,null,{"$f":"C912","v":6.2416698902753964},{"$f":"AL910","v":6.2416700075459595},{"$f":"I912-J912","v":-1.1727056303811878E-7},{"$f":"L910+KP_LR*(1+2*TA_SIM/TN_LR)*K912-KP_LR*K910","v":-0.24545335550958627},"-",{"$f":"L912","v":-0.24545335550958627},24.285866287212713,24.531251907348633,-6.7735373665556153E-5,-1.5109350360358192E-4,"-",-1.5109350360358192E-4,-5.3974367456428585,-5.3975878391464622,-5.3975878391464622,-5.397006114795448,-5.8172435101422337E-4,-15.693239416783157,-15.693239416783157,-15.693239416783157,"-",-5.3973814208283608,-5.3973814208283608,-5.3973814208283608,"-",-3.7781669945798524,-7849.9210359024555,23.795246222468808,227.22786350367963,6.2446750770778143,-2.9088820873213997E-4,2.9088820873213997E-4,{"$f":"FI_T-Rechentabelle!AL912","v":3.532492292218592E-2},{"$f":"K912","v":-1.1727056303811878E-7}]
[5.6937497109174728E-2,6.2499995692633092E-5,6.2431876161761455,24.040626525878906,-7850001.5,1126904567515.2888,-7850.0015000000003,null,null,null,null,null,"-",{"$f":"N912+(L914-L912)/2","v":-0.24533972275487126},23.795246222468808,24.040626525878906,4.058065522727361E-5,1.096629419873733E-4,"-",1.096629419873733E-4,-5.3974367456428585,-5.3973270827008708,-5.3973270827008708,-5.3973814208283608,5.4338127490005661E-5,-15.648490269537364,-15.648490269537364,-15.648490269537364,"-",-5.3973463639719155,-5.3973463639719155,-5.3973463639719155,"-",-3.7781424547803404,-7849.8700494085606,23.304629344380775,222.5428174249582,6.2461316164118381,-2.9088820873213997E-4,2.9088820873213997E-4,{"$f":"FI_T-Rechentabelle!AL913","v":3.3868383588162132E-2},{"$f":"AP912","v":-1.1727056303811878E-7}]
[5.6999996304512024E-2,6.2499995692633092E-5,6.244675154850686,23.550003051757813,-7850001.5,1103906515117.0178,-7850.0015000000003,null,{"$f":"C914","v":6.244675154850686},{"$f":"AL912","v":6.2446750770778143},{"$f":"I914-J914","v":7.7772871698300605E-8},{"$f":"L912+KP_LR*(1+2*TA_SIM/TN_LR)*K914-KP_LR*K912","v":-0.24522609000015622},"-",{"$f":"L914","v":-0.24522609000015622},23.304629344380775,23.550003051757813,1.4761737688218091E-4,3.9355123843487239E-4,"-",3.9355123843487239E-4,-5.3974367456428585,-5.3970431944044233,-5.3970431944044233,-5.3973463639719155,3.0316956749221191E-4,-15.630456687332224,-15.630456687332224,-15.630456687332224,"-",-5.3971507707025657,-5.3971507707025657,-5.3971507707025657,"-",-3.7780055394917955,-7849.5855796629858,22.814030245651839,217.85794112660986,6.2475574933021916,-2.9088820873213997E-4,2.9088820873213997E-4,{"$f":"FI_T-Rechentabelle!AL914","v":3.2442506697808682E-2},{"$f":"K914","v":7.7772871698300605E-8}]
[5.7062495499849319E-2,6.2499995692633092E-5,6.2461315526247017,23.059377670288086,-7850001.5,1080908462718.7466,-7850.0015000000003,null,null,null,null,null,"-",{"$f":"N914+(L916-L914)/2","v":-0.24510641766047858},22.814030245651839,23.059377670288086,2.4100697576656671E-4,6.6860008491932189E-4,"-",6.6860008491932189E-4,-5.3974367456428585,-5.3967681455579388,-5.3967681455579388,-5.3971507707025657,3.8262514462683583E-4,{"$f":"Z914+KP_SR*(1+TA_SIM/TN_SR)*Y915-KP_SR*Y914","v":-15.62416353913115},-15.62416353913115,-15.62416353913115,"-",-5.3969039157705492,-5.3969039157705492,-5.3969039157705492,"-",-3.7778327410393842,-7849.226555244928,{"$f":"AJ914+AI915*TA_SIM","v":22.323453585949032},213.1732791051771,{"$f":"AL914+AJ915*TA_SIM","v":6.2489527091513137},-2.9088820873213997E-4,2.9088820873213997E-4,{"$f":"FI_T-Rechentabelle!AL915","v":3.1047290848686515E-2},{"$f":"AP914","v":7.7772871698300605E-8}]
[5.7124994695186615E-2,6.2499995692633092E-5,6.2475577631725079,22.568752288818359,-7850001.5,1057910410320.4753,-7850.0015000000003,null,{"$f":"C916","v":6.2475577631725079},{"$f":"AL914","v":6.2475574933021916},{"$f":"I916-J916","v":2.6987031631620084E-7},{"$f":"L914+KP_LR*(1+2*TA_SIM/TN_LR)*K916-KP_LR*K914","v":-0.24498674532080092},"-",{"$f":"L916","v":-0.24498674532080092},22.323453585949032,22.568752288818359,3.1195754852575419E-4,9.0897669944641944E-4,"-",9.0897669944641944E-4,-5.3974367456428585,-5.3965277689434119,-5.3965277689434119,-5.3969039157705492,3.7614682713726921E-4,-15.623914516643515,-15.623914516643515,-15.623914516643515,"-",-5.3966612403982026,-5.3966612403982026,-5.3966612403982026,"-",-3.7776628682787416,-7848.8736095548338,21.832898985351854,208.48882773268642,6.2503172653378982,-2.9088820873213997E-4,2.9088820873213997E-4,{"$f":"FI_T-Rechentabelle!AL916","v":2.9682734662102028E-2},{"$f":"K916","v":2.6987031631620084E-7}]
[5.7187497615814209E-2,6.2499995692633092E-5,6.2489528328197901,22.078126907348633,-7850001.5,1034912357922.2042,-7850.0015000000003,null,null,null,null,null,"-",{"$f":"N916+(L918-L916)/2","v":-0.24515599584727293},21.832898985351854,22.078126907348633,7.1926149505685544E-5,3.7059182616308768E-4,"-",3.7059182616308768E-4,-5.3974367456428585,-5.3970661538166951,-5.3970661538166951,-5.3966612403982026,-4.0491341849246965E-4,-15.67949748673264,-15.67949748673264,-15.67949748673264,"-",-5.3969224748617464,-5.3969224748617464,-5.3969224748617464,"-",-3.7778457324032222,-7849.2535474822807,21.342320638634209,203.80414960144867,6.2516511603778131,-2.9088820873213997E-4,2.9088820873213997E-4,{"$f":"FI_T-Rechentabelle!AL917","v":2.834883962218715E-2},{"$f":"AP916","v":2.6987031631620084E-7}]
[5.7249996811151505E-2,6.2499995692633092E-5,6.2503172384037047,21.587501525878906,-7850001.5,1011914305523.933,-7850.0015000000003,null,{"$f":"C918","v":6.2503172384037047},{"$f":"AL916","v":6.2503172653378982},{"$f":"I918-J918","v":-2.6934193542160756E-8},{"$f":"L916+KP_LR*(1+2*TA_SIM/TN_LR)*K918-KP_LR*K916","v":-0.24532524637374495},"-",{"$f":"L918","v":-0.24532524637374495},21.342320638634209,21.587501525878906,-1.443591290488655E-4,-1.6552507689546344E-4,"-",-1.6552507689546344E-4,-5.3974367456428585,-5.3976022707197542,-5.3976022707197542,-5.3969224748617464,-6.797958580078145E-4,-15.700064336672957,-15.700064336672957,-15.700064336672957,"-",-5.3973610528346549,-5.3973610528346549,-5.3973610528346549,"-",-3.778152736984258,-7849.8914128075166,20.851702425333741,199.11909077238766,6.2529543917793964,-2.9088820873213997E-4,2.9088820873213997E-4,{"$f":"FI_T-Rechentabelle!AL918","v":2.7045608220603867E-2},{"$f":"K918","v":-2.6934193542160756E-8}]
[5.73124960064888E-2,6.2499995692633092E-5,6.2516509799242526,21.09687614440918,-7850001.5,988916253125.66174,-7850.0015000000003,null,null,null,null,null,"-",{"$f":"N918+(L920-L918)/2","v":-0.24551287483019008},20.851702425333741,21.09687614440918,-3.3915575475162996E-4,-6.9936359721850191E-4,"-",-6.9936359721850191E-4,-5.3974367456428585,-5.3981361092400766,-5.3981361092400766,-5.3973610528346549,-7.750564054216369E-4,-15.708201118049955,-15.708201118049955,-15.708201118049955,"-",-5.3978610892252492,-5.3978610892252492,-5.3978610892252492,"-",-3.7785027624576744,-7850.6186629081112,20.361038758901984,194.43359789789523,6.254226956701828,-2.9088820873213997E-4,2.9088820873213997E-4,{"$f":"FI_T-Rechentabelle!AL919","v":2.5773043298172205E-2},{"$f":"AP918","v":-2.6934193542160756E-8}]
[5.7374995201826096E-2,6.2499995692633092E-5,6.2529540573814328,20.606252670288086,-7850001.5,965918200727.39063,-7850.0015000000003,null,{"$f":"C920","v":6.2529540573814328},{"$f":"AL918","v":6.2529543917793964},{"$f":"I920-J920","v":-3.3439796354173268E-7},{"$f":"L918+KP_LR*(1+2*TA_SIM/TN_LR)*K920-KP_LR*K918","v":-0.2457005032866352},"-",{"$f":"L920","v":-0.2457005032866352},20.361038758901984,20.606252670288086,-4.8659190053257362E-4,-1.1594576688039476E-3,"-",-1.1594576688039476E-3,-5.3974367456428585,-5.3985962033116621,-5.3985962033116621,-5.3978610892252492,-7.3511408641291354E-4,-15.706772799690244,-15.706772799690244,-15.706772799690244,"-",-5.3983353563777738,-5.3983353563777738,-5.3983353563777738,"-",-3.7788347494644414,-7851.3084343744877,19.87033198175358,189.74769334638356,6.2554688524506874,-2.9088820873213997E-4,2.9088820873213997E-4,{"$f":"FI_T-Rechentabelle!AL920","v":2.4531147549312848E-2},{"$f":"K920","v":-3.3439796354173268E-7}]
[5.7437494397163391E-2,6.2499995692633092E-5,6.2542269476124055,20.115627288818359,-7850001.5,942920148329.11938,-7850.0015000000003,null,null,null,null,null,"-",{"$f":"N920+(L922-L920)/2","v":-0.24531607288587678},19.87033198175358,20.115627288818359,-2.0765821098223114E-5,-8.5653013363873147E-5,"-",-8.5653013363873147E-5,-5.3974367456428585,-5.3975223986562222,-5.3975223986562222,-5.3983353563777738,8.129577215516548E-4,-15.596587128658602,-15.596587128658602,-15.596587128658602,"-",-5.3978108675251599,-5.3978108675251599,-5.3978108675251599,"-",-3.7784676072676118,-7850.5456207513225,19.379672880456621,{"$f":"AJ921/(2*PI())*60","v":185.06224406571727},6.2566800820057162,-2.9088820873213997E-4,2.9088820873213997E-4,{"$f":"FI_T-Rechentabelle!AL921","v":2.3319917994284012E-2},{"$f":"AP920","v":-3.3439796354173268E-7}]
[5.7499997317790985E-2,6.2499995692633092E-5,6.2554691737800105,19.625001907348633,-7850001.5,919922095930.84827,-7850.0015000000003,null,{"$f":"C922","v":6.2554691737800105},{"$f":"AL920","v":6.2554688524506874},{"$f":"I922-J922","v":3.2132932314965501E-7},{"$f":"L920+KP_LR*(1+2*TA_SIM/TN_LR)*K922-KP_LR*K920","v":-0.24493164248511837},"-",{"$f":"L922","v":-0.24493164248511837},19.379672880456621,19.625001907348633,3.9738440689518484E-4,9.7967488406609424E-4,"-",9.7967488406609424E-4,-5.3974367456428585,-5.3964570707587924,-5.3964570707587924,-5.3978108675251599,1.3537967663674877E-3,-15.55609080691768,-15.55609080691768,-15.55609080691768,"-",-5.3969374502565355,-5.3969374502565355,-5.3969374502565355,"-",-3.7778562151795745,-7849.275327611831,18.88909317248088,180.37755293542219,6.257860650328996,-2.9088820873213997E-4,2.9088820873213997E-4,{"$f":"FI_T-Rechentabelle!AL922","v":2.2139349671004283E-2},{"$f":"K922","v":3.2132932314965501E-7}]
[5.7562496513128281E-2,6.2499995692633092E-5,6.2566802590470907,19.134376525878906,-7850001.5,896924043532.57703,-7850.0015000000003,null,null,null,null,null,"-",{"$f":"N922+(L924-L922)/2","v":-0.24509555346445239},18.88909317248088,19.134376525878906,1.8779993357398439E-4,5.4005518206446204E-4,"-",5.4005518206446204E-4,-5.3974367456428585,-5.3968966904607942,-5.3968966904607942,-5.3969374502565355,4.0759795741251992E-5,-15.648181270786381,-15.648181270786381,-15.648181270786381,"-",-5.3969111536141217,-5.3969111536141217,-5.3969111536141217,"-",-3.7778378075298851,-7849.2370819237167,18.398515854860648,175.69288463134083,6.2590105575699244,-2.9088820873213997E-4,2.9088820873213997E-4,{"$f":"FI_T-Rechentabelle!AL923","v":2.0989442430075833E-2},{"$f":"AP922","v":3.2132932314965501E-7}]
[5.7624995708465576E-2,6.2499995692633092E-5,6.2578606802508032,18.64375114440918,-7850001.5,873925991134.30579,-7850.0015000000003,null,{"$f":"C924","v":6.2578606802508032},{"$f":"AL922","v":6.257860650328996},{"$f":"I924-J924","v":2.9921807254140731E-8},{"$f":"L922+KP_LR*(1+2*TA_SIM/TN_LR)*K924-KP_LR*K922","v":-0.24525946444378638},"-",{"$f":"L924","v":-0.24525946444378638},18.398515854860648,18.64375114440918,-2.4174895255413276E-5,4.3221441788958144E-5,"-",4.3221441788958144E-5,-5.3974367456428585,-5.3973935242010693,-5.3973935242010693,-5.3969111536141217,-4.8237058694766688E-4,-15.685804148424255,-15.685804148424255,-15.685804148424255,"-",-5.3972223604444105,-5.3972223604444105,-5.3972223604444105,"-",-3.7780556523110871,-7849.689699378946,17.907910248649465,171.00794619111448,6.2601298019604652,-2.9088820873213997E-4,2.9088820873213997E-4,{"$f":"FI_T-Rechentabelle!AL924","v":1.9870198039535047E-2},{"$f":"K924","v":2.9921807254140731E-8}]
[5.7687494903802872E-2,6.2499995692633092E-5,6.259010437391149,18.153127670288086,-7850001.5,850927938736.03467,-7850.0015000000003,null,null,null,null,null,"-",{"$f":"N924+(L926-L924)/2","v":-0.24544114080210722},17.907910248649465,18.153127670288086,-2.2371916348618015E-4,-4.7347017013644218E-4,"-",-4.7347017013644218E-4,-5.3974367456428585,-5.3979102158129946,-5.3979102158129946,-5.3972223604444105,-6.8785536858406715E-4,-15.701514809592599,-15.701514809592599,-15.701514809592599,"-",-5.3976661381015623,-5.3976661381015623,-5.3976661381015623,"-",-3.7783662966710931,-7850.3351270955591,17.417264303205993,166.32262253959499,6.2612183809794155,-2.9088820873213997E-4,2.9088820873213997E-4,{"$f":"FI_T-Rechentabelle!AL925","v":1.8781619020584728E-2},{"$f":"AP924","v":2.9921807254140731E-8}]
[5.7749997824430466E-2,6.2499995692633092E-5,6.260129530468129,17.662502288818359,-7850001.5,827929886337.76343,-7850.0015000000003,null,{"$f":"C926","v":6.260129530468129},{"$f":"AL924","v":6.2601298019604652},{"$f":"I926-J926","v":-2.7149233616796664E-7},{"$f":"L924+KP_LR*(1+2*TA_SIM/TN_LR)*K926-KP_LR*K924","v":-0.24562281716042808},"-",{"$f":"L926","v":-0.24562281716042808},17.417264303205993,17.662502288818359,-3.8483154806101538E-4,-9.4043039715916593E-4,"-",-9.4043039715916593E-4,-5.3974367456428585,-5.3983771760400172,-5.3983771760400172,-5.3976661381015623,-7.1103793845495034E-4,-15.704472405478709,-15.704472405478709,-15.704472405478709,"-",-5.3981248722554049,-5.3981248722554049,-5.3981248722554049,"-",-3.7786874105787831,-7851.002307456436,16.926576658989966,161.63690069412911,6.2622762920206023,-2.9088820873213997E-4,2.9088820873213997E-4,{"$f":"FI_T-Rechentabelle!AL926","v":1.7723707979397929E-2},{"$f":"K926","v":-2.7149233616796664E-7}]
[5.7812497019767761E-2,6.2499995692633092E-5,6.2612184363188987,17.171876907348633,-7850001.5,804931833939.49231,-7850.0015000000003,null,null,null,null,null,"-",{"$f":"N926+(L928-L926)/2","v":-0.24552405105211503},16.926576658989966,17.171876907348633,-2.2380269344779435E-4,-6.2204417626325994E-4,"-",-6.2204417626325994E-4,-5.3974367456428585,-5.3980587898191219,-5.3980587898191219,-5.3981248722554049,6.6082436283032564E-5,-15.649799930745347,-15.649799930745347,-15.649799930745347,"-",-5.3980822384255447,-5.3980822384255447,-5.3980822384255447,"-",-3.778657566897881,-7850.9403010552269,16.435892890174014,156.95121585600793,6.2633035353262381,-2.9088820873213997E-4,2.9088820873213997E-4,{"$f":"FI_T-Rechentabelle!AL927","v":1.6696464673762179E-2},{"$f":"AP926","v":-2.7149233616796664E-7}]
[5.7874996215105057E-2,6.2499995692633092E-5,6.2622762012691444,16.681251525878906,-7850001.5,781933781541.22107,-7850.0015000000003,null,{"$f":"C928","v":6.2622762012691444},{"$f":"AL926","v":6.2622762920206023},{"$f":"I928-J928","v":-9.0751457904048038E-8},{"$f":"L926+KP_LR*(1+2*TA_SIM/TN_LR)*K928-KP_LR*K926","v":-0.24542528494380197},"-",{"$f":"L928","v":-0.24542528494380197},16.435892890174014,16.681251525878906,-6.6649238910088116E-5,-2.7432064300836714E-4,"-",-2.7432064300836714E-4,-5.3974367456428585,-5.3977110662858667,-5.3977110662858667,-5.3980822384255447,3.7117213967796658E-4,-15.627690150787647,-15.627690150787647,-15.627690150787647,"-",-5.3978427725289784,-5.3978427725289784,-5.3978427725289784,"-",-3.7784899407702848,-7850.5920232085691,15.945230888723477,152.26573888091502,6.264300112256783,-2.9088820873213997E-4,2.9088820873213997E-4,{"$f":"FI_T-Rechentabelle!AL928","v":1.5699887743217289E-2},{"$f":"K928","v":-9.0751457904048038E-8}]
[5.7937495410442352E-2,6.2499995692633092E-5,6.2633037789931807,16.19062614440918,-7850001.5,758935729142.94995,-7850.0015000000003,null,null,null,null,null,"-",{"$f":"N928+(L930-L928)/2","v":-0.24531103215632852},15.945230888723477,16.19062614440918,8.4223529373872452E-5,9.5638302397664656E-5,"-",9.5638302397664656E-5,-5.3974367456428585,-5.3973411073404609,-5.3973411073404609,-5.3978427725289784,5.0166518851746389E-4,-15.617591781264784,-15.617591781264784,-15.617591781264784,"-",-5.3975191175686437,-5.3975191175686437,-5.3975191175686437,"-",-3.7782633822980505,-7850.1213012633498,15.454598307394518,147.5805428472886,6.2652660246509955,-2.9088820873213997E-4,2.9088820873213997E-4,{"$f":"FI_T-Rechentabelle!AL929","v":1.473397534900478E-2},{"$f":"AP928","v":-9.0751457904048038E-8}]
[5.7999994605779648E-2,6.2499995692633092E-5,6.2643002158166929,15.70000171661377,-7850001.5,735937676744.67871,-7850.0015000000003,null,{"$f":"C930","v":6.2643002158166929},{"$f":"AL928","v":6.264300112256783},{"$f":"I930-J930","v":1.0355990998078823E-7},{"$f":"L928+KP_LR*(1+2*TA_SIM/TN_LR)*K930-KP_LR*K928","v":-0.24519677936885506},"-",{"$f":"L930","v":-0.24519677936885506},15.454598307394518,15.70000171661377,2.0662985039621162E-4,4.2950985990475017E-4,"-",4.2950985990475017E-4,-5.3974367456428585,-5.3970072357829535,-5.3970072357829535,-5.3975191175686437,5.118817856901714E-4,-15.615916927748078,-15.615916927748078,-15.615916927748078,"-",-5.3971888712552953,-5.3971888712552953,-5.3971888712552953,"-",-3.7780322098787065,-7849.6409928915564,14.963995745338796,142.89563347660561,6.2662012743850788,-2.9088820873213997E-4,2.9088820873213997E-4,{"$f":"FI_T-Rechentabelle!AL930","v":1.3798725614921459E-2},{"$f":"K930","v":1.0355990998078823E-7}]
[5.8062497526407242E-2,6.2499995692633092E-5,6.2652659885768376,15.209376335144043,-7850001.5,712939624346.40747,-7850.0015000000003,null,null,null,null,null,"-",{"$f":"N930+(L932-L930)/2","v":-0.24536291539520275},14.963995745338796,15.209376335144043,1.7674410043966304E-5,-3.8077317453294088E-6,"-",-3.8077317453294088E-6,-5.3974367456428585,-5.3974405533746035,-5.3974405533746035,-5.3971888712552953,-2.5168211930814977E-4,-15.669985076786665,-15.669985076786665,-15.669985076786665,"-",-5.3973512468161386,-5.3973512468161386,-5.3973512468161386,"-",-3.7781458727712969,-7849.8771509896042,14.473378423401945,138.21058315944015,6.2671058605365415,-2.9088820873213997E-4,2.9088820873213997E-4,{"$f":"FI_T-Rechentabelle!AL931","v":1.2894139463458743E-2},{"$f":"AP930","v":1.0355990998078823E-7}]
[5.8124996721744537E-2,6.2499995692633092E-5,6.2662010972736146,14.718751907348633,-7850001.5,689941571948.13635,-7850.0015000000003,null,{"$f":"C932","v":6.2662010972736146},{"$f":"AL930","v":6.2662012743850788},{"$f":"I932-J932","v":-1.7711146416132806E-7},{"$f":"L930+KP_LR*(1+2*TA_SIM/TN_LR)*K932-KP_LR*K930","v":-0.24552905142155043},"-",{"$f":"L932","v":-0.24552905142155043},14.473378423401945,14.718751907348633,-1.5556747486300537E-4,-4.4296735278831636E-4,"-",-4.4296735278831636E-4,-5.3974367456428585,-5.3978797129956471,-5.3978797129956471,-5.3973512468161386,-5.2846617950841335E-4,-15.690402275283674,-15.690402275283674,-15.690402275283674,"-",-5.3976921927384032,-5.3976921927384032,-5.3976921927384032,"-",-3.7783845349168819,-7850.3730208121369,13.982730109601187,133.52523689177451,6.2679797811683917,-2.9088820873213997E-4,2.9088820873213997E-4,{"$f":"FI_T-Rechentabelle!AL932","v":1.2020218831608531E-2},{"$f":"K932","v":-1.7711146416132806E-7}]
[5.8187495917081833E-2,6.2499995692633092E-5,6.267105541907025,14.228126525878906,-7850001.5,666943519549.86511,-7850.0015000000003,null,null,null,null,null,"-",{"$f":"N932+(L934-L932)/2","v":-0.24541769029705729},13.982730109601187,14.228126525878906,-2.1274019337269579E-5,-1.3712612021666128E-4,"-",-1.3712612021666128E-4,-5.3974367456428585,-5.3975738717630755,-5.3975738717630755,-5.3976921927384032,1.1832097532771257E-4,-15.6447806151065,-15.6447806151065,-15.6447806151065,"-",-5.3976158566252881,-5.3976158566252881,-5.3976158566252881,"-",-3.7783310996377013,-7850.2619980006257,13.492088734726147,128.83995688596852,6.2688230367143118,-2.9088820873213997E-4,2.9088820873213997E-4,{"$f":"FI_T-Rechentabelle!AL933","v":1.1176963285688402E-2},{"$f":"AP932","v":-1.7711146416132806E-7}]
[5.8249995112419128E-2,6.2499995692633092E-5,6.2679797993142277,13.73750114440918,-7850001.5,643945467151.59399,-7850.0015000000003,null,{"$f":"C934","v":6.2679797993142277},{"$f":"AL932","v":6.2679797811683917},{"$f":"I934-J934","v":1.814583594494934E-8},{"$f":"L932+KP_LR*(1+2*TA_SIM/TN_LR)*K934-KP_LR*K932","v":-0.24530632917256417},"-",{"$f":"L934","v":-0.24530632917256417},13.492088734726147,13.73750114440918,1.0608051046823164E-4,1.8369244867016827E-4,"-",1.8369244867016827E-4,-5.3974367456428585,-5.3972530531941887,-5.3972530531941887,-5.3976158566252881,3.6280343109940105E-4,-15.626940730501243,-15.626940730501243,-15.626940730501243,"-",-5.3973817898955465,-5.3973817898955465,-5.3973817898955465,"-",-3.7781672529268824,-7849.9215726716848,13.001468636434167,124.15488005656451,6.2696356285040888,-2.9088820873213997E-4,2.9088820873213997E-4,{"$f":"FI_T-Rechentabelle!AL934","v":1.0364371495911406E-2},{"$f":"K934","v":1.814583594494934E-8}]
[5.8312494307756424E-2,6.2499995692633092E-5,6.2688229158209037,13.24687671661377,-7850001.5,620947414753.32275,-7850.0015000000003,null,null,null,null,null,"-",{"$f":"N934+(L936-L934)/2","v":-0.24518519447317211},13.001468636434167,13.24687671661377,2.2288570642992056E-4,5.0855469013158245E-4,"-",5.0855469013158245E-4,-5.3974367456428585,-5.3969281909527265,-5.3969281909527265,-5.3973817898955465,4.5359894282004376E-4,-15.619718802366156,-15.619718802366156,-15.619718802366156,"-",-5.3970891454163077,-5.3970891454163077,-5.3970891454163077,"-",-3.7779624017914153,-7849.4959521949195,12.510875139421984,119.47005725067083,6.270417558200303,-2.9088820873213997E-4,2.9088820873213997E-4,{"$f":"FI_T-Rechentabelle!AL935","v":9.58244179969725E-3},{"$f":"AP934","v":1.814583594494934E-8}]
[5.8374997228384018E-2,6.2499995692633092E-5,6.2696358451013721,12.756251335144043,-7850001.5,597949362355.05151,-7850.0015000000003,null,{"$f":"C936","v":6.2696358451013721},{"$f":"AL934","v":6.2696356285040888},{"$f":"I936-J936","v":2.165972832202101E-7},{"$f":"L934+KP_LR*(1+2*TA_SIM/TN_LR)*K936-KP_LR*K934","v":-0.24506405977378007},"-",{"$f":"L936","v":-0.24506405977378007},12.510875139421984,12.756251335144043,3.1213594827939062E-4,7.9135738118458641E-4,"-",7.9135738118458641E-4,-5.3974367456428585,-5.3966453882616738,-5.3966453882616738,-5.3970891454163077,4.4375715463385035E-4,-15.619579377079846,-15.619579377079846,-15.619579377079846,"-",-5.396802850477834,-5.396802850477834,-5.396802850477834,"-",-3.7777619953344836,-7849.0795664543593,12.020307666518587,114.78548295671034,6.2711688274294604,-2.9088820873213997E-4,2.9088820873213997E-4,{"$f":"FI_T-Rechentabelle!AL936","v":8.8311725705398914E-3},{"$f":"K936","v":2.165972832202101E-7}]
[5.8437496423721313E-2,6.2499995692633092E-5,6.2704176334813155,12.265625953674316,-7850001.5,574951309956.7804,-7850.0015000000003,null,null,null,null,null,"-",{"$f":"N936+(L938-L936)/2","v":-0.24522903155101861},12.020307666518587,12.265625953674316,8.9255604711624414E-5,2.969196617756436E-4,"-",2.969196617756436E-4,-5.3974367456428585,-5.3971398259810828,-5.3971398259810828,-5.396802850477834,-3.369755032487376E-4,-15.675012242974717,-15.675012242974717,-15.675012242974717,"-",-5.397020254028317,-5.397020254028317,-5.397020254028317,"-",-3.7779141778198215,-7849.395756949556,11.52972043170924,110.10071995044883,6.2718894349564422,-2.9088820873213997E-4,2.9088820873213997E-4,{"$f":"FI_T-Rechentabelle!AL937","v":8.1105650435580046E-3},{"$f":"AP936","v":2.165972832202101E-7}]
[5.8499995619058609E-2,6.2499995692633092E-5,6.2711687577978914,11.775001525878906,-7850001.5,551953257558.50916,-7850.0015000000003,null,{"$f":"C938","v":6.2711687577978914},{"$f":"AL936","v":6.2711688274294604},{"$f":"I938-J938","v":-6.9631568955230705E-8},{"$f":"L936+KP_LR*(1+2*TA_SIM/TN_LR)*K938-KP_LR*K936","v":-0.24539400332825712},"-",{"$f":"L938","v":-0.24539400332825712},11.52972043170924,11.775001525878906,-1.129091585916342E-4,-1.9882643197400359E-4,"-",-1.9882643197400359E-4,-5.3974367456428585,-5.3976355720748321,-5.3976355720748321,-5.397020254028317,-6.1531804651515642E-4,-15.695701333969737,-15.695701333969737,-15.695701333969737,"-",-5.3974172334131651,-5.3974172334131651,-5.3974172334131651,"-",-3.7781920633892154,-7849.9731215234051,11.039097111614026,105.41561235509019,6.2725793785259185,-2.9088820873213997E-4,2.9088820873213997E-4,{"$f":"FI_T-Rechentabelle!AL938","v":7.4206214740817344E-3},{"$f":"K938","v":-6.9631568955230705E-8}]
[5.8562494814395905E-2,6.2499995692633092E-5,6.2718892180511006,11.28437614440918,-7850001.5,528955205160.23798,-7850.0015000000003,null,null,null,null,null,"-",{"$f":"N938+(L940-L938)/2","v":-0.24528626120178992},11.039097111614026,11.28437614440918,-7.2284066359173949E-6,4.4171135590814721E-5,"-",4.4171135590814721E-5,-5.3974367456428585,-5.3973925745072675,-5.3973925745072675,-5.3974172334131651,2.4658905897645411E-5,-15.650732944776436,-15.650732944776436,-15.650732944776436,"-",-5.3974013244416188,-5.3974013244416188,-5.3974013244416188,"-",-3.7781809271091329,-7849.9499836050954,10.548475237638709,100.73051856915936,6.2732386582282711,-2.9088820873213997E-4,2.9088820873213997E-4,{"$f":"FI_T-Rechentabelle!AL939","v":6.7613417717291568E-3},{"$f":"AP938","v":-6.9631568955230705E-8}]
[5.8624997735023499E-2,6.2499995692633092E-5,6.2725794910781012,10.793750762939453,-7850001.5,505957152761.9668,-7850.0015000000003,null,{"$f":"C940","v":6.2725794910781012},{"$f":"AL938","v":6.2725793785259185},{"$f":"I940-J940","v":1.1255218268502176E-7},{"$f":"L938+KP_LR*(1+2*TA_SIM/TN_LR)*K940-KP_LR*K938","v":-0.24517851907532273},"-",{"$f":"L940","v":-0.24517851907532273},10.548475237638709,10.793750762939453,9.7006225422191505E-5,3.0923108205652264E-4,"-",3.0923108205652264E-4,-5.3974367456428585,-5.3971275145608022,-5.3971275145608022,-5.3974013244416188,2.7380988081660007E-4,-15.632731864308338,-15.632731864308338,-15.632731864308338,"-",-5.3972246729056073,-5.3972246729056073,-5.3972246729056073,"-",-3.7780572710339246,-7849.6930626094418,10.057869421225618,96.045578121652653,6.2738672750670981,-2.9088820873213997E-4,2.9088820873213997E-4,{"$f":"FI_T-Rechentabelle!AL940","v":6.1327249329021782E-3},{"$f":"K940","v":1.1255218268502176E-7}]
[5.8687496930360794E-2,6.2499995692633092E-5,6.273238623204576,10.303126335144043,-7850001.5,482959100363.69562,-7850.0015000000003,null,null,null,null,null,"-",{"$f":"N940+(L942-L940)/2","v":-0.24506449633909805},10.057869421225618,10.303126335144043,1.9241757932597636E-4,5.7711663676091648E-4,"-",5.7711663676091648E-4,-5.3974367456428585,-5.3968596290060979,-5.3968596290060979,-5.3972246729056073,3.6504389950930971E-4,-15.625644839442311,-15.625644839442311,-15.625644839442311,"-",-5.3969891607123754,-5.3969891607123754,-5.3969891607123754,"-",-3.7778924124986624,-7849.3505350065698,9.5672850127877069,91.360842105250242,6.2744652303803976,-2.9088820873213997E-4,2.9088820873213997E-4,{"$f":"FI_T-Rechentabelle!AL941","v":5.5347696196026419E-3},{"$f":"AP940","v":1.1255218268502176E-7}]
[5.874999612569809E-2,6.2499995692633092E-5,6.2738675681048424,9.8125009536743164,-7850001.5,459961047965.42444,-7850.0015000000003,null,{"$f":"C942","v":6.2738675681048424},{"$f":"AL940","v":6.2738672750670981},{"$f":"I942-J942","v":2.9303774429223495E-7},{"$f":"L940+KP_LR*(1+2*TA_SIM/TN_LR)*K942-KP_LR*K940","v":-0.24495047360287336},"-",{"$f":"L942","v":-0.24495047360287336},9.5672850127877069,9.8125009536743164,2.6546728373588735E-4,8.1102091895899665E-4,"-",8.1102091895899665E-4,-5.3974367456428585,-5.3966257247238998,-5.3966257247238998,-5.3969891607123754,3.6343598847565772E-4,-15.625077727412558,-15.625077727412558,-15.625077727412558,"-",-5.3967546858811009,-5.3967546858811009,-5.3967546858811009,"-",-3.7777282801167704,-7849.0095161370664,9.0767219180291399,86.67630961949321,6.2750325255002748,-2.9088820873213997E-4,2.9088820873213997E-4,{"$f":"FI_T-Rechentabelle!AL942","v":4.967474499725455E-3},{"$f":"K942","v":2.9303774429223495E-7}]
[5.8812495321035385E-2,6.2499995692633092E-5,6.2744653721045847,9.3218755722045898,-7850001.5,436962995567.15326,-7850.0015000000003,null,null,null,null,null,"-",{"$f":"N942+(L944-L942)/2","v":-0.24512467519539827},9.0767219180291399,9.3218755722045898,2.8978980051164172E-5,2.7037175723149207E-4,"-",2.7037175723149207E-4,-5.3974367456428585,-5.3971663738856268,-5.3971663738856268,-5.3967546858811009,-4.1168800452595633E-4,-15.680256685897525,-15.680256685897525,-15.680256685897525,"-",-5.3970202910453109,-5.3970202910453109,-5.3970202910453109,"-",-3.7779142037317173,-7849.3958107868621,8.5861346798549611,81.991546581099925,6.275569158917766,-2.9088820873213997E-4,2.9088820873213997E-4,{"$f":"FI_T-Rechentabelle!AL943","v":4.4308410822342381E-3},{"$f":"AP942","v":2.9303774429223495E-7}]
[5.8874994516372681E-2,6.2499995692633092E-5,6.2750325120409585,8.8312511444091797,-7850001.5,413964943168.88208,-7850.0015000000003,null,{"$f":"C944","v":6.2750325120409585},{"$f":"AL942","v":6.2750325255002748},{"$f":"I944-J944","v":-1.3459316328123805E-8},{"$f":"L942+KP_LR*(1+2*TA_SIM/TN_LR)*K944-KP_LR*K942","v":-0.2452988767879232},"-",{"$f":"L944","v":-0.2452988767879232},8.5861346798549611,8.8312511444091797,-1.8241223370552007E-4,-2.6368741139044788E-4,"-",-2.6368741139044788E-4,-5.3974367456428585,-5.3977004330542488,-5.3977004330542488,-5.3970202910453109,-6.8014200893795618E-4,-15.700372948804587,-15.700372948804587,-15.700372948804587,"-",-5.3974590923413999,-5.3974590923413999,-5.3974590923413999,"-",-3.7782213646389797,-7850.03400091207,8.0955075547979565,77.306402651032641,6.276075128139941,-2.9088820873213997E-4,2.9088820873213997E-4,{"$f":"FI_T-Rechentabelle!AL944","v":3.924871860059298E-3},{"$f":"K944","v":-1.3459316328123805E-8}]
[5.8937497437000275E-2,6.2499995692633092E-5,6.2755689879139664,8.3406257629394531,-7850001.5,390966890770.61084,-7850.0015000000003,null,null,null,null,null,"-",{"$f":"N944+(L946-L944)/2","v":-0.24549051088434157},8.0955075547979565,8.3406257629394531,-3.7230274284461018E-4,-7.9424420991808502E-4,"-",-7.9424420991808502E-4,-5.3974367456428585,-5.3982309898527765,-5.3982309898527765,-5.3974590923413999,-7.718975113766291E-4,-15.708257788448664,-15.708257788448664,-15.708257788448664,"-",-5.3979570907358365,-5.3979570907358365,-5.3979570907358365,"-",-3.7785699635150851,-7850.7582869625694,7.6048351618627956,72.62082644457108,6.276550430337557,-2.9088820873213997E-4,2.9088820873213997E-4,{"$f":"FI_T-Rechentabelle!AL945","v":3.4495696624432526E-3},{"$f":"AP944","v":-1.3459316328123805E-8}]
[5.899999663233757E-2,6.2499995692633092E-5,6.2760747997236068,7.8500008583068848,-7850001.5,367968838372.33966,-7850.0015000000003,null,{"$f":"C946","v":6.2760747997236068},{"$f":"AL944","v":6.276075128139941},{"$f":"I946-J946","v":-3.2841633412772353E-7},{"$f":"L944+KP_LR*(1+2*TA_SIM/TN_LR)*K946-KP_LR*K944","v":-0.24568214498075994},"-",{"$f":"L946","v":-0.24568214498075994},7.6048351618627956,7.8500008583068848,-5.1644853667109913E-4,-1.2539965555496675E-3,"-",-1.2539965555496675E-3,-5.3974367456428585,-5.3986907421984078,-5.3986907421984078,-5.3979570907358365,-7.3365146257131642E-4,-15.706945800791527,-15.706945800791527,-15.706945800791527,"-",-5.3984304142600763,-5.3984304142600763,-5.3984304142600763,"-",-3.7789012899820533,-7851.4466860213024,7.1141197439864641,67.934839380185679,6.2769950628215563,-2.9088820873213997E-4,2.9088820873213997E-4,{"$f":"FI_T-Rechentabelle!AL946","v":3.0049371784439671E-3},{"$f":"K946","v":-3.2841633412772353E-7}]
[5.9062495827674866E-2,6.2499995692633092E-5,6.2765504243070387,7.3593759536743164,-7850001.5,344970785974.06848,-7850.0015000000003,null,null,null,null,null,"-",{"$f":"N946+(L948-L946)/2","v":-0.24559000506350501},7.1141197439864641,7.3593759536743164,-3.3379537565281225E-4,-9.123431969842769E-4,"-",-9.123431969842769E-4,-5.3974367456428585,-5.3983490888398427,-5.3983490888398427,-5.3984304142600763,8.1325420233646639E-5,-15.649587524296136,-15.649587524296136,-15.649587524296136,"-",-5.3983779462470229,-5.3983779462470229,-5.3983779462470229,"-",-3.7788645623729158,-7851.3703768396335,6.6234090954339866,63.248897859488295,6.2774090258900213,-2.9088820873213997E-4,2.9088820873213997E-4,{"$f":"FI_T-Rechentabelle!AL947","v":2.590974109978994E-3},{"$f":"AP946","v":-3.2841633412772353E-7}]
[5.9124995023012161E-2,6.2499995692633092E-5,6.2769949079899456,6.8687505722045898,-7850001.5,321972733575.7973,-7850.0015000000003,null,{"$f":"C948","v":6.2769949079899456},{"$f":"AL946","v":6.2769950628215563},{"$f":"I948-J948","v":-1.5483161064366868E-7},{"$f":"L946+KP_LR*(1+2*TA_SIM/TN_LR)*K948-KP_LR*K946","v":-0.24549786514625008},"-",{"$f":"L948","v":-0.24549786514625008},6.6234090954339866,6.8687505722045898,-1.5638837564679875E-4,-5.3958958430650556E-4,"-",-5.3958958430650556E-4,-5.3974367456428585,-5.397976335227165,-5.397976335227165,-5.3983779462470229,4.0161101985791703E-4,-15.626354140298259,-15.626354140298259,-15.626354140298259,"-",-5.3981188423632434,-5.3981188423632434,-5.3981188423632434,"-",-3.7786831896542701,-7850.9935376153535,6.1327219993330271,58.563181248135749,6.2777923210149797,-2.9088820873213997E-4,2.9088820873213997E-4,{"$f":"FI_T-Rechentabelle!AL948","v":2.2076789850205003E-3},{"$f":"K948","v":-1.5483161064366868E-7}]
[5.9187494218349457E-2,6.2499995692633092E-5,6.2774092044466432,6.3781256675720215,-7850001.5,298974681177.52612,-7850.0015000000003,null,null,null,null,null,"-",{"$f":"N948+(L950-L948)/2","v":-0.24538648232985855},6.1327219993330271,6.3781256675720215,1.7185909135797317E-5,-1.3339652232045922E-4,"-",-1.3339652232045922E-4,-5.3974367456428585,-5.3975701421651792,-5.3975701421651792,-5.3981188423632434,5.4870019806418924E-4,-15.615002828580046,-15.615002828580046,-15.615002828580046,"-",-5.3977648422354596,-5.3977648422354596,-5.3977648422354596,"-",-3.7784353895648213,-7850.4786818300872,5.6420670817186469,53.877771918695238,6.2781449502075874,-2.9088820873213997E-4,2.9088820873213997E-4,{"$f":"FI_T-Rechentabelle!AL949","v":1.8550497924127995E-3},{"$f":"AP948","v":-1.5483161064366868E-7}]
[5.9249997138977051E-2,6.2499995692633092E-5,6.2777923600028167,5.8875007629394531,-7850001.5,275976628779.25494,-7850.0015000000003,null,{"$f":"C950","v":6.2777923600028167},{"$f":"AL948","v":6.2777923210149797},{"$f":"I950-J950","v":3.8987836958881417E-8},{"$f":"L948+KP_LR*(1+2*TA_SIM/TN_LR)*K950-KP_LR*K948","v":-0.24527509951346699},"-",{"$f":"L950","v":-0.24527509951346699},5.6420670817186469,5.8875007629394531,1.5858170733906718E-4,2.3274145183109642E-4,"-",2.3274145183109642E-4,-5.3974367456428585,-5.3972040041910274,-5.3972040041910274,-5.3977648422354596,5.608380444321881E-4,-15.613101520184117,-15.613101520184117,-15.613101520184117,"-",-5.3974030112390521,-5.3974030112390521,-5.3974030112390521,"-",-3.7781821078673361,-7849.9524368737493,5.1514450544140375,49.192676668577505,6.278466915523488,-2.9088820873213997E-4,2.9088820873213997E-4,{"$f":"FI_T-Rechentabelle!AL950","v":1.5330844765122364E-3},{"$f":"K950","v":3.8987836958881417E-8}]
[5.9312496334314346E-2,6.2499995692633092E-5,6.2781448514956217,5.3968753814697266,-7850001.5,252978576380.98373,-7850.0015000000003,null,null,null,null,null,"-",{"$f":"N950+(L952-L950)/2","v":-0.24544074149786582},5.1514450544140375,5.3968753814697266,-1.0414442177086869E-5,-1.6119767738648463E-4,"-",-1.6119767738648463E-4,-5.3974367456428585,-5.3975979433202452,-5.3975979433202452,-5.3974030112390521,-1.9493208119314431E-4,-15.666516418702502,-15.666516418702502,-15.666516418702502,"-",-5.3975287738720805,-5.3975287738720805,-5.3975287738720805,"-",-3.7782701417104563,-7850.1353453364973,4.6608115953305065,44.507472253012367,6.2787582162481961,-2.9088820873213997E-4,2.9088820873213997E-4,{"$f":"FI_T-Rechentabelle!AL951","v":1.2417837518041708E-3},{"$f":"AP950","v":3.8987836958881417E-8}]
[5.9374995529651642E-2,6.2499995692633092E-5,6.2784666789250609,4.9062504768371582,-7850001.5,229980523982.71255,-7850.0015000000003,null,{"$f":"C952","v":6.2784666789250609},{"$f":"AL950","v":6.278466915523488},{"$f":"I952-J952","v":-2.3659842707246526E-7},{"$f":"L950+KP_LR*(1+2*TA_SIM/TN_LR)*K952-KP_LR*K950","v":-0.24560638348226466},"-",{"$f":"L952","v":-0.24560638348226466},4.6608115953305065,4.9062504768371582,-1.6750197561332669E-4,-5.6585287801705711E-4,"-",-5.6585287801705711E-4,-5.3974367456428585,-5.3980025985208755,-5.3980025985208755,-5.3975287738720805,-4.7382464879497377E-4,-15.686979388274491,-15.686979388274491,-15.686979388274491,"-",-5.3978344671938832,-5.3978344671938832,-5.3978344671938832,"-",-3.7784841270357181,-7850.5799439761431,4.1701503488319975,39.822002487180242,6.2790188506449978,-2.9088820873213997E-4,2.9088820873213997E-4,{"$f":"FI_T-Rechentabelle!AL952","v":9.8114935500248635E-4},{"$f":"K952","v":-2.3659842707246526E-7}]
[5.9437494724988937E-2,6.2499995692633092E-5,6.2787578422911334,4.4156255722045898,-7850001.5,206982471584.44135,-7850.0015000000003,null,null,null,null,null,"-",{"$f":"N952+(L954-L952)/2","v":-0.24549187183908283},4.1701503488319975,4.4156255722045898,-1.6648466490742919E-5,-2.2053038753080603E-4,"-",-2.2053038753080603E-4,-5.3974367456428585,-5.3976572760303894,-5.3976572760303894,-5.3978344671938832,1.7719116349379505E-4,-15.640950759402781,-15.640950759402781,-15.640950759402781,"-",-5.3977201503142096,-5.3977201503142096,-5.3977201503142096,"-",-3.7784041052199466,-7850.4136821523916,3.679499493697473,35.136631951564745,6.279248819363354,-2.9088820873213997E-4,2.9088820873213997E-4,{"$f":"FI_T-Rechentabelle!AL953","v":7.5118063664625367E-4},{"$f":"AP952","v":-2.3659842707246526E-7}]
[5.9499997645616531E-2,6.2499995692633092E-5,6.2790188184309965,3.9250004291534424,-7850001.5,183984419186.17017,-7850.0015000000003,null,{"$f":"C954","v":6.2790188184309965},{"$f":"AL952","v":6.2790188506449978},{"$f":"I954-J954","v":-3.221400124431284E-8},{"$f":"L952+KP_LR*(1+2*TA_SIM/TN_LR)*K954-KP_LR*K952","v":-0.24537736019590101},"-",{"$f":"L954","v":-0.24537736019590101},3.679499493697473,3.9250004291534424,1.2357526006834263E-4,1.3435871926312473E-4,"-",1.3435871926312473E-4,-5.3974367456428585,-5.3973023869235952,-5.3973023869235952,-5.3977201503142096,4.1776339061438961E-4,-15.623282519310198,-15.623282519310198,-15.623282519310198,"-",-5.397450625546071,-5.397450625546071,-5.397450625546071,"-",-3.7782154378822495,-7850.0216868527923,3.1888731382691735,30.451495370910241,6.2794481239344959,-2.9088820873213997E-4,2.9088820873213997E-4,{"$f":"FI_T-Rechentabelle!AL954","v":5.5187606550433088E-4},{"$f":"K954","v":-3.221400124431284E-8}]
[5.9562496840953827E-2,6.2499995692633092E-5,6.2792491305074929,3.4343752861022949,-7850001.5,160986366787.89899,-7850.0015000000003,null,null,null,null,null,"-",{"$f":"N954+(L956-L954)/2","v":-0.24525126202449157},3.1888731382691735,3.4343752861022949,2.5088580862986376E-4,4.9037789211761563E-4,"-",4.9037789211761563E-4,-5.3974367456428585,-5.3969463677507408,-5.3969463677507408,-5.397450625546071,5.0425779533025405E-4,-15.616267720058881,-15.616267720058881,-15.616267720058881,"-",-5.3971252979361806,-5.3971252979361806,-5.3971252979361806,"-",-3.777987708555326,-7849.5485322155109,2.6982763550057038,25.766641183628376,6.2796167662066837,-2.9088820873213997E-4,2.9088820873213997E-4,{"$f":"FI_T-Rechentabelle!AL955","v":3.8323379331650642E-4},{"$f":"AP954","v":-3.221400124431284E-8}]
[5.9624996036291122E-2,6.2499995692633092E-5,6.2794483016834644,2.9437503814697266,-7850001.5,137988314389.62778,-7850.0015000000003,null,{"$f":"C956","v":6.2794483016834644},{"$f":"AL954","v":6.2794481239344959},{"$f":"I956-J956","v":1.7774896843292254E-7},{"$f":"L954+KP_LR*(1+2*TA_SIM/TN_LR)*K956-KP_LR*K954","v":-0.24512516385308214},"-",{"$f":"L956","v":-0.24512516385308214},2.6982763550057038,2.9437503814697266,3.4886261094069226E-4,8.0234524968205681E-4,"-",8.0234524968205681E-4,-5.3974367456428585,-5.3966344003931761,-5.3966344003931761,-5.3971252979361806,4.9089754300446486E-4,-15.616287070109417,-15.616287070109417,-15.616287070109417,"-",-5.3968085898439204,-5.3968085898439204,-5.3968085898439204,"-",-3.7777660128907442,-7849.0879137559605,2.2077083603959564,21.082061907739202,6.2797547479792089,-2.9088820873213997E-4,2.9088820873213997E-4,{"$f":"FI_T-Rechentabelle!AL956","v":2.4525202079139774E-4},{"$f":"K956","v":1.7774896843292254E-7}]
[5.9687495231628418E-2,6.2499995692633092E-5,6.2796168087960691,2.4531252384185791,-7850001.5,114990261991.3566,-7850.0015000000003,null,null,null,null,null,"-",{"$f":"N956+(L958-L956)/2","v":-0.24528420391458339},2.2077083603959564,2.4531252384185791,1.3267410803941004E-4,3.3399114604419362E-4,"-",3.3399114604419362E-4,-5.3974367456428585,-5.3971027544968146,-5.3971027544968146,-5.3968085898439204,-2.9416465289422433E-4,-15.671943743920494,-15.671943743920494,-15.671943743920494,"-",-5.3969983734909484,-5.3969983734909484,-5.3969983734909484,"-",-3.7778988614436635,-7849.3639340196614,1.7171231145197274,16.397317894389918,6.2798620681738662,-2.9088820873213997E-4,2.9088820873213997E-4,{"$f":"FI_T-Rechentabelle!AL957","v":1.3793182613408561E-4},{"$f":"AP956","v":1.7774896843292254E-7}]
[5.9749994426965714E-2,6.2499995692633092E-5,6.2797546518453062,1.9625002145767212,-7850001.5,91992209593.085403,-7850.0015000000003,null,{"$f":"C958","v":6.2797546518453062},{"$f":"AL956","v":6.2797547479792089},{"$f":"I958-J958","v":-9.6133902616202249E-8},{"$f":"L956+KP_LR*(1+2*TA_SIM/TN_LR)*K958-KP_LR*K956","v":-0.24544324397608464},"-",{"$f":"L958","v":-0.24544324397608464},1.7171231145197274,1.9625002145767212,-6.6143919090766445E-5,-1.4260278490041493E-4,"-",-1.4260278490041493E-4,-5.3974367456428585,-5.397579348427759,-5.397579348427759,-5.3969983734909484,-5.8097493681064094E-4,-15.693162960828145,-15.693162960828145,-15.693162960828145,"-",-5.3973731960308262,-5.3973731960308262,-5.3973731960308262,"-",-3.7781612372215783,-7849.9090738034029,1.2265037974070148,11.712248524698419,6.2799387246612044,-2.9088820873213997E-4,2.9088820873213997E-4,{"$f":"FI_T-Rechentabelle!AL958","v":6.1275338795852008E-5},{"$f":"K958","v":-9.6133902616202249E-8}]
[5.9812497347593307E-2,6.2499995692633092E-5,6.2798618308311767,1.4718751907348633,-7850001.5,68994157194.814224,-7850.0015000000003,null,null,null,null,null,"-",{"$f":"N958+(L960-L958)/2","v":-0.24532935755037324},1.2265037974070148,1.4718751907348633,4.2035777475302183E-5,1.1819265901517371E-4,"-",1.1819265901517371E-4,-5.3974367456428585,-5.397318552983843,-5.397318552983843,-5.3973731960308262,5.4643046983215982E-5,-15.648444443748774,-15.648444443748774,-15.648444443748774,"-",-5.3973379424521282,-5.3973379424521282,-5.3973379424521282,"-",-3.7781365597164895,-7849.8578011977752,0.73588768483215383,7.0272097560892828,6.279984717641506,-2.9088820873213997E-4,2.9088820873213997E-4,{"$f":"FI_T-Rechentabelle!AL959","v":1.5282358494239645E-5},{"$f":"AP958","v":-9.6133902616202249E-8}]
[5.9874996542930603E-2,6.2499995692633092E-5,6.2799388225908386,0.9812501072883606,-7850001.5,45996104796.54303,-7850.0015000000003,null,{"$f":"C960","v":6.2799388225908386},{"$f":"AL958","v":6.2799387246612044},{"$f":"I960-J960","v":9.7929634179649838E-8},{"$f":"L958+KP_LR*(1+2*TA_SIM/TN_LR)*K960-KP_LR*K958","v":-0.24521547112466185},"-",{"$f":"L960","v":-0.24521547112466185},0.73588768483215383,0.9812501072883606,1.469513315448534E-4,3.9700589058966487E-4,"-",3.9700589058966487E-4,-5.3974367456428585,-5.3970397397522687,-5.3970397397522687,-5.3973379424521282,2.9820269985947334E-4,-15.630790199837465,-15.630790199837465,-15.630790199837465,"-",-5.3971455536135089,-5.3971455536135089,-5.3971455536135089,"-",-3.7780018875294559,-7849.5779919581455,0.24528906033476972,2.3423379863186851,6.2800000482077767,-2.9088820873213997E-4,2.9088820873213997E-4,{"$f":"FI_T-Rechentabelle!AL960","v":-4.8207776437436678E-8},{"$f":"K960","v":9.7929634179649838E-8}]
[5.9937495738267899E-2,6.2499995692633092E-5,6.2799846734499756,0.4906250536441803,-7850001.5,22998052398.271839,-7850.0015000000003,null,null,null,null,null,"-",{"$f":"N960+(L962-L960)/2","v":-0.24517291016123888},0.24528906033476972,0.4906250536441803,1.6308314817170544E-4,4.7412613421455668E-4,"-",4.7412613421455668E-4,-5.3974367456428585,-5.3969626195086438,-5.3969626195086438,-5.3971455536135089,1.8293410486514006E-4,-15.63853904772861,-15.63853904772861,-15.63853904772861,"-",-5.3970275316103704,-5.3970275316103704,-5.3970275316103704,"-",-3.7779192721272592,-7849.4063414237662,-0.2452988360042157,-2.3424313370855474,6.2799847170305263,-2.9088820873213997E-4,2.9088820873213997E-4,{"$f":"FI_T-Rechentabelle!AL961","v":1.5282969473950914E-5},{"$f":"AP960","v":9.7929634179649838E-8}]
[5.9999998658895493E-2,6.2500002968590707E-5,6.2800002098083496,0,0,6.5052143798895016E-4,0,null,{"$f":"C962","v":6.2800002098083496},{"$f":"AL960","v":6.2800000482077767},{"$f":"I962-J962","v":1.6160057292324836E-7},{"$f":"L960+KP_LR*(1+2*TA_SIM/TN_LR)*K962-KP_LR*K960","v":-0.24513034919781593},"-",{"$f":"L962","v":-0.24513034919781593},-0.2452988360042157,0,1.6848680639977576E-4,5.2771701243883146E-4,"-",5.2771701243883146E-4,{"$f":"G962*(JM_EMS+JL_EMS)/KT_M*KP_VSR","v":0},5.2771701243883146E-4,{"$f":"IF(V962<-IM_R,-IM_R,IF(V962>IM_R,IM_R,V962))","v":5.2771701243883146E-4},-5.3970275316103704,5.3975552486228091,373.320827430051,{"$f":"IF(Z962<-U_ZWK,-U_ZWK,IF(Z962>U_ZWK,U_ZWK,Z962))","v":373.320827430051},373.320827430051,"-",-1.9147338228214612,-1.9147338228214612,-1.9147338228214612,"-",{"$f":"AF962*KT_M","v":-1.3403136759750227},{"$f":"AH962/(JM_EMS+JL_EMS)","v":-2784.7780510596772},-0.41934746419544555,-4.0044733079854051,6.2799585078140137,{"$f":"-DF_LR","v":-2.9088820873213997E-4},{"$f":"DF_LR","v":2.9088820873213997E-4},{"$f":"FI_T-Rechentabelle!AL962","v":4.1492185986591323E-5},{"$f":"K962","v":1.6160057292324836E-7}]
[6.0062497854232788E-2,6.2500002968590707E-5,6.2800002098083496,0,0,null,{"$f":"E963/1000","v":0},null,null,null,null,null,"-",{"$f":"N962+(L964-L962)/2","v":-0.21992004680557392},-0.41934746419544555,0,0.19942741738987163,{"$f":"R962+KP_DR*(1+TA_SIM/TN_DR)*Q963-KP_DR*Q962","v":0.51063632946639625},"-",{"$f":"R963","v":0.51063632946639625},0,{"$f":"T963+U963","v":0.51063632946639625},0.51063632946639625,-1.9147338228214612,{"$f":"W963-X963","v":2.4253701522878575},169.23039837223939,169.23039837223939,{"$f":"AA963","v":169.23039837223939},"-",{"$f":"(1/R_M*AB963+AD962*T_M/TA_SIM)/(1+T_M/TA_SIM)","v":-0.34997888586155373},{"$f":"AD963","v":-0.34997888586155373},{"$f":"AE963","v":-0.34997888586155373},"-",-0.2449852201030876,-509.00731374005312,-0.45116042130419887,-4.3082646706791179,6.279930310287682,-2.9088820873213997E-4,2.9088820873213997E-4,{"$f":"FI_T-Rechentabelle!AL963","v":6.9689712318243835E-5},{"$f":"AP962","v":1.6160057292324836E-7}]
[6.0124997049570084E-2,6.2500002968590707E-5,6.2800002098083496,0,0,null,0,null,{"$f":"C964","v":6.2800002098083496},{"$f":"AL962","v":6.2799585078140137},{"$f":"I964-J964","v":4.1701994335952008E-5},{"$f":"L962+KP_LR*(1+2*TA_SIM/TN_LR)*K964-KP_LR*K962","v":-0.19470974441333191},"-",{"$f":"L964","v":-0.19470974441333191},{"$f":"AJ963","v":-0.45116042130419887},{"$f":"D964*KP_VDR","v":0},{"$f":"N964-O964+P964","v":0.25645067689086698},0.70522470087506206,"-",0.70522470087506206,0,0.70522470087506206,0.70522470087506206,{"$f":"AF963","v":-0.34997888586155373},1.0552035867366159,75.027797126794979,75.027797126794979,75.027797126794979,"-",0.33079762171045596,0.33079762171045596,0.33079762171045596,"-",0.23155833519731917,481.11019155894274,-0.42109103433176492,-4.0211231763347639,6.2799039920980366,-2.9088820873213997E-4,2.9088820873213997E-4,{"$f":"FI_T-Rechentabelle!AL964","v":9.6007901963623965E-5},{"$f":"K964","v":4.1701994335952008E-5}]
[6.0187499970197678E-2,6.2500002968590707E-5,6.2800002098083496,0,0,null,0,null,null,null,null,null,"-",{"$f":"N964+(L966-L964)/2","v":-0.15995992271498716},-0.42109103433176492,0,0.26113111161677777,0.77972657142014445,"-",0.77972657142014445,0,0.77972657142014445,0.77972657142014445,0.33079762171045596,0.4489289497096885,33.311160640103623,33.311160640103623,33.311160640103623,"-",0.62042920216831898,0.62042920216831898,0.62042920216831898,"-",0.43430044151782327,902.34872536427019,-0.36469423899649805,-3.4825734512057838,6.2798811987080994,-2.9088820873213997E-4,2.9088820873213997E-4,{"$f":"FI_T-Rechentabelle!AL965","v":1.1880129190089406E-4},{"$f":"AP964","v":4.1701994335952008E-5}]
[6.0249999165534973E-2,6.2500002968590707E-5,6.2800002098083496,0,0,null,0,null,{"$f":"C966","v":6.2800002098083496},{"$f":"AL964","v":6.2799039920980366},{"$f":"I966-J966","v":9.621771031298465E-5},{"$f":"L964+KP_LR*(1+2*TA_SIM/TN_LR)*K966-KP_LR*K964","v":-0.1252101010166424},"-",{"$f":"L966","v":-0.1252101010166424},-0.36469423899649805,0,0.23948413797985565,0.78797599955515951,"-",0.78797599955515951,0,0.78797599955515951,0.78797599955515951,0.62042920216831898,0.16754679738684053,13.873423568939735,13.873423568939735,13.873423568939735,"-",0.72852391015982843,0.72852391015982843,0.72852391015982843,"-",0.5099667371118799,1059.5610577849156,-0.29847167288494081,-2.8501945267527335,6.2798625442285436,-2.9088820873213997E-4,2.9088820873213997E-4,{"$f":"FI_T-Rechentabelle!AL966","v":1.3745577145662935E-4},{"$f":"K966","v":9.621771031298465E-5}]
[6.0312498360872269E-2,6.2500002968590707E-5,6.2800002098083496,0,0,null,0,null,null,null,null,null,"-",{"$f":"N966+(L968-L966)/2","v":-9.6201246809426322E-2},-0.29847167288494081,0,0.20227042607551449,0.75109996463974327,"-",0.75109996463974327,0,0.75109996463974327,0.75109996463974327,0.72852391015982843,2.2576054479914842E-2,3.7396517816611805,3.7396517816611805,3.7396517816611805,"-",0.7430891065984826,0.7430891065984826,0.7430891065984826,"-",0.52016237461893777,1080.7445971721124,-0.23092513556168379,-2.2051726085284802,6.2798481114075706,-2.9088820873213997E-4,2.9088820873213997E-4,{"$f":"FI_T-Rechentabelle!AL967","v":1.518885924296498E-4},{"$f":"AP966","v":9.621771031298465E-5}]
[6.0374997556209564E-2,6.2500002968590707E-5,6.2800002098083496,0,0,null,0,null,{"$f":"C968","v":6.2800002098083496},{"$f":"AL966","v":6.2798625442285436},{"$f":"I968-J968","v":1.3766557980599003E-4},{"$f":"L966+KP_LR*(1+2*TA_SIM/TN_LR)*K968-KP_LR*K966","v":-6.7192392602210257E-2},"-",{"$f":"L968","v":-6.7192392602210257E-2},-0.23092513556168379,0,0.16373274295947354,0.70176236909252476,"-",0.70176236909252476,0,0.70176236909252476,0.70176236909252476,0.7430891065984826,-4.1326737505957833E-2,-0.82323293242283535,-0.82323293242283535,-0.82323293242283535,"-",0.71642669530431569,0.71642669530431569,0.71642669530431569,"-",0.501498686713021,1041.9669368647849,-0.16580220200763474,-1.5832944015021626,6.2798377487699453,-2.9088820873213997E-4,2.9088820873213997E-4,{"$f":"FI_T-Rechentabelle!AL968","v":1.6225123005497721E-4},{"$f":"K968","v":1.3766557980599003E-4}]
[6.0437500476837158E-2,6.2500002968590707E-5,6.2800002098083496,0,0,null,0,null,null,null,null,null,"-",{"$f":"N968+(L970-L968)/2","v":-4.6623776772861038E-2},-0.16580220200763474,0,0.1191784252347737,0.62762805212130024,"-",0.62762805212130024,0,0.62762805212130024,0.62762805212130024,0.71642669530431569,-8.8798643183015447E-2,-4.3215938375161338,-4.3215938375161338,-4.3215938375161338,"-",0.6591372480894665,0.6591372480894665,0.6591372480894665,"-",0.46139607366262653,958.64548859884997,-0.10588685897020661,-1.011145020814967,6.2798311308412593,-2.9088820873213997E-4,2.9088820873213997E-4,{"$f":"FI_T-Rechentabelle!AL969","v":1.6886915874092523E-4},{"$f":"AP968","v":1.3766557980599003E-4}]
[6.0499999672174454E-2,6.2500002968590707E-5,6.2800002098083496,0,0,null,0,null,{"$f":"C970","v":6.2800002098083496},{"$f":"AL968","v":6.2798377487699453},{"$f":"I970-J970","v":1.624610384043379E-4},{"$f":"L968+KP_LR*(1+2*TA_SIM/TN_LR)*K970-KP_LR*K968","v":-2.6055160943511818E-2},"-",{"$f":"L970","v":-2.6055160943511818E-2},-0.10588685897020661,0,7.9831698026694792E-2,0.5559622289243461,"-",0.5559622289243461,0,0.5559622289243461,0.5559622289243461,0.6591372480894665,-0.1031750191651204,-5.5237598132786285,-5.5237598132786285,-5.5237598132786285,"-",0.5925727195958399,0.5925727195958399,0.5925727195958399,"-",0.41480090371708789,861.83441453789294,-5.2022208061588297E-2,-0.49677549381340941,6.2798278794532552,-2.9088820873213997E-4,2.9088820873213997E-4,{"$f":"FI_T-Rechentabelle!AL970","v":1.7212054674509147E-4},{"$f":"K970","v":1.624610384043379E-4}]
[6.0562498867511749E-2,6.2500002968590707E-5,6.2800002098083496,0,0,null,0,null,null,null,null,null,"-",{"$f":"N970+(L972-L970)/2","v":-1.3547657580927325E-2},-5.2022208061588297E-2,0,3.8474550480660973E-2,0.4695576435987503,"-",0.4695576435987503,0,0.4695576435987503,0.4695576435987503,0.5925727195958399,-0.12301507599708961,-7.1465610414785061,-7.1465610414785061,-7.1465610414785061,"-",0.51320815443642676,0.51320815443642676,0.51320815443642676,"-",0.35924570810549872,746.40703948784267,-5.3717680935981282E-3,-5.1296606714368156E-2,6.2798275437177491,-2.9088820873213997E-4,2.9088820873213997E-4,{"$f":"FI_T-Rechentabelle!AL971","v":1.7245628225115439E-4},{"$f":"AP970","v":1.624610384043379E-4}]
[6.0624998062849045E-2,6.2500002968590707E-5,6.2800002098083496,0,0,null,0,null,{"$f":"C972","v":6.2800002098083496},{"$f":"AL970","v":6.2798278794532552},{"$f":"I972-J972","v":1.7233035509445216E-4},{"$f":"L970+KP_LR*(1+2*TA_SIM/TN_LR)*K972-KP_LR*K970","v":-1.0401542183428314E-3},"-",{"$f":"L972","v":-1.0401542183428314E-3},-5.3717680935981282E-3,0,4.3316138752552968E-3,0.39153759114530928,"-",0.39153759114530928,0,0.39153759114530928,0.39153759114530928,0.51320815443642676,-0.12167056329111747,-7.2798266228555857,-7.2798266228555857,-7.2798266228555857,"-",0.43471101682925362,0.43471101682925362,0.43471101682925362,"-",0.30429771178047749,632.24124616762401,3.4143309791878372E-2,0.32604459161372129,6.279829677674611,-2.9088820873213997E-4,2.9088820873213997E-4,{"$f":"FI_T-Rechentabelle!AL972","v":1.7032232538927161E-4},{"$f":"K972","v":1.7233035509445216E-4}]
[6.068749725818634E-2,6.2500002968590707E-5,6.2800002098083496,0,0,null,0,null,null,null,null,null,"-",{"$f":"N972+(L974-L972)/2","v":4.7843510653201582E-3},3.4143309791878372E-2,0,-2.9358958726558214E-2,0.30635171370847758,"-",0.30635171370847758,0,0.30635171370847758,0.30635171370847758,0.43471101682925362,-0.12835930312077604,-7.9894891212537171,-7.9894891212537171,-7.9894891212537171,"-",0.3518985632029461,0.3518985632029461,0.3518985632029461,"-",0.24632899424206225,511.79928161658472,6.6130764892914917E-2,0.63150228738932301,6.2798338108474168,-2.9088820873213997E-4,2.9088820873213997E-4,{"$f":"FI_T-Rechentabelle!AL973","v":1.6618915258348466E-4},{"$f":"AP972","v":1.7233035509445216E-4}]
[6.0750000178813934E-2,6.2500002968590707E-5,6.2800002098083496,0,0,null,0,null,{"$f":"C974","v":6.2800002098083496},{"$f":"AL972","v":6.279829677674611},{"$f":"I974-J974","v":1.705321337386323E-4},{"$f":"L972+KP_LR*(1+2*TA_SIM/TN_LR)*K974-KP_LR*K972","v":1.0608856348983148E-2},"-",{"$f":"L974","v":1.0608856348983148E-2},6.6130764892914917E-2,0,-5.5521908543931769E-2,0.23222170244216633,"-",0.23222170244216633,0,0.23222170244216633,0.23222170244216633,0.3518985632029461,-0.11967686076077977,-7.6039492292786637,-7.6039492292786637,-7.6039492292786637,"-",0.27468768529276522,0.27468768529276522,0.27468768529276522,"-",0.19228137970493564,399.50421713055397,9.1099778463574532E-2,0.86993880342326868,6.2798395045835704,-2.9088820873213997E-4,2.9088820873213997E-4,{"$f":"FI_T-Rechentabelle!AL974","v":1.6049541642981779E-4},{"$f":"K974","v":1.705321337386323E-4}]
[6.081249937415123E-2,6.2500002968590707E-5,6.2800002098083496,0,0,null,0,null,null,null,null,null,"-",{"$f":"N974+(L976-L974)/2","v":1.1489951408464913E-2},9.1099778463574532E-2,0,-7.9609827055109619E-2,0.15702506885421724,"-",0.15702506885421724,0,0.15702506885421724,0.15702506885421724,0.27468768529276522,-0.11766261643854797,-7.6827052327709051,-7.6827052327709051,-7.6827052327709051,"-",0.19877631984854024,0.19877631984854024,0.19877631984854024,"-",0.13914342389397816,289.0991562309955,0.10916847572801175,1.0424821525152401,6.2798463276133036,-2.9088820873213997E-4,2.9088820873213997E-4,{"$f":"FI_T-Rechentabelle!AL975","v":1.5367238669661276E-4},{"$f":"AP974","v":1.705321337386323E-4}]
[6.0874998569488525E-2,6.2500002968590707E-5,6.2800002098083496,0,0,null,0,null,{"$f":"C976","v":6.2800002098083496},{"$f":"AL974","v":6.2798395045835704},{"$f":"I976-J976","v":1.6070522477917848E-4},{"$f":"L974+KP_LR*(1+2*TA_SIM/TN_LR)*K976-KP_LR*K974","v":1.2371046467946678E-2},"-",{"$f":"L976","v":1.2371046467946678E-2},0.10916847572801175,0,-9.6797429260065071E-2,9.3619564451679321E-2,"-",9.3619564451679321E-2,0,9.3619564451679321E-2,9.3619564451679321E-2,0.19877631984854024,-0.10515675539686092,-7.0016193678130634,-7.0016193678130634,-7.0016193678130634,"-",0.13093325185056504,0.13093325185056504,0.13093325185056504,"-",9.1653276295395519E-2,190.42858154040206,0.12107026207428688,1.1561358402332391,6.2798538945046829,-2.9088820873213997E-4,2.9088820873213997E-4,{"$f":"FI_T-Rechentabelle!AL976","v":1.4610549531735018E-4},{"$f":"K976","v":1.6070522477917848E-4}]
[6.0937497764825821E-2,6.2500002968590707E-5,6.2800002098083496,0,0,null,0,null,null,null,null,null,"-",{"$f":"N976+(L978-L976)/2","v":1.0089274090525818E-2},0.12107026207428688,0,-0.11098098798376106,3.3713667880250209E-2,"-",3.3713667880250209E-2,0,3.3713667880250209E-2,3.3713667880250209E-2,0.13093325185056504,-9.7219583970314827E-2,-6.6263758467199656,-6.6263758467199656,-6.6263758467199656,"-",6.8210939611651825E-2,6.8210939611651825E-2,6.8210939611651825E-2,"-",4.7747657728156277E-2,99.205605086549497,0.12727061239219623,1.2153448243530396,6.2798618489179576,-2.9088820873213997E-4,2.9088820873213997E-4,{"$f":"FI_T-Rechentabelle!AL977","v":1.3815108204262572E-4},{"$f":"AP976","v":1.6070522477917848E-4}]
[6.0999996960163116E-2,6.2500002968590707E-5,6.2800002098083496,0,0,null,0,null,{"$f":"C978","v":6.2800002098083496},{"$f":"AL976","v":6.2798538945046829},{"$f":"I978-J978","v":1.4631530366671086E-4},{"$f":"L976+KP_LR*(1+2*TA_SIM/TN_LR)*K978-KP_LR*K976","v":7.8075017131049584E-3},"-",{"$f":"L978","v":7.8075017131049584E-3},0.12727061239219623,0,-0.11946311067909127,-1.5055410458125529E-2,"-",-1.5055410458125529E-2,0,-1.5055410458125529E-2,-1.5055410458125529E-2,6.8210939611651825E-2,-8.3266350069777353E-2,-5.8027375027353703,-5.8027375027353703,-5.8027375027353703,"-",1.4490713760182161E-2,1.4490713760182161E-2,1.4490713760182161E-2,"-",1.0143499632127512E-2,21.075212200555811,0.12858781315473097,1.2279231650971487,6.2798698856562796,-2.9088820873213997E-4,2.9088820873213997E-4,{"$f":"FI_T-Rechentabelle!AL978","v":1.3011434372067754E-4},{"$f":"K978","v":1.4631530366671086E-4}]
[6.106249988079071E-2,6.2500002968590707E-5,6.2800002098083496,0,0,null,0,null,null,null,null,null,"-",{"$f":"N978+(L980-L978)/2","v":3.9767530573760895E-3},0.12858781315473097,0,-0.12461106009735488,-5.7357475387584345E-2,"-",-5.7357475387584345E-2,0,-5.7357475387584345E-2,-5.7357475387584345E-2,1.4490713760182161E-2,-7.18481891477665E-2,{"$f":"Z978+KP_SR*(1+TA_SIM/TN_SR)*Y979-KP_SR*Y978","v":-5.1356819157764937},-5.1356819157764937,-5.1356819157764937,"-",-3.1862956657732096E-2,-3.1862956657732096E-2,-3.1862956657732096E-2,"-",-2.2304069660412467E-2,-46.34130409393822,{"$f":"AJ978+AI979*TA_SIM","v":0.12569148164885985},1.2002652365376179,{"$f":"AL978+AJ979*TA_SIM","v":6.2798777413738822},-2.9088820873213997E-4,2.9088820873213997E-4,{"$f":"FI_T-Rechentabelle!AL979","v":1.2225862611803251E-4},{"$f":"AP978","v":1.4631530366671086E-4}]
[6.1124999076128006E-2,6.2500002968590707E-5,6.2800002098083496,0,0,null,0,null,{"$f":"C980","v":6.2800002098083496},{"$f":"AL978","v":6.2798698856562796},{"$f":"I980-J980","v":1.3032415207003822E-4},{"$f":"L978+KP_LR*(1+2*TA_SIM/TN_LR)*K980-KP_LR*K978","v":1.4600440164722062E-4},"-",{"$f":"L980","v":1.4600440164722062E-4},0.12569148164885985,0,-0.12554547724721263,-9.0128676883991898E-2,"-",-9.0128676883991898E-2,0,-9.0128676883991898E-2,-9.0128676883991898E-2,-3.1862956657732096E-2,-5.8265720226259803E-2,-4.2912935093224451,-4.2912935093224451,-4.2912935093224451,"-",-6.9453743900480716E-2,-6.9453743900480716E-2,-6.9453743900480716E-2,"-",-4.86176207303365E-2,-101.01313262068668,0.11937816086006693,1.1399774638859448,6.279885202508936,-2.9088820873213997E-4,2.9088820873213997E-4,{"$f":"FI_T-Rechentabelle!AL980","v":1.1479749106424464E-4},{"$f":"K980","v":1.3032415207003822E-4}]
[6.1187498271465302E-2,6.2500002968590707E-5,6.2800002098083496,0,0,null,0,null,null,null,null,null,"-",{"$f":"N980+(L982-L980)/2","v":-3.9173444494111642E-3},0.11937816086006693,0,-0.1232955053094781,-0.1149762108849488,"-",-0.1149762108849488,0,-0.1149762108849488,-0.1149762108849488,-6.9453743900480716E-2,-4.5522466984468088E-2,-3.481970413546974,-3.481970413546974,-3.481970413546974,"-",-9.8823077438847592E-2,-9.8823077438847592E-2,-9.8823077438847592E-2,"-",-6.9176154207193308E-2,-143.7277253421843,0.11039517802618042,1.054196296582584,6.2798921022075627,-2.9088820873213997E-4,2.9088820873213997E-4,{"$f":"FI_T-Rechentabelle!AL981","v":1.0789779243758346E-4},{"$f":"AP980","v":1.3032415207003822E-4}]
[6.1249997466802597E-2,6.2500002968590707E-5,6.2800002098083496,0,0,null,0,null,{"$f":"C982","v":6.2800002098083496},{"$f":"AL980","v":6.279885202508936},{"$f":"I982-J982","v":1.1500729941360532E-4},{"$f":"L980+KP_LR*(1+2*TA_SIM/TN_LR)*K982-KP_LR*K980","v":-7.9806933004695491E-3},"-",{"$f":"L982","v":-7.9806933004695491E-3},0.11039517802618042,0,-0.11837587132664996,-0.13244135674486562,"-",-0.13244135674486562,0,-0.13244135674486562,-0.13244135674486562,-9.8823077438847592E-2,-3.3618279306018031E-2,-2.7092719558515466,-2.7092719558515466,-2.7092719558515466,"-",-0.12051228989434347,-0.12051228989434347,-0.12051228989434347,"-",-8.435860292604043E-2,-175.27239336389033,9.9440653440937277E-2,0.94958829236479558,6.2798983172484029,-2.9088820873213997E-4,2.9088820873213997E-4,{"$f":"FI_T-Rechentabelle!AL982","v":1.0168275159738727E-4},{"$f":"K982","v":1.1500729941360532E-4}]
[6.1312500387430191E-2,6.2500002968590707E-5,6.2800002098083496,0,0,null,0,null,null,null,null,null,"-",{"$f":"N982+(L984-L982)/2","v":-1.1322611762976484E-2},9.9440653440937277E-2,0,-0.11076326520391376,-0.14181360079702604,"-",-0.14181360079702604,0,-0.14181360079702604,-0.14181360079702604,-0.12051228989434347,-2.1301310902682571E-2,-1.8845543038095349,-1.8845543038095349,-1.8845543038095349,"-",-0.13425507112188095,-0.13425507112188095,-0.13425507112188095,"-",-9.3978549785316667E-2,-195.25981671580439,8.7236914896199502E-2,0.83305117354902891,6.2799037695555837,-2.9088820873213997E-4,2.9088820873213997E-4,{"$f":"FI_T-Rechentabelle!AL983","v":9.6230444416534056E-5},{"$f":"AP982","v":1.1500729941360532E-4}]
[6.1374999582767487E-2,6.2500002968590707E-5,6.2800002098083496,0,0,null,0,null,{"$f":"C984","v":6.2800002098083496},{"$f":"AL982","v":6.2798983172484029},{"$f":"I984-J984","v":1.0189255994674795E-4},{"$f":"L982+KP_LR*(1+2*TA_SIM/TN_LR)*K984-KP_LR*K982","v":-1.4664530225483419E-2},"-",{"$f":"L984","v":-1.4664530225483419E-2},8.7236914896199502E-2,0,-0.10190144512168292,-0.14613218124008887,"-",-0.14613218124008887,0,-0.14613218124008887,-0.14613218124008887,-0.13425507112188095,-1.1877110118207912E-2,-1.2452578999333801,-1.2452578999333801,-1.2452578999333801,"-",-0.14191772281104767,-0.14191772281104767,-0.14191772281104767,"-",-9.934240596773336E-2,-206.40433402811834,7.4336644019442108E-2,0.70986266091340755,6.2799084155958349,-2.9088820873213997E-4,2.9088820873213997E-4,{"$f":"FI_T-Rechentabelle!AL984","v":9.1584404165345745E-5},{"$f":"K984","v":1.0189255994674795E-4}]
[6.1437498778104782E-2,6.2500002968590707E-5,6.2800002098083496,0,0,null,0,null,null,null,null,null,"-",{"$f":"N984+(L986-L984)/2","v":-1.6702600788878037E-2},7.4336644019442108E-2,0,-9.1039244808320152E-2,-0.14316969642093713,"-",-0.14316969642093713,0,-0.14316969642093713,-0.14316969642093713,-0.14191772281104767,-1.2519736098894618E-3,-0.50178426855507829,-0.50178426855507829,-0.50178426855507829,"-",-0.1427254477206541,-0.1427254477206541,-0.1427254477206541,"-",-9.9907813404457868E-2,-207.57908457190496,6.1362951233698046E-2,{"$f":"AJ985/(2*PI())*60","v":0.58597302069299773},6.2799122507802867,-2.9088820873213997E-4,2.9088820873213997E-4,{"$f":"FI_T-Rechentabelle!AL985","v":8.7749219713550985E-5},{"$f":"AP984","v":1.0189255994674795E-4}]
[6.1499997973442078E-2,6.2500002968590707E-5,6.2800002098083496,0,0,null,0,null,{"$f":"C986","v":6.2800002098083496},{"$f":"AL984","v":6.2799084155958349},{"$f":"I986-J986","v":9.179421251470643E-5},{"$f":"L984+KP_LR*(1+2*TA_SIM/TN_LR)*K986-KP_LR*K984","v":-1.8740671352272656E-2},"-",{"$f":"L986","v":-1.8740671352272656E-2},6.1362951233698046E-2,0,-8.0103622585970702E-2,-0.13737114004630452,"-",-0.13737114004630452,0,-0.13737114004630452,-0.13737114004630452,-0.1427254477206541,5.3543076743495788E-3,-2.8048206631967734E-2,-2.8048206631967734E-2,-2.8048206631967734E-2,"-",-0.13927105567268697,-0.13927105567268697,-0.13927105567268697,"-",-9.7489738970880868E-2,-202.55503629935771,4.8703261464988185E-2,0.46508188841099363,6.2799152947341286,-2.9088820873213997E-4,2.9088820873213997E-4,{"$f":"FI_T-Rechentabelle!AL986","v":8.4705265871676261E-5},{"$f":"K986","v":9.179421251470643E-5}]
[6.1562497168779373E-2,6.2500002968590707E-5,6.2800002098083496,0,0,null,0,null,null,null,null,null,"-",{"$f":"N986+(L988-L986)/2","v":-1.9230792250338843E-2},4.8703261464988185E-2,0,-6.7934053715327028E-2,-0.12574787480657323,"-",-0.12574787480657323,0,-0.12574787480657323,-0.12574787480657323,-0.13927105567268697,1.3523180866113732E-2,0.57065542419104509,0.57065542419104509,0.57065542419104509,"-",-0.13054642285583973,-0.13054642285583973,-0.13054642285583973,"-",-9.1382495999087807E-2,-189.86597963658383,3.6836637737701697E-2,0.35176397897044065,6.2799175970239869,-2.9088820873213997E-4,2.9088820873213997E-4,{"$f":"FI_T-Rechentabelle!AL987","v":8.2402976013362661E-5},{"$f":"AP986","v":9.179421251470643E-5}]
[6.1625000089406967E-2,6.2500002968590707E-5,6.2800002098083496,0,0,null,0,null,{"$f":"C988","v":6.2800002098083496},{"$f":"AL986","v":6.2799152947341286},{"$f":"I988-J988","v":8.4915074221036946E-5},{"$f":"L986+KP_LR*(1+2*TA_SIM/TN_LR)*K988-KP_LR*K986","v":-1.9720913148405031E-2},"-",{"$f":"L988","v":-1.9720913148405031E-2},3.6836637737701697E-2,0,-5.6557550886106728E-2,-0.11318786671744824,"-",-0.11318786671744824,0,-0.11318786671744824,-0.11318786671744824,-0.13054642285583973,1.735855613839149E-2,0.87235132252985514,0.87235132252985514,0.87235132252985514,"-",-0.11934735437945841,-0.11934735437945841,-0.11934735437945841,"-",-8.3543148065620881E-2,-173.57811773451252,2.5988005379294667E-2,0.24816717103281077,6.2799192212743229,-2.9088820873213997E-4,2.9088820873213997E-4,{"$f":"FI_T-Rechentabelle!AL988","v":8.0778725677355112E-5},{"$f":"K988","v":8.4915074221036946E-5}]
[6.1687499284744263E-2,6.2500002968590707E-5,6.2800002098083496,0,0,null,0,null,null,null,null,null,"-",{"$f":"N988+(L990-L988)/2","v":-1.8695659953308373E-2},2.5988005379294667E-2,0,-4.468366533260304E-2,-9.6581139379871894E-2,"-",-9.6581139379871894E-2,0,-9.6581139379871894E-2,-9.6581139379871894E-2,-0.11934735437945841,2.2766214999586518E-2,1.2945289403342553,1.2945289403342553,1.2945289403342553,"-",-0.10465947373456419,-0.10465947373456419,-0.10465947373456419,"-",-7.3261631614194925E-2,-152.2161471310927,1.6474496183601375E-2,0.15731985015412345,6.279920250930334,-2.9088820873213997E-4,2.9088820873213997E-4,{"$f":"FI_T-Rechentabelle!AL989","v":7.9749069666235073E-5},{"$f":"AP988","v":8.4915074221036946E-5}]
[6.1749998480081558E-2,6.2500002968590707E-5,6.2800002098083496,0,0,null,0,null,{"$f":"C990","v":6.2800002098083496},{"$f":"AL988","v":6.2799192212743229},{"$f":"I990-J990","v":8.0988534026715797E-5},{"$f":"L988+KP_LR*(1+2*TA_SIM/TN_LR)*K990-KP_LR*K988","v":-1.7670406758211715E-2},"-",{"$f":"L990","v":-1.7670406758211715E-2},1.6474496183601375E-2,0,-3.4144902941813091E-2,-8.0497324740975443E-2,"-",-8.0497324740975443E-2,0,-8.0497324740975443E-2,-8.0497324740975443E-2,-0.10465947373456419,2.4162148993588747E-2,1.4377211020302878,1.4377211020302878,1.4377211020302878,"-",-8.9070990512894299E-2,-8.9070990512894299E-2,-8.9070990512894299E-2,"-",-6.2349693359026008E-2,-129.54434522964056,8.3779746067488402E-3,8.0003764305747349E-2,6.2799207745537471,-2.9088820873213997E-4,2.9088820873213997E-4,{"$f":"FI_T-Rechentabelle!AL990","v":7.9225446253161635E-5},{"$f":"K990","v":8.0988534026715797E-5}]
[6.1812497675418854E-2,6.2500002968590707E-5,6.2800002098083496,0,0,null,0,null,null,null,null,null,"-",{"$f":"N990+(L992-L990)/2","v":-1.5362794554805083E-2},8.3779746067488402E-3,0,-2.3740769161553925E-2,-6.218886277711648E-2,"-",-6.218886277711648E-2,0,-6.218886277711648E-2,-6.218886277711648E-2,-8.9070990512894299E-2,2.6882127735777819E-2,1.6789416553102405,1.6789416553102405,1.6789416553102405,"-",-7.1727682296263723E-2,-7.1727682296263723E-2,-7.1727682296263723E-2,"-",-5.02093776073846E-2,-104.32033577266694,1.8579536209571562E-3,1.7742150168649024E-2,6.2799208906758484,-2.9088820873213997E-4,2.9088820873213997E-4,{"$f":"FI_T-Rechentabelle!AL991","v":7.9109324151893645E-5},{"$f":"AP990","v":8.0988534026715797E-5}]
[6.1875000596046448E-2,6.2500002968590707E-5,6.2800002098083496,0,0,null,0,null,{"$f":"C992","v":6.2800002098083496},{"$f":"AL990","v":6.2799207745537471},{"$f":"I992-J992","v":7.9435254602522321E-5},{"$f":"L990+KP_LR*(1+2*TA_SIM/TN_LR)*K992-KP_LR*K990","v":-1.3055182351398451E-2},"-",{"$f":"L992","v":-1.3055182351398451E-2},1.8579536209571562E-3,0,-1.4913135972355607E-2,-4.537951160003123E-2,"-",-4.537951160003123E-2,0,-4.537951160003123E-2,-4.537951160003123E-2,-7.1727682296263723E-2,2.6348170696232492E-2,1.6907578934499454,1.6907578934499454,1.6907578934499454,"-",-5.4728862492243041E-2,-5.4728862492243041E-2,-5.4728862492243041E-2,"-",-3.8310203744570129E-2,-79.597348316164812,-3.1168806488031447E-3,-2.9764017737069663E-2,6.2799206958708078,-2.9088820873213997E-4,2.9088820873213997E-4,{"$f":"FI_T-Rechentabelle!AL992","v":7.930412919243679E-5},{"$f":"K992","v":7.9435254602522321E-5}]
[6.1937499791383743E-2,6.2500002968590707E-5,6.2800002098083496,0,0,null,0,null,null,null,null,null,"-",{"$f":"N992+(L994-L992)/2","v":-9.819741475072058E-3},-3.1168806488031447E-3,0,-6.7028608262689133E-3,-2.7998375569119577E-2,"-",-2.7998375569119577E-2,0,-2.7998375569119577E-2,-2.7998375569119577E-2,-5.4728862492243041E-2,2.6730486923123464E-2,1.7676059047807817,1.7676059047807817,1.7676059047807817,"-",-3.7483387057970115E-2,-3.7483387057970115E-2,-3.7483387057970115E-2,"-",-2.623837094057908E-2,-54.515626304963803,-6.5241072928633823E-3,-6.2300635495265461E-2,6.2799202881141021,-2.9088820873213997E-4,2.9088820873213997E-4,{"$f":"FI_T-Rechentabelle!AL993","v":7.9711885898170465E-5},{"$f":"AP992","v":7.9435254602522321E-5}]
[6.1999998986721039E-2,6.2500002968590707E-5,6.2800002098083496,0,0,null,0,null,{"$f":"C994","v":6.2800002098083496},{"$f":"AL992","v":6.2799206958708078},{"$f":"I994-J994","v":7.9513937541797475E-5},{"$f":"L992+KP_LR*(1+2*TA_SIM/TN_LR)*K994-KP_LR*K992","v":-6.5843005987456654E-3},"-",{"$f":"L994","v":-6.5843005987456654E-3},-6.5241072928633823E-3,0,-6.0193305882283096E-5,-1.2628432497350676E-2,"-",-1.2628432497350676E-2,0,-1.2628432497350676E-2,-1.2628432497350676E-2,-3.7483387057970115E-2,2.4854954560619438E-2,1.6824584513519807,1.6824584513519807,1.6824584513519807,"-",-2.1447932502732026E-2,-2.1447932502732026E-2,-2.1447932502732026E-2,"-",-1.5013552751912417E-2,-31.193751821966373,-8.4737167817362808E-3,-8.091803473044458E-2,6.2799197585068036,-2.9088820873213997E-4,2.9088820873213997E-4,{"$f":"FI_T-Rechentabelle!AL994","v":8.0241493196631097E-5},{"$f":"K994","v":7.9513937541797475E-5}]
[6.2062498182058334E-2,6.2500002968590707E-5,6.2800002098083496,0,0,null,0,null,null,null,null,null,"-",{"$f":"N994+(L996-L994)/2","v":-2.824714352318923E-3},-8.4737167817362808E-3,0,5.6490024294173578E-3,1.9714217435109222E-3,"-",1.9714217435109222E-3,0,1.9714217435109222E-3,1.9714217435109222E-3,-2.1447932502732026E-2,2.3419354246242946E-2,1.6255054275519436,1.6255054275519436,1.6255054275519436,"-",-6.3386716987045722E-3,-6.3386716987045722E-3,-6.3386716987045722E-3,"-",-4.4370701890931999E-3,-9.2189282964745463,-9.0498998002659405E-3,-8.6420177261920847E-2,6.279919192888066,-2.9088820873213997E-4,2.9088820873213997E-4,{"$f":"FI_T-Rechentabelle!AL995","v":8.0807111934255715E-5},{"$f":"AP994","v":7.9513937541797475E-5}]
[6.212499737739563E-2,6.2500002968590707E-5,6.2800002098083496,0,0,null,0,null,{"$f":"C996","v":6.2800002098083496},{"$f":"AL994","v":6.2799197585068036},{"$f":"I996-J996","v":8.0451301545991782E-5},{"$f":"L994+KP_LR*(1+2*TA_SIM/TN_LR)*K996-KP_LR*K994","v":9.3487189410781935E-4},"-",{"$f":"L996","v":9.3487189410781935E-4},-9.0498998002659405E-3,0,9.9847716943737598E-3,1.4447407606336704E-2,"-",1.4447407606336704E-2,0,1.4447407606336704E-2,1.4447407606336704E-2,-6.3386716987045722E-3,2.0786079305041276E-2,1.4795565994112196,1.4795565994112196,1.4795565994112196,"-",7.0717020464831004E-3,7.0717020464831004E-3,7.0717020464831004E-3,"-",4.9501914325381698E-3,10.285043491664595,-8.4070845820369035E-3,-8.028174409337005E-2,6.2799186674452798,-2.9088820873213997E-4,2.9088820873213997E-4,{"$f":"FI_T-Rechentabelle!AL996","v":8.1332554720425776E-5},{"$f":"K996","v":8.0451301545991782E-5}]
[6.2187500298023224E-2,6.2500002968590707E-5,6.2800002098083496,0,0,null,0,null,null,null,null,null,"-",{"$f":"N996+(L998-L996)/2","v":4.825327091510144E-3},-8.4070845820369035E-3,0,1.3232411673547047E-2,2.519500404024316E-2,"-",2.519500404024316E-2,0,2.519500404024316E-2,2.519500404024316E-2,7.0717020464831004E-3,1.8123301993760058E-2,1.326554924775418,1.326554924775418,1.326554924775418,"-",1.8764154945682895E-2,1.8764154945682895E-2,1.8764154945682895E-2,"-",1.3134908461978026E-2,27.290480909989665,-6.7014295251625489E-3,-6.3993938082695559E-2,6.2799182486059344,-2.9088820873213997E-4,2.9088820873213997E-4,{"$f":"FI_T-Rechentabelle!AL997","v":8.1751394065854299E-5},{"$f":"AP996","v":8.0451301545991782E-5}]
[6.2249999493360519E-2,6.2500002968590707E-5,6.2800002098083496,0,0,null,0,null,{"$f":"C998","v":6.2800002098083496},{"$f":"AL996","v":6.2799186674452798},{"$f":"I998-J998","v":8.1542363069786461E-5},{"$f":"L996+KP_LR*(1+2*TA_SIM/TN_LR)*K998-KP_LR*K996","v":8.7157822889124686E-3},"-",{"$f":"L998","v":8.7157822889124686E-3},-6.7014295251625489E-3,0,1.5417211814075018E-2,3.4013669635764146E-2,"-",3.4013669635764146E-2,0,3.4013669635764146E-2,3.4013669635764146E-2,1.8764154945682895E-2,1.5249514690081251E-2,1.1533649466857288,1.1533649466857288,1.1533649466857288,"-",2.8602551519928621E-2,2.8602551519928621E-2,2.8602551519928621E-2,"-",2.0021786063950033E-2,41.59938928724295,-4.1014676947098644E-3,-3.9166131452687741E-2,6.2799179922642034,-2.9088820873213997E-4,2.9088820873213997E-4,{"$f":"FI_T-Rechentabelle!AL998","v":8.2007735796807424E-5},{"$f":"K998","v":8.1542363069786461E-5}]
[6.2312498688697815E-2,6.2500002968590707E-5,6.2800002098083496,0,0,null,0,null,null,null,null,null,"-",{"$f":"N998+(L1000-L998)/2","v":1.2397694014266956E-2},-4.1014676947098644E-3,0,1.649916170897682E-2,4.0541872314664266E-2,"-",4.0541872314664266E-2,0,4.0541872314664266E-2,4.0541872314664266E-2,2.8602551519928621E-2,1.1939320794735645E-2,0.94334877538968454,0.94334877538968454,0.94334877538968454,"-",3.6305339129435253E-2,3.6305339129435253E-2,3.6305339129435253E-2,"-",2.5413737390604676E-2,52.802280055276697,-8.0132519125507068E-4,-7.6520919127381756E-3,6.2799179421813793,-2.9088820873213997E-4,2.9088820873213997E-4,{"$f":"FI_T-Rechentabelle!AL999","v":8.2057818620917544E-5},{"$f":"AP998","v":8.1542363069786461E-5}]
[6.237499788403511E-2,6.2500002968590707E-5,6.2800002098083496,0,0,null,0,null,{"$f":"C1000","v":6.2800002098083496},{"$f":"AL998","v":6.2799179922642034},{"$f":"I1000-J1000","v":8.2217544146168109E-5},{"$f":"L998+KP_LR*(1+2*TA_SIM/TN_LR)*K1000-KP_LR*K998","v":1.6079605739621444E-2},"-",{"$f":"L1000","v":1.6079605739621444E-2},-8.0132519125507068E-4,0,1.6880930930876514E-2,4.5541508023110445E-2,"-",4.5541508023110445E-2,0,4.5541508023110445E-2,4.5541508023110445E-2,3.6305339129435253E-2,9.2361688936751923E-3,0.77088552568405944,0.77088552568405944,0.77088552568405944,"-",4.2264157770515794E-2,4.2264157770515794E-2,4.2264157770515794E-2,"-",2.9584910439361053E-2,61.468752211429567,3.0404718219592774E-3,2.903436718778641E-2,6.2799181322108684,-2.9088820873213997E-4,2.9088820873213997E-4,{"$f":"FI_T-Rechentabelle!AL1000","v":8.1867789131884194E-5},{"$f":"K1000","v":8.2217544146168109E-5}]
[6.2437497079372406E-2,6.2500002968590707E-5,6.2800002098083496,0,0,null,0,null,null,null,null,null,"-",{"$f":"N1000+(L1002-L1000)/2","v":1.9294049446652715E-2},3.0404718219592774E-3,0,1.6253577624693438E-2,4.805104148855787E-2,"-",4.805104148855787E-2,0,4.805104148855787E-2,4.805104148855787E-2,4.2264157770515794E-2,5.7868837180420768E-3,0.53959503257014929,0.53959503257014929,0.53959503257014929,"-",4.5997631136994344E-2,4.5997631136994344E-2,4.5997631136994344E-2,"-",3.2198341795896042E-2,66.898694776430588,7.2216402454861901E-3,6.8961584538029752E-2,6.2799185835633837,-2.9088820873213997E-4,2.9088820873213997E-4,{"$f":"FI_T-Rechentabelle!AL1001","v":8.1416436616521537E-5},{"$f":"AP1000","v":8.2217544146168109E-5}]
[6.25E-2,6.2500002968590707E-5,6.2800002098083496,0,0,null,0,null,{"$f":"C1002","v":6.2800002098083496},{"$f":"AL1000","v":6.2799181322108684},{"$f":"I1002-J1002","v":8.2077597481244879E-5},{"$f":"L1000+KP_LR*(1+2*TA_SIM/TN_LR)*K1002-KP_LR*K1000","v":2.2508493153683987E-2},"-",{"$f":"L1002","v":2.2508493153683987E-2},7.2216402454861901E-3,0,1.5286852908197797E-2,4.9538900190764394E-2,"-",4.9538900190764394E-2,0,4.9538900190764394E-2,4.9538900190764394E-2,4.5997631136994344E-2,3.5412690537700506E-3,0.38859297113991487,0.38859297113991487,0.38859297113991487,"-",4.8282320849103846E-2,4.8282320849103846E-2,4.8282320849103846E-2,"-",3.3797624594372688E-2,70.221534582116533,1.1610486156868473E-2,0.11087197581393843,6.2799193092187684,-2.9088820873213997E-4,2.9088820873213997E-4,{"$f":"FI_T-Rechentabelle!AL1002","v":8.0690781231851361E-5},{"$f":"K1002","v":8.2077597481244879E-5}]
[6.2562495470046997E-2,6.2500002968590707E-5,6.2800002098083496,0,0,null,0,null,null,null,null,null,"-",{"$f":"N1002+(L1004-L1002)/2","v":2.5088104342292625E-2},1.1610486156868473E-2,0,1.3477618185424152E-2,4.8634402271256011E-2,"-",4.8634402271256011E-2,0,4.8634402271256011E-2,4.8634402271256011E-2,4.8282320849103846E-2,3.5208142215216454E-4,0.16539130778779568,0.16539130778779568,0.16539130778779568,"-",4.850947015371794E-2,4.850947015371794E-2,4.850947015371794E-2,"-",3.3956629107602554E-2,70.551899247044574,1.6019979859808759E-2,0.15297953897527036,6.2799203104675092,-2.9088820873213997E-4,2.9088820873213997E-4,{"$f":"FI_T-Rechentabelle!AL1003","v":7.9689532491045156E-5},{"$f":"AP1002","v":8.2077597481244879E-5}]
[6.2624998390674591E-2,6.2500002968590707E-5,6.2800002098083496,0,0,null,0,null,{"$f":"C1004","v":6.2800002098083496},{"$f":"AL1002","v":6.2799193092187684},{"$f":"I1004-J1004","v":8.0900589581212046E-5},{"$f":"L1002+KP_LR*(1+2*TA_SIM/TN_LR)*K1004-KP_LR*K1002","v":2.7667715530901263E-2},"-",{"$f":"L1004","v":2.7667715530901263E-2},1.6019979859808759E-2,0,1.1647735671092504E-2,4.7235971557381226E-2,"-",4.7235971557381226E-2,0,4.7235971557381226E-2,4.7235971557381226E-2,4.850947015371794E-2,-1.273498596336714E-3,4.8903403309752805E-2,4.8903403309752805E-2,4.8903403309752805E-2,"-",4.7687858156081148E-2,4.7687858156081148E-2,4.7687858156081148E-2,"-",3.3381500709256801E-2,69.356951400907533,2.035478932236548E-2,0.19437392017491581,6.2799215826418422,-2.9088820873213997E-4,2.9088820873213997E-4,{"$f":"FI_T-Rechentabelle!AL1004","v":7.8417358158056061E-5},{"$f":"K1004","v":8.0900589581212046E-5}]
[6.2687501311302185E-2,6.2500002968590707E-5,6.2800002098083496,0,0,null,0,null,null,null,null,null,"-",{"$f":"N1004+(L1006-L1004)/2","v":2.9534865557838304E-2},2.035478932236548E-2,0,9.1800762354728241E-3,4.3758833105361869E-2,"-",4.3758833105361869E-2,0,4.3758833105361869E-2,4.3758833105361869E-2,4.7687858156081148E-2,-3.9290250507192787E-3,-0.14484850048631748,-0.14484850048631748,-0.14484850048631748,"-",4.5153003284649156E-2,4.5153003284649156E-2,4.5153003284649156E-2,"-",3.1607102299254404E-2,65.670272801276539,2.4459181372445266E-2,0.23356797716435235,6.2799231113406782,-2.9088820873213997E-4,2.9088820873213997E-4,{"$f":"FI_T-Rechentabelle!AL1005","v":7.6888659322094099E-5},{"$f":"AP1004","v":8.0900589581212046E-5}]
[6.2749996781349182E-2,6.2500002968590707E-5,6.2800002098083496,0,0,null,0,null,{"$f":"C1006","v":6.2800002098083496},{"$f":"AL1004","v":6.2799215826418422},{"$f":"I1006-J1006","v":7.8627166507416746E-5},{"$f":"L1004+KP_LR*(1+2*TA_SIM/TN_LR)*K1006-KP_LR*K1004","v":3.1402015584775345E-2},"-",{"$f":"L1006","v":3.1402015584775345E-2},2.4459181372445266E-2,0,6.942834212330079E-3,4.0269925172478405E-2,"-",4.0269925172478405E-2,0,4.0269925172478405E-2,4.0269925172478405E-2,4.5153003284649156E-2,-4.8830781121707509E-3,-0.22095295184839192,-0.22095295184839192,-0.22095295184839192,"-",4.2002630309054934E-2,4.2002630309054934E-2,4.2002630309054934E-2,"-",2.9401841216338452E-2,61.088388149466965,2.8277205631786952E-2,0.27002742318749245,6.27992487866603,-2.9088820873213997E-4,2.9088820873213997E-4,{"$f":"FI_T-Rechentabelle!AL1006","v":7.5121333970251669E-5},{"$f":"K1006","v":7.8627166507416746E-5}]
[6.2812499701976776E-2,6.2500002968590707E-5,6.2800002098083496,0,0,null,0,null,null,null,null,null,"-",{"$f":"N1006+(L1008-L1006)/2","v":3.2557491025143874E-2},2.8277205631786952E-2,0,4.2802853933569217E-3,3.5146884104912179E-2,"-",3.5146884104912179E-2,0,3.5146884104912179E-2,3.5146884104912179E-2,4.2002630309054934E-2,-6.8557462041427542E-3,-0.37224840500875839,-0.37224840500875839,-0.37224840500875839,"-",3.7579568241865875E-2,3.7579568241865875E-2,3.7579568241865875E-2,"-",2.6305697769306111E-2,54.655511675267213,3.1693175111491154E-2,0.3026475288762509,6.2799268594894748,-2.9088820873213997E-4,2.9088820873213997E-4,{"$f":"FI_T-Rechentabelle!AL1007","v":7.3140510525426805E-5},{"$f":"AP1006","v":7.8627166507416746E-5}]
[6.287500262260437E-2,6.2500002968590707E-5,6.2800002098083496,0,0,null,0,null,{"$f":"C1008","v":6.2800002098083496},{"$f":"AL1006","v":6.27992487866603},{"$f":"I1008-J1008","v":7.5331142319612354E-5},{"$f":"L1006+KP_LR*(1+2*TA_SIM/TN_LR)*K1008-KP_LR*K1006","v":3.3712966465512403E-2},"-",{"$f":"L1008","v":3.3712966465512403E-2},3.1693175111491154E-2,0,2.0197913540212498E-3,3.0403922190450544E-2,"-",3.0403922190450544E-2,0,3.0403922190450544E-2,3.0403922190450544E-2,3.7579568241865875E-2,-7.1756460514153311E-3,-0.40812871270705581,-0.40812871270705581,-0.40812871270705581,"-",3.2950119176436442E-2,3.2950119176436442E-2,3.2950119176436442E-2,"-",2.3065083423505509E-2,47.922467117194074,3.4688329306315782E-2,0.3312491446019768,6.2799290275100565,-2.9088820873213997E-4,2.9088820873213997E-4,{"$f":"FI_T-Rechentabelle!AL1008","v":7.0972489943699202E-5},{"$f":"K1008","v":7.5331142319612354E-5}]
[6.2937498092651367E-2,6.2500002968590707E-5,6.2800002098083496,0,0,null,0,null,null,null,null,null,"-",{"$f":"N1008+(L1010-L1008)/2","v":3.4218742241666732E-2},3.4688329306315782E-2,0,-4.6958706464905048E-4,2.4523965034323459E-2,"-",2.4523965034323459E-2,0,2.4523965034323459E-2,2.4523965034323459E-2,3.2950119176436442E-2,-8.4261541421129828E-3,-0.51167137546836683,-0.51167137546836683,-0.51167137546836683,"-",2.7513890697653691E-2,2.7513890697653691E-2,2.7513890697653691E-2,"-",1.9259723488357583E-2,40.016047139741495,3.7189332252549626E-2,0.35513196349680742,6.279931351843322,-2.9088820873213997E-4,2.9088820873213997E-4,{"$f":"FI_T-Rechentabelle!AL1009","v":6.8648156678285943E-5},{"$f":"AP1008","v":7.5331142319612354E-5}]
[6.3000001013278961E-2,6.2500002968590707E-5,6.2800002098083496,0,0,null,0,null,{"$f":"C1010","v":6.2800002098083496},{"$f":"AL1008","v":6.2799290275100565},{"$f":"I1010-J1010","v":7.1182298293059887E-5},{"$f":"L1008+KP_LR*(1+2*TA_SIM/TN_LR)*K1010-KP_LR*K1008","v":3.472451801782106E-2},"-",{"$f":"L1010","v":3.472451801782106E-2},3.7189332252549626E-2,0,-2.4648142347285656E-3,1.9302055333441547E-2,"-",1.9302055333441547E-2,0,1.9302055333441547E-2,1.9302055333441547E-2,2.7513890697653691E-2,-8.2118353642121437E-3,-0.51199165903004684,-0.51199165903004684,-0.51199165903004684,"-",2.2215932398161813E-2,2.2215932398161813E-2,2.2215932398161813E-2,"-",1.5551152678713268E-2,32.310726529634877,3.9208752660651804E-2,0.37441600790461427,6.2799338023903637,-2.9088820873213997E-4,2.9088820873213997E-4,{"$f":"FI_T-Rechentabelle!AL1010","v":6.6197609636553523E-5},{"$f":"K1010","v":7.1182298293059887E-5}]
[6.3062496483325958E-2,6.2500002968590707E-5,6.2800002098083496,0,0,null,0,null,null,null,null,null,"-",{"$f":"N1010+(L1012-L1010)/2","v":3.4683967314176098E-2},3.9208752660651804E-2,0,-4.5247853464757057E-3,1.3427990921858061E-2,"-",1.3427990921858061E-2,0,1.3427990921858061E-2,1.3427990921858061E-2,2.2215932398161813E-2,-8.7879414763037522E-3,-0.5688725463054326,-0.5688725463054326,-0.5688725463054326,"-",1.6546292736030192E-2,1.6546292736030192E-2,1.6546292736030192E-2,"-",1.1582404915221134E-2,24.064834646210542,4.0712804826039964E-2,0.38877864811198998,6.2799363469406657,-2.9088820873213997E-4,2.9088820873213997E-4,{"$f":"FI_T-Rechentabelle!AL1011","v":6.3653059334534134E-5},{"$f":"AP1010","v":7.1182298293059887E-5}]
[6.3124999403953552E-2,6.2500002968590707E-5,6.2800002098083496,0,0,null,0,null,{"$f":"C1012","v":6.2800002098083496},{"$f":"AL1010","v":6.2799338023903637},{"$f":"I1012-J1012","v":6.6407417985914208E-5},{"$f":"L1010+KP_LR*(1+2*TA_SIM/TN_LR)*K1012-KP_LR*K1010","v":3.4643416610531136E-2},"-",{"$f":"L1012","v":3.4643416610531136E-2},4.0712804826039964E-2,0,-6.069388215508828E-3,8.3709720497862437E-3,"-",8.3709720497862437E-3,0,8.3709720497862437E-3,8.3709720497862437E-3,1.6546292736030192E-2,-8.1753206862439486E-3,-0.54116628051936866,-0.54116628051936866,-0.54116628051936866,"-",1.1271892293291995E-2,1.1271892293291995E-2,1.1271892293291995E-2,"-",7.8903246053043958E-3,16.393776449832526,4.1737415854154497E-2,0.39856296270424374,6.2799389555291567,-2.9088820873213997E-4,2.9088820873213997E-4,{"$f":"FI_T-Rechentabelle!AL1012","v":6.1044470843540921E-5},{"$f":"K1012","v":6.6407417985914208E-5}]
[6.3187502324581146E-2,6.2500002968590707E-5,6.2800002098083496,0,0,null,0,null,null,null,null,null,"-",{"$f":"N1012+(L1014-L1012)/2","v":3.4181751175540474E-2},4.1737415854154497E-2,0,-7.5556646786140227E-3,3.0866956260636909E-3,"-",3.0866956260636909E-3,0,3.0866956260636909E-3,3.0866956260636909E-3,1.1271892293291995E-2,-8.1851966672283043E-3,-0.55717374959424593,-0.55717374959424593,-0.55717374959424593,"-",5.9911202499187384E-3,5.9911202499187384E-3,5.9911202499187384E-3,"-",4.1937841749431163E-3,8.7134514334990989,4.2282006568748191E-2,0.40376342095561579,6.2799415981545677,-2.9088820873213997E-4,2.9088820873213997E-4,{"$f":"FI_T-Rechentabelle!AL1013","v":5.840184543259852E-5},{"$f":"AP1012","v":6.6407417985914208E-5}]
[6.3249997794628143E-2,6.2500002968590707E-5,6.2800002098083496,0,0,null,0,null,{"$f":"C1014","v":6.2800002098083496},{"$f":"AL1012","v":6.2799389555291567},{"$f":"I1014-J1014","v":6.1254279192901606E-5},{"$f":"L1012+KP_LR*(1+2*TA_SIM/TN_LR)*K1014-KP_LR*K1012","v":3.3720085740549813E-2},"-",{"$f":"L1014","v":3.3720085740549813E-2},4.2282006568748191E-2,0,-8.5619208281983786E-3,-1.3311571575571474E-3,"-",-1.3311571575571474E-3,0,-1.3311571575571474E-3,-1.3311571575571474E-3,5.9911202499187384E-3,-7.3222774074758858E-3,-0.51030212960754717,-0.51030212960754717,-0.51030212960754717,"-",1.267070309611562E-3,1.267070309611562E-3,1.267070309611562E-3,"-",8.8694921672809331E-4,1.8428198976274532,4.2397182812349908E-2,0.40486327306537401,6.2799442479784933,-2.9088820873213997E-4,2.9088820873213997E-4,{"$f":"FI_T-Rechentabelle!AL1014","v":5.5752021506982885E-5},{"$f":"K1014","v":6.1254279192901606E-5}]
[6.3312500715255737E-2,6.2500002968590707E-5,6.2800002098083496,0,0,null,0,null,null,null,null,null,"-",{"$f":"N1014+(L1016-L1014)/2","v":3.2967103196322185E-2},4.2397182812349908E-2,0,-9.4300796160277228E-3,-5.6408230204336336E-3,"-",-5.6408230204336336E-3,0,-5.6408230204336336E-3,-5.6408230204336336E-3,1.267070309611562E-3,-6.9078933300451961E-3,-0.49413948640281946,-0.49413948640281946,-0.49413948640281946,"-",-3.1896350646112939E-3,-3.1896350646112939E-3,-3.1896350646112939E-3,"-",-2.2327445452279054E-3,-4.6389872121917834,4.210724611158792E-2,0.40209458151877242,6.2799468796813755,-2.9088820873213997E-4,2.9088820873213997E-4,{"$f":"FI_T-Rechentabelle!AL1015","v":5.3120318624699792E-5},{"$f":"AP1014","v":6.1254279192901606E-5}]
[6.3374996185302734E-2,6.2500002968590707E-5,6.2800002098083496,0,0,null,0,null,{"$f":"C1016","v":6.2800002098083496},{"$f":"AL1014","v":6.2799442479784933},{"$f":"I1016-J1016","v":5.596182985634357E-5},{"$f":"L1014+KP_LR*(1+2*TA_SIM/TN_LR)*K1016-KP_LR*K1014","v":3.2214120652094558E-2},"-",{"$f":"L1016","v":3.2214120652094558E-2},4.210724611158792E-2,0,-9.8931254594933626E-3,-9.1251222887007918E-3,"-",-9.1251222887007918E-3,0,-9.1251222887007918E-3,-9.1251222887007918E-3,-3.1896350646112939E-3,-5.9354872240894984E-3,-0.43698795648145156,-0.43698795648145156,-0.43698795648145156,"-",-7.0189816607982118E-3,-7.0189816607982118E-3,-7.0189816607982118E-3,"-",-4.9132871625587483E-3,-10.208367260666419,4.1469223157796269E-2,0.39600191110465044,6.2799494715078232,-2.9088820873213997E-4,2.9088820873213997E-4,{"$f":"FI_T-Rechentabelle!AL1016","v":5.0528492177015494E-5},{"$f":"K1016","v":5.596182985634357E-5}]
[6.3437499105930328E-2,6.2500002968590707E-5,6.2800002098083496,0,0,null,0,null,null,null,null,null,"-",{"$f":"N1016+(L1018-L1016)/2","v":3.1290570321772668E-2},4.1469223157796269E-2,0,-1.0178652836023601E-2,-1.2267892921416255E-2,"-",-1.2267892921416255E-2,0,-1.2267892921416255E-2,-1.2267892921416255E-2,-7.0189816607982118E-3,-5.248911260618043E-3,-0.39861529701699872,-0.39861529701699872,-0.39861529701699872,"-",-1.0405376022487414E-2,-1.0405376022487414E-2,-1.0405376022487414E-2,"-",-7.2837632157411892E-3,-15.133520082570515,4.0523378152635611E-2,0.38696975662644456,6.2799520042189574,-2.9088820873213997E-4,2.9088820873213997E-4,{"$f":"FI_T-Rechentabelle!AL1017","v":4.7995781042864394E-5},{"$f":"AP1016","v":5.596182985634357E-5}]
[6.3500002026557922E-2,6.2500002968590707E-5,6.2800002098083496,0,0,null,0,null,{"$f":"C1018","v":6.2800002098083496},{"$f":"AL1016","v":6.2799494715078232},{"$f":"I1018-J1018","v":5.0738300526376179E-5},{"$f":"L1016+KP_LR*(1+2*TA_SIM/TN_LR)*K1018-KP_LR*K1016","v":3.0367019991450778E-2},"-",{"$f":"L1018","v":3.0367019991450778E-2},4.0523378152635611E-2,0,-1.0156358161184834E-2,-1.4692303147729451E-2,"-",-1.4692303147729451E-2,0,-1.4692303147729451E-2,-1.4692303147729451E-2,-1.0405376022487414E-2,-4.2869271252420366E-3,-0.33911091942621963,-0.33911091942621963,-0.33911091942621963,"-",-1.3171135458127575E-2,-1.3171135458127575E-2,-1.3171135458127575E-2,"-",-9.2197948206893011E-3,-19.156024975460834,3.9326126591669307E-2,0.37553684638330803,6.2799544621018697,-2.9088820873213997E-4,2.9088820873213997E-4,{"$f":"FI_T-Rechentabelle!AL1018","v":4.5537898130554311E-5},{"$f":"K1018","v":5.0738300526376179E-5}]
[6.3562497496604919E-2,6.2500002968590707E-5,6.2800002098083496,0,0,null,0,null,null,null,null,null,"-",{"$f":"N1018+(L1020-L1018)/2","v":2.9375180649866356E-2},3.9326126591669307E-2,0,-9.9509459418029508E-3,-1.6642529646438895E-2,"-",-1.6642529646438895E-2,0,-1.6642529646438895E-2,-1.6642529646438895E-2,-1.3171135458127575E-2,-3.4713941883113206E-3,-0.2883606353023751,-0.2883606353023751,-0.2883606353023751,"-",-1.5410744611876949E-2,-1.5410744611876949E-2,-1.5410744611876949E-2,"-",-1.0787521228313864E-2,-22.413299871834329,3.7925295349679658E-2,0.36215989338729532,6.2799568324328288,-2.9088820873213997E-4,2.9088820873213997E-4,{"$f":"FI_T-Rechentabelle!AL1019","v":4.3167567171487065E-5},{"$f":"AP1018","v":5.0738300526376179E-5}]
[6.3625000417232513E-2,6.2500002968590707E-5,6.2800002098083496,0,0,null,0,null,{"$f":"C1020","v":6.2800002098083496},{"$f":"AL1018","v":6.2799544621018697},{"$f":"I1020-J1020","v":4.5747706479914996E-5},{"$f":"L1018+KP_LR*(1+2*TA_SIM/TN_LR)*K1020-KP_LR*K1018","v":2.8383341308281934E-2},"-",{"$f":"L1020","v":2.8383341308281934E-2},3.7925295349679658E-2,0,-9.5419540413977239E-3,-1.8021550266269858E-2,"-",-1.8021550266269858E-2,0,-1.8021550266269858E-2,-1.8021550266269858E-2,-1.5410744611876949E-2,-2.6108056543929087E-3,-0.23283760556522429,-0.23283760556522429,-0.23283760556522429,"-",-1.7095135356646699E-2,-1.7095135356646699E-2,-1.7095135356646699E-2,"-",-1.1966594749652689E-2,-24.863068251927462,3.6371353583934195E-2,0.34732084258957507,6.279959105642428,-2.9088820873213997E-4,2.9088820873213997E-4,{"$f":"FI_T-Rechentabelle!AL1020","v":4.0894357572263118E-5},{"$f":"K1020","v":4.5747706479914996E-5}]
[6.368749588727951E-2,6.2500002968590707E-5,6.2800002098083496,0,0,null,0,null,null,null,null,null,"-",{"$f":"N1020+(L1022-L1020)/2","v":2.7401799522758744E-2},3.6371353583934195E-2,0,-8.9695540611754512E-3,-1.8882565956691421E-2,"-",-1.8882565956691421E-2,0,-1.8882565956691421E-2,-1.8882565956691421E-2,-1.7095135356646699E-2,-1.7874306000447218E-3,-0.17838621384073844,-0.17838621384073844,-0.17838621384073844,"-",-1.8248316388933743E-2,-1.8248316388933743E-2,-1.8248316388933743E-2,"-",-1.2773821472253619E-2,-26.540248228243545,3.4712588069668975E-2,0.33148079872803426,6.2799612751791827,-2.9088820873213997E-4,2.9088820873213997E-4,{"$f":"FI_T-Rechentabelle!AL1021","v":3.872482081757056E-5},{"$f":"AP1020","v":4.5747706479914996E-5}]
[6.3749998807907104E-2,6.2500002968590707E-5,6.2800002098083496,0,0,null,0,null,{"$f":"C1022","v":6.2800002098083496},{"$f":"AL1020","v":6.279959105642428},{"$f":"I1022-J1022","v":4.1104165921623803E-5},{"$f":"L1020+KP_LR*(1+2*TA_SIM/TN_LR)*K1022-KP_LR*K1020","v":2.6420257737235553E-2},"-",{"$f":"L1022","v":2.6420257737235553E-2},3.4712588069668975E-2,0,-8.2923303324334216E-3,-1.9335704532589659E-2,"-",-1.9335704532589659E-2,0,-1.9335704532589659E-2,-1.9335704532589659E-2,-1.8248316388933743E-2,-1.0873881436559152E-3,-0.13128221794493197,-0.13128221794493197,-0.13128221794493197,"-",-1.8949857126776392E-2,-1.8949857126776392E-2,-1.8949857126776392E-2,"-",-1.3264899988743474E-2,-27.560565112702001,3.29900527501251E-2,0.31503179808268711,6.2799633370574792,-2.9088820873213997E-4,2.9088820873213997E-4,{"$f":"FI_T-Rechentabelle!AL1022","v":3.6662942521026309E-5},{"$f":"K1022","v":4.1104165921623803E-5}]
[6.3812501728534698E-2,6.2500002968590707E-5,6.2800002098083496,0,0,null,0,null,null,null,null,null,"-",{"$f":"N1022+(L1024-L1022)/2","v":2.5502421778844691E-2},3.29900527501251E-2,0,-7.4876309712804089E-3,-1.929742592871625E-2,"-",-1.929742592871625E-2,0,-1.929742592871625E-2,-1.929742592871625E-2,-1.8949857126776392E-2,-3.4756880193985776E-4,-8.0001963201008455E-2,-8.0001963201008455E-2,-8.0001963201008455E-2,"-",-1.9174095063511906E-2,-1.9174095063511906E-2,-1.9174095063511906E-2,"-",-1.3421866544458334E-2,-27.886695500640624,3.1247134281335062E-2,0.29838815269984165,6.2799652900033722,-2.9088820873213997E-4,2.9088820873213997E-4,{"$f":"FI_T-Rechentabelle!AL1023","v":3.4709996628023987E-5},{"$f":"AP1022","v":4.1104165921623803E-5}]
[6.3874997198581696E-2,6.2500002968590707E-5,6.2800002098083496,0,0,null,0,null,{"$f":"C1024","v":6.2800002098083496},{"$f":"AL1022","v":6.2799633370574792},{"$f":"I1024-J1024","v":3.6872750870386994E-5},{"$f":"L1022+KP_LR*(1+2*TA_SIM/TN_LR)*K1024-KP_LR*K1022","v":2.4584585820453829E-2},"-",{"$f":"L1024","v":2.4584585820453829E-2},3.1247134281335062E-2,0,-6.6625484608812333E-3,-1.9010790295151566E-2,"-",-1.9010790295151566E-2,0,-1.9010790295151566E-2,-1.9010790295151566E-2,-1.9174095063511906E-2,1.6330476836034016E-4,-4.3836396570746186E-2,-4.3836396570746186E-2,-4.3836396570746186E-2,"-",-1.9068737148440835E-2,-1.9068737148440835E-2,-1.9068737148440835E-2,"-",-1.3348116003908584E-2,-27.73346354437686,2.951379280981151E-2,0.28183596090429242,6.2799671346154229,-2.9088820873213997E-4,2.9088820873213997E-4,{"$f":"FI_T-Rechentabelle!AL1024","v":3.2865384577362988E-5},{"$f":"K1024","v":3.6872750870386994E-5}]
[6.393750011920929E-2,6.2500002968590707E-5,6.2800002098083496,0,0,null,0,null,null,null,null,null,"-",{"$f":"N1024+(L1026-L1024)/2","v":2.3760179324553866E-2},2.951379280981151E-2,0,-5.7536134852576443E-3,-1.8308358173413281E-2,"-",-1.8308358173413281E-2,0,-1.8308358173413281E-2,-1.8308358173413281E-2,-1.9068737148440835E-2,7.6037897502755428E-4,-5.0299482044115391E-4,-5.0299482044115391E-4,-5.0299482044115391E-4,"-",-1.857817006777801E-2,-1.857817006777801E-2,-1.857817006777801E-2,"-",-1.3004719047444607E-2,-27.019985554632466,2.782504371264698E-2,0.26570959491694984,6.2799688736806552,-2.9088820873213997E-4,2.9088820873213997E-4,{"$f":"FI_T-Rechentabelle!AL1025","v":3.1126319345098352E-5},{"$f":"AP1024","v":3.6872750870386994E-5}]
[6.3999995589256287E-2,6.2500002968590707E-5,6.2800002098083496,0,0,null,0,null,{"$f":"C1026","v":6.2800002098083496},{"$f":"AL1024","v":6.2799671346154229},{"$f":"I1026-J1026","v":3.3075192926723673E-5},{"$f":"L1024+KP_LR*(1+2*TA_SIM/TN_LR)*K1026-KP_LR*K1024","v":2.2935772828653903E-2},"-",{"$f":"L1026","v":2.2935772828653903E-2},2.782504371264698E-2,0,-4.8892708839930778E-3,-1.7498482967625587E-2,"-",-1.7498482967625587E-2,{"$f":"G1026*(JM_EMS+JL_EMS)/KT_M*KP_VSR","v":0},-1.7498482967625587E-2,{"$f":"IF(V1026<-IM_R,-IM_R,IF(V1026>IM_R,IM_R,V1026))","v":-1.7498482967625587E-2},-1.857817006777801E-2,1.0796871001524239E-3,2.3930435246673591E-2,{"$f":"IF(Z1026<-U_ZWK,-U_ZWK,IF(Z1026>U_ZWK,U_ZWK,Z1026))","v":2.3930435246673591E-2},2.3930435246673591E-2,"-",-1.7881597745099141E-2,-1.7881597745099141E-2,-1.7881597745099141E-2,"-",{"$f":"AF1026*KT_M","v":-1.2517118421569398E-2},{"$f":"AH1026/(JM_EMS+JL_EMS)","v":-26.006894705109904},2.619961279357761E-2,0.25018787299149226,6.2799705111564545,{"$f":"-DF_LR","v":-2.9088820873213997E-4},{"$f":"DF_LR","v":2.9088820873213997E-4},{"$f":"FI_T-Rechentabelle!AL1026","v":2.9488843545699694E-5},{"$f":"K1026","v":3.3075192926723673E-5}]
[6.4062498509883881E-2,6.2500002968590707E-5,6.2800002098083496,0,0,null,{"$f":"E1027/1000","v":0},null,null,null,null,null,"-",{"$f":"N1026+(L1028-L1026)/2","v":2.2214415752332319E-2},2.619961279357761E-2,0,-3.9851970412452913E-3,{"$f":"R1026+KP_DR*(1+TA_SIM/TN_DR)*Q1027-KP_DR*Q1026","v":-1.637618246321771E-2},"-",{"$f":"R1027","v":-1.637618246321771E-2},0,{"$f":"T1027+U1027","v":-1.637618246321771E-2},-1.637618246321771E-2,-1.7881597745099141E-2,{"$f":"W1027-X1027","v":1.5054152818814309E-3},5.6630390401236255E-2,5.6630390401236255E-2,{"$f":"AA1027","v":5.6630390401236255E-2},"-",{"$f":"(1/R_M*AB1027+AD1026*T_M/TA_SIM)/(1+T_M/TA_SIM)","v":-1.6910362079369294E-2},{"$f":"AD1027","v":-1.6910362079369294E-2},{"$f":"AE1027","v":-1.6910362079369294E-2},"-",-1.1837253455558505E-2,-24.594335041675677,2.466246685347288E-2,0.23550921051421392,6.2799720525606331,-2.9088820873213997E-4,2.9088820873213997E-4,{"$f":"FI_T-Rechentabelle!AL1027","v":2.7947439367181914E-5},{"$f":"AP1026","v":3.3075192926723673E-5}]
[6.4125001430511475E-2,6.2500002968590707E-5,6.2800002098083496,0,0,null,0,null,{"$f":"C1028","v":6.2800002098083496},{"$f":"AL1026","v":6.2799705111564545},{"$f":"I1028-J1028","v":2.969865189506038E-5},{"$f":"L1026+KP_LR*(1+2*TA_SIM/TN_LR)*K1028-KP_LR*K1026","v":2.1493058676010736E-2},"-",{"$f":"L1028","v":2.1493058676010736E-2},{"$f":"AJ1027","v":2.466246685347288E-2},{"$f":"D1028*KP_VDR","v":0},{"$f":"N1028-O1028+P1028","v":-3.1694081774621442E-3},-1.5259469304908204E-2,"-",-1.5259469304908204E-2,0,-1.5259469304908204E-2,-1.5259469304908204E-2,{"$f":"AF1027","v":-1.6910362079369294E-2},1.65089277446109E-3,6.9930738942271156E-2,6.9930738942271156E-2,6.9930738942271156E-2,"-",-1.5845269966813857E-2,-1.5845269966813857E-2,-1.5845269966813857E-2,"-",-1.1091688976769699E-2,-23.045271092394966,2.3222137410198195E-2,0.22175507747953604,6.2799735039442215,-2.9088820873213997E-4,2.9088820873213997E-4,{"$f":"FI_T-Rechentabelle!AL1028","v":2.6496055778757466E-5},{"$f":"K1028","v":2.969865189506038E-5}]
[6.4187496900558472E-2,6.2500002968590707E-5,6.2800002098083496,0,0,null,0,null,null,null,null,null,"-",{"$f":"N1028+(L1030-L1028)/2","v":2.0869037255723741E-2},2.3222137410198195E-2,0,-2.3531001544744544E-3,-1.3942543870703299E-2,"-",-1.3942543870703299E-2,0,-1.3942543870703299E-2,-1.3942543870703299E-2,-1.5845269966813857E-2,1.9027260961105574E-3,9.1167752538518054E-2,9.1167752538518054E-2,9.1167752538518054E-2,"-",-1.4617704743516827E-2,-1.4617704743516827E-2,-1.4617704743516827E-2,"-",-1.0232393320461778E-2,-21.259907169045871,2.1893393212132829E-2,0.20906650504592927,6.2799748722812971,-2.9088820873213997E-4,2.9088820873213997E-4,{"$f":"FI_T-Rechentabelle!AL1029","v":2.5127718703110702E-5},{"$f":"AP1028","v":2.969865189506038E-5}]
[6.4249999821186066E-2,6.2500002968590707E-5,6.2800002098083496,0,0,null,0,null,{"$f":"C1030","v":6.2800002098083496},{"$f":"AL1028","v":6.2799735039442215},{"$f":"I1030-J1030","v":2.6705864128118151E-5},{"$f":"L1028+KP_LR*(1+2*TA_SIM/TN_LR)*K1030-KP_LR*K1028","v":2.0245015835436746E-2},"-",{"$f":"L1030","v":2.0245015835436746E-2},2.1893393212132829E-2,0,-1.6483773766960835E-3,-1.2712246994244641E-2,"-",-1.2712246994244641E-2,0,-1.2712246994244641E-2,-1.2712246994244641E-2,-1.4617704743516827E-2,1.9054577492721853E-3,9.4924546949404803E-2,9.4924546949404803E-2,9.4924546949404803E-2,"-",-1.3388377163341323E-2,-1.3388377163341323E-2,-1.3388377163341323E-2,"-",-9.3718640143389247E-3,-19.471980083812433,2.0676394456894551E-2,0.19744502298795796,6.2799761645559506,-2.9088820873213997E-4,2.9088820873213997E-4,{"$f":"FI_T-Rechentabelle!AL1030","v":2.3835444049602472E-5},{"$f":"K1030","v":2.6705864128118151E-5}]
[6.431250274181366E-2,6.2500002968590707E-5,6.2800002098083496,0,0,null,0,null,null,null,null,null,"-",{"$f":"N1030+(L1032-L1030)/2","v":1.9702436450876163E-2},2.0676394456894551E-2,0,-9.7395800601838764E-4,-1.1387715241508771E-2,"-",-1.1387715241508771E-2,0,-1.1387715241508771E-2,-1.1387715241508771E-2,-1.3388377163341323E-2,2.0006619218325521E-3,0.10535043956094178,0.10535043956094178,0.10535043956094178,"-",-1.2097627536352677E-2,-1.2097627536352677E-2,-1.2097627536352677E-2,"-",-8.4683392754468737E-3,-17.594721120812117,1.9576724386843793E-2,0.18694394734283062,6.2799773881012246,-2.9088820873213997E-4,2.9088820873213997E-4,{"$f":"FI_T-Rechentabelle!AL1031","v":2.2611898775615202E-5},{"$f":"AP1030","v":2.6705864128118151E-5}]
[6.4374998211860657E-2,6.2500002968590707E-5,6.2800002098083496,0,0,null,0,null,{"$f":"C1032","v":6.2800002098083496},{"$f":"AL1030","v":6.2799761645559506},{"$f":"I1032-J1032","v":2.4045252398963157E-5},{"$f":"L1030+KP_LR*(1+2*TA_SIM/TN_LR)*K1032-KP_LR*K1030","v":1.915985706631558E-2},"-",{"$f":"L1032","v":1.915985706631558E-2},1.9576724386843793E-2,0,-4.1686732052821293E-4,-1.0199105643696584E-2,"-",-1.0199105643696584E-2,0,-1.0199105643696584E-2,-1.0199105643696584E-2,-1.2097627536352677E-2,1.8985218926560934E-3,0.10173294169920241,0.10173294169920241,0.10173294169920241,"-",-1.0872774702381098E-2,-1.0872774702381098E-2,-1.0872774702381098E-2,"-",-7.6109422916667679E-3,-15.813302081169265,1.8588393006770714E-2,0.17750607786974271,6.2799785498757874,-2.9088820873213997E-4,2.9088820873213997E-4,{"$f":"FI_T-Rechentabelle!AL1032","v":2.1450124212840649E-5},{"$f":"K1032","v":2.4045252398963157E-5}]
[6.4437501132488251E-2,6.2500002968590707E-5,6.2800002098083496,0,0,null,0,null,null,null,null,null,"-",{"$f":"N1032+(L1034-L1032)/2","v":1.8677536457455776E-2},1.8588393006770714E-2,0,8.9143450685062048E-5,-9.0054369620615089E-3,"-",-9.0054369620615089E-3,0,-9.0054369620615089E-3,-9.0054369620615089E-3,-1.0872774702381098E-2,1.8673377403195888E-3,0.10303774406869604,0.10303774406869604,0.10303774406869604,"-",-9.6680406763685525E-3,-9.6680406763685525E-3,-9.6680406763685525E-3,"-",-6.7676284734579867E-3,-14.061143722123386,1.7709571524138004E-2,0.16911395088636208,6.2799796567240076,-2.9088820873213997E-4,2.9088820873213997E-4,{"$f":"FI_T-Rechentabelle!AL1033","v":2.03432759926514E-5},{"$f":"AP1032","v":2.4045252398963157E-5}]
[6.4499996602535248E-2,6.2500002968590707E-5,6.2800002098083496,0,0,null,0,null,{"$f":"C1034","v":6.2800002098083496},{"$f":"AL1032","v":6.2799785498757874},{"$f":"I1034-J1034","v":2.1659932562201334E-5},{"$f":"L1032+KP_LR*(1+2*TA_SIM/TN_LR)*K1034-KP_LR*K1032","v":1.8195215848595975E-2},"-",{"$f":"L1034","v":1.8195215848595975E-2},1.7709571524138004E-2,0,4.8564432445797126E-4,-7.9687325018505065E-3,"-",-7.9687325018505065E-3,0,-7.9687325018505065E-3,-7.9687325018505065E-3,-9.6680406763685525E-3,1.6993081745180459E-3,9.4422503389273105E-2,9.4422503389273105E-2,9.4422503389273105E-2,"-",-8.5717128218408718E-3,-8.5717128218408718E-3,-8.5717128218408718E-3,"-",-6.0001989752886103E-3,-12.466650686242696,1.6930405856247836E-2,0.16167346683442896,6.279980714874374,-2.9088820873213997E-4,2.9088820873213997E-4,{"$f":"FI_T-Rechentabelle!AL1034","v":1.9285125626211652E-5},{"$f":"K1034","v":2.1659932562201334E-5}]
[6.4562499523162842E-2,6.2500002968590707E-5,6.2800002098083496,0,0,null,0,null,null,null,null,null,"-",{"$f":"N1034+(L1036-L1034)/2","v":1.7750849000292532E-2},1.6930405856247836E-2,0,8.2044314404469687E-4,-6.9933103669092373E-3,"-",-6.9933103669092373E-3,0,-6.9933103669092373E-3,-6.9933103669092373E-3,-8.5717128218408718E-3,1.5784024549316345E-3,8.8888841988176454E-2,8.8888841988176454E-2,8.8888841988176454E-2,"-",-7.5533886573689374E-3,-7.5533886573689374E-3,-7.5533886573689374E-3,"-",-5.2873720601582562E-3,-10.985605776352079,1.6243805495225829E-2,0.155116916351309,6.2799817301122172,-2.9088820873213997E-4,2.9088820873213997E-4,{"$f":"FI_T-Rechentabelle!AL1035","v":1.8269887783084471E-5},{"$f":"AP1034","v":2.1659932562201334E-5}]
[6.4624994993209839E-2,6.2500002968590707E-5,6.2800002098083496,0,0,null,0,null,{"$f":"C1036","v":6.2800002098083496},{"$f":"AL1034","v":6.279980714874374},{"$f":"I1036-J1036","v":1.9494933975572337E-5},{"$f":"L1034+KP_LR*(1+2*TA_SIM/TN_LR)*K1036-KP_LR*K1034","v":1.7306482151989089E-2},"-",{"$f":"L1036","v":1.7306482151989089E-2},1.6243805495225829E-2,0,1.0626766567632603E-3,-6.1732175191542013E-3,"-",-6.1732175191542013E-3,0,-6.1732175191542013E-3,-6.1732175191542013E-3,-7.5533886573689374E-3,1.380171138214736E-3,7.7556538144321091E-2,7.7556538144321091E-2,7.7556538144321091E-2,"-",-6.6629556649724208E-3,-6.6629556649724208E-3,-6.6629556649724208E-3,"-",-4.664068965480694E-3,-9.69056506436878,1.5638145178702781E-2,0.14933328635875431,6.2799827074962904,-2.9088820873213997E-4,2.9088820873213997E-4,{"$f":"FI_T-Rechentabelle!AL1036","v":1.729250370985369E-5},{"$f":"K1036","v":1.9494933975572337E-5}]
[6.4687497913837433E-2,6.2500002968590707E-5,6.2800002098083496,0,0,null,0,null,null,null,null,null,"-",{"$f":"N1036+(L1038-L1036)/2","v":1.6879821026856971E-2},1.5638145178702781E-2,0,1.2416758481541904E-3,-5.4559385760416731E-3,"-",-5.4559385760416731E-3,0,-5.4559385760416731E-3,-5.4559385760416731E-3,-6.6629556649724208E-3,1.2070170889307476E-3,6.7660531044838032E-2,6.7660531044838032E-2,6.7660531044838032E-2,"-",-5.8842349624365379E-3,-5.8842349624365379E-3,-5.8842349624365379E-3,"-",-4.1189644737055766E-3,-8.5579980754323213,1.5103270298988261E-2,0.1442256074962194,6.2799836514506842,-2.9088820873213997E-4,2.9088820873213997E-4,{"$f":"FI_T-Rechentabelle!AL1037","v":1.6348549316091976E-5},{"$f":"AP1036","v":1.9494933975572337E-5}]
[6.4750000834465027E-2,6.2500002968590707E-5,6.2800002098083496,0,0,null,0,null,{"$f":"C1038","v":6.2800002098083496},{"$f":"AL1036","v":6.2799827074962904},{"$f":"I1038-J1038","v":1.7502312059214375E-5},{"$f":"L1036+KP_LR*(1+2*TA_SIM/TN_LR)*K1038-KP_LR*K1036","v":1.6453159901724856E-2},"-",{"$f":"L1038","v":1.6453159901724856E-2},1.5103270298988261E-2,0,1.349889602736595E-3,-4.8762191166038648E-3,"-",-4.8762191166038648E-3,0,-4.8762191166038648E-3,-4.8762191166038648E-3,-5.8842349624365379E-3,1.0080158458326731E-3,5.557789278925368E-2,5.557789278925368E-2,5.557789278925368E-2,"-",-5.233902158673605E-3,-5.233902158673605E-3,-5.233902158673605E-3,"-",-3.6637315110715231E-3,-7.6121577209048885,1.4627510441431705E-2,0.13968243551293008,6.2799845656700866,-2.9088820873213997E-4,2.9088820873213997E-4,{"$f":"FI_T-Rechentabelle!AL1038","v":1.5434329913688316E-5},{"$f":"K1038","v":1.7502312059214375E-5}]
[6.4812496304512024E-2,6.2500002968590707E-5,6.2800002098083496,0,0,null,0,null,null,null,null,null,"-",{"$f":"N1038+(L1040-L1038)/2","v":1.6028109496849945E-2},1.4627510441431705E-2,0,1.4005990554182401E-3,-4.4173187585043773E-3,"-",-4.4173187585043773E-3,0,-4.4173187585043773E-3,-4.4173187585043773E-3,-5.233902158673605E-3,8.1658340016922768E-4,4.366837135203297E-2,4.366837135203297E-2,4.366837135203297E-2,"-",-4.7070741585645056E-3,-4.7070741585645056E-3,-4.7070741585645056E-3,"-",-3.2949519109951538E-3,-6.8459420548413741,1.4199639063004119E-2,0.13559656481987248,6.2799854531475283,-2.9088820873213997E-4,2.9088820873213997E-4,{"$f":"FI_T-Rechentabelle!AL1039","v":1.4546852471930549E-5},{"$f":"AP1038","v":1.7502312059214375E-5}]
[6.4874999225139618E-2,6.2500002968590707E-5,6.2800002098083496,0,0,null,0,null,{"$f":"C1040","v":6.2800002098083496},{"$f":"AL1038","v":6.2799845656700866},{"$f":"I1040-J1040","v":1.5644138263049001E-5},{"$f":"L1038+KP_LR*(1+2*TA_SIM/TN_LR)*K1040-KP_LR*K1038","v":1.5603059091975034E-2},"-",{"$f":"L1040","v":1.5603059091975034E-2},1.4199639063004119E-2,0,1.4034200289709149E-3,-4.0686418257342479E-3,"-",-4.0686418257342479E-3,0,-4.0686418257342479E-3,-4.0686418257342479E-3,-4.7070741585645056E-3,6.3843233283025769E-4,3.2357802086696079E-2,3.2357802086696079E-2,3.2357802086696079E-2,"-",-4.2951823309321591E-3,-4.2951823309321591E-3,-4.2951823309321591E-3,"-",-3.0066276316525111E-3,-6.2468889084822585,1.3809208506223978E-2,0.13186822763713166,6.2799863162230602,-2.9088820873213997E-4,2.9088820873213997E-4,{"$f":"FI_T-Rechentabelle!AL1040","v":1.3683776939998893E-5},{"$f":"K1040","v":1.5644138263049001E-5}]
[6.4937502145767212E-2,6.2500002968590707E-5,6.2800002098083496,0,0,null,0,null,null,null,null,null,"-",{"$f":"N1040+(L1042-L1040)/2","v":1.5168737815217945E-2},1.3809208506223978E-2,0,1.3595293089939675E-3,-3.8388508145141362E-3,"-",-3.8388508145141362E-3,0,-3.8388508145141362E-3,-3.8388508145141362E-3,-4.2951823309321591E-3,4.5633151641802285E-4,2.0429281165380675E-2,2.0429281165380675E-2,2.0429281165380675E-2,"-",-4.0007749009851219E-3,-4.0007749009851219E-3,-4.0007749009851219E-3,"-",-2.8005424306895852E-3,-5.8187044061699247,1.3445539480838358E-2,0.12839544425475966,6.2799871565692778,-2.9088820873213997E-4,2.9088820873213997E-4,{"$f":"FI_T-Rechentabelle!AL1041","v":1.2843430722497828E-5},{"$f":"AP1040","v":1.5644138263049001E-5}]
[6.4999997615814209E-2,6.2500002968590707E-5,6.2800002098083496,0,0,null,0,null,{"$f":"C1042","v":6.2800002098083496},{"$f":"AL1040","v":6.2799863162230602},{"$f":"I1042-J1042","v":1.3893585289359578E-5},{"$f":"L1040+KP_LR*(1+2*TA_SIM/TN_LR)*K1042-KP_LR*K1040","v":1.4734416538460856E-2},"-",{"$f":"L1042","v":1.4734416538460856E-2},1.3445539480838358E-2,0,1.2888770576224978E-3,-3.6882648137098327E-3,"-",-3.6882648137098327E-3,0,-3.6882648137098327E-3,-3.6882648137098327E-3,-4.0007749009851219E-3,3.1251008727528921E-4,1.0918641012070303E-2,1.0918641012070303E-2,1.0918641012070303E-2,"-",-3.7991554898398473E-3,-3.7991554898398473E-3,-3.7991554898398473E-3,"-",-2.659408842887893E-3,-5.5254702740242942,1.3100197588711839E-2,0.12509767210344105,6.2799879753316272,-2.9088820873213997E-4,2.9088820873213997E-4,{"$f":"FI_T-Rechentabelle!AL1042","v":1.2024668373022962E-5},{"$f":"K1042","v":1.3893585289359578E-5}]
[6.5062500536441803E-2,6.2500002968590707E-5,6.2800002098083496,0,0,null,0,null,null,null,null,null,"-",{"$f":"N1042+(L1044-L1042)/2","v":1.4285328443399744E-2},1.3100197588711839E-2,0,1.185130854687905E-3,-3.6396179606833861E-3,"-",-3.6396179606833861E-3,0,-3.6396179606833861E-3,-3.6396179606833861E-3,-3.7991554898398473E-3,1.5953752915646123E-4,{"$f":"Z1042+KP_SR*(1+TA_SIM/TN_SR)*Y1043-KP_SR*Y1042","v":4.7944392253820856E-4},4.7944392253820856E-4,4.7944392253820856E-4,"-",-3.69622805167446E-3,-3.69622805167446E-3,-3.69622805167446E-3,"-",-2.5873596361721219E-3,-5.3757731896366545,{"$f":"AJ1042+AI1043*TA_SIM","v":1.2764211764359547E-2},0.12188924381817268,{"$f":"AL1042+AJ1043*TA_SIM","v":6.2799887730948623},-2.9088820873213997E-4,2.9088820873213997E-4,{"$f":"FI_T-Rechentabelle!AL1043","v":1.1226905137995402E-5},{"$f":"AP1042","v":1.3893585289359578E-5}]
[6.51249960064888E-2,6.2500002968590707E-5,6.2800002098083496,0,0,null,0,null,{"$f":"C1044","v":6.2800002098083496},{"$f":"AL1042","v":6.2799879753316272},{"$f":"I1044-J1044","v":1.2234476722383647E-5},{"$f":"L1042+KP_LR*(1+2*TA_SIM/TN_LR)*K1044-KP_LR*K1042","v":1.3836240348338632E-2},"-",{"$f":"L1044","v":1.3836240348338632E-2},1.2764211764359547E-2,0,1.0720285839790848E-3,-3.6402135431163559E-3,"-",-3.6402135431163559E-3,0,-3.6402135431163559E-3,-3.6402135431163559E-3,-3.69622805167446E-3,5.6014508558104113E-5,-6.6824028944184053E-3,-6.6824028944184053E-3,-6.6824028944184053E-3,"-",-3.660089659056398E-3,-3.660089659056398E-3,-3.660089659056398E-3,"-",-2.5620627613394784E-3,-5.3232137156440436,1.2431510907131795E-2,0.11871218465825023,6.2799895500642942,-2.9088820873213997E-4,2.9088820873213997E-4,{"$f":"FI_T-Rechentabelle!AL1044","v":1.0449935706091651E-5},{"$f":"K1044","v":1.2234476722383647E-5}]
[6.5187498927116394E-2,6.2500002968590707E-5,6.2800002098083496,0,0,null,0,null,null,null,null,null,"-",{"$f":"N1044+(L1046-L1044)/2","v":1.3371766380984125E-2},1.2431510907131795E-2,0,9.4025547385232985E-4,-3.7161766655023328E-3,"-",-3.7161766655023328E-3,0,-3.7161766655023328E-3,-3.7161766655023328E-3,-3.660089659056398E-3,-5.6087006445934735E-5,-1.4656142991923332E-2,-1.4656142991923332E-2,-1.4656142991923332E-2,"-",-3.6962748245054559E-3,-3.6962748245054559E-3,-3.6962748245054559E-3,"-",-2.587392377153819E-3,-5.3758412157777249,1.2095520831145687E-2,0.11550371577286959,6.279990306034346,-2.9088820873213997E-4,2.9088820873213997E-4,{"$f":"FI_T-Rechentabelle!AL1045","v":9.6939656542005537E-6},{"$f":"AP1044","v":1.2234476722383647E-5}]
[6.5250001847743988E-2,6.2500002968590707E-5,6.2800002098083496,0,0,null,0,null,{"$f":"C1046","v":6.2800002098083496},{"$f":"AL1044","v":6.2799895500642942},{"$f":"I1046-J1046","v":1.0659744055452336E-5},{"$f":"L1044+KP_LR*(1+2*TA_SIM/TN_LR)*K1046-KP_LR*K1044","v":1.2907292413629617E-2},"-",{"$f":"L1046","v":1.2907292413629617E-2},1.2095520831145687E-2,0,8.1177158248393021E-4,-3.8158452853291813E-3,"-",-3.8158452853291813E-3,0,-3.8158452853291813E-3,-3.8158452853291813E-3,-3.6962748245054559E-3,-1.1957046082372537E-4,-1.9335984393660379E-2,-1.9335984393660379E-2,-1.9335984393660379E-2,"-",-3.7734170572950223E-3,-3.7734170572950223E-3,-3.7734170572950223E-3,"-",-2.6413919401065155E-3,-5.488036443188272,1.1752518553446421E-2,0.11222828529361256,6.2799910405667561,-2.9088820873213997E-4,2.9088820873213997E-4,{"$f":"FI_T-Rechentabelle!AL1046","v":8.9594332441933489E-6},{"$f":"K1046","v":1.0659744055452336E-5}]
[6.5312497317790985E-2,6.2500002968590707E-5,6.2800002098083496,0,0,null,0,null,null,null,null,null,"-",{"$f":"N1046+(L1048-L1046)/2","v":1.2430730143857673E-2},1.1752518553446421E-2,0,6.7821159041125262E-4,-3.9598312500499456E-3,"-",-3.9598312500499456E-3,0,-3.9598312500499456E-3,-3.9598312500499456E-3,-3.7734170572950223E-3,-1.8641419275492333E-4,-2.4376758066630453E-2,-2.4376758066630453E-2,-2.4376758066630453E-2,"-",-3.8936842784272952E-3,-3.8936842784272952E-3,-3.8936842784272952E-3,"-",-2.7255789948991064E-3,-5.6629524099295789,1.1398584027825821E-2,0.10884845953660835,6.2799917529782574,-2.9088820873213997E-4,2.9088820873213997E-4,{"$f":"FI_T-Rechentabelle!AL1047","v":8.2470217428465276E-6},{"$f":"AP1046","v":1.0659744055452336E-5}]
[6.5375000238418579E-2,6.2500002968590707E-5,6.2800002098083496,0,0,null,0,null,{"$f":"C1048","v":6.2800002098083496},{"$f":"AL1046","v":6.2799910405667561},{"$f":"I1048-J1048","v":9.1692415935540339E-6},{"$f":"L1046+KP_LR*(1+2*TA_SIM/TN_LR)*K1048-KP_LR*K1046","v":1.1954167874085727E-2},"-",{"$f":"L1048","v":1.1954167874085727E-2},1.1398584027825821E-2,0,5.5558384625990602E-4,-4.1083935412172829E-3,"-",-4.1083935412172829E-3,0,-4.1083935412172829E-3,-4.1083935412172829E-3,-3.8936842784272952E-3,-2.1470926278998768E-4,-2.6764603538827855E-2,-2.6764603538827855E-2,-2.6764603538827855E-2,"-",-4.0322063834531564E-3,-4.0322063834531564E-3,-4.0322063834531564E-3,"-",-2.8225444684172093E-3,-5.8644181766407835,1.1032057891785772E-2,0.10534839275721956,6.279992442481876,-2.9088820873213997E-4,2.9088820873213997E-4,{"$f":"FI_T-Rechentabelle!AL1048","v":7.5575181242015788E-6},{"$f":"K1048","v":9.1692415935540339E-6}]
[6.5437495708465576E-2,6.2500002968590707E-5,6.2800002098083496,0,0,null,0,null,null,null,null,null,"-",{"$f":"N1048+(L1050-L1048)/2","v":1.1471541029838529E-2},1.1032057891785772E-2,0,4.3948313805275765E-4,-4.2701435189369061E-3,"-",-4.2701435189369061E-3,0,-4.2701435189369061E-3,-4.2701435189369061E-3,-4.0322063834531564E-3,-2.3793713548374978E-4,-2.88402230497854E-2,-2.88402230497854E-2,-2.88402230497854E-2,"-",-4.1857142127975713E-3,-4.1857142127975713E-3,-4.1857142127975713E-3,"-",-2.9299999489582999E-3,-6.0876790961111569,1.0651577948278824E-2,{"$f":"AJ1049/(2*PI())*60","v":0.10171507693183221},6.2799931082054981,-2.9088820873213997E-4,2.9088820873213997E-4,{"$f":"FI_T-Rechentabelle!AL1049","v":6.8917945021951255E-6},{"$f":"AP1048","v":9.1692415935540339E-6}]
[6.549999862909317E-2,6.2500002968590707E-5,6.2800002098083496,0,0,null,0,null,{"$f":"C1050","v":6.2800002098083496},{"$f":"AL1048","v":6.279992442481876},{"$f":"I1050-J1050","v":7.7673264735622638E-6},{"$f":"L1048+KP_LR*(1+2*TA_SIM/TN_LR)*K1050-KP_LR*K1048","v":1.0988914185591333E-2},"-",{"$f":"L1050","v":1.0988914185591333E-2},1.0651577948278824E-2,0,3.3733623731250877E-4,-4.4244787214473506E-3,"-",-4.4244787214473506E-3,0,-4.4244787214473506E-3,-4.4244787214473506E-3,-4.1857142127975713E-3,-2.3876450864977923E-4,-2.9345020001752091E-2,-2.9345020001752091E-2,-2.9345020001752091E-2,"-",-4.3397558312813587E-3,-4.3397558312813587E-3,-4.3397558312813587E-3,"-",-3.0378290818969507E-3,-6.3117163554891969,1.025709567606075E-2,9.7948048716694464E-2,6.2799937492739781,-2.9088820873213997E-4,2.9088820873213997E-4,{"$f":"FI_T-Rechentabelle!AL1050","v":6.2507260221167371E-6},{"$f":"K1050","v":7.7673264735622638E-6}]
[6.5562501549720764E-2,6.2500002968590707E-5,6.2800002098083496,0,0,null,0,null,null,null,null,null,"-",{"$f":"N1050+(L1052-L1050)/2","v":1.0507743130577774E-2},1.025709567606075E-2,0,2.5064745451702439E-4,-4.5641465450641048E-3,"-",-4.5641465450641048E-3,0,-4.5641465450641048E-3,-4.5641465450641048E-3,-4.3397558312813587E-3,-2.2439071378274611E-4,-2.8755900123324192E-2,-2.8755900123324192E-2,-2.8755900123324192E-2,"-",-4.4845240337218978E-3,-4.4845240337218978E-3,-4.4845240337218978E-3,"-",-3.1391668236053281E-3,-6.5222664109813584,9.8494540253744149E-3,9.4055357693682271E-2,6.2799943648648551,-2.9088820873213997E-4,2.9088820873213997E-4,{"$f":"FI_T-Rechentabelle!AL1051","v":5.6351351451766618E-6},{"$f":"AP1050","v":7.7673264735622638E-6}]
[6.5624997019767761E-2,6.2500002968590707E-5,6.2800002098083496,0,0,null,0,null,{"$f":"C1052","v":6.2800002098083496},{"$f":"AL1050","v":6.2799937492739781},{"$f":"I1052-J1052","v":6.4605343714774222E-6},{"$f":"L1050+KP_LR*(1+2*TA_SIM/TN_LR)*K1052-KP_LR*K1050","v":1.0026572075564217E-2},"-",{"$f":"L1052","v":1.0026572075564217E-2},9.8494540253744149E-3,0,1.7711805018980238E-4,-4.6912627799388989E-3,"-",-4.6912627799388989E-3,0,-4.6912627799388989E-3,-4.6912627799388989E-3,-4.4845240337218978E-3,-2.067387462170011E-4,-2.7903647409050804E-2,-2.7903647409050804E-2,-2.7903647409050804E-2,"-",-4.6179038699909868E-3,-4.6179038699909868E-3,-4.6179038699909868E-3,"-",-3.2325327089936908E-3,-6.7162532910735306,9.4296881946823192E-3,9.004688927993891E-2,6.279994954220367,-2.9088820873213997E-4,2.9088820873213997E-4,{"$f":"FI_T-Rechentabelle!AL1052","v":5.0457796332281646E-6},{"$f":"K1052","v":6.4605343714774222E-6}]
[6.5687499940395355E-2,6.2500002968590707E-5,6.2800002098083496,0,0,null,0,null,null,null,null,null,"-",{"$f":"N1052+(L1054-L1052)/2","v":9.5547529175511528E-3},9.4296881946823192E-3,0,1.2506472286883362E-4,-4.7813299926321544E-3,"-",-4.7813299926321544E-3,0,-4.7813299926321544E-3,-4.7813299926321544E-3,-4.6179038699909868E-3,-1.6342612264116756E-4,-2.5169145673959642E-2,-2.5169145673959642E-2,-2.5169145673959642E-2,"-",-4.7233400781466336E-3,-4.7233400781466336E-3,-4.7233400781466336E-3,"-",-3.3063380547026433E-3,-6.8695991163570396,9.0003382499100042E-3,8.594689931833413E-2,6.2799955167415078,-2.9088820873213997E-4,2.9088820873213997E-4,{"$f":"FI_T-Rechentabelle!AL1053","v":4.483258492449238E-6},{"$f":"AP1052","v":6.4605343714774222E-6}]
[6.5750002861022949E-2,6.2500002968590707E-5,6.2800002098083496,0,0,null,0,null,{"$f":"C1054","v":6.2800002098083496},{"$f":"AL1052","v":6.279994954220367},{"$f":"I1054-J1054","v":5.2555879825888496E-6},{"$f":"L1052+KP_LR*(1+2*TA_SIM/TN_LR)*K1054-KP_LR*K1052","v":9.0829337595380866E-3},"-",{"$f":"L1054","v":9.0829337595380866E-3},9.0003382499100042E-3,0,8.2595509628082334E-5,-4.8595537904647674E-3,"-",-4.8595537904647674E-3,0,-4.8595537904647674E-3,-4.8595537904647674E-3,-4.7233400781466336E-3,-1.3621371231813378E-4,-2.3513861494976744E-2,-2.3513861494976744E-2,-2.3513861494976744E-2,"-",-4.8112198925454822E-3,-4.8112198925454822E-3,-4.8112198925454822E-3,"-",-3.3678539247818376E-3,-6.997411021778178,8.5630000610488685E-3,8.177062724472775E-2,6.2799960519290119,-2.9088820873213997E-4,2.9088820873213997E-4,{"$f":"FI_T-Rechentabelle!AL1054","v":3.9480709883576992E-6},{"$f":"K1054","v":5.2555879825888496E-6}]
[6.5812498331069946E-2,6.2500002968590707E-5,6.2800002098083496,0,0,null,0,null,null,null,null,null,"-",{"$f":"N1054+(L1056-L1054)/2","v":8.6278250305625703E-3},8.5630000610488685E-3,0,6.4824969513701744E-5,-4.8849070453991783E-3,"-",-4.8849070453991783E-3,0,-4.8849070453991783E-3,-4.8849070453991783E-3,-4.8112198925454822E-3,-7.3687152853696078E-5,-1.9262766703715385E-2,-1.9262766703715385E-2,-1.9262766703715385E-2,"-",-4.8587599911608216E-3,-4.8587599911608216E-3,-4.8587599911608216E-3,"-",-3.4011319938125751E-3,-7.0665530725380741,8.1213404940152396E-3,7.7553089049294047E-2,6.2799965595127931,-2.9088820873213997E-4,2.9088820873213997E-4,{"$f":"FI_T-Rechentabelle!AL1055","v":3.4404872071291948E-6},{"$f":"AP1054","v":5.2555879825888496E-6}]
[6.587500125169754E-2,6.2500002968590707E-5,6.2800002098083496,0,0,null,0,null,{"$f":"C1056","v":6.2800002098083496},{"$f":"AL1054","v":6.2799960519290119},{"$f":"I1056-J1056","v":4.1578793377183842E-6},{"$f":"L1054+KP_LR*(1+2*TA_SIM/TN_LR)*K1056-KP_LR*K1054","v":8.1727163015870539E-3},"-",{"$f":"L1056","v":8.1727163015870539E-3},8.1213404940152396E-3,0,5.1375807571814314E-5,-4.9035306652086223E-3,"-",-4.9035306652086223E-3,0,-4.9035306652086223E-3,-4.9035306652086223E-3,-4.8587599911608216E-3,-4.4770674047800614E-5,-1.7316780936397446E-2,-1.7316780936397446E-2,-1.7316780936397446E-2,"-",-4.8876442969981622E-3,-4.8876442969981622E-3,-4.8876442969981622E-3,"-",-3.4213510078987134E-3,-7.1085622437122646,7.6770553537832235E-3,7.331047847668197E-2,6.2799970393287525,-2.9088820873213997E-4,2.9088820873213997E-4,{"$f":"FI_T-Rechentabelle!AL1056","v":2.96067124772037E-6},{"$f":"K1056","v":4.1578793377183842E-6}]
[6.5937496721744537E-2,6.2500002968590707E-5,6.2800002098083496,0,0,null,0,null,null,null,null,null,"-",{"$f":"N1056+(L1058-L1056)/2","v":7.7404847708688416E-3},7.6770553537832235E-3,0,6.3429417085618042E-5,-4.8601505180472463E-3,"-",-4.8601505180472463E-3,0,-4.8601505180472463E-3,-4.8601505180472463E-3,-4.8876442969981622E-3,2.7493778950915884E-5,-1.2192842584643891E-2,-1.2192842584643891E-2,-1.2192842584643891E-2,"-",-4.869906375094395E-3,-4.869906375094395E-3,-4.869906375094395E-3,"-",-3.4089344625660763E-3,-7.082764310338824,7.2343825843870467E-3,6.9083264911387152E-2,6.2799974914776637,-2.9088820873213997E-4,2.9088820873213997E-4,{"$f":"FI_T-Rechentabelle!AL1057","v":2.5085223365195475E-6},{"$f":"AP1056","v":4.1578793377183842E-6}]
[6.5999999642372131E-2,6.2500002968590707E-5,6.2800002098083496,0,0,null,0,null,{"$f":"C1058","v":6.2800002098083496},{"$f":"AL1056","v":6.2799970393287525},{"$f":"I1058-J1058","v":3.1704795970810551E-6},{"$f":"L1056+KP_LR*(1+2*TA_SIM/TN_LR)*K1058-KP_LR*K1056","v":7.3082532401506292E-3},"-",{"$f":"L1058","v":7.3082532401506292E-3},7.2343825843870467E-3,0,7.387065576358251E-5,-4.817959173097147E-3,"-",-4.817959173097147E-3,0,-4.817959173097147E-3,-4.817959173097147E-3,-4.869906375094395E-3,5.1947201997248026E-5,-1.037917851159037E-2,-1.037917851159037E-2,-1.037917851159037E-2,"-",-4.8363920512252507E-3,-4.8363920512252507E-3,-4.8363920512252507E-3,"-",-3.3854744358576753E-3,-7.0340212671050804,6.7947562551929795E-3,6.488514270711232E-2,6.27999791614993,-2.9088820873213997E-4,2.9088820873213997E-4,{"$f":"FI_T-Rechentabelle!AL1058","v":2.0838500702780038E-6},{"$f":"K1058","v":3.1704795970810551E-6}]
[6.6062495112419128E-2,6.2500002968590707E-5,6.2800002098083496,0,0,null,0,null,null,null,null,null,"-",{"$f":"N1058+(L1060-L1058)/2","v":6.9034891653858618E-3},6.7947562551929795E-3,0,1.0873291019288227E-4,-4.7107088601743034E-3,"-",-4.7107088601743034E-3,0,-4.7107088601743034E-3,-4.7107088601743034E-3,-4.8363920512252507E-3,1.2568319105094733E-4,-4.9682385999192539E-3,-4.9682385999192539E-3,-4.9682385999192539E-3,"-",-4.7553061215150089E-3,-4.7553061215150089E-3,-4.7553061215150089E-3,"-",-3.328714285060506E-3,-6.9160903491803571,6.3625006083692075E-3,6.075740533482904E-2,6.2799983138062183,-2.9088820873213997E-4,2.9088820873213997E-4,{"$f":"FI_T-Rechentabelle!AL1059","v":1.6861937819356854E-6},{"$f":"AP1058","v":3.1704795970810551E-6}]
[6.6124998033046722E-2,6.2500002968590707E-5,6.2800002098083496,0,0,null,0,null,{"$f":"C1060","v":6.2800002098083496},{"$f":"AL1058","v":6.27999791614993},{"$f":"I1060-J1060","v":2.2936584196386889E-6},{"$f":"L1058+KP_LR*(1+2*TA_SIM/TN_LR)*K1060-KP_LR*K1058","v":6.4987250906210934E-3},"-",{"$f":"L1060","v":6.4987250906210934E-3},6.3625006083692075E-3,0,1.3622448225188589E-4,-4.6138270263796346E-3,"-",-4.6138270263796346E-3,0,-4.6138270263796346E-3,-4.6138270263796346E-3,-4.7553061215150089E-3,1.4147909513537432E-4,-3.5947652190945817E-3,-3.5947652190945817E-3,-3.5947652190945817E-3,"-",-4.6640292859438459E-3,-4.6640292859438459E-3,-4.6640292859438459E-3,"-",-3.2648205001606918E-3,-6.7833378353639961,5.9385419936589575E-3,5.6708898782977323E-2,6.2799986849650926,-2.9088820873213997E-4,2.9088820873213997E-4,{"$f":"FI_T-Rechentabelle!AL1060","v":1.3150349076340717E-6},{"$f":"K1060","v":2.2936584196386889E-6}]
[6.6187500953674316E-2,6.2500002968590707E-5,6.2800002098083496,0,0,null,0,null,null,null,null,null,"-",{"$f":"N1060+(L1062-L1060)/2","v":6.1243050973498331E-3},5.9385419936589575E-3,0,1.8576310369087558E-4,-4.4538064118742841E-3,"-",-4.4538064118742841E-3,0,-4.4538064118742841E-3,-4.4538064118742841E-3,-4.6640292859438459E-3,2.1022287406956188E-4,1.6239247698353141E-3,1.6239247698353141E-3,1.6239247698353141E-3,"-",-4.52840162525385E-3,-4.52840162525385E-3,-4.52840162525385E-3,"-",-3.169881137677695E-3,-6.5860817321373251,5.5269118854003743E-3,5.2778120795688992E-2,6.2799990303970858,-2.9088820873213997E-4,2.9088820873213997E-4,{"$f":"FI_T-Rechentabelle!AL1061","v":9.6960291440240098E-7},{"$f":"AP1060","v":2.2936584196386889E-6}]
[6.6249996423721313E-2,6.2500002968590707E-5,6.2800002098083496,0,0,null,0,null,{"$f":"C1062","v":6.2800002098083496},{"$f":"AL1060","v":6.2799986849650926},{"$f":"I1062-J1062","v":1.5248432569947568E-6},{"$f":"L1060+KP_LR*(1+2*TA_SIM/TN_LR)*K1062-KP_LR*K1060","v":5.7498851040785719E-3},"-",{"$f":"L1062","v":5.7498851040785719E-3},5.5269118854003743E-3,0,2.2297321867819752E-4,-4.3132674369445309E-3,"-",-4.3132674369445309E-3,0,-4.3132674369445309E-3,-4.3132674369445309E-3,-4.52840162525385E-3,2.1513418830931916E-4,2.3711764700821668E-3,2.3711764700821668E-3,2.3711764700821668E-3,"-",-4.3896053747317513E-3,-4.3896053747317513E-3,-4.3896053747317513E-3,"-",-3.0727237623122258E-3,-6.3842172497656877,5.1278983072900186E-3,4.8967821796666165E-2,6.2799993508907299,-2.9088820873213997E-4,2.9088820873213997E-4,{"$f":"FI_T-Rechentabelle!AL1062","v":6.4910927033423604E-7},{"$f":"K1062","v":1.5248432569947568E-6}]
[6.6312499344348907E-2,6.2500002968590707E-5,6.2800002098083496,0,0,null,0,null,null,null,null,null,"-",{"$f":"N1062+(L1064-L1062)/2","v":5.4070390963789992E-3},5.1278983072900186E-3,0,2.7914078908898056E-4,-4.1151291848606254E-3,"-",-4.1151291848606254E-3,0,-4.1151291848606254E-3,-4.1151291848606254E-3,-4.3896053747317513E-3,2.7447618987112583E-4,7.0501382252762517E-3,7.0501382252762517E-3,7.0501382252762517E-3,"-",-4.2125239619117119E-3,-4.2125239619117119E-3,-4.2125239619117119E-3,"-",-2.948766773338198E-3,-6.1266710437111938,4.7449813670580694E-3,4.5311234366773846E-2,6.2799996474520654,-2.9088820873213997E-4,2.9088820873213997E-4,{"$f":"FI_T-Rechentabelle!AL1063","v":3.5254793484540414E-7},{"$f":"AP1062","v":1.5248432569947568E-6}]
[6.6375002264976501E-2,6.2500002968590707E-5,6.2800002098083496,0,0,null,0,null,{"$f":"C1064","v":6.2800002098083496},{"$f":"AL1062","v":6.2799993508907299},{"$f":"I1064-J1064","v":8.5891761969492109E-7},{"$f":"L1062+KP_LR*(1+2*TA_SIM/TN_LR)*K1064-KP_LR*K1062","v":5.0641930886794256E-3},"-",{"$f":"L1064","v":5.0641930886794256E-3},4.7449813670580694E-3,0,3.1921172162135622E-4,-3.9445022318034895E-3,"-",-3.9445022318034895E-3,0,-3.9445022318034895E-3,-3.9445022318034895E-3,-4.2125239619117119E-3,2.6802173010822238E-4,7.0985368027665433E-3,7.0985368027665433E-3,7.0985368027665433E-3,"-",-4.0396067166806413E-3,-4.0396067166806413E-3,-4.0396067166806413E-3,"-",-2.8277247016764489E-3,-5.8751811794648843,4.3777825433415143E-3,4.1804743893252692E-2,6.2799999210634745,-2.9088820873213997E-4,2.9088820873213997E-4,{"$f":"FI_T-Rechentabelle!AL1064","v":7.8936525760298082E-8},{"$f":"K1064","v":8.5891761969492109E-7}]
[6.6437497735023499E-2,6.2500002968590707E-5,6.2800002098083496,0,0,null,0,null,null,null,null,null,"-",{"$f":"N1064+(L1066-L1064)/2","v":4.7527199660178741E-3},4.3777825433415143E-3,0,3.7493742267635972E-4,-3.7240328482800178E-3,"-",-3.7240328482800178E-3,0,-3.7240328482800178E-3,-3.7240328482800178E-3,-4.0396067166806413E-3,3.1557386840062353E-4,1.1026818650879483E-2,1.1026818650879483E-2,1.1026818650879483E-2,"-",-3.8360106725512468E-3,-3.8360106725512468E-3,-3.8360106725512468E-3,"-",-2.6852074707858727E-3,-5.5790722434778157,4.0290905281241511E-3,3.8474980422941625E-2,6.2800001728816328,-2.9088820873213997E-4,2.9088820873213997E-4,{"$f":"FI_T-Rechentabelle!AL1065","v":-1.7288163256523603E-7},{"$f":"AP1064","v":8.5891761969492109E-7}]
[6.6500000655651093E-2,6.2500002968590707E-5,6.2800002098083496,0,0,null,0,null,{"$f":"C1066","v":6.2800002098083496},{"$f":"AL1064","v":6.2799999210634745},{"$f":"I1066-J1066","v":2.8874487512098312E-7},{"$f":"L1064+KP_LR*(1+2*TA_SIM/TN_LR)*K1066-KP_LR*K1064","v":4.4412468433563234E-3},"-",{"$f":"L1066","v":4.4412468433563234E-3},4.0290905281241511E-3,0,4.1215631523217229E-4,-3.5373520977812112E-3,"-",-3.5373520977812112E-3,0,-3.5373520977812112E-3,-3.5373520977812112E-3,-3.8360106725512468E-3,2.9865857477003564E-4,1.0398254728186025E-2,1.0398254728186025E-2,1.0398254728186025E-2,"-",-3.6433277210867468E-3,-3.6433277210867468E-3,-3.6433277210867468E-3,"-",-2.5503294047607224E-3,-5.2988352477887437,3.6979133251373547E-3,3.5312471089259834E-2,6.2800004040012158,-2.9088820873213997E-4,2.9088820873213997E-4,{"$f":"FI_T-Rechentabelle!AL1066","v":-4.040012155925865E-7},{"$f":"K1066","v":2.8874487512098312E-7}]
[6.656249612569809E-2,6.2500002968590707E-5,6.2800002098083496,0,0,null,0,null,null,null,null,null,"-",{"$f":"N1066+(L1068-L1066)/2","v":4.1598210648290425E-3},3.6979133251373547E-3,0,4.6190773969168779E-4,-3.3095165953876305E-3,"-",-3.3095165953876305E-3,0,-3.3095165953876305E-3,-3.3095165953876305E-3,-3.6433277210867468E-3,3.3381112569911631E-4,1.349028686083855E-2,1.349028686083855E-2,1.349028686083855E-2,"-",-3.4279657045067097E-3,-3.4279657045067097E-3,-3.4279657045067097E-3,"-",-2.3995759931546966E-3,-4.9856139479632171,3.3863124533896538E-3,3.2336901948636414E-2,6.2800006156457444,-2.9088820873213997E-4,2.9088820873213997E-4,{"$f":"FI_T-Rechentabelle!AL1067","v":-6.1564574416195228E-7},{"$f":"AP1066","v":2.8874487512098312E-7}]
[6.6624999046325684E-2,6.2500002968590707E-5,6.2800002098083496,0,0,null,0,null,{"$f":"C1068","v":6.2800002098083496},{"$f":"AL1066","v":6.2800004040012158},{"$f":"I1068-J1068","v":-1.9419286623190146E-7},{"$f":"L1066+KP_LR*(1+2*TA_SIM/TN_LR)*K1068-KP_LR*K1066","v":3.8783952863017624E-3},"-",{"$f":"L1068","v":3.8783952863017624E-3},3.3863124533896538E-3,0,4.9208283291210866E-4,-3.1196639992824666E-3,"-",-3.1196639992824666E-3,0,-3.1196639992824666E-3,-3.1196639992824666E-3,-3.4279657045067097E-3,3.0830170522424313E-4,1.2276512665667001E-2,1.2276512665667001E-2,1.2276512665667001E-2,"-",-3.2290613785556223E-3,-3.2290613785556223E-3,-3.2290613785556223E-3,"-",-2.2603429649889354E-3,-4.6963286203800854,3.0927919146158983E-3,2.9533987269946039E-2,6.280000808945239,-2.9088820873213997E-4,2.9088820873213997E-4,{"$f":"FI_T-Rechentabelle!AL1068","v":-8.0894523879493363E-7},{"$f":"K1068","v":-1.9419286623190146E-7}]
[6.6687501966953278E-2,6.2500002968590707E-5,6.2800002098083496,0,0,null,0,null,null,null,null,null,"-",{"$f":"N1068+(L1070-L1068)/2","v":3.6249105858345708E-3},3.0927919146158983E-3,0,5.3211867121867248E-4,-2.8972131782989425E-3,"-",-2.8972131782989425E-3,0,-2.8972131782989425E-3,-2.8972131782989425E-3,-3.2290613785556223E-3,3.3184820025667977E-4,1.4550201981972471E-2,1.4550201981972471E-2,1.4550201981972471E-2,"-",-3.0149657654868329E-3,-3.0149657654868329E-3,-3.0149657654868329E-3,"-",-2.1104760358407831E-3,-4.3849491706644148,2.8187325914493726E-3,2.6916913511003733E-2,6.2800009851160263,-2.9088820873213997E-4,2.9088820873213997E-4,{"$f":"FI_T-Rechentabelle!AL1069","v":-9.8511602608652993E-7},{"$f":"AP1068","v":-1.9419286623190146E-7}]
[6.6749997437000275E-2,6.2500002968590707E-5,6.2800002098083496,0,0,null,0,null,{"$f":"C1070","v":6.2800002098083496},{"$f":"AL1068","v":6.280000808945239},{"$f":"I1070-J1070","v":-5.9913688943424859E-7},{"$f":"L1068+KP_LR*(1+2*TA_SIM/TN_LR)*K1070-KP_LR*K1068","v":3.3714258853673792E-3},"-",{"$f":"L1070","v":3.3714258853673792E-3},2.8187325914493726E-3,0,5.5269329391800662E-4,-2.7148191763870276E-3,"-",-2.7148191763870276E-3,0,-2.7148191763870276E-3,-2.7148191763870276E-3,-3.0149657654868329E-3,3.0014658909980523E-4,1.2886517991341172E-2,1.2886517991341172E-2,1.2886517991341172E-2,"-",-2.8213228047773158E-3,-2.8213228047773158E-3,-2.8213228047773158E-3,"-",-1.9749259633441208E-3,-4.1033159429547492,2.5622753450147005E-3,2.4467927203294871E-2,6.2800011452582352,-2.9088820873213997E-4,2.9088820873213997E-4,{"$f":"FI_T-Rechentabelle!AL1070","v":-1.1452582349136264E-6},{"$f":"K1070","v":-5.9913688943424859E-7}]
[6.6812500357627869E-2,6.2500002968590707E-5,6.2800002098083496,0,0,null,0,null,null,null,null,null,"-",{"$f":"N1070+(L1072-L1070)/2","v":3.1433314875113126E-3},2.5622753450147005E-3,0,5.810561424966121E-4,-2.5074727553878306E-3,"-",-2.5074727553878306E-3,0,-2.5074727553878306E-3,-2.5074727553878306E-3,-2.8213228047773158E-3,3.1385004938948519E-4,1.4435615812468071E-2,1.4435615812468071E-2,1.4435615812468071E-2,"-",-2.6188389019454242E-3,-2.6188389019454242E-3,-2.6188389019454242E-3,"-",-1.8331872313617969E-3,-3.8088244989856572,2.3242238138280972E-3,2.2194702529358325E-2,6.2800012905222236,-2.9088820873213997E-4,2.9088820873213997E-4,{"$f":"FI_T-Rechentabelle!AL1071","v":-1.2905222233072777E-6},{"$f":"AP1070","v":-5.9913688943424859E-7}]
[6.6874995827674866E-2,6.2500002968590707E-5,6.2800002098083496,0,0,null,0,null,{"$f":"C1072","v":6.2800002098083496},{"$f":"AL1070","v":6.2800011452582352},{"$f":"I1072-J1072","v":-9.354498855529414E-7},{"$f":"L1070+KP_LR*(1+2*TA_SIM/TN_LR)*K1072-KP_LR*K1070","v":2.9152370896552461E-3},"-",{"$f":"L1072","v":2.9152370896552461E-3},2.3242238138280972E-3,0,5.9101327582714892E-4,-2.3403270486420666E-3,"-",-2.3403270486420666E-3,0,-2.3403270486420666E-3,-2.3403270486420666E-3,-2.6188389019454242E-3,2.7851185330335761E-4,1.2476189128861014E-2,1.2476189128861014E-2,1.2476189128861014E-2,"-",-2.4391538352981296E-3,-2.4391538352981296E-3,-2.4391538352981296E-3,"-",-1.7074076847086905E-3,-3.547491553518991,2.10250559173316E-3,2.0077449468160969E-2,6.2800014219288229,-2.9088820873213997E-4,2.9088820873213997E-4,{"$f":"FI_T-Rechentabelle!AL1072","v":-1.4219288226868798E-6},{"$f":"K1072","v":-9.354498855529414E-7}]
[6.693749874830246E-2,6.2500002968590707E-5,6.2800002098083496,0,0,null,0,null,null,null,null,null,"-",{"$f":"N1072+(L1074-L1072)/2","v":2.7098334593527612E-3},2.10250559173316E-3,0,6.0732786761960112E-4,-2.1544798995014078E-3,"-",-2.1544798995014078E-3,0,-2.1544798995014078E-3,-2.1544798995014078E-3,-2.4391538352981296E-3,2.8467393579672184E-4,1.3441343315369739E-2,1.3441343315369739E-2,1.3441343315369739E-2,"-",-2.2554932315583414E-3,-2.2554932315583414E-3,-2.2554932315583414E-3,"-",-1.578845262090839E-3,-3.280376609372198,1.8974820536473978E-3,1.8119618895968657E-2,6.2800015405214511,-2.9088820873213997E-4,2.9088820873213997E-4,{"$f":"FI_T-Rechentabelle!AL1073","v":-1.5405214508490417E-6},{"$f":"AP1072","v":-9.354498855529414E-7}]
[6.7000001668930054E-2,6.2500002968590707E-5,6.2800002098083496,0,0,null,0,null,{"$f":"C1074","v":6.2800002098083496},{"$f":"AL1072","v":6.2800014219288229},{"$f":"I1074-J1074","v":-1.2121204733261948E-6},{"$f":"L1072+KP_LR*(1+2*TA_SIM/TN_LR)*K1074-KP_LR*K1072","v":2.5044298290502762E-3},"-",{"$f":"L1074","v":2.5044298290502762E-3},1.8974820536473978E-3,0,6.0694777540287845E-4,-2.0073908043065237E-3,"-",-2.0073908043065237E-3,0,-2.0073908043065237E-3,-2.0073908043065237E-3,-2.2554932315583414E-3,2.4810242725181774E-4,1.1338450998817941E-2,1.1338450998817941E-2,1.1338450998817941E-2,"-",-2.0954271494604258E-3,-2.0954271494604258E-3,-2.0954271494604258E-3,"-",-1.466799004622298E-3,-3.0475774041601866,1.7070084658873861E-3,1.6300730114741431E-2,6.2800016472094802,-2.9088820873213997E-4,2.9088820873213997E-4,{"$f":"FI_T-Rechentabelle!AL1074","v":-1.6472094799269144E-6},{"$f":"K1074","v":-1.2121204733261948E-6}]
[6.7062497138977051E-2,6.2500002968590707E-5,6.2800002098083496,0,0,null,0,null,null,null,null,null,"-",{"$f":"N1074+(L1076-L1074)/2","v":2.3191033609968686E-3},1.7070084658873861E-3,0,6.120948951094825E-4,-1.8462456901662152E-3,"-",-1.8462456901662152E-3,0,-1.8462456901662152E-3,-1.8462456901662152E-3,-2.0954271494604258E-3,2.4918145929421053E-4,1.1880402558924745E-2,1.1880402558924745E-2,1.1880402558924745E-2,"-",-1.9346649176577399E-3,-1.9346649176577399E-3,-1.9346649176577399E-3,"-",-1.3542654423604179E-3,-2.813765722751751,1.5311481082154017E-3,1.4621387401697128E-2,6.2800017429062374,-2.9088820873213997E-4,2.9088820873213997E-4,{"$f":"FI_T-Rechentabelle!AL1075","v":-1.7429062371121518E-6},{"$f":"AP1074","v":-1.2121204733261948E-6}]
[6.7125000059604645E-2,6.2500002968590707E-5,6.2800002098083496,0,0,null,0,null,{"$f":"C1076","v":6.2800002098083496},{"$f":"AL1074","v":6.2800016472094802},{"$f":"I1076-J1076","v":-1.4374011305662293E-6},{"$f":"L1074+KP_LR*(1+2*TA_SIM/TN_LR)*K1076-KP_LR*K1074","v":2.1337768929434609E-3},"-",{"$f":"L1076","v":2.1337768929434609E-3},1.5311481082154017E-3,0,6.0262878472805924E-4,-1.7212530244410439E-3,"-",-1.7212530244410439E-3,0,-1.7212530244410439E-3,-1.7212530244410439E-3,-1.9346649176577399E-3,2.1341189321669608E-4,9.7688965596310975E-3,9.7688965596310975E-3,9.7688965596310975E-3,"-",-1.7969798252599014E-3,-1.7969798252599014E-3,-1.7969798252599014E-3,"-",-1.2578858776819309E-3,-2.613517302476482,1.3678032768106216E-3,1.3061559160902148E-2,6.2800018283939423,-2.9088820873213997E-4,2.9088820873213997E-4,{"$f":"FI_T-Rechentabelle!AL1076","v":-1.8283939420271622E-6},{"$f":"K1076","v":-1.4374011305662293E-6}]
[6.7187495529651642E-2,6.2500002968590707E-5,6.2800002098083496,0,0,null,0,null,null,null,null,null,"-",{"$f":"N1076+(L1078-L1076)/2","v":1.9661645116771419E-3},1.3678032768106216E-3,0,5.9836123486652027E-4,-1.5852607334490502E-3,"-",-1.5852607334490502E-3,0,-1.5852607334490502E-3,-1.5852607334490502E-3,-1.7969798252599014E-3,2.1171909181085121E-4,1.0046192413370162E-2,1.0046192413370162E-2,1.0046192413370162E-2,"-",-1.660386862801317E-3,-1.660386862801317E-3,-1.660386862801317E-3,"-",-1.1622708039609219E-3,-2.4148572698128441,1.2168746974473188E-3,1.1620297393331723E-2,6.2800019044486106,-2.9088820873213997E-4,2.9088820873213997E-4,{"$f":"FI_T-Rechentabelle!AL1077","v":-1.9044486103680924E-6},{"$f":"AP1076","v":-1.4374011305662293E-6}]
[6.7249998450279236E-2,6.2500002968590707E-5,6.2800002098083496,0,0,null,0,null,{"$f":"C1078","v":6.2800002098083496},{"$f":"AL1076","v":6.2800018283939423},{"$f":"I1078-J1078","v":-1.6185855926664772E-6},{"$f":"L1076+KP_LR*(1+2*TA_SIM/TN_LR)*K1078-KP_LR*K1076","v":1.7985521304108231E-3},"-",{"$f":"L1078","v":1.7985521304108231E-3},1.2168746974473188E-3,0,5.816774329635043E-4,-1.4820922437089538E-3,"-",-1.4820922437089538E-3,0,-1.4820922437089538E-3,-1.4820922437089538E-3,-1.660386862801317E-3,1.7829461909236316E-4,8.0335935511742611E-3,8.0335935511742611E-3,8.0335935511742611E-3,"-",-1.5453580762901432E-3,-1.5453580762901432E-3,-1.5453580762901432E-3,"-",-1.0817506534031001E-3,-2.2475600527801789,1.0764021941485576E-3,1.0278883797222299E-2,6.2800019717237481,-2.9088820873213997E-4,2.9088820873213997E-4,{"$f":"FI_T-Rechentabelle!AL1078","v":-1.9717237478289462E-6},{"$f":"K1078","v":-1.6185855926664772E-6}]
[6.731250137090683E-2,6.2500002968590707E-5,6.2800002098083496,0,0,null,0,null,null,null,null,null,"-",{"$f":"N1078+(L1080-L1078)/2","v":1.6466364656788628E-3},1.0764021941485576E-3,0,5.7023427153030516E-4,-1.3695760315574638E-3,"-",-1.3695760315574638E-3,0,-1.3695760315574638E-3,-1.3695760315574638E-3,-1.5453580762901432E-3,1.7578204473267934E-4,8.1861095765879219E-3,8.1861095765879219E-3,8.1861095765879219E-3,"-",-1.4319503054948939E-3,-1.4319503054948939E-3,-1.4319503054948939E-3,"-",-1.0023652138464257E-3,-2.0826204318438095,9.4623841715831957E-4,9.0359112860518478E-3,6.2800020308636491,-2.9088820873213997E-4,2.9088820873213997E-4,{"$f":"FI_T-Rechentabelle!AL1079","v":-2.0308636488053367E-6},{"$f":"AP1078","v":-1.6185855926664772E-6}]
[6.7374996840953827E-2,6.2500002968590707E-5,6.2800002098083496,0,0,null,0,null,{"$f":"C1080","v":6.2800002098083496},{"$f":"AL1078","v":6.2800019717237481},{"$f":"I1080-J1080","v":-1.7619153984682612E-6},{"$f":"L1078+KP_LR*(1+2*TA_SIM/TN_LR)*K1080-KP_LR*K1078","v":1.4947208009469025E-3},"-",{"$f":"L1080","v":1.4947208009469025E-3},9.4623841715831957E-4,0,5.4848238378858293E-4,-1.2862380896999151E-3,"-",-1.2862380896999151E-3,0,-1.2862380896999151E-3,-1.2862380896999151E-3,-1.4319503054948939E-3,1.4571221579497877E-4,6.3480244394160598E-3,6.3480244394160598E-3,6.3480244394160598E-3,"-",-1.3379424243368698E-3,-1.3379424243368698E-3,-1.3379424243368698E-3,"-",-9.3655969703580885E-4,-1.9458959007600432,8.2461992336081691E-4,7.8745402184960348E-3,6.2800020824023939,-2.9088820873213997E-4,2.9088820873213997E-4,{"$f":"FI_T-Rechentabelle!AL1080","v":-2.0824023936327762E-6},{"$f":"K1080","v":-1.7619153984682612E-6}]
[6.7437499761581421E-2,6.2500002968590707E-5,6.2800002098083496,0,0,null,0,null,null,null,null,null,"-",{"$f":"N1080+(L1082-L1080)/2","v":1.356863824218818E-3},8.2461992336081691E-4,0,5.322439008580011E-4,-1.1940897590980953E-3,"-",-1.1940897590980953E-3,0,-1.1940897590980953E-3,-1.1940897590980953E-3,-1.3379424243368698E-3,1.4385266523877453E-4,6.4866396837240745E-3,6.4866396837240745E-3,6.4866396837240745E-3,"-",-1.2451342532151062E-3,-1.2451342532151062E-3,-1.2451342532151062E-3,"-",-8.7159397725057423E-4,-1.8109162211730192,7.1143765953750326E-4,6.7937292130273528E-3,6.2800021268672479,-2.9088820873213997E-4,2.9088820873213997E-4,{"$f":"FI_T-Rechentabelle!AL1081","v":-2.1268672476537631E-6},{"$f":"AP1080","v":-1.7619153984682612E-6}]
[6.7499995231628418E-2,6.2500002968590707E-5,6.2800002098083496,0,0,null,0,null,{"$f":"C1082","v":6.2800002098083496},{"$f":"AL1080","v":6.2800020824023939},{"$f":"I1082-J1082","v":-1.8725940442720912E-6},{"$f":"L1080+KP_LR*(1+2*TA_SIM/TN_LR)*K1082-KP_LR*K1080","v":1.2190068474907335E-3},"-",{"$f":"L1082","v":1.2190068474907335E-3},7.1143765953750326E-4,0,5.0756918795323027E-4,-1.1274955042254974E-3,"-",-1.1274955042254974E-3,0,-1.1274955042254974E-3,-1.1274955042254974E-3,-1.2451342532151062E-3,1.1763874898960882E-4,4.8666901896341642E-3,4.8666901896341642E-3,4.8666901896341642E-3,"-",-1.1692382861250615E-3,-1.1692382861250615E-3,-1.1692382861250615E-3,"-",-8.1846680028754306E-4,-1.7005335555527592,6.0515431231545583E-4,5.7787980083028861E-3,6.2800021646893924,-2.9088820873213997E-4,2.9088820873213997E-4,{"$f":"FI_T-Rechentabelle!AL1082","v":-2.1646893921811738E-6},{"$f":"K1082","v":-1.8725940442720912E-6}]
[6.7562498152256012E-2,6.2500002968590707E-5,6.2800002098083496,0,0,null,0,null,null,null,null,null,"-",{"$f":"N1082+(L1084-L1082)/2","v":1.0939344597061488E-3},6.0515431231545583E-4,0,4.8878014739069293E-4,-1.0518504849878754E-3,"-",-1.0518504849878754E-3,0,-1.0518504849878754E-3,-1.0518504849878754E-3,-1.1692382861250615E-3,1.1738780113718615E-4,5.0687040586369081E-3,5.0687040586369081E-3,5.0687040586369081E-3,"-",-1.0935042208752891E-3,-1.0935042208752891E-3,-1.0935042208752891E-3,"-",-7.6545295461270238E-4,-1.5903863590540253,5.0575516487457925E-4,4.8296060690427483E-3,6.2800021962990904,-2.9088820873213997E-4,2.9088820873213997E-4,{"$f":"FI_T-Rechentabelle!AL1083","v":-2.196299090151399E-6},{"$f":"AP1082","v":-1.8725940442720912E-6}]
[6.7625001072883606E-2,6.2500002968590707E-5,6.2800002098083496,0,0,null,0,null,{"$f":"C1084","v":6.2800002098083496},{"$f":"AL1082","v":6.2800021646893924},{"$f":"I1084-J1084","v":-1.9548810428204888E-6},{"$f":"L1082+KP_LR*(1+2*TA_SIM/TN_LR)*K1084-KP_LR*K1082","v":9.68862071921564E-4},"-",{"$f":"L1084","v":9.68862071921564E-4},5.0575516487457925E-4,0,4.6310690704698474E-4,-9.9840842651479039E-4,"-",-9.9840842651479039E-4,0,-9.9840842651479039E-4,-9.9840842651479039E-4,-1.0935042208752891E-3,9.5095794360498722E-5,3.6818701659542333E-3,3.6818701659542333E-3,3.6818701659542333E-3,"-",-1.0321520954814432E-3,-1.0321520954814432E-3,-1.0321520954814432E-3,"-",-7.2250646683701017E-4,-1.5011561746042179,4.1193290396181561E-4,3.9336694732633173E-3,6.2800022220448968,-2.9088820873213997E-4,2.9088820873213997E-4,{"$f":"FI_T-Rechentabelle!AL1084","v":-2.2220448965271089E-6},{"$f":"K1084","v":-1.9548810428204888E-6}]
[6.7687496542930603E-2,6.2500002968590707E-5,6.2800002098083496,0,0,null,0,null,null,null,null,null,"-",{"$f":"N1084+(L1086-L1084)/2","v":8.556142374423056E-4},4.1193290396181561E-4,0,4.4368133348048999E-4,-9.3523239573937663E-4,"-",-9.3523239573937663E-4,0,-9.3523239573937663E-4,-9.3523239573937663E-4,-1.0321520954814432E-3,9.6919699742066589E-5,3.9912301883842831E-3,3.9912301883842831E-3,3.9912301883842831E-3,"-",-9.6962325693819823E-4,-9.6962325693819823E-4,-9.6962325693819823E-4,"-",-6.7873627985673868E-4,-1.4102145851999557,3.2379449238681835E-4,3.0920096405575928E-3,6.2800022422820527,-2.9088820873213997E-4,2.9088820873213997E-4,{"$f":"FI_T-Rechentabelle!AL1085","v":-2.2422820524781173E-6},{"$f":"AP1084","v":-1.9548810428204888E-6}]
[6.7749999463558197E-2,6.2500002968590707E-5,6.2800002098083496,0,0,null,0,null,{"$f":"C1086","v":6.2800002098083496},{"$f":"AL1084","v":6.2800022220448968},{"$f":"I1086-J1086","v":-2.0122365471664239E-6},{"$f":"L1084+KP_LR*(1+2*TA_SIM/TN_LR)*K1086-KP_LR*K1084","v":7.4236640296304721E-4},"-",{"$f":"L1086","v":7.4236640296304721E-4},3.2379449238681835E-4,0,4.1857191057622885E-4,-8.9134182345905499E-4,"-",-8.9134182345905499E-4,0,-8.9134182345905499E-4,-8.9134182345905499E-4,-9.6962325693819823E-4,7.8281433479143237E-5,2.8294061804381241E-3,2.8294061804381241E-3,2.8294061804381241E-3,"-",-9.1911910630651614E-4,-9.1911910630651614E-4,-9.1911910630651614E-4,"-",-6.4338337441456129E-4,-1.3367616339384194,2.4024689026566712E-4,2.2941888088942246E-3,6.2800022572974834,-2.9088820873213997E-4,2.9088820873213997E-4,{"$f":"FI_T-Rechentabelle!AL1086","v":-2.2572974831547299E-6},{"$f":"K1086","v":-2.0122365471664239E-6}]
[6.7812502384185791E-2,6.2500002968590707E-5,6.2800002098083496,0,0,null,0,null,null,null,null,null,"-",{"$f":"N1086+(L1088-L1086)/2","v":6.4022742841238884E-4},2.4024689026566712E-4,0,3.9998053814672171E-4,-8.3688769000400556E-4,"-",-8.3688769000400556E-4,0,-8.3688769000400556E-4,-8.3688769000400556E-4,-9.1911910630651614E-4,8.2231416302510577E-5,3.260521818154026E-3,3.260521818154026E-3,3.260521818154026E-3,"-",-8.6606657965975734E-4,-8.6606657965975734E-4,-8.6606657965975734E-4,"-",-6.0624660576183008E-4,-1.2596023390023479,1.6152174407802036E-4,1.5424190392104608E-3,6.2800022673925922,-2.9088820873213997E-4,2.9088820873213997E-4,{"$f":"FI_T-Rechentabelle!AL1087","v":-2.2673925919036719E-6},{"$f":"AP1086","v":-2.0122365471664239E-6}]
[6.7874997854232788E-2,6.2500002968590707E-5,6.2800002098083496,0,0,null,0,null,{"$f":"C1088","v":6.2800002098083496},{"$f":"AL1086","v":6.2800022572974834},{"$f":"I1088-J1088","v":-2.0474891337940448E-6},{"$f":"L1086+KP_LR*(1+2*TA_SIM/TN_LR)*K1088-KP_LR*K1086","v":5.3808845386173047E-4},"-",{"$f":"L1088","v":5.3808845386173047E-4},1.6152174407802036E-4,0,3.765667097837101E-4,-7.9931062854448687E-4,"-",-7.9931062854448687E-4,0,-7.9931062854448687E-4,-7.9931062854448687E-4,-8.6606657965975734E-4,6.6755951115270466E-5,2.2991422348395485E-3,2.2991422348395485E-3,2.2991422348395485E-3,"-",-8.2299822410154019E-4,-8.2299822410154019E-4,-8.2299822410154019E-4,"-",-5.7609875687107811E-4,-1.1969639660732974,8.6711496198439274E-5,8.2803379457254214E-4,6.2800022728120606,-2.9088820873213997E-4,2.9088820873213997E-4,{"$f":"FI_T-Rechentabelle!AL1088","v":-2.2728120603332513E-6},{"$f":"K1088","v":-2.0474891337940448E-6}]
[6.7937500774860382E-2,6.2500002968590707E-5,6.2800002098083496,0,0,null,0,null,null,null,null,null,"-",{"$f":"N1088+(L1090-L1088)/2","v":4.4651045791863195E-4},8.6711496198439274E-5,0,3.5979896172019267E-4,-7.5042889878799176E-4,"-",-7.5042889878799176E-4,0,-7.5042889878799176E-4,-7.5042889878799176E-4,-8.2299822410154019E-4,7.2569325313548427E-5,2.8429784646343444E-3,2.8429784646343444E-3,2.8429784646343444E-3,"-",-7.761793045444335E-4,-7.761793045444335E-4,-7.761793045444335E-4,"-",-5.433255131811034E-4,-1.1288707940600526,1.6157071569685984E-5,1.5428866837230315E-4,6.2800022738218777,-2.9088820873213997E-4,2.9088820873213997E-4,{"$f":"FI_T-Rechentabelle!AL1089","v":-2.2738218774520647E-6},{"$f":"AP1088","v":-2.0474891337940448E-6}]
[6.7999996244907379E-2,6.2500002968590707E-5,6.2800002098083496,0,0,null,0,null,{"$f":"C1090","v":6.2800002098083496},{"$f":"AL1088","v":6.2800022728120606},{"$f":"I1090-J1090","v":-2.0630037109725663E-6},{"$f":"L1088+KP_LR*(1+2*TA_SIM/TN_LR)*K1090-KP_LR*K1088","v":3.5493246197553343E-4},"-",{"$f":"L1090","v":3.5493246197553343E-4},1.6157071569685984E-5,0,3.3877539040584744E-4,-7.1652917561740152E-4,"-",-7.1652917561740152E-4,{"$f":"G1090*(JM_EMS+JL_EMS)/KT_M*KP_VSR","v":0},-7.1652917561740152E-4,{"$f":"IF(V1090<-IM_R,-IM_R,IF(V1090>IM_R,IM_R,V1090))","v":-7.1652917561740152E-4},-7.761793045444335E-4,5.9650128927031987E-5,2.0477376949797664E-3,{"$f":"IF(Z1090<-U_ZWK,-U_ZWK,IF(Z1090>U_ZWK,U_ZWK,Z1090))","v":2.0477376949797664E-3},2.0477376949797664E-3,"-",-7.3769535039798202E-4,-7.3769535039798202E-4,-7.3769535039798202E-4,"-",{"$f":"AF1090*KT_M","v":-5.1638674527858741E-4},{"$f":"AH1090/(JM_EMS+JL_EMS)","v":-1.0728999486361674},-5.0899175220074481E-5,-4.8605132013452185E-4,6.2800022706406793,{"$f":"-DF_LR","v":-2.9088820873213997E-4},{"$f":"DF_LR","v":2.9088820873213997E-4},{"$f":"FI_T-Rechentabelle!AL1090","v":-2.2706406790362621E-6},{"$f":"K1090","v":-2.0630037109725663E-6}]
[6.8062499165534973E-2,6.2500002968590707E-5,6.2800002098083496,0,0,null,{"$f":"E1091/1000","v":0},null,null,null,null,null,"-",{"$f":"N1090+(L1092-L1090)/2","v":2.7346248061345976E-4},-5.0899175220074481E-5,0,3.2436165583353424E-4,{"$f":"R1090+KP_DR*(1+TA_SIM/TN_DR)*Q1091-KP_DR*Q1090","v":-6.7083483415652514E-4},"-",{"$f":"R1091","v":-6.7083483415652514E-4},0,{"$f":"T1091+U1091","v":-6.7083483415652514E-4},-6.7083483415652514E-4,-7.3769535039798202E-4,{"$f":"W1091-X1091","v":6.6860516241456884E-5},2.6789542349214789E-3,2.6789542349214789E-3,{"$f":"AA1091","v":2.6789542349214789E-3},"-",{"$f":"(1/R_M*AB1091+AD1090*T_M/TA_SIM)/(1+T_M/TA_SIM)","v":-6.9455953346803003E-4},{"$f":"AD1091","v":-6.9455953346803003E-4},{"$f":"AE1091","v":-6.9455953346803003E-4},"-",-4.8619167342762098E-4,-1.0101634602693141,-1.1403439148690661E-4,-1.0889482252570521E-3,6.2800022635135297,-2.9088820873213997E-4,2.9088820873213997E-4,{"$f":"FI_T-Rechentabelle!AL1091","v":-2.2635135294990505E-6},{"$f":"AP1090","v":-2.0630037109725663E-6}]
[6.8125002086162567E-2,6.2500002968590707E-5,6.2800002098083496,0,0,null,0,null,{"$f":"C1092","v":6.2800002098083496},{"$f":"AL1090","v":6.2800022706406793},{"$f":"I1092-J1092","v":-2.0608323296755771E-6},{"$f":"L1090+KP_LR*(1+2*TA_SIM/TN_LR)*K1092-KP_LR*K1090","v":1.919924992513861E-4},"-",{"$f":"L1092","v":1.919924992513861E-4},{"$f":"AJ1091","v":-1.1403439148690661E-4},{"$f":"D1092*KP_VDR","v":0},{"$f":"N1092-O1092+P1092","v":3.0602689073829274E-4},-6.3869159808954245E-4,"-",-6.3869159808954245E-4,0,-6.3869159808954245E-4,-6.3869159808954245E-4,{"$f":"AF1091","v":-6.9455953346803003E-4},5.5867935378487582E-5,2.0118730831192562E-3,2.0118730831192562E-3,2.0118730831192562E-3,"-",-6.5851570419160621E-4,-6.5851570419160621E-4,-6.5851570419160621E-4,"-",-4.609609929341243E-4,-0.95774151866637081,-1.738932364035548E-4,-1.660558088632396E-3,6.2800022526452022,-2.9088820873213997E-4,2.9088820873213997E-4,{"$f":"FI_T-Rechentabelle!AL1092","v":-2.2526452019278054E-6},{"$f":"K1092","v":-2.0608323296755771E-6}]
[6.8187497556209564E-2,6.2500002968590707E-5,6.2800002098083496,0,0,null,0,null,null,null,null,null,"-",{"$f":"N1092+(L1094-L1092)/2","v":1.2021061356664881E-4},-1.738932364035548E-4,0,2.9410384997020358E-4,-5.9460536522670121E-4,"-",-5.9460536522670121E-4,0,-5.9460536522670121E-4,-5.9460536522670121E-4,-6.5851570419160621E-4,6.3910338964905003E-5,2.6959721109905072E-3,2.6959721109905072E-3,2.6959721109905072E-3,"-",-6.1728322744007377E-4,-6.1728322744007377E-4,-6.1728322744007377E-4,"-",-4.3209825920805162E-4,-0.89777323749854887,-2.3000406374721409E-4,-2.1963770205955515E-3,6.2800022382699483,-2.9088820873213997E-4,2.9088820873213997E-4,{"$f":"FI_T-Rechentabelle!AL1093","v":-2.2382699480516521E-6},{"$f":"AP1092","v":-2.0608323296755771E-6}]
[6.8250000476837158E-2,6.2500002968590707E-5,6.2800002098083496,0,0,null,0,null,{"$f":"C1094","v":6.2800002098083496},{"$f":"AL1092","v":6.2800022526452022},{"$f":"I1094-J1094","v":-2.0428368525671203E-6},{"$f":"L1092+KP_LR*(1+2*TA_SIM/TN_LR)*K1094-KP_LR*K1092","v":4.8428727881911528E-5},"-",{"$f":"L1094","v":4.8428727881911528E-5},-2.3000406374721409E-4,0,2.7843279162912565E-4,-5.6302014246186263E-4,"-",-5.6302014246186263E-4,0,-5.6302014246186263E-4,-5.6302014246186263E-4,-6.1728322744007377E-4,5.4263084978211132E-5,2.1203216030450354E-3,2.1203216030450354E-3,2.1203216030450354E-3,"-",-5.8227478551866588E-4,-5.8227478551866588E-4,-5.8227478551866588E-4,"-",-4.0759234986306611E-4,-0.84685715741339307,-2.8293263608555116E-4,-2.7018076557021498E-3,6.2800022205866588,-2.9088820873213997E-4,2.9088820873213997E-4,{"$f":"FI_T-Rechentabelle!AL1094","v":-2.2205866585522926E-6},{"$f":"K1094","v":-2.0428368525671203E-6}]
[6.8312495946884155E-2,6.2500002968590707E-5,6.2800002098083496,0,0,null,0,null,null,null,null,null,"-",{"$f":"N1094+(L1096-L1094)/2","v":-1.4098518238980307E-5},-2.8293263608555116E-4,0,2.6883411784657085E-4,-5.1971118044846331E-4,"-",-5.1971118044846331E-4,0,-5.1971118044846331E-4,-5.1971118044846331E-4,-5.8227478551866588E-4,6.2563605070202564E-5,2.8200190486658452E-3,2.8200190486658452E-3,2.8200190486658452E-3,"-",-5.4191116934435989E-4,-5.4191116934435989E-4,-5.4191116934435989E-4,"-",-3.7933781854105188E-4,-0.78815254215884445,-3.3219216997047891E-4,-3.1722015544334878E-3,6.280002199824648,-2.9088820873213997E-4,2.9088820873213997E-4,{"$f":"FI_T-Rechentabelle!AL1095","v":-2.1998246477750172E-6},{"$f":"AP1094","v":-2.0428368525671203E-6}]
[6.8374998867511749E-2,6.2500002968590707E-5,6.2800002098083496,0,0,null,0,null,{"$f":"C1096","v":6.2800002098083496},{"$f":"AL1094","v":6.2800022205866588},{"$f":"I1096-J1096","v":-2.0107783091916076E-6},{"$f":"L1094+KP_LR*(1+2*TA_SIM/TN_LR)*K1096-KP_LR*K1094","v":-7.6625764359872141E-5},"-",{"$f":"L1096","v":-7.6625764359872141E-5},-3.3219216997047891E-4,0,2.5556640561060677E-4,-4.8813439242622659E-4,"-",-4.8813439242622659E-4,0,-4.8813439242622659E-4,-4.8813439242622659E-4,-5.4191116934435989E-4,5.3776776918133297E-5,2.3038550164835555E-3,2.3038550164835555E-3,2.3038550164835555E-3,"-",-5.0721647455848518E-4,-5.0721647455848518E-4,-5.0721647455848518E-4,"-",-3.5505153219093959E-4,-0.73769277413450973,-3.7829796835388578E-4,-3.6124794975085392E-3,6.280002176181025,-2.9088820873213997E-4,2.9088820873213997E-4,{"$f":"FI_T-Rechentabelle!AL1096","v":-2.1761810247156177E-6},{"$f":"K1096","v":-2.0107783091916076E-6}]
[6.8437501788139343E-2,6.2500002968590707E-5,6.2800002098083496,0,0,null,0,null,null,null,null,null,"-",{"$f":"N1096+(L1098-L1096)/2","v":-1.30375160894963E-4},-3.7829796835388578E-4,0,2.4792280745892278E-4,-4.4539544000713534E-4,"-",-4.4539544000713534E-4,0,-4.4539544000713534E-4,-4.4539544000713534E-4,-5.0721647455848518E-4,6.1821034551349835E-5,2.9841751653176675E-3,2.9841751653176675E-3,2.9841751653176675E-3,"-",-4.6733193613827679E-4,-4.6733193613827679E-4,-4.6733193613827679E-4,"-",-3.2713235529679372E-4,-0.67968492685807957,-4.2077827628251576E-4,-4.0181365569629769E-3,6.2800021498823826,-2.9088820873213997E-4,2.9088820873213997E-4,{"$f":"FI_T-Rechentabelle!AL1097","v":-2.1498823823407065E-6},{"$f":"AP1096","v":-2.0107783091916076E-6}]
[6.849999725818634E-2,6.2500002968590707E-5,6.2800002098083496,0,0,null,0,null,{"$f":"C1098","v":6.2800002098083496},{"$f":"AL1096","v":6.280002176181025},{"$f":"I1098-J1098","v":-1.9663726753549327E-6},{"$f":"L1096+KP_LR*(1+2*TA_SIM/TN_LR)*K1098-KP_LR*K1096","v":-1.8412455743005386E-4},"-",{"$f":"L1098","v":-1.8412455743005386E-4},-4.2077827628251576E-4,0,2.366537188524619E-4,-4.138005533746692E-4,"-",-4.138005533746692E-4,0,-4.138005533746692E-4,-4.138005533746692E-4,-4.6733193613827679E-4,5.3531382763607593E-5,2.5024505817745103E-3,2.5024505817745103E-3,2.5024505817745103E-3,"-",-4.3279556016177263E-4,-4.3279556016177263E-4,-4.3279556016177263E-4,"-",-3.0295689211324081E-4,-0.62945541681537664,-4.601192398334768E-4,-4.393815085870988E-3,6.2800021211249302,-2.9088820873213997E-4,2.9088820873213997E-4,{"$f":"FI_T-Rechentabelle!AL1098","v":-2.1211249299213364E-6},{"$f":"K1098","v":-1.9663726753549327E-6}]
[6.8562500178813934E-2,6.2500002968590707E-5,6.2800002098083496,0,0,null,0,null,null,null,null,null,"-",{"$f":"N1098+(L1100-L1098)/2","v":-2.2963001771700948E-4},-4.601192398334768E-4,0,2.3048922211646732E-4,-3.7188613737906004E-4,"-",-3.7188613737906004E-4,0,-3.7188613737906004E-4,-3.7188613737906004E-4,-4.3279556016177263E-4,6.0909422782712589E-5,3.1343009560638587E-3,3.1343009560638587E-3,3.1343009560638587E-3,"-",-3.9349915836649056E-4,-3.9349915836649056E-4,-3.9349915836649056E-4,"-",-2.7544941085654338E-4,-0.57230295212246696,-4.9588817434113093E-4,-4.7353832500323942E-3,6.2800020901319193,-2.9088820873213997E-4,2.9088820873213997E-4,{"$f":"FI_T-Rechentabelle!AL1099","v":-2.0901319190969048E-6},{"$f":"AP1098","v":-1.9663726753549327E-6}]
[6.8625003099441528E-2,6.2500002968590707E-5,6.2800002098083496,0,0,null,0,null,{"$f":"C1100","v":6.2800002098083496},{"$f":"AL1098","v":6.2800021211249302},{"$f":"I1100-J1100","v":-1.9113165805606513E-6},{"$f":"L1098+KP_LR*(1+2*TA_SIM/TN_LR)*K1100-KP_LR*K1098","v":-2.7513547800396511E-4},"-",{"$f":"L1100","v":-2.7513547800396511E-4},-4.9588817434113093E-4,0,2.2075269633716583E-4,-3.4061834139642675E-4,"-",-3.4061834139642675E-4,0,-3.4061834139642675E-4,-3.4061834139642675E-4,-3.9349915836649056E-4,5.2880816970063806E-5,2.6696829281909543E-3,2.6696829281909543E-3,2.6696829281909543E-3,"-",-3.5938250225678802E-4,-3.5938250225678802E-4,-3.5938250225678802E-4,"-",-2.5156775157975163E-4,-0.52268388028205193,-5.2855591685875916E-4,-5.0473372121124221E-3,6.2800020570971746,-2.9088820873213997E-4,2.9088820873213997E-4,{"$f":"FI_T-Rechentabelle!AL1100","v":-2.0570971743794075E-6},{"$f":"K1100","v":-1.9113165805606513E-6}]
[6.8687498569488525E-2,6.2500002968590707E-5,6.2800002098083496,0,0,null,0,null,null,null,null,null,"-",{"$f":"N1100+(L1102-L1100)/2","v":-3.129881827967731E-4},-5.2855591685875916E-4,0,2.1556773406198606E-4,-3.0007304308785976E-4,"-",-3.0007304308785976E-4,0,-3.0007304308785976E-4,-3.0007304308785976E-4,-3.5938250225678802E-4,5.930945916892826E-5,3.231898220336983E-3,3.231898220336983E-3,3.231898220336983E-3,"-",-3.211183350510434E-4,-3.211183350510434E-4,-3.211183350510434E-4,"-",-2.2478283453573037E-4,-0.46703269174263529,-5.5774546009267382E-4,-5.326076817648749E-3,6.280002022238083,-2.9088820873213997E-4,2.9088820873213997E-4,{"$f":"FI_T-Rechentabelle!AL1101","v":-2.0222380827661368E-6},{"$f":"AP1100","v":-1.9113165805606513E-6}]
[6.8750001490116119E-2,6.2500002968590707E-5,6.2800002098083496,0,0,null,0,null,{"$f":"C1102","v":6.2800002098083496},{"$f":"AL1100","v":6.2800020570971746},{"$f":"I1102-J1102","v":-1.8472888250187225E-6},{"$f":"L1100+KP_LR*(1+2*TA_SIM/TN_LR)*K1102-KP_LR*K1100","v":-3.5084088758958109E-4},"-",{"$f":"L1102","v":-3.5084088758958109E-4},-5.5774546009267382E-4,0,2.0690457250309273E-4,-2.6969537395067167E-4,"-",-2.6969537395067167E-4,0,-2.6969537395067167E-4,-2.6969537395067167E-4,-3.211183350510434E-4,5.1422961100371729E-5,2.7745276379706144E-3,2.7745276379706144E-3,2.7745276379706144E-3,"-",-2.8794223111533489E-4,-2.8794223111533489E-4,-2.8794223111533489E-4,"-",-2.0155956178073443E-4,-0.41878155366867736,-5.8391930719696613E-4,-5.5760186464315258E-3,6.2800019857431266,-2.9088820873213997E-4,2.9088820873213997E-4,{"$f":"FI_T-Rechentabelle!AL1102","v":-1.985743126375894E-6},{"$f":"K1102","v":-1.8472888250187225E-6}]
[6.8812496960163116E-2,6.2500002968590707E-5,6.2800002098083496,0,0,null,0,null,null,null,null,null,"-",{"$f":"N1102+(L1104-L1102)/2","v":-3.8167910298764099E-4},-5.8391930719696613E-4,0,2.0224020420932514E-4,-2.3119351800490046E-4,"-",-2.3119351800490046E-4,0,-2.3119351800490046E-4,-2.3119351800490046E-4,-2.8794223111533489E-4,5.6748713110434438E-5,3.254536081012603E-3,3.254536081012603E-3,3.254536081012603E-3,"-",-2.5133015814087585E-4,-2.5133015814087585E-4,-2.5133015814087585E-4,"-",-1.7593111069861308E-4,-0.3655331616426617,-6.0676512979963252E-4,-5.7941801822044203E-3,6.2800019478203062,-2.9088820873213997E-4,2.9088820873213997E-4,{"$f":"FI_T-Rechentabelle!AL1103","v":-1.9478203059364319E-6},{"$f":"AP1102","v":-1.8472888250187225E-6}]
[6.887499988079071E-2,6.2500002968590707E-5,6.2800002098083496,0,0,null,0,null,{"$f":"C1104","v":6.2800002098083496},{"$f":"AL1102","v":6.2800019857431266},{"$f":"I1104-J1104","v":-1.775934777015209E-6},{"$f":"L1102+KP_LR*(1+2*TA_SIM/TN_LR)*K1104-KP_LR*K1102","v":-4.1251731838570088E-4},"-",{"$f":"L1104","v":-4.1251731838570088E-4},-6.0676512979963252E-4,0,1.9424781141393164E-4,-2.0234795343131498E-4,"-",-2.0234795343131498E-4,0,-2.0234795343131498E-4,-2.0234795343131498E-4,-2.5133015814087585E-4,4.8982204709560866E-5,2.8010214227175596E-3,2.8010214227175596E-3,2.8010214227175596E-3,"-",-2.1972873574762513E-4,-2.1972873574762513E-4,-2.1972873574762513E-4,"-",-1.5381011502333758E-4,-0.31957223150496067,-6.2673839426869251E-4,-5.9849108084003774E-3,6.2800019086491563,-2.9088820873213997E-4,2.9088820873213997E-4,{"$f":"FI_T-Rechentabelle!AL1104","v":-1.9086491560571517E-6},{"$f":"K1104","v":-1.775934777015209E-6}]
[6.8937495350837708E-2,6.2500002968590707E-5,6.2800002098083496,0,0,null,0,null,null,null,null,null,"-",{"$f":"N1104+(L1106-L1104)/2","v":-4.3700954242660594E-4},-6.2673839426869251E-4,0,1.8972885184208657E-4,-1.6655950212961858E-4,"-",-1.6655950212961858E-4,0,-1.6655950212961858E-4,-1.6655950212961858E-4,-2.1972873574762513E-4,5.3169233618006551E-5,3.1944017599634367E-3,3.1944017599634367E-3,3.1944017599634367E-3,"-",-1.8542600438118328E-4,-1.8542600438118328E-4,-1.8542600438118328E-4,"-",-1.2979820306682828E-4,-0.26968253286272237,-6.435935525726127E-4,-6.1458657140402951E-3,6.2800018684245593,-2.9088820873213997E-4,2.9088820873213997E-4,{"$f":"FI_T-Rechentabelle!AL1105","v":-1.8684245590705473E-6},{"$f":"AP1104","v":-1.775934777015209E-6}]
[6.8999998271465302E-2,6.2500002968590707E-5,6.2800002098083496,0,0,null,0,null,{"$f":"C1106","v":6.2800002098083496},{"$f":"AL1104","v":6.2800019086491563},{"$f":"I1106-J1106","v":-1.6988408066964666E-6},{"$f":"L1104+KP_LR*(1+2*TA_SIM/TN_LR)*K1106-KP_LR*K1104","v":-4.61501766467511E-4},"-",{"$f":"L1106","v":-4.61501766467511E-4},-6.435935525726127E-4,0,1.820917861051017E-4,-1.3985453889801976E-4,"-",-1.3985453889801976E-4,0,-1.3985453889801976E-4,-1.3985453889801976E-4,-1.8542600438118328E-4,4.5571465483163517E-5,2.746350196628116E-3,2.746350196628116E-3,2.746350196628116E-3,"-",-1.5602505890818823E-4,-1.5602505890818823E-4,-1.5602505890818823E-4,"-",-1.0921754123573175E-4,-0.22692196392215197,-6.5777617531774719E-4,-6.2812997849940374E-3,6.2800018273135487,-2.9088820873213997E-4,2.9088820873213997E-4,{"$f":"FI_T-Rechentabelle!AL1106","v":-1.8273135484747627E-6},{"$f":"K1106","v":-1.6988408066964666E-6}]
[6.9062501192092896E-2,6.2500002968590707E-5,6.2800002098083496,0,0,null,0,null,null,null,null,null,"-",{"$f":"N1106+(L1108-L1106)/2","v":-4.8032671361957987E-4},-6.5777617531774719E-4,0,1.7744946169816732E-4,-1.0734542919916699E-4,"-",-1.0734542919916699E-4,0,-1.0734542919916699E-4,-1.0734542919916699E-4,-1.5602505890818823E-4,4.8679629709021241E-5,{"$f":"Z1106+KP_SR*(1+TA_SIM/TN_SR)*Y1107-KP_SR*Y1106","v":3.0556012894858461E-3},3.0556012894858461E-3,3.0556012894858461E-3,"-",-1.2461884619270399E-4,-1.2461884619270399E-4,-1.2461884619270399E-4,"-",-8.7233192334892787E-5,-0.18124494563659418,{"$f":"AJ1106+AI1107*TA_SIM","v":-6.6910398442003431E-4},-6.3894723937758593E-3,{"$f":"AL1106+AJ1107*TA_SIM","v":6.2800017854945498},-2.9088820873213997E-4,2.9088820873213997E-4,{"$f":"FI_T-Rechentabelle!AL1107","v":-1.785494549544353E-6},{"$f":"AP1106","v":-1.6988408066964666E-6}]
[6.9124996662139893E-2,6.2500002968590707E-5,6.2800002098083496,0,0,null,0,null,{"$f":"C1108","v":6.2800002098083496},{"$f":"AL1106","v":6.2800018273135487},{"$f":"I1108-J1108","v":-1.6175051991140776E-6},{"$f":"L1106+KP_LR*(1+2*TA_SIM/TN_LR)*K1108-KP_LR*K1106","v":-4.9915166077164875E-4},"-",{"$f":"L1108","v":-4.9915166077164875E-4},-6.6910398442003431E-4,0,1.6995232364838556E-4,-8.3275900830008954E-5,"-",-8.3275900830008954E-5,0,-8.3275900830008954E-5,-8.3275900830008954E-5,-1.2461884619270399E-4,4.1342945362695039E-5,2.6179646989513464E-3,2.6179646989513464E-3,2.6179646989513464E-3,"-",-9.7945978216784659E-5,-9.7945978216784659E-5,-9.7945978216784659E-5,"-",-6.8562184751749257E-5,-0.14245207719042022,-6.7800723924443557E-4,-6.4744922146704725E-3,6.2800017431190973,-2.9088820873213997E-4,2.9088820873213997E-4,{"$f":"FI_T-Rechentabelle!AL1108","v":-1.7431190970640387E-6},{"$f":"K1108","v":-1.6175051991140776E-6}]
[6.9187499582767487E-2,6.2500002968590707E-5,6.2800002098083496,0,0,null,0,null,null,null,null,null,"-",{"$f":"N1108+(L1110-L1108)/2","v":-5.1297809874988607E-4},-6.7800723924443557E-4,0,1.650291404945495E-4,-5.4445251325446807E-5,"-",-5.4445251325446807E-5,0,-5.4445251325446807E-5,-5.4445251325446807E-5,-9.7945978216784659E-5,4.3500726891337852E-5,2.8508154978553577E-3,2.8508154978553577E-3,2.8508154978553577E-3,"-",-6.9880993125611576E-5,-6.9880993125611576E-5,-6.9880993125611576E-5,"-",-4.8916695187928102E-5,-0.10163452147917743,-6.8435939683688415E-4,-6.535150851478687E-3,6.2800017003466353,-2.9088820873213997E-4,2.9088820873213997E-4,{"$f":"FI_T-Rechentabelle!AL1109","v":-1.7003466350473673E-6},{"$f":"AP1108","v":-1.6175051991140776E-6}]
[6.9250002503395081E-2,6.2500002968590707E-5,6.2800002098083496,0,0,null,0,null,{"$f":"C1110","v":6.2800002098083496},{"$f":"AL1108","v":6.2800017431190973},{"$f":"I1110-J1110","v":-1.5333107477033536E-6},{"$f":"L1108+KP_LR*(1+2*TA_SIM/TN_LR)*K1110-KP_LR*K1108","v":-5.2680453672812339E-4},"-",{"$f":"L1110","v":-5.2680453672812339E-4},-6.8435939683688415E-4,0,1.5755486010876076E-4,-3.3345194278381631E-5,"-",-3.3345194278381631E-5,0,-3.3345194278381631E-5,-3.3345194278381631E-5,-6.9880993125611576E-5,3.6535798847229945E-5,2.430279785247633E-3,2.430279785247633E-3,2.430279785247633E-3,"-",-4.630950999837874E-5,-4.630950999837874E-5,-4.630950999837874E-5,"-",-3.2416656998865118E-5,-6.735228962988804E-2,-6.8856891493875212E-4,-6.5753487883155127E-3,6.280001657311078,-2.9088820873213997E-4,2.9088820873213997E-4,{"$f":"FI_T-Rechentabelle!AL1110","v":-1.6573110777073907E-6},{"$f":"K1110","v":-1.5333107477033536E-6}]
[6.9312497973442078E-2,6.2500002968590707E-5,6.2800002098083496,0,0,null,0,null,null,null,null,null,"-",{"$f":"N1110+(L1112-L1110)/2","v":-5.3627328806273565E-4},-6.8856891493875212E-4,0,1.5229562687601647E-4,-8.3971837584284441E-6,"-",-8.3971837584284441E-6,0,-8.3971837584284441E-6,-8.3971837584284441E-6,-4.630950999837874E-5,3.7912326239950296E-5,2.5978358668113941E-3,2.5978358668113941E-3,2.5978358668113941E-3,"-",-2.1849944682293759E-5,-2.1849944682293759E-5,-2.1849944682293759E-5,"-",-1.5294961277605631E-5,-3.1778436064005051E-2,-6.9055506719275248E-4,-6.5943151452529485E-3,6.2800016141513861,-2.9088820873213997E-4,2.9088820873213997E-4,{"$f":"FI_T-Rechentabelle!AL1111","v":-1.6141513858869416E-6},{"$f":"AP1110","v":-1.5333107477033536E-6}]
[6.9375000894069672E-2,6.2500002968590707E-5,6.2800002098083496,0,0,null,0,null,{"$f":"C1112","v":6.2800002098083496},{"$f":"AL1110","v":6.280001657311078},{"$f":"I1112-J1112","v":-1.4475027283467057E-6},{"$f":"L1110+KP_LR*(1+2*TA_SIM/TN_LR)*K1112-KP_LR*K1110","v":-5.457420393973479E-4},"-",{"$f":"L1112","v":-5.457420393973479E-4},-6.9055506719275248E-4,0,1.4481302779540458E-4,9.5772420095836851E-6,"-",9.5772420095836851E-6,0,9.5772420095836851E-6,9.5772420095836851E-6,-2.1849944682293759E-5,3.1427186691877448E-5,2.2014201626669545E-3,2.2014201626669545E-3,2.2014201626669545E-3,"-",-1.5743403649651417E-6,-1.5743403649651417E-6,-1.5743403649651417E-6,"-",-1.1020382554755992E-6,-2.2897117296397239E-3,-6.9069817417585495E-4,-6.5956817162780524E-3,6.2800015709827504,-2.9088820873213997E-4,2.9088820873213997E-4,{"$f":"FI_T-Rechentabelle!AL1112","v":-1.5709827501098061E-6},{"$f":"K1112","v":-1.4475027283467057E-6}]
[6.9437496364116669E-2,6.2500002968590707E-5,6.2800002098083496,0,0,null,0,null,null,null,null,null,"-",{"$f":"N1112+(L1114-L1112)/2","v":-5.5145166615985656E-4},-6.9069817417585495E-4,0,1.392465080159984E-4,3.0632288515819363E-5,"-",3.0632288515819363E-5,0,3.0632288515819363E-5,3.0632288515819363E-5,-1.5743403649651417E-6,3.2206628880784507E-5,2.3163895393813819E-3,2.3163895393813819E-3,2.3163895393813819E-3,"-",1.9204129880690907E-5,1.9204129880690907E-5,1.9204129880690907E-5,"-",1.3442890916483634E-5,2.7930377969008172E-2,-6.8895252555279199E-4,{"$f":"AJ1113/(2*PI())*60","v":-6.5790119998423305E-3},6.2800015279232175,-2.9088820873213997E-4,2.9088820873213997E-4,{"$f":"FI_T-Rechentabelle!AL1113","v":-1.5279232172815682E-6},{"$f":"AP1112","v":-1.4475027283467057E-6}]
[6.9499999284744263E-2,6.2500002968590707E-5,6.2800002098083496,0,0,null,0,null,{"$f":"C1114","v":6.2800002098083496},{"$f":"AL1112","v":6.2800015709827504},{"$f":"I1114-J1114","v":-1.3611744007491211E-6},{"$f":"L1112+KP_LR*(1+2*TA_SIM/TN_LR)*K1114-KP_LR*K1112","v":-5.5716129292236521E-4},"-",{"$f":"L1114","v":-5.5716129292236521E-4},-6.8895252555279199E-4,0,1.3179123263042678E-4,4.5495378969096769E-5,"-",4.5495378969096769E-5,0,4.5495378969096769E-5,4.5495378969096769E-5,1.9204129880690907E-5,2.6291249088405863E-5,1.950358120636595E-3,1.950358120636595E-3,1.950358120636595E-3,"-",3.6166226066748125E-5,3.6166226066748125E-5,3.6166226066748125E-5,"-",2.5316358246723685E-5,5.2599954803082653E-2,-6.8566502837759933E-4,-6.5476187142923777E-3,6.2800014850691532,-2.9088820873213997E-4,2.9088820873213997E-4,{"$f":"FI_T-Rechentabelle!AL1114","v":-1.4850691529844084E-6},{"$f":"K1114","v":-1.3611744007491211E-6}]
[6.9562502205371857E-2,6.2500002968590707E-5,6.2800002098083496,0,0,null,0,null,null,null,null,null,"-",{"$f":"N1114+(L1116-L1114)/2","v":-5.5965823173459927E-4},-6.8566502837759933E-4,0,1.2600679664300006E-4,6.2817980801930997E-5,"-",6.2817980801930997E-5,0,6.2817980801930997E-5,6.2817980801930997E-5,3.6166226066748125E-5,2.6651754735182872E-5,2.0255278645729619E-3,2.0255278645729619E-3,2.0255278645729619E-3,"-",5.3360906541048857E-5,5.3360906541048857E-5,5.3360906541048857E-5,"-",3.7352634578734196E-5,7.7607800911560762E-2,-6.8081454082062674E-4,-6.5012999700265021E-3,6.2800014425182447,-2.9088820873213997E-4,2.9088820873213997E-4,{"$f":"FI_T-Rechentabelle!AL1115","v":-1.442518244409996E-6},{"$f":"AP1114","v":-1.3611744007491211E-6}]
[6.9624997675418854E-2,6.2500002968590707E-5,6.2800002098083496,0,0,null,0,null,{"$f":"C1116","v":6.2800002098083496},{"$f":"AL1114","v":6.2800014850691532},{"$f":"I1116-J1116","v":-1.2752608036237234E-6},{"$f":"L1114+KP_LR*(1+2*TA_SIM/TN_LR)*K1116-KP_LR*K1114","v":-5.6215517054683333E-4},"-",{"$f":"L1116","v":-5.6215517054683333E-4},-6.8081454082062674E-4,0,1.1865937027379341E-4,7.4729401435300524E-5,"-",7.4729401435300524E-5,0,7.4729401435300524E-5,7.4729401435300524E-5,5.3360906541048857E-5,2.1368494894251667E-5,1.6946568739278102E-3,1.6946568739278102E-3,1.6946568739278102E-3,"-",6.7147032279265225E-5,6.7147032279265225E-5,6.7147032279265225E-5,"-",4.7002922595485653E-5,9.765826427485072E-2,-6.7471089930344857E-4,-6.4430144869273131E-3,6.2800014003488132,-2.9088820873213997E-4,2.9088820873213997E-4,{"$f":"FI_T-Rechentabelle!AL1116","v":-1.4003488129077368E-6},{"$f":"K1116","v":-1.2752608036237234E-6}]
[6.9687500596046448E-2,6.2500002968590707E-5,6.2800002098083496,0,0,null,0,null,null,null,null,null,"-",{"$f":"N1116+(L1118-L1116)/2","v":-5.6192842005702601E-4},-6.7471089930344857E-4,0,1.1278247924642257E-4,8.8613883371410336E-5,"-",8.8613883371410336E-5,0,8.8613883371410336E-5,8.8613883371410336E-5,6.7147032279265225E-5,2.1466851092145111E-5,1.741724630378151E-3,1.741724630378151E-3,1.741724630378151E-3,"-",8.0996613629026018E-5,8.0996613629026018E-5,8.0996613629026018E-5,"-",5.6697629540318207E-5,0.11780101712096032,-6.6734833573338858E-4,-6.3727071837671118E-3,6.2800013586395425,-2.9088820873213997E-4,2.9088820873213997E-4,{"$f":"FI_T-Rechentabelle!AL1117","v":-1.3586395422038322E-6},{"$f":"AP1116","v":-1.2752608036237234E-6}]
[6.9749996066093445E-2,6.2500002968590707E-5,6.2800002098083496,0,0,null,0,null,{"$f":"C1118","v":6.2800002098083496},{"$f":"AL1116","v":6.2800014003488132},{"$f":"I1118-J1118","v":-1.1905404635470518E-6},{"$f":"L1116+KP_LR*(1+2*TA_SIM/TN_LR)*K1118-KP_LR*K1116","v":-5.6170166956721868E-4},"-",{"$f":"L1118","v":-5.6170166956721868E-4},-6.6734833573338858E-4,0,1.056466661661699E-4,9.7843005264961608E-5,"-",9.7843005264961608E-5,0,9.7843005264961608E-5,9.7843005264961608E-5,8.0996613629026018E-5,1.684639163593559E-5,1.4489172412869365E-3,1.4489172412869365E-3,1.4489172412869365E-3,"-",9.1865253394135782E-5,9.1865253394135782E-5,9.1865253394135782E-5,"-",6.4305677375895042E-5,0.13360830537273019,-6.589978166475929E-4,-6.2929656003738559E-3,6.2800013174521787,-2.9088820873213997E-4,2.9088820873213997E-4,{"$f":"FI_T-Rechentabelle!AL1118","v":-1.3174521784620197E-6},{"$f":"K1118","v":-1.1905404635470518E-6}]
[6.9812498986721039E-2,6.2500002968590707E-5,6.2800002098083496,0,0,null,0,null,null,null,null,null,"-",{"$f":"N1118+(L1120-L1118)/2","v":-5.5918162693740592E-4},-6.589978166475929E-4,0,9.981618971018698E-5,1.0867389879385742E-4,"-",1.0867389879385742E-4,0,1.0867389879385742E-4,1.0867389879385742E-4,9.1865253394135782E-5,1.6808645399721641E-5,1.4777161323573332E-3,1.4777161323573332E-3,1.4777161323573332E-3,"-",1.0270954074878518E-4,1.0270954074878518E-4,1.0270954074878518E-4,"-",7.1896678524149618E-5,0.14938017561635075,-6.4966155567157098E-4,-6.2038108753140649E-3,6.2800012768483313,-2.9088820873213997E-4,2.9088820873213997E-4,{"$f":"FI_T-Rechentabelle!AL1119","v":-1.2768483310665601E-6},{"$f":"AP1118","v":-1.1905404635470518E-6}]
[6.9875001907348633E-2,6.2500002968590707E-5,6.2800002098083496,0,0,null,0,null,{"$f":"C1120","v":6.2800002098083496},{"$f":"AL1118","v":6.2800013174521787},{"$f":"I1120-J1120","v":-1.1076438291013346E-6},{"$f":"L1118+KP_LR*(1+2*TA_SIM/TN_LR)*K1120-KP_LR*K1118","v":-5.5666158430759316E-4},"-",{"$f":"L1120","v":-5.5666158430759316E-4},-6.4966155567157098E-4,0,9.2999971363977828E-5,1.1556004059663045E-4,"-",1.1556004059663045E-4,0,1.1556004059663045E-4,1.1556004059663045E-4,1.0270954074878518E-4,1.2850499847845271E-5,1.223922721721593E-3,1.223922721721593E-3,1.223922721721593E-3,"-",1.1100018581190171E-4,1.1100018581190171E-4,1.1100018581190171E-4,"-",7.7700130068331192E-5,0.1614380429427201,-6.3957167798765096E-4,-6.107459640798756E-3,6.2800012368751013,-2.9088820873213997E-4,2.9088820873213997E-4,{"$f":"FI_T-Rechentabelle!AL1120","v":-1.2368751010072287E-6},{"$f":"K1120","v":-1.1076438291013346E-6}]
[6.993749737739563E-2,6.2500002968590707E-5,6.2800002098083496,0,0,null,0,null,null,null,null,null,"-",{"$f":"N1120+(L1122-L1120)/2","v":-5.5222228210283057E-4},-6.3957167798765096E-4,0,8.7349395884820389E-5,1.2376827762570266E-4,"-",1.2376827762570266E-4,0,1.2376827762570266E-4,1.2376827762570266E-4,1.1100018581190171E-4,1.2768091813800944E-5,1.242026897306109E-3,1.242026897306109E-3,1.242026897306109E-3,"-",1.1923766440144148E-4,1.1923766440144148E-4,1.1923766440144148E-4,"-",8.3466365081009034E-5,0.17341858525038234,-6.2873301640950204E-4,-6.0039580467989998E-3,6.2800011975792875,-2.9088820873213997E-4,2.9088820873213997E-4,{"$f":"FI_T-Rechentabelle!AL1121","v":-1.1975792872931379E-6},{"$f":"AP1120","v":-1.1076438291013346E-6}]
[7.0000000298023224E-2,6.2500002968590707E-5,6.2800002098083496,0,0,null,0,null,{"$f":"C1122","v":6.2800002098083496},{"$f":"AL1120","v":6.2800012368751013},{"$f":"I1122-J1122","v":-1.0270667516465437E-6},{"$f":"L1120+KP_LR*(1+2*TA_SIM/TN_LR)*K1122-KP_LR*K1120","v":-5.4778297989806798E-4},"-",{"$f":"L1122","v":-5.4778297989806798E-4},-6.2873301640950204E-4,0,8.0950036511434056E-5,1.2868219192321929E-4,"-",1.2868219192321929E-4,0,1.2868219192321929E-4,1.2868219192321929E-4,1.1923766440144148E-4,9.4445275217778059E-6,1.0264045326874242E-3,1.0264045326874242E-3,1.0264045326874242E-3,"-",1.253309079638698E-4,1.253309079638698E-4,1.253309079638698E-4,"-",8.7731635574708861E-5,0.1822805642524597,-6.1734048114372336E-4,-5.8951673486851543E-3,6.2800011589955078,-2.9088820873213997E-4,2.9088820873213997E-4,{"$f":"FI_T-Rechentabelle!AL1122","v":-1.1589955075663738E-6},{"$f":"K1122","v":-1.0270667516465437E-6}]
[7.0062503218650818E-2,6.2500002968590707E-5,6.2800002098083496,0,0,null,0,null,null,null,null,null,"-",{"$f":"N1122+(L1124-L1122)/2","v":-5.4174680070501939E-4},-6.1734048114372336E-4,0,7.5593680438703964E-5,1.3470589304853832E-4,"-",1.3470589304853832E-4,0,1.3470589304853832E-4,1.3470589304853832E-4,1.253309079638698E-4,9.3749850846685222E-6,1.039063396937778E-3,1.039063396937778E-3,1.039063396937778E-3,"-",1.3137928543784075E-4,1.3137928543784075E-4,1.3137928543784075E-4,"-",9.1965499806488519E-5,0.19107729026903908,-6.053981505019084E-4,-5.7811264914641959E-3,6.280001121158123,-2.9088820873213997E-4,2.9088820873213997E-4,{"$f":"FI_T-Rechentabelle!AL1123","v":-1.1211581227854595E-6},{"$f":"AP1122","v":-1.0270667516465437E-6}]
[7.0124998688697815E-2,6.2500002968590707E-5,6.2800002098083496,0,0,null,0,null,{"$f":"C1124","v":6.2800002098083496},{"$f":"AL1122","v":6.2800011589955078},{"$f":"I1124-J1124","v":-9.4918715820568877E-7},{"$f":"L1122+KP_LR*(1+2*TA_SIM/TN_LR)*K1124-KP_LR*K1122","v":-5.357106215119708E-4},"-",{"$f":"L1124","v":-5.357106215119708E-4},-6.053981505019084E-4,0,6.96875289899376E-5,1.3801637529681508E-4,"-",1.3801637529681508E-4,0,1.3801637529681508E-4,1.3801637529681508E-4,1.3137928543784075E-4,6.6370898589743308E-6,8.5929859696067966E-4,8.5929859696067966E-4,8.5929859696067966E-4,"-",1.3566127889523503E-4,1.3566127889523503E-4,1.3566127889523503E-4,"-",9.4962895226664517E-5,0.19730499735438295,-5.9306658816725942E-4,-5.6633687453678822E-3,6.2800010840914613,-2.9088820873213997E-4,2.9088820873213997E-4,{"$f":"FI_T-Rechentabelle!AL1124","v":-1.0840914610454888E-6},{"$f":"K1124","v":-9.4918715820568877E-7}]
[7.0187501609325409E-2,6.2500002968590707E-5,6.2800002098083496,0,0,null,0,null,null,null,null,null,"-",{"$f":"N1124+(L1126-L1124)/2","v":-5.2835452337104841E-4},-5.9306658816725942E-4,0,6.4712064796211013E-5,1.4226937566986429E-4,"-",1.4226937566986429E-4,0,1.4226937566986429E-4,1.4226937566986429E-4,1.3566127889523503E-4,6.6080967746292598E-6,8.6962700539273204E-4,8.6962700539273204E-4,8.6962700539273204E-4,"-",1.3992456713692302E-4,1.3992456713692302E-4,1.3992456713692302E-4,"-",9.7947196995846111E-5,0.20350549967971349,-5.803474944372773E-4,-5.5419103470413346E-3,6.2800010478197432,-2.9088820873213997E-4,2.9088820873213997E-4,{"$f":"FI_T-Rechentabelle!AL1125","v":-1.0478197429719671E-6},{"$f":"AP1124","v":-9.4918715820568877E-7}]
[7.0249997079372406E-2,6.2500002968590707E-5,6.2800002098083496,0,0,null,0,null,{"$f":"C1126","v":6.2800002098083496},{"$f":"AL1124","v":6.2800010840914613},{"$f":"I1126-J1126","v":-8.7428311168480377E-7},{"$f":"L1124+KP_LR*(1+2*TA_SIM/TN_LR)*K1126-KP_LR*K1124","v":-5.2099842523012601E-4},"-",{"$f":"L1126","v":-5.2099842523012601E-4},-5.803474944372773E-4,0,5.9349069207151285E-5,1.4431738282599368E-4,"-",1.4431738282599368E-4,0,1.4431738282599368E-4,1.4431738282599368E-4,1.3992456713692302E-4,4.392815689070658E-6,7.2234738177307336E-4,7.2234738177307336E-4,7.2234738177307336E-4,"-",1.4275864177502507E-4,1.4275864177502507E-4,1.4275864177502507E-4,"-",9.9931049242517537E-5,0.20762736181699051,-5.6737078432371544E-4,-5.4179918934626975E-3,6.2800010123590688,-2.9088820873213997E-4,2.9088820873213997E-4,{"$f":"FI_T-Rechentabelle!AL1126","v":-1.0123590685751083E-6},{"$f":"K1126","v":-8.7428311168480377E-7}]
[7.03125E-2,6.2500002968590707E-5,6.2800002098083496,0,0,null,0,null,null,null,null,null,"-",{"$f":"N1126+(L1128-L1126)/2","v":-5.1256079966695051E-4},-5.6737078432371544E-4,0,5.4809984656764934E-5,1.4716699732354721E-4,"-",1.4716699732354721E-4,0,1.4716699732354721E-4,1.4716699732354721E-4,1.4275864177502507E-4,4.4083555485221451E-6,7.3168607067567739E-4,7.3168607067567739E-4,7.3168607067567739E-4,"-",1.4560274212890246E-4,1.4560274212890246E-4,1.4560274212890246E-4,"-",1.0192191949023172E-4,0.21176380529863226,-5.5413554649255095E-4,-5.2916046820330959E-3,6.2800009777255967,-2.9088820873213997E-4,2.9088820873213997E-4,{"$f":"FI_T-Rechentabelle!AL1127","v":-9.7772559648490187E-7},{"$f":"AP1126","v":-8.7428311168480377E-7}]
[7.0374995470046997E-2,6.2500002968590707E-5,6.2800002098083496,0,0,null,0,null,{"$f":"C1128","v":6.2800002098083496},{"$f":"AL1126","v":6.2800010123590688},{"$f":"I1128-J1128","v":-8.0255071921442322E-7},{"$f":"L1126+KP_LR*(1+2*TA_SIM/TN_LR)*K1128-KP_LR*K1126","v":-5.04123174103775E-4},"-",{"$f":"L1128","v":-5.04123174103775E-4},-5.5413554649255095E-4,0,5.0012372388775952E-5,1.4824823129378403E-4,"-",1.4824823129378403E-4,0,1.4824823129378403E-4,1.4824823129378403E-4,1.4560274212890246E-4,2.6454891648815737E-6,6.1289384876474988E-4,6.1289384876474988E-4,6.1289384876474988E-4,"-",1.4730950933204419E-4,1.4730950933204419E-4,1.4730950933204419E-4,"-",1.0311665653243093E-4,0.21424611787332415,-5.4074516412546824E-4,-5.1637359494163902E-3,6.2800009439290241,-2.9088820873213997E-4,2.9088820873213997E-4,{"$f":"FI_T-Rechentabelle!AL1128","v":-9.4392902383333421E-7},{"$f":"K1128","v":-8.0255071921442322E-7}]
[7.0437498390674591E-2,6.2500002968590707E-5,6.2800002098083496,0,0,null,0,null,null,null,null,null,"-",{"$f":"N1128+(L1130-L1128)/2","v":-4.948105940096192E-4},-5.4074516412546824E-4,0,4.5934570115849032E-5,1.500024286815562E-4,"-",1.500024286815562E-4,0,1.500024286815562E-4,1.500024286815562E-4,1.4730950933204419E-4,2.6929193495120126E-6,6.2126150695918634E-4,6.2126150695918634E-4,6.2126150695918634E-4,"-",1.4904687665430252E-4,1.4904687665430252E-4,1.4904687665430252E-4,"-",1.0433281365801175E-4,0.2167729350883269,-5.2719685568244782E-4,-5.0343591338619679E-3,6.2800009109792203,-2.9088820873213997E-4,2.9088820873213997E-4,{"$f":"FI_T-Rechentabelle!AL1129","v":-9.10979220059005E-7},{"$f":"AP1128","v":-8.0255071921442322E-7}]
[7.0500001311302185E-2,6.2500002968590707E-5,6.2800002098083496,0,0,null,0,null,{"$f":"C1130","v":6.2800002098083496},{"$f":"AL1128","v":6.2800009439290241},{"$f":"I1130-J1130","v":-7.3412067447264917E-7},{"$f":"L1128+KP_LR*(1+2*TA_SIM/TN_LR)*K1130-KP_LR*K1128","v":-4.8549801391546341E-4},"-",{"$f":"L1130","v":-4.8549801391546341E-4},-5.2719685568244782E-4,0,4.169884176698441E-5,1.5035822513345318E-4,"-",1.5035822513345318E-4,0,1.5035822513345318E-4,1.5035822513345318E-4,1.4904687665430252E-4,1.3113484791506616E-6,5.2673763592320049E-4,5.2673763592320049E-4,5.2673763592320049E-4,"-",1.4989290793116663E-4,1.4989290793116663E-4,1.4989290793116663E-4,"-",1.0492503555181663E-4,0.21800339819617001,-5.1357164329518719E-4,-4.9042479397354011E-3,6.2800008788809922,-2.9088820873213997E-4,2.9088820873213997E-4,{"$f":"FI_T-Rechentabelle!AL1130","v":-8.7888099198352165E-7},{"$f":"K1130","v":-7.3412067447264917E-7}]
[7.0562496781349182E-2,6.2500002968590707E-5,6.2800002098083496,0,0,null,0,null,null,null,null,null,"-",{"$f":"N1130+(L1132-L1130)/2","v":-4.7549133631260941E-4},-5.1357164329518719E-4,0,3.8080306982577773E-5,1.512612882966579E-4,"-",1.512612882966579E-4,0,1.512612882966579E-4,1.512612882966579E-4,1.4989290793116663E-4,1.3683803654912648E-6,5.3330110191918915E-4,5.3330110191918915E-4,5.3330110191918915E-4,"-",1.5077573397341199E-4,1.5077573397341199E-4,1.5077573397341199E-4,"-",1.0554301378138839E-4,0.21928737540284307,-4.9986618233250951E-4,-4.7733704281616119E-3,6.2800008476393554,-2.9088820873213997E-4,2.9088820873213997E-4,{"$f":"FI_T-Rechentabelle!AL1131","v":-8.4763935515042022E-7},{"$f":"AP1130","v":-7.3412067447264917E-7}]
[7.0624999701976776E-2,6.2500002968590707E-5,6.2800002098083496,0,0,null,0,null,{"$f":"C1132","v":6.2800002098083496},{"$f":"AL1130","v":6.2800008788809922},{"$f":"I1132-J1132","v":-6.6907264262283661E-7},{"$f":"L1130+KP_LR*(1+2*TA_SIM/TN_LR)*K1132-KP_LR*K1130","v":-4.6548465870975542E-4},"-",{"$f":"L1132","v":-4.6548465870975542E-4},-4.9986618233250951E-4,0,3.4381523622754092E-5,1.5107675718749981E-4,"-",1.5107675718749981E-4,0,1.5107675718749981E-4,1.5107675718749981E-4,1.5077573397341199E-4,3.0102321408782026E-7,4.5894272078896969E-4,4.5894272078896969E-4,4.5894272078896969E-4,"-",1.5096994249862305E-4,1.5096994249862305E-4,1.5096994249862305E-4,"-",1.0567895974903613E-4,0.2195698311843676,-4.8614306788348656E-4,-4.6423243382109434E-3,6.2800008172554138,-2.9088820873213997E-4,2.9088820873213997E-4,{"$f":"FI_T-Rechentabelle!AL1132","v":-8.1725541356547637E-7},{"$f":"K1132","v":-6.6907264262283661E-7}]
[7.068750262260437E-2,6.2500002968590707E-5,6.2800002098083496,0,0,null,0,null,null,null,null,null,"-",{"$f":"N1132+(L1134-L1132)/2","v":-4.5494413877879882E-4},-4.8614306788348656E-4,0,3.1198929104687739E-5,1.5131184184233131E-4,"-",1.5131184184233131E-4,0,1.5131184184233131E-4,1.5131184184233131E-4,1.5096994249862305E-4,3.4189934370825836E-7,4.6245164401442621E-4,4.6245164401442621E-4,4.6245164401442621E-4,"-",1.511905227203636E-4,1.511905227203636E-4,1.511905227203636E-4,"-",1.0583336590425452E-4,0.2198906418122886,-4.7239990277021853E-4,-4.5110867785206612E-3,6.2800007877304198,-2.9088820873213997E-4,2.9088820873213997E-4,{"$f":"FI_T-Rechentabelle!AL1133","v":-7.8773041956026191E-7},{"$f":"AP1132","v":-6.6907264262283661E-7}]
[7.0749998092651367E-2,6.2500002968590707E-5,6.2800002098083496,0,0,null,0,null,{"$f":"C1134","v":6.2800002098083496},{"$f":"AL1132","v":6.2800008172554138},{"$f":"I1134-J1134","v":-6.0744706420479133E-7},{"$f":"L1132+KP_LR*(1+2*TA_SIM/TN_LR)*K1134-KP_LR*K1132","v":-4.4440361884784223E-4},"-",{"$f":"L1134","v":-4.4440361884784223E-4},-4.7239990277021853E-4,0,2.7996283922376299E-5,1.507197072333869E-4,"-",1.507197072333869E-4,0,1.507197072333869E-4,1.507197072333869E-4,1.511905227203636E-4,-4.7081548697669364E-7,4.0452342563329386E-4,4.0452342563329386E-4,4.0452342563329386E-4,"-",1.5088677079327532E-4,1.5088677079327532E-4,1.5088677079327532E-4,"-",1.0562073955529272E-4,0.21944886672614317,-4.586843485998346E-4,-4.3801128839129856E-3,6.2800007590626477,-2.9088820873213997E-4,2.9088820873213997E-4,{"$f":"FI_T-Rechentabelle!AL1134","v":-7.5906264740410734E-7},{"$f":"K1134","v":-6.0744706420479133E-7}]
[7.0812501013278961E-2,6.2500002968590707E-5,6.2800002098083496,0,0,null,0,null,null,null,null,null,"-",{"$f":"N1134+(L1136-L1134)/2","v":-4.3347288314105867E-4},-4.586843485998346E-4,0,2.5211465458775933E-5,1.5041635362744317E-4,"-",1.5041635362744317E-4,0,1.5041635362744317E-4,1.5041635362744317E-4,1.5088677079327532E-4,-4.7041716583215236E-7,4.0367124986530215E-4,4.0367124986530215E-4,4.0367124986530215E-4,"-",1.5058327584757078E-4,1.5058327584757078E-4,1.5058327584757078E-4,"-",1.0540829309329954E-4,0.21900746539226995,-4.4499638201281772E-4,-4.2494024313209601E-3,6.2800007312503734,-2.9088820873213997E-4,2.9088820873213997E-4,{"$f":"FI_T-Rechentabelle!AL1135","v":-7.3125037314270003E-7},{"$f":"AP1134","v":-6.0744706420479133E-7}]
[7.0874996483325958E-2,6.2500002968590707E-5,6.2800002098083496,0,0,null,0,null,{"$f":"C1136","v":6.2800002098083496},{"$f":"AL1134","v":6.2800007590626477},{"$f":"I1136-J1136","v":-5.492542980434223E-7},{"$f":"L1134+KP_LR*(1+2*TA_SIM/TN_LR)*K1136-KP_LR*K1134","v":-4.2254214743427511E-4},"-",{"$f":"L1136","v":-4.2254214743427511E-4},-4.4499638201281772E-4,0,2.2454234578542611E-5,1.4950470110029426E-4,"-",1.4950470110029426E-4,0,1.4950470110029426E-4,1.4950470110029426E-4,1.5058327584757078E-4,-1.0785747472765242E-6,3.5896453268578624E-4,3.5896453268578624E-4,3.5896453268578624E-4,"-",1.4988742117190228E-4,1.4988742117190228E-4,1.4988742117190228E-4,"-",1.0492119482033159E-4,0.21799541828450358,-4.3137166837003624E-4,-4.1192959998533436E-3,6.2800007042896437,-2.9088820873213997E-4,2.9088820873213997E-4,{"$f":"FI_T-Rechentabelle!AL1136","v":-7.0428964349389389E-7},{"$f":"K1136","v":-5.492542980434223E-7}]
[7.0937499403953552E-2,6.2500002968590707E-5,6.2800002098083496,0,0,null,0,null,null,null,null,null,"-",{"$f":"N1136+(L1138-L1136)/2","v":-4.1135103535123199E-4},-4.3137166837003624E-4,0,2.0020633018804246E-5,1.4874928966490027E-4,"-",1.4874928966490027E-4,0,1.4874928966490027E-4,1.4874928966490027E-4,1.4988742117190228E-4,-1.1381315070020128E-6,3.526546250545353E-4,3.526546250545353E-4,3.526546250545353E-4,"-",1.4915314278028202E-4,1.4915314278028202E-4,1.4915314278028202E-4,"-",1.0440719994619741E-4,0.21692748794140329,-4.1781370037369855E-4,-3.9898269423594129E-3,6.2800006781762878,-2.9088820873213997E-4,2.9088820873213997E-4,{"$f":"FI_T-Rechentabelle!AL1137","v":-6.7817628757183002E-7},{"$f":"AP1136","v":-5.492542980434223E-7}]
[7.1000002324581146E-2,6.2500002968590707E-5,6.2800002098083496,0,0,null,0,null,{"$f":"C1138","v":6.2800002098083496},{"$f":"AL1136","v":6.2800007042896437},{"$f":"I1138-J1138","v":-4.9448129413320885E-7},{"$f":"L1136+KP_LR*(1+2*TA_SIM/TN_LR)*K1138-KP_LR*K1136","v":-4.0015992326818887E-4},"-",{"$f":"L1138","v":-4.0015992326818887E-4},-4.1781370037369855E-4,0,1.7653777105509677E-5,1.4757144110365519E-4,"-",1.4757144110365519E-4,0,1.4757144110365519E-4,1.4757144110365519E-4,1.4915314278028202E-4,-1.5817016766268334E-6,3.1855954807556865E-4,3.1855954807556865E-4,3.1855954807556865E-4,"-",1.4813269008567817E-4,1.4813269008567817E-4,1.4813269008567817E-4,"-",1.0369288305997472E-4,0.21544334730931791,-4.043484911668662E-4,-3.8612436660573806E-3,6.2800006529045067,-2.9088820873213997E-4,2.9088820873213997E-4,{"$f":"FI_T-Rechentabelle!AL1138","v":-6.5290450645960618E-7},{"$f":"K1138","v":-4.9448129413320885E-7}]
[7.1062497794628143E-2,6.2500002968590707E-5,6.2800002098083496,0,0,null,0,null,null,null,null,null,"-",{"$f":"N1138+(L1140-L1138)/2","v":-3.8882631645985571E-4},-4.043484911668662E-4,0,1.5522174707010487E-5,1.4641877778288914E-4,"-",1.4641877778288914E-4,0,1.4641877778288914E-4,1.4641877778288914E-4,1.4813269008567817E-4,-1.7139123027890338E-6,3.0607254045973925E-4,3.0607254045973925E-4,3.0607254045973925E-4,"-",1.4702694021290533E-4,1.4702694021290533E-4,1.4702694021290533E-4,"-",1.0291885814903373E-4,0.21383515094334868,-3.9098379423290689E-4,-3.7336202112594969E-3,6.2800006284680192,-2.9088820873213997E-4,2.9088820873213997E-4,{"$f":"FI_T-Rechentabelle!AL1139","v":-6.2846801895943827E-7},{"$f":"AP1138","v":-4.9448129413320885E-7}]
[7.1125000715255737E-2,6.2500002968590707E-5,6.2800002098083496,0,0,null,0,null,{"$f":"C1140","v":6.2800002098083496},{"$f":"AL1138","v":6.2800006529045067},{"$f":"I1140-J1140","v":-4.4309615709892114E-7},{"$f":"L1138+KP_LR*(1+2*TA_SIM/TN_LR)*K1140-KP_LR*K1138","v":-3.7749270965152255E-4},"-",{"$f":"L1140","v":-3.7749270965152255E-4},-3.9098379423290689E-4,0,1.3491084581384346E-5,1.4500373908624706E-4,"-",1.4500373908624706E-4,0,1.4500373908624706E-4,1.4500373908624706E-4,1.4702694021290533E-4,-2.0232011266582738E-6,2.8057711639246035E-4,2.8057711639246035E-4,2.8057711639246035E-4,"-",1.457216491634428E-4,1.457216491634428E-4,1.457216491634428E-4,"-",1.0200515441440995E-4,0.21193674301768117,-3.777377477943018E-4,-3.6071297852317691E-3,6.2800006048594099,-2.9088820873213997E-4,2.9088820873213997E-4,{"$f":"FI_T-Rechentabelle!AL1140","v":-6.048594096697002E-7},{"$f":"K1140","v":-4.4309615709892114E-7}]
[7.1187496185302734E-2,6.2500002968590707E-5,6.2800002098083496,0,0,null,0,null,null,null,null,null,"-",{"$f":"N1140+(L1142-L1140)/2","v":-3.6612354384496422E-4},-3.777377477943018E-4,0,1.1614203949337576E-5,1.4348828453131343E-4,"-",1.4348828453131343E-4,0,1.4348828453131343E-4,1.4348828453131343E-4,1.457216491634428E-4,-2.2333646321293717E-6,2.6164644101927929E-4,2.6164644101927929E-4,2.6164644101927929E-4,"-",1.4428076875561195E-4,1.4428076875561195E-4,1.4428076875561195E-4,"-",1.0099653812892836E-4,0.20984113469546717,-3.6462267687583511E-4,-3.481890083291285E-3,6.2800005820704925,-2.9088820873213997E-4,2.9088820873213997E-4,{"$f":"FI_T-Rechentabelle!AL1141","v":-5.820704922498976E-7},{"$f":"AP1140","v":-4.4309615709892114E-7}]
[7.1249999105930328E-2,6.2500002968590707E-5,6.2800002098083496,0,0,null,0,null,{"$f":"C1142","v":6.2800002098083496},{"$f":"AL1140","v":6.2800006048594099},{"$f":"I1142-J1142","v":-3.9505106030901516E-7},{"$f":"L1140+KP_LR*(1+2*TA_SIM/TN_LR)*K1142-KP_LR*K1140","v":-3.547543780384059E-4},"-",{"$f":"L1142","v":-3.547543780384059E-4},-3.6462267687583511E-4,0,9.8682988374292025E-6,1.4185053440459645E-4,"-",1.4185053440459645E-4,0,1.4185053440459645E-4,1.4185053440459645E-4,1.4428076875561195E-4,-2.4302343510154971E-6,2.4328056680459839E-4,2.4328056680459839E-4,2.4328056680459839E-4,"-",1.4271287562591924E-4,1.4271287562591924E-4,1.4271287562591924E-4,"-",9.9899012938143463E-5,0.20756079978837202,-3.5165012688906188E-4,-3.358011355997185E-3,6.2800005600923594,-2.9088820873213997E-4,2.9088820873213997E-4,{"$f":"FI_T-Rechentabelle!AL1142","v":-5.6009235915865929E-7},{"$f":"K1142","v":-3.9505106030901516E-7}]
[7.1312502026557922E-2,6.2500002968590707E-5,6.2800002098083496,0,0,null,0,null,null,null,null,null,"-",{"$f":"N1142+(L1144-L1142)/2","v":-3.4344607394774069E-4},-3.5165012688906188E-4,0,8.2040529413211858E-6,1.3999617857781099E-4,"-",1.3999617857781099E-4,0,1.3999617857781099E-4,1.3999617857781099E-4,1.4271287562591924E-4,-2.7166970481082449E-6,2.1808988107349845E-4,2.1808988107349845E-4,2.1808988107349845E-4,"-",1.40960167852941E-4,1.40960167852941E-4,1.40960167852941E-4,"-",9.8672117497058693E-5,0.20501167150853664,-3.3883689741977832E-4,-3.2356540275767522E-3,6.2800005389150533,-2.9088820873213997E-4,2.9088820873213997E-4,{"$f":"FI_T-Rechentabelle!AL1143","v":-5.3891505302772202E-7},{"$f":"AP1142","v":-3.9505106030901516E-7}]
[7.1374997496604919E-2,6.2500002968590707E-5,6.2800002098083496,0,0,null,0,null,{"$f":"C1144","v":6.2800002098083496},{"$f":"AL1142","v":6.2800005600923594},{"$f":"I1144-J1144","v":-3.5028400979797425E-7},{"$f":"L1142+KP_LR*(1+2*TA_SIM/TN_LR)*K1144-KP_LR*K1142","v":-3.3213776985707548E-4},"-",{"$f":"L1144","v":-3.3213776985707548E-4},-3.3883689741977832E-4,0,6.699127562702844E-6,1.3814392413083205E-4,"-",1.3814392413083205E-4,0,1.3814392413083205E-4,1.3814392413083205E-4,1.40960167852941E-4,-2.8162437221089499E-6,2.0583324563776126E-4,2.0583324563776126E-4,2.0583324563776126E-4,"-",1.3914323641931728E-4,1.3914323641931728E-4,1.3914323641931728E-4,"-",9.7400265493522087E-5,0.20236913669960954,-3.261888263760527E-4,-3.1148738459455681E-3,6.2800005185282517,-2.9088820873213997E-4,2.9088820873213997E-4,{"$f":"FI_T-Rechentabelle!AL1144","v":-5.1852825144749204E-7},{"$f":"K1144","v":-3.5028400979797425E-7}]
[7.1437500417232513E-2,6.2500002968590707E-5,6.2800002098083496,0,0,null,0,null,null,null,null,null,"-",{"$f":"N1144+(L1146-L1144)/2","v":-3.209763064664393E-4},-3.261888263760527E-4,0,5.2125199096133982E-6,1.3597167008344921E-4,"-",1.3597167008344921E-4,0,1.3597167008344921E-4,1.3597167008344921E-4,1.3914323641931728E-4,-3.171566335868068E-6,1.7495799225001325E-4,1.7495799225001325E-4,1.7495799225001325E-4,"-",1.3709706458972008E-4,1.3709706458972008E-4,1.3709706458972008E-4,"-",9.5967945212804048E-5,0.19939319595429886,-3.1372675162890903E-4,-2.9958697981142517E-3,6.2800004989203293,-2.9088820873213997E-4,2.9088820873213997E-4,{"$f":"FI_T-Rechentabelle!AL1145","v":-4.9892032905063388E-7},{"$f":"AP1144","v":-3.5028400979797425E-7}]
[7.1500003337860107E-2,6.2500002968590707E-5,6.2800002098083496,0,0,null,0,null,{"$f":"C1146","v":6.2800002098083496},{"$f":"AL1144","v":6.2800005185282517},{"$f":"I1146-J1146","v":-3.08719902086807E-7},{"$f":"L1144+KP_LR*(1+2*TA_SIM/TN_LR)*K1146-KP_LR*K1144","v":-3.0981484307580318E-4},"-",{"$f":"L1146","v":-3.0981484307580318E-4},-3.1372675162890903E-4,0,3.9119085531058475E-6,1.3391310957726546E-4,"-",1.3391310957726546E-4,0,1.3391310957726546E-4,1.3391310957726546E-4,1.3709706458972008E-4,-3.1839550124546155E-6,1.6813130996050693E-4,1.6813130996050693E-4,1.6813130996050693E-4,"-",1.3504290006555102E-4,1.3504290006555102E-4,1.3504290006555102E-4,"-",9.4530030045885706E-5,0.19640563067917244,-3.0145139971146076E-4,-2.8786488219629839E-3,6.2800004800796172,-2.9088820873213997E-4,2.9088820873213997E-4,{"$f":"FI_T-Rechentabelle!AL1146","v":-4.8007961694906953E-7},{"$f":"K1146","v":-3.08719902086807E-7}]
[7.1562498807907104E-2,6.2500002968590707E-5,6.2800002098083496,0,0,null,0,null,null,null,null,null,"-",{"$f":"N1146+(L1148-L1146)/2","v":-2.9887568260696269E-4},-3.0145139971146076E-4,0,2.5757171044980647E-6,1.3144639086757492E-4,"-",1.3144639086757492E-4,0,1.3144639086757492E-4,1.3144639086757492E-4,1.3504290006555102E-4,-3.5965091979760992E-6,1.3244371508381784E-4,1.3244371508381784E-4,1.3244371508381784E-4,"-",1.3272257155072308E-4,1.3272257155072308E-4,1.3272257155072308E-4,"-",9.2905800085506154E-5,0.19303095800022055,-2.8938696483644699E-4,-2.7634419552048624E-3,6.2800004619929322,-2.9088820873213997E-4,2.9088820873213997E-4,{"$f":"FI_T-Rechentabelle!AL1147","v":-4.6199293191051538E-7},{"$f":"AP1146","v":-3.08719902086807E-7}]
[7.1625001728534698E-2,6.2500002968590707E-5,6.2800002098083496,0,0,null,0,null,{"$f":"C1148","v":6.2800002098083496},{"$f":"AL1146","v":6.2800004800796172},{"$f":"I1148-J1148","v":-2.7027126758838449E-7},{"$f":"L1146+KP_LR*(1+2*TA_SIM/TN_LR)*K1148-KP_LR*K1146","v":-2.8793652213812221E-4},"-",{"$f":"L1148","v":-2.8793652213812221E-4},-2.8938696483644699E-4,0,1.450442698324784E-6,1.2919382875389694E-4,"-",1.2919382875389694E-4,0,1.2919382875389694E-4,1.2919382875389694E-4,1.3272257155072308E-4,-3.5287427968261472E-6,1.3059831529950742E-4,1.3059831529950742E-4,1.3059831529950742E-4,"-",1.3044596329470168E-4,1.3044596329470168E-4,1.3044596329470168E-4,"-",9.1312174306291171E-5,0.1897198718185979,-2.7752947284778463E-4,-2.6502112474447725E-3,6.2800004446473405,-2.9088820873213997E-4,2.9088820873213997E-4,{"$f":"FI_T-Rechentabelle!AL1148","v":-4.4464734028082376E-7},{"$f":"K1148","v":-2.7027126758838449E-7}]
[7.1687497198581696E-2,6.2500002968590707E-5,6.2800002098083496,0,0,null,0,null,null,null,null,null,"-",{"$f":"N1148+(L1150-L1148)/2","v":-2.7728455083960953E-4},-2.7752947284778463E-4,0,2.449220081750963E-7,1.2646151676209193E-4,"-",1.2646151676209193E-4,0,1.2646151676209193E-4,1.2646151676209193E-4,1.3044596329470168E-4,-3.9844465326097512E-6,9.1156082139620686E-5,9.1156082139620686E-5,9.1156082139620686E-5,"-",1.2787535262849742E-4,1.2787535262849742E-4,1.2787535262849742E-4,"-",8.9512746839948194E-5,0.18598119019311901,-2.6590564846071469E-4,-2.5392119009147148E-3,6.2800004280282371,-2.9088820873213997E-4,2.9088820873213997E-4,{"$f":"FI_T-Rechentabelle!AL1149","v":-4.2802823685406111E-7},{"$f":"AP1148","v":-2.7027126758838449E-7}]
[7.175000011920929E-2,6.2500002968590707E-5,6.2800002098083496,0,0,null,0,null,{"$f":"C1150","v":6.2800002098083496},{"$f":"AL1148","v":6.2800004446473405},{"$f":"I1150-J1150","v":-2.3483899092013871E-7},{"$f":"L1148+KP_LR*(1+2*TA_SIM/TN_LR)*K1150-KP_LR*K1148","v":-2.6663257954109685E-4},"-",{"$f":"L1150","v":-2.6663257954109685E-4},-2.6590564846071469E-4,0,-7.2693108038216587E-7,1.2403345533351279E-4,"-",1.2403345533351279E-4,0,1.2403345533351279E-4,1.2403345533351279E-4,1.2787535262849742E-4,-3.8418972949846311E-6,9.3974053041657904E-5,9.3974053041657904E-5,9.3974053041657904E-5,"-",1.2539670921237403E-4,1.2539670921237403E-4,1.2539670921237403E-4,"-",8.7777696448661813E-5,0.18237626521641762,-2.5450713188468856E-4,-2.4303640854953469E-3,6.2800004121215416,-2.9088820873213997E-4,2.9088820873213997E-4,{"$f":"FI_T-Rechentabelle!AL1150","v":-4.1212154133773993E-7},{"$f":"K1150","v":-2.3483899092013871E-7}]
[7.1812495589256287E-2,6.2500002968590707E-5,6.2800002098083496,0,0,null,0,null,null,null,null,null,"-",{"$f":"N1150+(L1152-L1150)/2","v":-2.5632217492132234E-4},-2.5450713188468856E-4,0,-1.8150430366337816E-6,1.2107086118496723E-4,"-",1.2107086118496723E-4,0,1.2107086118496723E-4,1.2107086118496723E-4,1.2539670921237403E-4,-4.3258480274067977E-6,5.1910311772618257E-5,5.1910311772618257E-5,5.1910311772618257E-5,"-",1.2260583951726866E-4,1.2260583951726866E-4,1.2260583951726866E-4,"-",8.5824087662088062E-5,0.17831724010406827,-2.4336230437818428E-4,-2.3239388222413455E-3,6.2800003969113973,-2.9088820873213997E-4,2.9088820873213997E-4,{"$f":"FI_T-Rechentabelle!AL1151","v":-3.9691139708253331E-7},{"$f":"AP1150","v":-2.3483899092013871E-7}]
[7.1874998509883881E-2,6.2500002968590707E-5,6.2800002098083496,0,0,null,0,null,{"$f":"C1152","v":6.2800002098083496},{"$f":"AL1150","v":6.2800004121215416},{"$f":"I1152-J1152","v":-2.0231319197705488E-7},{"$f":"L1150+KP_LR*(1+2*TA_SIM/TN_LR)*K1152-KP_LR*K1150","v":-2.4601177030154778E-4},"-",{"$f":"L1152","v":-2.4601177030154778E-4},-2.4336230437818428E-4,0,-2.6494659233634974E-6,1.1849239239317125E-4,"-",1.1849239239317125E-4,0,1.1849239239317125E-4,1.1849239239317125E-4,1.2260583951726866E-4,-4.1134471240974102E-6,5.9123357979185259E-5,5.9123357979185259E-5,5.9123357979185259E-5,"-",1.1995200266300818E-4,1.1995200266300818E-4,1.1995200266300818E-4,"-",8.3966401864105715E-5,0.17445751478102162,-2.3245870970437044E-4,-2.2198171628528699E-3,6.2800003823827284,-2.9088820873213997E-4,2.9088820873213997E-4,{"$f":"FI_T-Rechentabelle!AL1152","v":-3.8238272814794527E-7},{"$f":"K1152","v":-2.0231319197705488E-7}]
[7.1937501430511475E-2,6.2500002968590707E-5,6.2800002098083496,0,0,null,0,null,null,null,null,null,"-",{"$f":"N1152+(L1154-L1152)/2","v":-2.3608706861772961E-4},-2.3245870970437044E-4,0,-3.6283589133591701E-6,1.153406795914331E-4,"-",1.153406795914331E-4,0,1.153406795914331E-4,1.153406795914331E-4,1.1995200266300818E-4,-4.6113230715750809E-6,1.5548041854579855E-5,1.5548041854579855E-5,1.5548041854579855E-5,"-",1.1697695552005254E-4,1.1697695552005254E-4,1.1697695552005254E-4,"-",8.1883868864036778E-5,0.17013062302937204,-2.2182554576503468E-4,-2.1182779267537631E-3,6.2800003685186319,-2.9088820873213997E-4,2.9088820873213997E-4,{"$f":"FI_T-Rechentabelle!AL1153","v":-3.6851863161047049E-7},{"$f":"AP1152","v":-2.0231319197705488E-7}]
[7.1999996900558472E-2,6.2500002968590707E-5,6.2800002098083496,0,0,null,0,null,{"$f":"C1154","v":6.2800002098083496},{"$f":"AL1152","v":6.2800003823827284},{"$f":"I1154-J1154","v":-1.7257437878726023E-7},{"$f":"L1152+KP_LR*(1+2*TA_SIM/TN_LR)*K1154-KP_LR*K1152","v":-2.2616236693391144E-4},"-",{"$f":"L1154","v":-2.2616236693391144E-4},-2.2182554576503468E-4,0,-4.3368211688767598E-6,1.1264257462074722E-4,"-",1.1264257462074722E-4,{"$f":"G1154*(JM_EMS+JL_EMS)/KT_M*KP_VSR","v":0},1.1264257462074722E-4,{"$f":"IF(V1154<-IM_R,-IM_R,IF(V1154>IM_R,IM_R,V1154))","v":1.1264257462074722E-4},1.1697695552005254E-4,-4.3343808993053179E-6,2.6878108780363551E-5,{"$f":"IF(Z1154<-U_ZWK,-U_ZWK,IF(Z1154>U_ZWK,U_ZWK,Z1154))","v":2.6878108780363551E-5},2.6878108780363551E-5,"-",1.141805807463033E-4,1.141805807463033E-4,1.141805807463033E-4,"-",{"$f":"AF1154*KT_M","v":7.9926406522412297E-5},{"$f":"AH1154/(JM_EMS+JL_EMS)","v":0.16606359136175419},-2.1144657130492503E-4,-2.0191660213807043E-3,6.2800003553032209,{"$f":"-DF_LR","v":-2.9088820873213997E-4},{"$f":"DF_LR","v":2.9088820873213997E-4},{"$f":"FI_T-Rechentabelle!AL1154","v":-3.553032206227158E-7},{"$f":"K1154","v":-1.7257437878726023E-7}]
[7.2062499821186066E-2,6.2500002968590707E-5,6.2800002098083496,0,0,null,{"$f":"E1155/1000","v":0},null,null,null,null,null,"-",{"$f":"N1154+(L1156-L1154)/2","v":-2.1665774130445281E-4},-2.1144657130492503E-4,0,-5.2111699995277755E-6,{"$f":"R1154+KP_DR*(1+TA_SIM/TN_DR)*Q1155-KP_DR*Q1154","v":1.0934711154371996E-4},"-",{"$f":"R1155","v":1.0934711154371996E-4},0,{"$f":"T1155+U1155","v":1.0934711154371996E-4},1.0934711154371996E-4,1.141805807463033E-4,{"$f":"W1155-X1155","v":-4.8334692025833341E-6},-1.7197935144887949E-5,-1.7197935144887949E-5,{"$f":"AA1155","v":-1.7197935144887949E-5},"-",{"$f":"(1/R_M*AB1155+AD1154*T_M/TA_SIM)/(1+T_M/TA_SIM)","v":1.110622135188264E-4},{"$f":"AD1155","v":1.110622135188264E-4},{"$f":"AE1155","v":1.110622135188264E-4},"-",7.7743549463178479E-5,0.16152825568913043,-2.0135105532435437E-4,-1.9227609450984415E-3,6.2800003427187798,-2.9088820873213997E-4,2.9088820873213997E-4,{"$f":"FI_T-Rechentabelle!AL1155","v":-3.4271877957792185E-7},{"$f":"AP1154","v":-1.7257437878726023E-7}]
[7.212500274181366E-2,6.2500002968590707E-5,6.2800002098083496,0,0,null,0,null,{"$f":"C1156","v":6.2800002098083496},{"$f":"AL1154","v":6.2800003553032209},{"$f":"I1156-J1156","v":-1.4549487126203076E-7},{"$f":"L1154+KP_LR*(1+2*TA_SIM/TN_LR)*K1156-KP_LR*K1154","v":-2.071531156749942E-4},"-",{"$f":"L1156","v":-2.071531156749942E-4},{"$f":"AJ1155","v":-2.0135105532435437E-4},{"$f":"D1156*KP_VDR","v":0},{"$f":"N1156-O1156+P1156","v":-5.8020603506398329E-6},1.0656409211202316E-4,"-",1.0656409211202316E-4,0,1.0656409211202316E-4,1.0656409211202316E-4,{"$f":"AF1155","v":1.110622135188264E-4},-4.4981214068032406E-6,-2.074523466730053E-6,-2.074523466730053E-6,-2.074523466730053E-6,"-",1.0816019970798193E-4,1.0816019970798193E-4,1.0816019970798193E-4,"-",7.5712139795587347E-5,0.15730758320296559,-1.9151933137416901E-4,-1.828874897151223E-3,6.2800003307488215,-2.9088820873213997E-4,2.9088820873213997E-4,{"$f":"FI_T-Rechentabelle!AL1156","v":-3.3074882122008376E-7},{"$f":"K1156","v":-1.4549487126203076E-7}]
[7.2187498211860657E-2,6.2500002968590707E-5,6.2800002098083496,0,0,null,0,null,null,null,null,null,"-",{"$f":"N1156+(L1158-L1156)/2","v":-1.9809386113629093E-4},-1.9151933137416901E-4,0,-6.5745297621219148E-6,1.031722077587318E-4,"-",1.031722077587318E-4,0,1.031722077587318E-4,1.031722077587318E-4,1.0816019970798193E-4,-4.9879919492501278E-6,-4.5792647125469867E-5,-4.5792647125469867E-5,-4.5792647125469867E-5,"-",1.0494214038588149E-4,1.0494214038588149E-4,1.0494214038588149E-4,"-",7.3459498270117036E-5,0.15262725591131732,-1.8198012787971169E-4,-1.7377822137930811E-3,6.2800003193750635,-2.9088820873213997E-4,2.9088820873213997E-4,{"$f":"FI_T-Rechentabelle!AL1157","v":-3.1937506328461041E-7},{"$f":"AP1156","v":-1.4549487126203076E-7}]
[7.2250001132488251E-2,6.2500002968590707E-5,6.2800002098083496,0,0,null,0,null,{"$f":"C1158","v":6.2800002098083496},{"$f":"AL1156","v":6.2800003307488215},{"$f":"I1158-J1158","v":-1.2094047185939871E-7},{"$f":"L1156+KP_LR*(1+2*TA_SIM/TN_LR)*K1158-KP_LR*K1156","v":-1.8903460659758765E-4},"-",{"$f":"L1158","v":-1.8903460659758765E-4},-1.8198012787971169E-4,0,-7.0544787178759589E-6,1.0034080155576887E-4,"-",1.0034080155576887E-4,0,1.0034080155576887E-4,1.0034080155576887E-4,1.0494214038588149E-4,-4.6013388301126274E-6,-2.7261049219125732E-5,-2.7261049219125732E-5,-2.7261049219125732E-5,"-",1.0197353468903115E-4,1.0197353468903115E-4,1.0197353468903115E-4,"-",7.1381474282321804E-5,0.14830973256248037,-1.7271076959455667E-4,-1.6492663623707468E-3,6.2800003085806404,-2.9088820873213997E-4,2.9088820873213997E-4,{"$f":"FI_T-Rechentabelle!AL1158","v":-3.0858064015149012E-7},{"$f":"K1158","v":-1.2094047185939871E-7}]
[7.2312496602535248E-2,6.2500002968590707E-5,6.2800002098083496,0,0,null,0,null,null,null,null,null,"-",{"$f":"N1158+(L1160-L1158)/2","v":-1.8043778596978056E-4},-1.7271076959455667E-4,0,-7.7270163752238925E-6,9.6899394397129466E-5,"-",9.6899394397129466E-5,0,9.6899394397129466E-5,9.6899394397129466E-5,1.0197353468903115E-4,-5.0741402919016843E-6,-6.9942214308909136E-5,-6.9942214308909136E-5,-6.9942214308909136E-5,"-",9.8699895791026668E-5,9.8699895791026668E-5,9.8699895791026668E-5,"-",6.9089927053718665E-5,0.1435485706497375,-1.6373898392894808E-4,-1.5635921201481899E-3,6.2800002983469536,-2.9088820873213997E-4,2.9088820873213997E-4,{"$f":"FI_T-Rechentabelle!AL1159","v":-2.9834695336461436E-7},{"$f":"AP1158","v":-1.2094047185939871E-7}]
[7.2374999523162842E-2,6.2500002968590707E-5,6.2800002098083496,0,0,null,0,null,{"$f":"C1160","v":6.2800002098083496},{"$f":"AL1158","v":6.2800003085806404},{"$f":"I1160-J1160","v":-9.8772290790805073E-8},{"$f":"L1158+KP_LR*(1+2*TA_SIM/TN_LR)*K1160-KP_LR*K1158","v":-1.7184096534197349E-4},"-",{"$f":"L1160","v":-1.7184096534197349E-4},-1.6373898392894808E-4,0,-8.1019814130254143E-6,9.4055760658628621E-5,"-",9.4055760658628621E-5,0,9.4055760658628621E-5,9.4055760658628621E-5,9.8699895791026668E-5,-4.6441351323980471E-6,-4.8447653360495337E-5,-4.8447653360495337E-5,-4.8447653360495337E-5,"-",9.5703679576573009E-5,9.5703679576573009E-5,9.5703679576573009E-5,"-",6.6992575703601095E-5,0.13919089072013524,-1.5503955325893963E-4,-1.4805186765551649E-3,6.2800002886569812,-2.9088820873213997E-4,2.9088820873213997E-4,{"$f":"FI_T-Rechentabelle!AL1160","v":-2.886569809845696E-7},{"$f":"K1160","v":-9.8772290790805073E-8}]
[7.2437502443790436E-2,6.2500002968590707E-5,6.2800002098083496,0,0,null,0,null,null,null,null,null,"-",{"$f":"N1160+(L1162-L1160)/2","v":-1.6371636498360121E-4},-1.5503955325893963E-4,0,-8.676811724661577E-6,9.0609093536006441E-5,"-",9.0609093536006441E-5,0,9.0609093536006441E-5,9.0609093536006441E-5,9.5703679576573009E-5,-5.0945860405665681E-6,-8.9598207119448957E-5,-8.9598207119448957E-5,-8.9598207119448957E-5,"-",9.2416849872978461E-5,9.2416849872978461E-5,9.2416849872978461E-5,"-",6.4691794911084921E-5,0.13441054417428822,-1.4663889424804661E-4,-1.400298292146379E-3,6.2800002794920502,-2.9088820873213997E-4,2.9088820873213997E-4,{"$f":"FI_T-Rechentabelle!AL1161","v":-2.7949204994826005E-7},{"$f":"AP1160","v":-9.8772290790805073E-8}]
[7.2499997913837433E-2,6.2500002968590707E-5,6.2800002098083496,0,0,null,0,null,{"$f":"C1162","v":6.2800002098083496},{"$f":"AL1160","v":6.2800002886569812},{"$f":"I1162-J1162","v":-7.8848631623884557E-8},{"$f":"L1160+KP_LR*(1+2*TA_SIM/TN_LR)*K1162-KP_LR*K1160","v":-1.5559176462522892E-4},"-",{"$f":"L1162","v":-1.5559176462522892E-4},-1.4663889424804661E-4,0,-8.9528703771823059E-6,8.7787089493956372E-5,"-",8.7787089493956372E-5,0,8.7787089493956372E-5,8.7787089493956372E-5,9.2416849872978461E-5,-4.6297603790220886E-6,-6.5632576876303601E-5,-6.5632576876303601E-5,-6.5632576876303601E-5,"-",8.9429907692961078E-5,8.9429907692961078E-5,8.9429907692961078E-5,"-",6.2600935385072746E-5,0.13006635234795916,-1.3850974722629916E-4,-1.3226706562484672E-3,6.280000270835191,-2.9088820873213997E-4,2.9088820873213997E-4,{"$f":"FI_T-Rechentabelle!AL1162","v":-2.7083519071879891E-7},{"$f":"K1162","v":-7.8848631623884557E-8}]
[7.2562500834465027E-2,6.2500002968590707E-5,6.2800002098083496,0,0,null,0,null,null,null,null,null,"-",{"$f":"N1162+(L1164-L1162)/2","v":-1.4794290430089217E-4},-1.3850974722629916E-4,0,-9.4331570745930134E-6,8.4374996796068906E-5,"-",8.4374996796068906E-5,0,8.4374996796068906E-5,8.4374996796068906E-5,8.9429907692961078E-5,-5.0549108968921716E-6,-1.0493297555065997E-4,-1.0493297555065997E-4,-1.0493297555065997E-4,"-",8.6168674856253392E-5,8.6168674856253392E-5,8.6168674856253392E-5,"-",6.0318072399377367E-5,0.12532323374065524,-1.306770451175082E-4,-1.2478738607456434E-3,6.2800002626678753,-2.9088820873213997E-4,2.9088820873213997E-4,{"$f":"FI_T-Rechentabelle!AL1163","v":-2.6266787500617284E-7},{"$f":"AP1162","v":-7.8848631623884557E-8}]
[7.2624996304512024E-2,6.2500002968590707E-5,6.2800002098083496,0,0,null,0,null,{"$f":"C1164","v":6.2800002098083496},{"$f":"AL1162","v":6.280000270835191},{"$f":"I1164-J1164","v":-6.102684135811387E-8},{"$f":"L1162+KP_LR*(1+2*TA_SIM/TN_LR)*K1164-KP_LR*K1162","v":-1.4029404397655542E-4},"-",{"$f":"L1164","v":-1.4029404397655542E-4},-1.306770451175082E-4,0,-9.6169988590472295E-6,8.1604660158343884E-5,"-",8.1604660158343884E-5,0,8.1604660158343884E-5,8.1604660158343884E-5,8.6168674856253392E-5,-4.5640146979095077E-6,-7.9014353727836599E-5,-7.9014353727836599E-5,-7.9014353727836599E-5,"-",8.3224149244695908E-5,8.3224149244695908E-5,8.3224149244695908E-5,"-",5.8256904471287132E-5,0.12104073233178293,-1.2311199934677175E-4,-1.1756329949978949E-3,6.2800002549733751,-2.9088820873213997E-4,2.9088820873213997E-4,{"$f":"FI_T-Rechentabelle!AL1164","v":-2.5497337485802518E-7},{"$f":"K1164","v":-6.102684135811387E-8}]
[7.2687499225139618E-2,6.2500002968590707E-5,6.2800002098083496,0,0,null,0,null,null,null,null,null,"-",{"$f":"N1164+(L1166-L1164)/2","v":-1.3311917905680764E-4},-1.2311199934677175E-4,0,-1.0007179710035889E-5,7.826131281729655E-5,"-",7.826131281729655E-5,0,7.826131281729655E-5,7.826131281729655E-5,8.3224149244695908E-5,-4.9628364273993585E-6,-1.1629437295877462E-4,-1.1629437295877462E-4,-1.1629437295877462E-4,"-",8.0022319291532138E-5,8.0022319291532138E-5,8.0022319291532138E-5,"-",5.6015623504072494E-5,0.11638400894259815,-1.1583799878785937E-4,-1.1061714062976481E-3,6.2800002477334997,-2.9088820873213997E-4,2.9088820873213997E-4,{"$f":"FI_T-Rechentabelle!AL1165","v":-2.4773349949214207E-7},{"$f":"AP1164","v":-6.102684135811387E-8}]
[7.2750002145767212E-2,6.2500002968590707E-5,6.2800002098083496,0,0,null,0,null,{"$f":"C1166","v":6.2800002098083496},{"$f":"AL1164","v":6.2800002549733751},{"$f":"I1166-J1166","v":-4.5165025497340139E-8},{"$f":"L1164+KP_LR*(1+2*TA_SIM/TN_LR)*K1166-KP_LR*K1164","v":-1.2594431413705986E-4},"-",{"$f":"L1166","v":-1.2594431413705986E-4},-1.1583799878785937E-4,0,-1.0106315349200489E-5,7.5567866400933368E-5,"-",7.5567866400933368E-5,0,7.5567866400933368E-5,7.5567866400933368E-5,8.0022319291532138E-5,-4.4544528905987704E-6,-8.8943266235440776E-5,-8.8943266235440776E-5,-8.8943266235440776E-5,"-",7.7148478716949478E-5,7.7148478716949478E-5,7.7148478716949478E-5,"-",5.4003935101864632E-5,0.11220431145203538,-1.0882522932210715E-4,-1.0392043907833455E-3,6.2800002409319227,-2.9088820873213997E-4,2.9088820873213997E-4,{"$f":"FI_T-Rechentabelle!AL1166","v":-2.4093192241281258E-7},{"$f":"K1166","v":-4.5165025497340139E-8}]
[7.2812497615814209E-2,6.2500002968590707E-5,6.2800002098083496,0,0,null,0,null,null,null,null,null,"-",{"$f":"N1166+(L1168-L1166)/2","v":-1.1923739130205089E-4},-1.0882522932210715E-4,0,-1.0412161979943735E-5,7.2321107953813045E-5,"-",7.2321107953813045E-5,0,7.2321107953813045E-5,7.2321107953813045E-5,7.7148478716949478E-5,-4.8273707631364329E-6,-1.2415154994201713E-4,-1.2415154994201713E-4,-1.2415154994201713E-4,"-",7.4034045966536122E-5,7.4034045966536122E-5,7.4034045966536122E-5,"-",5.1823832176575284E-5,0.10767469806061766,-1.0209556069331855E-4,-9.7494078912481572E-4,6.2800002345509505,-2.9088820873213997E-4,2.9088820873213997E-4,{"$f":"FI_T-Rechentabelle!AL1167","v":-2.3455095021773786E-7},{"$f":"AP1166","v":-4.5165025497340139E-8}]
[7.2875000536441803E-2,6.2500002968590707E-5,6.2800002098083496,0,0,null,0,null,{"$f":"C1168","v":6.2800002098083496},{"$f":"AL1166","v":6.2800002409319227},{"$f":"I1168-J1168","v":-3.112357305212754E-8},{"$f":"L1166+KP_LR*(1+2*TA_SIM/TN_LR)*K1168-KP_LR*K1166","v":-1.1253046846704191E-4},"-",{"$f":"L1168","v":-1.1253046846704191E-4},-1.0209556069331855E-4,0,-1.0434907773723367E-5,6.9724474302308432E-5,"-",6.9724474302308432E-5,0,6.9724474302308432E-5,6.9724474302308432E-5,7.4034045966536122E-5,-4.30957166422769E-6,-9.5868463403300417E-5,-9.5868463403300417E-5,-9.5868463403300417E-5,"-",7.1253677150902669E-5,7.1253677150902669E-5,7.1253677150902669E-5,"-",4.9877574005631868E-5,0.10363094536802797,-9.56186266078168E-5,-9.1309062457753637E-4,6.280000228574786,-2.9088820873213997E-4,2.9088820873213997E-4,{"$f":"FI_T-Rechentabelle!AL1168","v":-2.2857478576554513E-7},{"$f":"K1168","v":-3.112357305212754E-8}]
[7.2937503457069397E-2,6.2500002968590707E-5,6.2800002098083496,0,0,null,0,null,null,null,null,null,"-",{"$f":"N1168+(L1170-L1168)/2","v":-1.062819938756254E-4},-9.56186266078168E-5,0,-1.0663367267808602E-5,6.6595704790937439E-5,"-",6.6595704790937439E-5,0,6.6595704790937439E-5,6.6595704790937439E-5,7.1253677150902669E-5,-4.65797235996523E-6,-1.2903886052597366E-4,-1.2903886052597366E-4,-1.2903886052597366E-4,"-",6.8248533692857988E-5,6.8248533692857988E-5,6.8248533692857988E-5,"-",4.7773973585000588E-5,9.9260281705798009E-2,-8.9414859001204431E-5,-8.5384900775439224E-4,6.2800002229863576,-2.9088820873213997E-4,2.9088820873213997E-4,{"$f":"FI_T-Rechentabelle!AL1169","v":-2.2298635737882933E-7},{"$f":"AP1168","v":-3.112357305212754E-8}]
[7.2999998927116394E-2,6.2500002968590707E-5,6.2800002098083496,0,0,null,0,null,{"$f":"C1170","v":6.2800002098083496},{"$f":"AL1168","v":6.280000228574786},{"$f":"I1170-J1170","v":-1.8766436404860087E-8},{"$f":"L1168+KP_LR*(1+2*TA_SIM/TN_LR)*K1170-KP_LR*K1168","v":-1.0003351928420889E-4},"-",{"$f":"L1170","v":-1.0003351928420889E-4},-8.9414859001204431E-5,0,-1.0618660283004459E-5,6.411049629403665E-5,"-",6.411049629403665E-5,0,6.411049629403665E-5,6.411049629403665E-5,6.8248533692857988E-5,-4.1380373988213377E-6,-1.0028491516089392E-4,-1.0028491516089392E-4,-1.0028491516089392E-4,"-",6.557883214522877E-5,6.557883214522877E-5,6.557883214522877E-5,"-",4.5905182501660135E-5,9.5377482862373006E-2,-8.3453766322306124E-5,-7.9692476578985781E-4,6.280000217770497,-2.9088820873213997E-4,2.9088820873213997E-4,{"$f":"FI_T-Rechentabelle!AL1170","v":-2.1777049674653881E-7},{"$f":"K1170","v":-1.8766436404860087E-8}]
[7.3062501847743988E-2,6.2500002968590707E-5,6.2800002098083496,0,0,null,0,null,null,null,null,null,"-",{"$f":"N1170+(L1172-L1170)/2","v":-9.4231318054683447E-5},-8.3453766322306124E-5,0,-1.0777551732377323E-5,6.111501113448518E-5,"-",6.111501113448518E-5,0,6.111501113448518E-5,6.111501113448518E-5,6.557883214522877E-5,-4.46382101074359E-6,{"$f":"Z1170+KP_SR*(1+TA_SIM/TN_SR)*Y1171-KP_SR*Y1170","v":-1.3150448800495682E-4},-1.3150448800495682E-4,-1.3150448800495682E-4,"-",6.2698947622165919E-5,6.2698947622165919E-5,6.2698947622165919E-5,"-",4.3889263335516139E-5,9.1188995087297192E-2,{"$f":"AJ1170+AI1171*TA_SIM","v":-7.7754454129350052E-5},-7.4250034332588562E-4,{"$f":"AL1170+AJ1171*TA_SIM","v":6.2800002129108439},-2.9088820873213997E-4,2.9088820873213997E-4,{"$f":"FI_T-Rechentabelle!AL1171","v":-2.1291084362218271E-7},{"$f":"AP1170","v":-1.8766436404860087E-8}]
[7.3124997317790985E-2,6.2500002968590707E-5,6.2800002098083496,0,0,null,0,null,{"$f":"C1172","v":6.2800002098083496},{"$f":"AL1170","v":6.280000217770497},{"$f":"I1172-J1172","v":-7.9621473858537684E-9},{"$f":"L1170+KP_LR*(1+2*TA_SIM/TN_LR)*K1172-KP_LR*K1170","v":-8.8429116825158003E-5},"-",{"$f":"L1172","v":-8.8429116825158003E-5},-7.7754454129350052E-5,0,-1.0674662695807951E-5,5.8750901043273439E-5,"-",5.8750901043273439E-5,0,5.8750901043273439E-5,5.8750901043273439E-5,6.2698947622165919E-5,-3.94804657889248E-6,-1.0268711825875518E-4,-1.0268711825875518E-4,-1.0268711825875518E-4,"-",6.0151820797071587E-5,6.0151820797071587E-5,6.0151820797071587E-5,"-",4.2106274557950105E-5,8.7484468227612924E-2,-7.2286674865124239E-5,-6.9028689746767138E-4,6.2800002083929263,-2.9088820873213997E-4,2.9088820873213997E-4,{"$f":"FI_T-Rechentabelle!AL1172","v":-2.0839292602659043E-7},{"$f":"K1172","v":-7.9621473858537684E-9}]
[7.3187500238418579E-2,6.2500002968590707E-5,6.2800002098083496,0,0,null,0,null,null,null,null,null,"-",{"$f":"N1172+(L1174-L1172)/2","v":-8.3058977552985462E-5},-7.2286674865124239E-5,0,-1.0772302687861224E-5,5.5898555779440637E-5,"-",5.5898555779440637E-5,0,5.5898555779440637E-5,5.5898555779440637E-5,6.0151820797071587E-5,-4.2532650176309498E-6,-1.3206920515286823E-4,-1.3206920515286823E-4,-1.3206920515286823E-4,"-",5.740777885021057E-5,5.740777885021057E-5,5.740777885021057E-5,"-",4.0185445195147399E-5,8.3493549127669639E-2,-6.706832804464489E-5,-6.4045535599284149E-4,6.2800002042011558,-2.9088820873213997E-4,2.9088820873213997E-4,{"$f":"FI_T-Rechentabelle!AL1173","v":-2.0420115554031781E-7},{"$f":"AP1172","v":-7.9621473858537684E-9}]
[7.3249995708465576E-2,6.2500002968590707E-5,6.2800002098083496,0,0,null,0,null,{"$f":"C1174","v":6.2800002098083496},{"$f":"AL1172","v":6.2800002083929263},{"$f":"I1174-J1174","v":1.4154233340946121E-9},{"$f":"L1172+KP_LR*(1+2*TA_SIM/TN_LR)*K1174-KP_LR*K1172","v":-7.7688838280812921E-5},"-",{"$f":"L1174","v":-7.7688838280812921E-5},-6.706832804464489E-5,0,-1.0620510236168031E-5,5.3660909439505743E-5,"-",5.3660909439505743E-5,0,5.3660909439505743E-5,5.3660909439505743E-5,5.740777885021057E-5,-3.7468694107048274E-6,-1.0353377241575977E-4,-1.0353377241575977E-4,-1.0353377241575977E-4,"-",5.499044374652775E-5,5.499044374652775E-5,5.499044374652775E-5,"-",3.849331062256942E-5,7.9977790614106412E-2,-6.2069716131263236E-5,-5.9272212831607788E-4,6.2800002003217985,-2.9088820873213997E-4,2.9088820873213997E-4,{"$f":"FI_T-Rechentabelle!AL1174","v":-2.0032179826046104E-7},{"$f":"K1174","v":1.4154233340946121E-9}]
[7.331249862909317E-2,6.2500002968590707E-5,6.2800002098083496,0,0,null,0,null,null,null,null,null,"-",{"$f":"N1174+(L1176-L1174)/2","v":-7.2735039837103194E-5},-6.2069716131263236E-5,0,-1.0665323705839959E-5,5.0956992678673011E-5,"-",5.0956992678673011E-5,0,5.0956992678673011E-5,5.0956992678673011E-5,5.499044374652775E-5,-4.0334510678547393E-6,-1.3119641267039794E-4,-1.3119641267039794E-4,-1.3119641267039794E-4,"-",5.2388217251135376E-5,5.2388217251135376E-5,5.2388217251135376E-5,"-",3.6671752075794763E-5,7.6193127105328814E-2,-5.7307645687180181E-5,-5.4724770528441979E-4,6.2800001967400707,-2.9088820873213997E-4,2.9088820873213997E-4,{"$f":"FI_T-Rechentabelle!AL1175","v":-1.9674007045722419E-7},{"$f":"AP1174","v":1.4154233340946121E-9}]
[7.3375001549720764E-2,6.2500002968590707E-5,6.2800002098083496,0,0,null,0,null,{"$f":"C1176","v":6.2800002098083496},{"$f":"AL1174","v":6.2800002003217985},{"$f":"I1176-J1176","v":9.4865511002240055E-9},{"$f":"L1174+KP_LR*(1+2*TA_SIM/TN_LR)*K1176-KP_LR*K1174","v":-6.7781241393393468E-5},"-",{"$f":"L1176","v":-6.7781241393393468E-5},-5.7307645687180181E-5,0,-1.0473595706213287E-5,4.884765494985878E-5,"-",4.884765494985878E-5,0,4.884765494985878E-5,4.884765494985878E-5,5.2388217251135376E-5,-3.540562301276596E-6,-1.0322307903814002E-4,-1.0322307903814002E-4,-1.0322307903814002E-4,"-",5.0103983508374118E-5,5.0103983508374118E-5,5.0103983508374118E-5,"-",3.5072788455861878E-5,7.2870950458886086E-2,-5.2753211283499798E-5,-5.0375606038440847E-4,6.2800001934429952,-2.9088820873213997E-4,2.9088820873213997E-4,{"$f":"FI_T-Rechentabelle!AL1176","v":-1.9344299495571704E-7},{"$f":"K1176","v":9.4865511002240055E-9}]
[7.3437497019767761E-2,6.2500002968590707E-5,6.2800002098083496,0,0,null,0,null,null,null,null,null,"-",{"$f":"N1176+(L1178-L1176)/2","v":-6.322697160240207E-5},-5.2753211283499798E-5,0,-1.0473760318902272E-5,4.6293848028353159E-5,"-",4.6293848028353159E-5,0,4.6293848028353159E-5,4.6293848028353159E-5,5.0103983508374118E-5,-3.8101354800209591E-6,-1.2927401757971906E-4,-1.2927401757971906E-4,-1.2927401757971906E-4,"-",4.7645831585777847E-5,4.7645831585777847E-5,4.7645831585777847E-5,"-",3.3352082110044494E-5,6.9295828194565742E-2,-4.8422222021339442E-5,{"$f":"AJ1177/(2*PI())*60","v":-4.6239815941136403E-4},6.2800001904166063,-2.9088820873213997E-4,2.9088820873213997E-4,{"$f":"FI_T-Rechentabelle!AL1177","v":-1.9041660603846822E-7},{"$f":"AP1176","v":9.4865511002240055E-9}]
[7.3499999940395355E-2,6.2500002968590707E-5,6.2800002098083496,0,0,null,0,null,{"$f":"C1178","v":6.2800002098083496},{"$f":"AL1176","v":6.2800001934429952},{"$f":"I1178-J1178","v":1.6365354404968002E-8},{"$f":"L1176+KP_LR*(1+2*TA_SIM/TN_LR)*K1178-KP_LR*K1176","v":-5.8672701811410666E-5},"-",{"$f":"L1178","v":-5.8672701811410666E-5},-4.8422222021339442E-5,0,-1.0250479790071224E-5,4.4311980924233791E-5,"-",4.4311980924233791E-5,0,4.4311980924233791E-5,4.4311980924233791E-5,4.7645831585777847E-5,-3.3338506615440569E-6,-1.0207942317210026E-4,-1.0207942317210026E-4,-1.0207942317210026E-4,"-",4.5494960191231242E-5,4.5494960191231242E-5,4.5494960191231242E-5,"-",3.1846472133861866E-5,6.6167612993687647E-2,-4.4286746209233967E-5,-4.2290727435935059E-4,6.2800001876486844,-2.9088820873213997E-4,2.9088820873213997E-4,{"$f":"FI_T-Rechentabelle!AL1178","v":-1.8764868414677949E-7},{"$f":"K1178","v":1.6365354404968002E-8}]
[7.3562502861022949E-2,6.2500002968590707E-5,6.2800002098083496,0,0,null,0,null,null,null,null,null,"-",{"$f":"N1178+(L1180-L1178)/2","v":-5.4500383199492764E-5},-4.4286746209233967E-5,0,-1.0213636990258797E-5,4.1907300435970146E-5,"-",4.1907300435970146E-5,0,4.1907300435970146E-5,4.1907300435970146E-5,4.5494960191231242E-5,-3.5876597552610956E-6,-1.2660757974414604E-4,-1.2660757974414604E-4,-1.2660757974414604E-4,"-",4.3180340994286596E-5,4.3180340994286596E-5,4.3180340994286596E-5,"-",3.0226238696000616E-5,6.2801243914399785E-2,-4.0361668464583981E-5,-3.8542554285448863E-4,6.28000018512608,-2.9088820873213997E-4,2.9088820873213997E-4,{"$f":"FI_T-Rechentabelle!AL1179","v":-1.8512607979914719E-7},{"$f":"AP1178","v":1.6365354404968002E-8}]
[7.3624998331069946E-2,6.2500002968590707E-5,6.2800002098083496,0,0,null,0,null,{"$f":"C1180","v":6.2800002098083496},{"$f":"AL1178","v":6.2800001876486844},{"$f":"I1180-J1180","v":2.2159665213905555E-8},{"$f":"L1178+KP_LR*(1+2*TA_SIM/TN_LR)*K1180-KP_LR*K1178","v":-5.0328064587574868E-5},"-",{"$f":"L1180","v":-5.0328064587574868E-5},-4.0361668464583981E-5,0,-9.9663961229908872E-6,4.005018370331673E-5,"-",4.005018370331673E-5,0,4.005018370331673E-5,4.005018370331673E-5,4.3180340994286596E-5,-3.1301572909698663E-6,-1.0035028169829243E-4,-1.0035028169829243E-4,-1.0035028169829243E-4,"-",4.1160884677529895E-5,4.1160884677529895E-5,4.1160884677529895E-5,"-",2.8812619274270923E-5,5.9864158059985288E-2,-3.6620158585834899E-5,-3.4969675534468419E-4,6.2800001828373198,-2.9088820873213997E-4,2.9088820873213997E-4,{"$f":"FI_T-Rechentabelle!AL1180","v":-1.8283731950674564E-7},{"$f":"K1180","v":2.2159665213905555E-8}]
[7.368750125169754E-2,6.2500002968590707E-5,6.2800002098083496,0,0,null,0,null,null,null,null,null,"-",{"$f":"N1180+(L1182-L1180)/2","v":-4.6519606119836044E-5},-3.6620158585834899E-5,0,-9.8994475340011446E-6,3.7791826205067094E-5,"-",3.7791826205067094E-5,0,3.7791826205067094E-5,3.7791826205067094E-5,4.1160884677529895E-5,-3.3690584724628008E-6,-1.2342300306382369E-4,-1.2342300306382369E-4,-1.2342300306382369E-4,"-",3.8987298566261671E-5,3.8987298566261671E-5,3.8987298566261671E-5,"-",2.7291108996383168E-5,5.6702906703476344E-2,-3.3076226916867627E-5,-3.1585470075892101E-4,6.2800001807700552,-2.9088820873213997E-4,2.9088820873213997E-4,{"$f":"FI_T-Rechentabelle!AL1181","v":-1.8077005492500575E-7},{"$f":"AP1180","v":2.2159665213905555E-8}]
[7.3749996721744537E-2,6.2500002968590707E-5,6.2800002098083496,0,0,null,0,null,{"$f":"C1182","v":6.2800002098083496},{"$f":"AL1180","v":6.2800001828373198},{"$f":"I1182-J1182","v":2.6971029853939399E-8},{"$f":"L1180+KP_LR*(1+2*TA_SIM/TN_LR)*K1182-KP_LR*K1180","v":-4.2711147652097219E-5},"-",{"$f":"L1182","v":-4.2711147652097219E-5},-3.3076226916867627E-5,0,-9.6349207352295919E-6,3.6055555469363207E-5,"-",3.6055555469363207E-5,0,3.6055555469363207E-5,3.6055555469363207E-5,3.8987298566261671E-5,-2.9317430968984638E-6,-9.8211481850666096E-5,-9.8211481850666096E-5,-9.8211481850666096E-5,"-",3.7095851406970489E-5,3.7095851406970489E-5,3.7095851406970489E-5,"-",2.596709598487934E-5,5.3951996644253764E-2,-2.9704227126601766E-5,-2.8365447467538227E-4,6.2800001789135411,-2.9088820873213997E-4,2.9088820873213997E-4,{"$f":"FI_T-Rechentabelle!AL1182","v":-1.7891354087140598E-7},{"$f":"K1182","v":2.6971029853939399E-8}]
[7.3812499642372131E-2,6.2500002968590707E-5,6.2800002098083496,0,0,null,0,null,null,null,null,null,"-",{"$f":"N1182+(L1184-L1182)/2","v":-3.9248136617189296E-5},-2.9704227126601766E-5,0,-9.5439094905875306E-6,3.3939605363337381E-5,"-",3.3939605363337381E-5,0,3.3939605363337381E-5,3.3939605363337381E-5,3.7095851406970489E-5,-3.1562460436331078E-6,-1.198753748385792E-4,-1.198753748385792E-4,-1.198753748385792E-4,"-",3.505956363688281E-5,3.505956363688281E-5,3.505956363688281E-5,"-",2.4541694545817964E-5,5.0990431219235327E-2,-2.6517325175399557E-5,-2.5322180275440004E-4,6.2800001772562082,-2.9088820873213997E-4,2.9088820873213997E-4,{"$f":"FI_T-Rechentabelle!AL1183","v":-1.7725620793385133E-7},{"$f":"AP1182","v":2.6971029853939399E-8}]
[7.3875002562999725E-2,6.2500002968590707E-5,6.2800002098083496,0,0,null,0,null,{"$f":"C1184","v":6.2800002098083496},{"$f":"AL1182","v":6.2800001789135411},{"$f":"I1184-J1184","v":3.0894808489279058E-8},{"$f":"L1182+KP_LR*(1+2*TA_SIM/TN_LR)*K1184-KP_LR*K1182","v":-3.5785125582281381E-5},"-",{"$f":"L1184","v":-3.5785125582281381E-5},-2.6517325175399557E-5,0,-9.2678004068818236E-6,3.2319660781740001E-5,"-",3.2319660781740001E-5,0,3.2319660781740001E-5,3.2319660781740001E-5,3.505956363688281E-5,-2.7399028551428094E-6,-9.5777038949656395E-5,-9.5777038949656395E-5,-9.5777038949656395E-5,"-",3.3291884375498598E-5,3.3291884375498598E-5,3.3291884375498598E-5,"-",2.3304319062849016E-5,4.8419528491271589E-2,-2.3491104644695083E-5,-2.2432352537353226E-4,6.2800001757880137,-2.9088820873213997E-4,2.9088820873213997E-4,{"$f":"FI_T-Rechentabelle!AL1184","v":-1.7578801347895023E-7},{"$f":"K1184","v":3.0894808489279058E-8}]
[7.3937498033046722E-2,6.2500002968590707E-5,6.2800002098083496,0,0,null,0,null,null,null,null,null,"-",{"$f":"N1184+(L1186-L1184)/2","v":-3.2648978302220087E-5},-2.3491104644695083E-5,0,-9.1578736575250042E-6,3.0341632248202289E-5,"-",3.0341632248202289E-5,0,3.0341632248202289E-5,3.0341632248202289E-5,3.3291884375498598E-5,-2.9502521272963091E-6,-1.1606202732350162E-4,-1.1606202732350162E-4,-1.1606202732350162E-4,"-",3.1388495906273455E-5,3.1388495906273455E-5,3.1388495906273455E-5,"-",2.1971947134391417E-5,4.5651251058365705E-2,-2.0637901453547224E-5,-1.9707744188252716E-4,6.2800001744981451,-2.9088820873213997E-4,2.9088820873213997E-4,{"$f":"FI_T-Rechentabelle!AL1185","v":-1.7449814482262127E-7},{"$f":"AP1184","v":3.0894808489279058E-8}]
[7.4000000953674316E-2,6.2500002968590707E-5,6.2800002098083496,0,0,null,0,null,{"$f":"C1186","v":6.2800002098083496},{"$f":"AL1184","v":6.2800001757880137},{"$f":"I1186-J1186","v":3.4020335881734809E-8},{"$f":"L1184+KP_LR*(1+2*TA_SIM/TN_LR)*K1186-KP_LR*K1184","v":-2.9512831022158793E-5},"-",{"$f":"L1186","v":-2.9512831022158793E-5},-2.0637901453547224E-5,0,-8.8749295686115688E-6,2.883329676287199E-5,"-",2.883329676287199E-5,0,2.883329676287199E-5,2.883329676287199E-5,3.1388495906273455E-5,-2.5551991434014645E-6,-9.31125517545372E-5,-9.31125517545372E-5,-9.31125517545372E-5,"-",2.9739980329883746E-5,2.9739980329883746E-5,2.9739980329883746E-5,"-",2.0817986230918621E-5,4.3253659320420981E-2,-1.7934547746020912E-5,-1.7126231555381028E-4,6.2800001733772355,-2.9088820873213997E-4,2.9088820873213997E-4,{"$f":"FI_T-Rechentabelle!AL1186","v":-1.7337723523525028E-7},{"$f":"K1186","v":3.4020335881734809E-8}]
[7.4062496423721313E-2,6.2500002968590707E-5,6.2800002098083496,0,0,null,0,null,null,null,null,null,"-",{"$f":"N1186+(L1188-L1186)/2","v":-2.6684917711049294E-5},-1.7934547746020912E-5,0,-8.7503699650283827E-6,2.6988504760605471E-5,"-",2.6988504760605471E-5,0,2.6988504760605471E-5,2.6988504760605471E-5,2.9739980329883746E-5,-2.7514755692782745E-6,-1.1203781258441073E-4,-1.1203781258441073E-4,-1.1203781258441073E-4,"-",2.7964834801315496E-5,2.7964834801315496E-5,2.7964834801315496E-5,"-",1.9575384360920846E-5,4.0671897695659348E-2,-1.5392554140042203E-5,-1.469880646918401E-4,6.2800001724152006,-2.9088820873213997E-4,2.9088820873213997E-4,{"$f":"FI_T-Rechentabelle!AL1187","v":-1.7241520033905999E-7},{"$f":"AP1186","v":3.4020335881734809E-8}]
[7.4124999344348907E-2,6.2500002968590707E-5,6.2800002098083496,0,0,null,0,null,{"$f":"C1188","v":6.2800002098083496},{"$f":"AL1186","v":6.2800001733772355},{"$f":"I1188-J1188","v":3.643111412543476E-8},{"$f":"L1186+KP_LR*(1+2*TA_SIM/TN_LR)*K1188-KP_LR*K1186","v":-2.3857004399939796E-5},"-",{"$f":"L1188","v":-2.3857004399939796E-5},-1.5392554140042203E-5,0,-8.4644502598975925E-6,2.5587132726055621E-5,"-",2.5587132726055621E-5,0,2.5587132726055621E-5,2.5587132726055621E-5,2.7964834801315496E-5,-2.3777020752598749E-6,-9.0249928628960278E-5,-9.0249928628960278E-5,-9.0249928628960278E-5,"-",2.6430833462436572E-5,2.6430833462436572E-5,2.6430833462436572E-5,"-",1.8501583423705598E-5,3.8440854817589021E-2,-1.299000071394289E-5,-1.2404536946347561E-4,6.2800001716033256,-2.9088820873213997E-4,2.9088820873213997E-4,{"$f":"FI_T-Rechentabelle!AL1188","v":-1.7160332532739631E-7},{"$f":"K1188","v":3.643111412543476E-8}]
[7.4187502264976501E-2,6.2500002968590707E-5,6.2800002098083496,0,0,null,0,null,null,null,null,null,"-",{"$f":"N1188+(L1190-L1188)/2","v":-2.1318754971762741E-5},-1.299000071394289E-5,0,-8.328754257819851E-6,2.3870919763744046E-5,"-",2.3870919763744046E-5,0,2.3870919763744046E-5,2.3870919763744046E-5,2.6430833462436572E-5,-2.5599136986925259E-6,-1.0782952498746397E-4,-1.0782952498746397E-4,-1.0782952498746397E-4,"-",2.4779276237472117E-5,2.4779276237472117E-5,2.4779276237472117E-5,"-",1.7345493366230479E-5,3.6038839323146638E-2,-1.0737573256246225E-5,-1.0253627163257552E-4,6.2800001709322268,-2.9088820873213997E-4,2.9088820873213997E-4,{"$f":"FI_T-Rechentabelle!AL1189","v":-1.7093222659525509E-7},{"$f":"AP1188","v":3.643111412543476E-8}]
[7.4249997735023499E-2,6.2500002968590707E-5,6.2800002098083496,0,0,null,0,null,{"$f":"C1190","v":6.2800002098083496},{"$f":"AL1188","v":6.2800001716033256},{"$f":"I1190-J1190","v":3.8205024033288737E-8},{"$f":"L1188+KP_LR*(1+2*TA_SIM/TN_LR)*K1190-KP_LR*K1188","v":-1.8780505543585685E-5},"-",{"$f":"L1190","v":-1.8780505543585685E-5},-1.0737573256246225E-5,0,-8.0429322873394608E-6,2.2572084351928362E-5,"-",2.2572084351928362E-5,0,2.2572084351928362E-5,2.2572084351928362E-5,2.4779276237472117E-5,-2.2071918855437544E-6,-8.7200314147135313E-5,-8.7200314147135313E-5,-8.7200314147135313E-5,"-",2.3355281472603677E-5,2.3355281472603677E-5,2.3355281472603677E-5,"-",1.6348697030822573E-5,3.3967789384630319E-2,-8.61458641970683E-6,-8.2263240683319298E-5,6.2800001703938149,-2.9088820873213997E-4,2.9088820873213997E-4,{"$f":"FI_T-Rechentabelle!AL1190","v":-1.7039381461358971E-7},{"$f":"K1190","v":3.8205024033288737E-8}]
[7.4312500655651093E-2,6.2500002968590707E-5,6.2800002098083496,0,0,null,0,null,null,null,null,null,"-",{"$f":"N1190+(L1192-L1190)/2","v":-1.6513508014907752E-5},-8.61458641970683E-6,0,-7.8989215952009217E-6,2.0979918501223837E-5,"-",2.0979918501223837E-5,0,2.0979918501223837E-5,2.0979918501223837E-5,2.3355281472603677E-5,-2.3753629713798407E-6,-1.0344906689292098E-4,-1.0344906689292098E-4,-1.0344906689292098E-4,"-",2.1822789233002315E-5,2.1822789233002315E-5,2.1822789233002315E-5,"-",1.5275952463101619E-5,3.1738941332020813E-2,-6.6309025864555294E-6,-6.3320455427713876E-5,6.2800001699793837,-2.9088820873213997E-4,2.9088820873213997E-4,{"$f":"FI_T-Rechentabelle!AL1191","v":-1.6997938345753028E-7},{"$f":"AP1190","v":3.8205024033288737E-8}]
[7.437499612569809E-2,6.2500002968590707E-5,6.2800002098083496,0,0,null,0,null,{"$f":"C1192","v":6.2800002098083496},{"$f":"AL1190","v":6.2800001703938149},{"$f":"I1192-J1192","v":3.9414534747095331E-8},{"$f":"L1190+KP_LR*(1+2*TA_SIM/TN_LR)*K1192-KP_LR*K1190","v":-1.4246510486229818E-5},"-",{"$f":"L1192","v":-1.4246510486229818E-5},-6.6309025864555294E-6,0,-7.6156078997742884E-6,1.9779452389311255E-5,"-",1.9779452389311255E-5,0,1.9779452389311255E-5,1.9779452389311255E-5,2.1822789233002315E-5,-2.0433368436910598E-6,-8.3965992153672424E-5,-8.3965992153672424E-5,-8.3965992153672424E-5,"-",2.0504507398361495E-5,2.0504507398361495E-5,2.0504507398361495E-5,"-",1.4353155178853045E-5,2.9821639681805619E-2,-4.7670501063426779E-6,-4.5521975303470947E-5,6.2800001696814434,-2.9088820873213997E-4,2.9088820873213997E-4,{"$f":"FI_T-Rechentabelle!AL1192","v":-1.6968144311846345E-7},{"$f":"K1192","v":3.9414534747095331E-8}]
[7.4437499046325684E-2,6.2500002968590707E-5,6.2800002098083496,0,0,null,0,null,null,null,null,null,"-",{"$f":"N1192+(L1194-L1192)/2","v":-1.2232605278431994E-5},-4.7670501063426779E-6,0,-7.465555172089316E-6,1.8306931618805849E-5,"-",1.8306931618805849E-5,0,1.8306931618805849E-5,1.8306931618805849E-5,2.0504507398361495E-5,-2.1975757795556454E-6,-9.8904163755464863E-5,-9.8904163755464863E-5,-9.8904163755464863E-5,"-",1.9086716572840337E-5,1.9086716572840337E-5,1.9086716572840337E-5,"-",1.3360701600988235E-5,2.7759612717615279E-2,-3.0320743114917228E-6,-2.8954176869751773E-5,6.280000169491939,-2.9088820873213997E-4,2.9088820873213997E-4,{"$f":"FI_T-Rechentabelle!AL1193","v":-1.6949193870630097E-7},{"$f":"AP1192","v":3.9414534747095331E-8}]
[7.4500001966953278E-2,6.2500002968590707E-5,6.2800002098083496,0,0,null,0,null,{"$f":"C1194","v":6.2800002098083496},{"$f":"AL1192","v":6.2800001696814434},{"$f":"I1194-J1194","v":4.0126906242221594E-8},{"$f":"L1192+KP_LR*(1+2*TA_SIM/TN_LR)*K1194-KP_LR*K1192","v":-1.021870007063417E-5},"-",{"$f":"L1194","v":-1.021870007063417E-5},-3.0320743114917228E-6,0,-7.1866257591424471E-6,1.7200894065172209E-5,"-",1.7200894065172209E-5,0,1.7200894065172209E-5,1.7200894065172209E-5,1.9086716572840337E-5,-1.885822507668128E-6,-8.0549408459255613E-5,-8.0549408459255613E-5,-8.0549408459255613E-5,"-",1.7870056890472456E-5,1.7870056890472456E-5,1.7870056890472456E-5,"-",1.2509039823330719E-5,2.599010975136239E-2,-1.4076924520315734E-6,-1.3442472725638541E-5,6.2800001694039578,-2.9088820873213997E-4,2.9088820873213997E-4,{"$f":"FI_T-Rechentabelle!AL1194","v":-1.6940395752840232E-7},{"$f":"K1194","v":4.0126906242221594E-8}]
[7.4562497437000275E-2,6.2500002968590707E-5,6.2800002098083496,0,0,null,0,null,null,null,null,null,"-",{"$f":"N1194+(L1196-L1194)/2","v":-8.4400661857170129E-6},-1.4076924520315734E-6,0,-7.0323737336854395E-6,1.5843705440849562E-5,"-",1.5843705440849562E-5,0,1.5843705440849562E-5,1.5843705440849562E-5,1.7870056890472456E-5,-2.0263514496228938E-6,-9.420487174221362E-5,-9.420487174221362E-5,-9.420487174221362E-5,"-",1.6562733374585403E-5,1.6562733374585403E-5,1.6562733374585403E-5,"-",1.1593913362209782E-5,2.408874581801326E-2,9.7854161594255445E-8,9.3443841119033138E-7,6.2800001694100738,-2.9088820873213997E-4,2.9088820873213997E-4,{"$f":"FI_T-Rechentabelle!AL1195","v":-1.6941007352500037E-7},{"$f":"AP1194","v":4.0126906242221594E-8}]
[7.4625000357627869E-2,6.2500002968590707E-5,6.2800002098083496,0,0,null,0,null,{"$f":"C1196","v":6.2800002098083496},{"$f":"AL1194","v":6.2800001694039578},{"$f":"I1196-J1196","v":4.0404391832282727E-8},{"$f":"L1194+KP_LR*(1+2*TA_SIM/TN_LR)*K1196-KP_LR*K1194","v":-6.6614323007998559E-6},"-",{"$f":"L1196","v":-6.6614323007998559E-6},9.7854161594255445E-8,0,-6.7592864623941118E-6,1.4828319486551741E-5,"-",1.4828319486551741E-5,0,1.4828319486551741E-5,1.4828319486551741E-5,1.6562733374585403E-5,-1.7344138880336622E-6,-7.6957770822464724E-5,-7.6957770822464724E-5,-7.6957770822464724E-5,"-",1.5443756672626918E-5,1.5443756672626918E-5,1.5443756672626918E-5,"-",1.0810629670838841E-5,2.2461312426426013E-2,1.5016861882458812E-6,1.4340046789929507E-5,6.2800001695039294,-2.9088820873213997E-4,2.9088820873213997E-4,{"$f":"FI_T-Rechentabelle!AL1196","v":-1.6950392911496692E-7},{"$f":"K1196","v":4.0404391832282727E-8}]
[7.4687495827674866E-2,6.2500002968590707E-5,6.2800002098083496,0,0,null,0,null,null,null,null,null,"-",{"$f":"N1196+(L1198-L1196)/2","v":-5.1006777651161204E-6},1.5016861882458812E-6,0,-6.6023639533620012E-6,1.3582149001857391E-5,"-",1.3582149001857391E-5,0,1.3582149001857391E-5,1.3582149001857391E-5,1.5443756672626918E-5,-1.8616076707695262E-6,-8.936896166562192E-5,-8.936896166562192E-5,-8.936896166562192E-5,"-",1.4242719465677586E-5,1.4242719465677586E-5,1.4242719465677586E-5,"-",9.9699036259743098E-6,2.0714530700133616E-2,2.7963443570042323E-6,2.6703121620261078E-5,6.2800001696787007,-2.9088820873213997E-4,2.9088820873213997E-4,{"$f":"FI_T-Rechentabelle!AL1197","v":-1.6967870042350341E-7},{"$f":"AP1196","v":4.0404391832282727E-8}]
[7.474999874830246E-2,6.2500002968590707E-5,6.2800002098083496,0,0,null,0,null,{"$f":"C1198","v":6.2800002098083496},{"$f":"AL1196","v":6.2800001695039294},{"$f":"I1198-J1198","v":4.030442024571812E-8},{"$f":"L1196+KP_LR*(1+2*TA_SIM/TN_LR)*K1198-KP_LR*K1196","v":-3.539923229432385E-6},"-",{"$f":"L1198","v":-3.539923229432385E-6},2.7963443570042323E-6,0,-6.3362675864366173E-6,1.2653700791120523E-5,"-",1.2653700791120523E-5,0,1.2653700791120523E-5,1.2653700791120523E-5,1.4242719465677586E-5,-1.5890186745570632E-6,-7.3207975451621595E-5,-7.3207975451621595E-5,-7.3207975451621595E-5,"-",1.3217546127252459E-5,1.3217546127252459E-5,1.3217546127252459E-5,"-",9.2522822890767208E-6,1.9223524390352627E-2,3.997814631401272E-6,3.817631760915696E-5,6.2800001699285639,-2.9088820873213997E-4,2.9088820873213997E-4,{"$f":"FI_T-Rechentabelle!AL1198","v":-1.6992856366471187E-7},{"$f":"K1198","v":4.030442024571812E-8}]
[7.4812501668930054E-2,6.2500002968590707E-5,6.2800002098083496,0,0,null,0,null,null,null,null,null,"-",{"$f":"N1198+(L1200-L1198)/2","v":-2.1801633808041685E-6},3.997814631401272E-6,0,-6.1779780122054405E-6,1.151415863930043E-5,"-",1.151415863930043E-5,0,1.151415863930043E-5,1.151415863930043E-5,1.3217546127252459E-5,-1.7033874879520291E-6,-8.442291133061076E-5,-8.442291133061076E-5,-8.442291133061076E-5,"-",1.2118586457604804E-5,1.2118586457604804E-5,1.2118586457604804E-5,"-",8.4830105203233616E-6,1.7625203657434783E-2,5.099389859990946E-6,4.8695586178214834E-5,6.2800001702472761,-2.9088820873213997E-4,2.9088820873213997E-4,{"$f":"FI_T-Rechentabelle!AL1199","v":-1.7024727583248023E-7},{"$f":"AP1198","v":4.030442024571812E-8}]
[7.4874997138977051E-2,6.2500002968590707E-5,6.2800002098083496,0,0,null,0,null,{"$f":"C1200","v":6.2800002098083496},{"$f":"AL1198","v":6.2800001699285639},{"$f":"I1200-J1200","v":3.9879785695973169E-8},{"$f":"L1198+KP_LR*(1+2*TA_SIM/TN_LR)*K1200-KP_LR*K1198","v":-8.2040353217595195E-7},"-",{"$f":"L1200","v":-8.2040353217595195E-7},5.099389859990946E-6,0,-5.9197933921668979E-6,1.0668919927928293E-5,"-",1.0668919927928293E-5,0,1.0668919927928293E-5,1.0668919927928293E-5,1.2118586457604804E-5,-1.4496665296765115E-6,-6.9325616282665977E-5,-6.9325616282665977E-5,-6.9325616282665977E-5,"-",1.1183317728780095E-5,1.1183317728780095E-5,1.1183317728780095E-5,"-",7.8283224101460664E-6,1.6264954103773252E-2,6.1159494914767739E-6,5.8403015596133532E-5,6.2800001706295232,-2.9088820873213997E-4,2.9088820873213997E-4,{"$f":"FI_T-Rechentabelle!AL1200","v":-1.7062952295532341E-7},{"$f":"K1200","v":3.9879785695973169E-8}]
[7.4937500059604645E-2,6.2500002968590707E-5,6.2800002098083496,0,0,null,0,null,null,null,null,null,"-",{"$f":"N1200+(L1202-L1200)/2","v":3.5466131491786971E-7},6.1159494914767739E-6,0,-5.7612881765589042E-6,9.6314631229047344E-6,"-",9.6314631229047344E-6,0,9.6314631229047344E-6,9.6314631229047344E-6,1.1183317728780095E-5,-1.551854605875361E-6,-7.9402029861681063E-5,-7.9402029861681063E-5,-7.9402029861681063E-5,"-",1.0182121208859385E-5,1.0182121208859385E-5,1.0182121208859385E-5,"-",7.1274848462015687E-6,1.4808819543323432E-2,7.0415007129344886E-6,6.7241378714917745E-5,6.2800001710696174,-2.9088820873213997E-4,2.9088820873213997E-4,{"$f":"FI_T-Rechentabelle!AL1201","v":-1.7106961713864166E-7},{"$f":"AP1200","v":3.9879785695973169E-8}]
[7.5000002980232239E-2,6.2500002968590707E-5,6.2800002098083496,0,0,null,0,null,{"$f":"C1202","v":6.2800002098083496},{"$f":"AL1200","v":6.2800001706295232},{"$f":"I1202-J1202","v":3.9178826405361633E-8},{"$f":"L1200+KP_LR*(1+2*TA_SIM/TN_LR)*K1202-KP_LR*K1200","v":1.5297261620116914E-6},"-",{"$f":"L1202","v":1.5297261620116914E-6},7.0415007129344886E-6,0,-5.5117745509227972E-6,8.8656141179847357E-6,"-",8.8656141179847357E-6,0,8.8656141179847357E-6,8.8656141179847357E-6,1.0182121208859385E-5,-1.3165070908746489E-6,-6.5345294978751378E-5,-6.5345294978751378E-5,-6.5345294978751378E-5,"-",9.3327617953907747E-6,9.3327617953907747E-6,9.3327617953907747E-6,"-",6.5329332567735419E-6,1.3573516012411264E-2,7.8898454637101928E-6,7.5342474346838662E-5,6.2800001715627332,-2.9088820873213997E-4,2.9088820873213997E-4,{"$f":"FI_T-Rechentabelle!AL1202","v":-1.7156273290908075E-7},{"$f":"K1202","v":3.9178826405361633E-8}]
[7.5062498450279236E-2,6.2500002968590707E-5,6.2800002098083496,0,0,null,0,null,null,null,null,null,"-",{"$f":"N1202+(L1204-L1202)/2","v":2.5357482986034896E-6},7.8898454637101928E-6,0,-5.3540971651067032E-6,7.925510205725949E-6,"-",7.925510205725949E-6,0,7.925510205725949E-6,7.925510205725949E-6,9.3327617953907747E-6,-1.4072515896648257E-6,-7.4347895674492824E-5,-7.4347895674492824E-5,-7.4347895674492824E-5,"-",8.4248575439930464E-6,8.4248575439930464E-6,8.4248575439930464E-6,"-",5.8974002807951325E-6,1.2253065200072993E-2,8.6556620387147541E-6,8.2655483951659523E-5,6.280000172103712,-2.9088820873213997E-4,2.9088820873213997E-4,{"$f":"FI_T-Rechentabelle!AL1203","v":-1.7210371172637906E-7},{"$f":"AP1202","v":3.9178826405361633E-8}]
[7.512500137090683E-2,6.2500002968590707E-5,6.2800002098083496,0,0,null,0,null,{"$f":"C1204","v":6.2800002098083496},{"$f":"AL1202","v":6.2800001715627332},{"$f":"I1204-J1204","v":3.8245616451604292E-8},{"$f":"L1202+KP_LR*(1+2*TA_SIM/TN_LR)*K1204-KP_LR*K1202","v":3.5417704351952878E-6},"-",{"$f":"L1204","v":3.5417704351952878E-6},8.6556620387147541E-6,0,-5.1138916035194662E-6,7.2351043784838947E-6,"-",7.2351043784838947E-6,0,7.2351043784838947E-6,7.2351043784838947E-6,8.4248575439930464E-6,-1.1897531655091518E-6,-6.1306899307937498E-5,-6.1306899307937498E-5,-6.1306899307937498E-5,"-",7.6572748565667478E-6,7.6572748565667478E-6,7.6572748565667478E-6,"-",5.3600923995967235E-6,1.1136697277366971E-2,9.3517056185501898E-6,8.9302210531950807E-5,6.2800001726881938,-2.9088820873213997E-4,2.9088820873213997E-4,{"$f":"FI_T-Rechentabelle!AL1204","v":-1.7268819352267428E-7},{"$f":"K1204","v":3.8245616451604292E-8}]
[7.5187496840953827E-2,6.2500002968590707E-5,6.2800002098083496,0,0,null,0,null,null,null,null,null,"-",{"$f":"N1204+(L1206-L1204)/2","v":4.3936989609436383E-6},9.3517056185501898E-6,0,-4.9580066576065515E-6,6.3874130718031487E-6,"-",6.3874130718031487E-6,0,6.3874130718031487E-6,6.3874130718031487E-6,7.6572748565667478E-6,-1.2698617847635991E-6,-6.9305877985807363E-5,-6.9305877985807363E-5,-6.9305877985807363E-5,"-",6.8380091889763176E-6,6.8380091889763176E-6,6.8380091889763176E-6,"-",4.786606432283422E-6,9.9451619203894063E-3,9.9732782385745271E-6,9.5237791829998024E-5,6.2800001733115236,-2.9088820873213997E-4,2.9088820873213997E-4,{"$f":"FI_T-Rechentabelle!AL1205","v":-1.7331152335486877E-7},{"$f":"AP1204","v":3.8245616451604292E-8}]
[7.5249999761581421E-2,6.2500002968590707E-5,6.2800002098083496,0,0,null,0,null,{"$f":"C1206","v":6.2800002098083496},{"$f":"AL1204","v":6.2800001726881938},{"$f":"I1206-J1206","v":3.712015583801076E-8},{"$f":"L1204+KP_LR*(1+2*TA_SIM/TN_LR)*K1206-KP_LR*K1204","v":5.2456274866919888E-6},"-",{"$f":"L1206","v":5.2456274866919888E-6},9.9732782385745271E-6,0,-4.7276507518825383E-6,5.7683578220523884E-6,"-",5.7683578220523884E-6,0,5.7683578220523884E-6,5.7683578220523884E-6,6.8380091889763176E-6,-1.0696513669239292E-6,-5.7253681536209496E-5,-5.7253681536209496E-5,-5.7253681536209496E-5,"-",6.1479115328953781E-6,6.1479115328953781E-6,6.1479115328953781E-6,"-",4.3035380730267644E-6,8.9414877893761978E-3,1.0532121225410539E-5,1.0057434925602943E-4,6.2800001739697811,-2.9088820873213997E-4,2.9088820873213997E-4,{"$f":"FI_T-Rechentabelle!AL1206","v":-1.7396978080341796E-7},{"$f":"K1206","v":3.712015583801076E-8}]
[7.5312495231628418E-2,6.2500002968590707E-5,6.2800002098083496,0,0,null,0,null,null,null,null,null,"-",{"$f":"N1206+(L1208-L1206)/2","v":5.9576649903919526E-6},1.0532121225410539E-5,0,-4.5744562350185862E-6,5.007942170680642E-6,"-",5.007942170680642E-6,0,5.007942170680642E-6,5.007942170680642E-6,6.1479115328953781E-6,-1.1399693622147361E-6,-6.4322397044636926E-5,-6.4322397044636926E-5,-6.4322397044636926E-5,"-",5.4124474282397507E-6,5.4124474282397507E-6,5.4124474282397507E-6,"-",3.7887131997678252E-6,7.8718329519381364E-3,1.1024110784906673E-5,1.0527250347663428E-4,6.2800001746587881,-2.9088820873213997E-4,2.9088820873213997E-4,{"$f":"FI_T-Rechentabelle!AL1207","v":-1.7465878787703559E-7},{"$f":"AP1206","v":3.712015583801076E-8}]
[7.5374998152256012E-2,6.2500002968590707E-5,6.2800002098083496,0,0,null,0,null,{"$f":"C1208","v":6.2800002098083496},{"$f":"AL1206","v":6.2800001739697811},{"$f":"I1208-J1208","v":3.5838568557267081E-8},{"$f":"L1206+KP_LR*(1+2*TA_SIM/TN_LR)*K1208-KP_LR*K1206","v":6.6697024940919164E-6},"-",{"$f":"L1208","v":6.6697024940919164E-6},1.1024110784906673E-5,0,-4.3544082908147563E-6,4.4560071367900122E-6,"-",4.4560071367900122E-6,0,4.4560071367900122E-6,4.4560071367900122E-6,5.4124474282397507E-6,-9.564402914497385E-7,-5.3229309267845018E-5,-5.3229309267845018E-5,-5.3229309267845018E-5,"-",4.7953891756905988E-6,4.7953891756905988E-6,4.7953891756905988E-6,"-",3.3567724229834187E-6,6.9743869166495288E-3,1.1460009967197268E-5,1.0943503404971007E-4,6.2800001753750392,-2.9088820873213997E-4,2.9088820873213997E-4,{"$f":"FI_T-Rechentabelle!AL1208","v":-1.7537503893549911E-7},{"$f":"K1208","v":3.5838568557267081E-8}]
[7.5437501072883606E-2,6.2500002968590707E-5,6.2800002098083496,0,0,null,0,null,null,null,null,null,"-",{"$f":"N1208+(L1210-L1208)/2","v":7.2552756101300696E-6},1.1460009967197268E-5,0,-4.2047343570671983E-6,3.7775731815427508E-6,"-",3.7775731815427508E-6,0,3.7775731815427508E-6,3.7775731815427508E-6,4.7953891756905988E-6,-1.0178159941478479E-6,-5.9441788517253461E-5,-5.9441788517253461E-5,-5.9441788517253461E-5,"-",4.1387336955943027E-6,4.1387336955943027E-6,4.1387336955943027E-6,"-",2.8971135869160116E-6,6.0193508973945802E-3,1.1836219398284428E-5,1.1302756948542876E-4,6.280000176114803,-2.9088820873213997E-4,2.9088820873213997E-4,{"$f":"FI_T-Rechentabelle!AL1209","v":-1.7611480274126734E-7},{"$f":"AP1208","v":3.5838568557267081E-8}]
[7.5499996542930603E-2,6.2500002968590707E-5,6.2800002098083496,0,0,null,0,null,{"$f":"C1210","v":6.2800002098083496},{"$f":"AL1208","v":6.2800001753750392},{"$f":"I1210-J1210","v":3.4433310425185937E-8},{"$f":"L1208+KP_LR*(1+2*TA_SIM/TN_LR)*K1210-KP_LR*K1208","v":7.8408487261682228E-6},"-",{"$f":"L1210","v":7.8408487261682228E-6},1.1836219398284428E-5,0,-3.9953706721162055E-6,3.2884238106314151E-6,"-",3.2884238106314151E-6,0,3.2884238106314151E-6,3.2884238106314151E-6,4.1387336955943027E-6,-8.5030988496288757E-7,-4.9274842702459073E-5,-4.9274842702459073E-5,-4.9274842702459073E-5,"-",3.590146673036715E-6,3.590146673036715E-6,3.590146673036715E-6,"-",2.5131026711257003E-6,5.2214890320500728E-3,1.2162562462787557E-5,1.1614391619699458E-4,6.2800001768749629,-2.9088820873213997E-4,2.9088820873213997E-4,{"$f":"FI_T-Rechentabelle!AL1210","v":-1.7687496267626557E-7},{"$f":"K1210","v":3.4433310425185937E-8}]
[7.5562499463558197E-2,6.2500002968590707E-5,6.2800002098083496,0,0,null,0,null,null,null,null,null,"-",{"$f":"N1210+(L1212-L1210)/2","v":8.3125929589867662E-6},1.2162562462787557E-5,0,-3.8499695038007913E-6,2.6865830621164149E-6,"-",2.6865830621164149E-6,0,2.6865830621164149E-6,2.6865830621164149E-6,3.590146673036715E-6,-9.0356361092030007E-7,-5.4703449061062527E-5,-5.4703449061062527E-5,-5.4703449061062527E-5,"-",3.0072024079259804E-6,3.0072024079259804E-6,3.0072024079259804E-6,"-",2.1050416855481863E-6,4.3736581873014459E-3,1.2435916099493897E-5,1.1875425114663219E-4,6.2800001776522079,-2.9088820873213997E-4,2.9088820873213997E-4,{"$f":"FI_T-Rechentabelle!AL1211","v":-1.7765220761134515E-7},{"$f":"AP1210","v":3.4433310425185937E-8}]
[7.5625002384185791E-2,6.2500002968590707E-5,6.2800002098083496,0,0,null,0,null,{"$f":"C1212","v":6.2800002098083496},{"$f":"AL1210","v":6.2800001768749629},{"$f":"I1212-J1212","v":3.2933386684419474E-8},{"$f":"L1210+KP_LR*(1+2*TA_SIM/TN_LR)*K1212-KP_LR*K1210","v":8.7843371918053096E-6},"-",{"$f":"L1212","v":8.7843371918053096E-6},1.2435916099493897E-5,0,-3.6515789076885875E-6,2.2558335891226599E-6,"-",2.2558335891226599E-6,0,2.2558335891226599E-6,2.2558335891226599E-6,3.0072024079259804E-6,-7.5136881880332042E-7,-4.5426143378612377E-5,-4.5426143378612377E-5,-4.5426143378612377E-5,"-",2.522448331277836E-6,2.522448331277836E-6,2.522448331277836E-6,"-",1.765713831894485E-6,3.6686345977446182E-3,1.2665205761852936E-5,1.2094380613649096E-4,6.2800001784437836,-2.9088820873213997E-4,2.9088820873213997E-4,{"$f":"FI_T-Rechentabelle!AL1212","v":-1.7844378330522659E-7},{"$f":"K1212","v":3.2933386684419474E-8}]
[7.5687497854232788E-2,6.2500002968590707E-5,6.2800002098083496,0,0,null,0,null,null,null,null,null,"-",{"$f":"N1212+(L1214-L1212)/2","v":9.1540883171674669E-6},1.2665205761852936E-5,0,-3.5111174446854694E-6,1.7251619724313402E-6,"-",1.7251619724313402E-6,0,1.7251619724313402E-6,1.7251619724313402E-6,2.522448331277836E-6,-7.9728635884649575E-7,-5.0140955505936462E-5,-5.0140955505936462E-5,-5.0140955505936462E-5,"-",2.0080700352470195E-6,2.0080700352470195E-6,2.0080700352470195E-6,"-",1.4056490246729136E-6,2.9205257109347878E-3,1.284773861878636E-5,1.2268686652394935E-4,6.280000179246767,-2.9088820873213997E-4,2.9088820873213997E-4,{"$f":"FI_T-Rechentabelle!AL1213","v":-1.7924676676273066E-7},{"$f":"AP1212","v":3.2933386684419474E-8}]
[7.5750000774860382E-2,6.2500002968590707E-5,6.2800002098083496,0,0,null,0,null,{"$f":"C1214","v":6.2800002098083496},{"$f":"AL1212","v":6.2800001784437836},{"$f":"I1214-J1214","v":3.1364566055458454E-8},{"$f":"L1212+KP_LR*(1+2*TA_SIM/TN_LR)*K1214-KP_LR*K1212","v":9.5238394425296242E-6},"-",{"$f":"L1214","v":9.5238394425296242E-6},1.284773861878636E-5,0,-3.3238991762567357E-6,1.3484229591470962E-6,"-",1.3484229591470962E-6,0,1.3484229591470962E-6,1.3484229591470962E-6,2.0080700352470195E-6,-6.596470760999233E-7,-4.1713744252944665E-5,-4.1713744252944665E-5,-4.1713744252944665E-5,"-",1.5824912764720773E-6,1.5824912764720773E-6,1.5824912764720773E-6,"-",1.107743893530454E-6,2.3015663692716685E-3,1.299158651686584E-5,1.2406051276591306E-4,6.2800001800587415,-2.9088820873213997E-4,2.9088820873213997E-4,{"$f":"FI_T-Rechentabelle!AL1214","v":-1.8005874125037735E-7},{"$f":"K1214","v":3.1364566055458454E-8}]
[7.5812503695487976E-2,6.2500002968590707E-5,6.2800002098083496,0,0,null,0,null,null,null,null,null,"-",{"$f":"N1214+(L1216-L1214)/2","v":9.8026415818287293E-6},1.299158651686584E-5,0,-3.1889449350371103E-6,8.8353973767388642E-7,"-",8.8353973767388642E-7,0,8.8353973767388642E-7,8.8353973767388642E-7,1.5824912764720773E-6,-6.9895153879819087E-7,-4.5780379739451939E-5,-4.5780379739451939E-5,-4.5780379739451939E-5,"-",1.1315547998273057E-6,1.1315547998273057E-6,1.1315547998273057E-6,"-",7.9208835987911392E-7,1.645726906044284E-3,1.3094444448493608E-5,1.2504273366119911E-4,6.2800001808771446,-2.9088820873213997E-4,2.9088820873213997E-4,{"$f":"FI_T-Rechentabelle!AL1215","v":-1.8087714437342584E-7},{"$f":"AP1214","v":3.1364566055458454E-8}]
[7.5874999165534973E-2,6.2500002968590707E-5,6.2800002098083496,0,0,null,0,null,{"$f":"C1216","v":6.2800002098083496},{"$f":"AL1214","v":6.2800001800587415},{"$f":"I1216-J1216","v":2.974960811030769E-8},{"$f":"L1214+KP_LR*(1+2*TA_SIM/TN_LR)*K1216-KP_LR*K1214","v":1.0081443721127834E-5},"-",{"$f":"L1216","v":1.0081443721127834E-5},1.3094444448493608E-5,0,-3.0130007273657738E-6,5.5648441407556814E-7,"-",5.5648441407556814E-7,0,5.5648441407556814E-7,5.5648441407556814E-7,1.1315547998273057E-6,-5.7507038575173755E-7,-3.8160660169920277E-5,-3.8160660169920277E-5,-3.8160660169920277E-5,"-",7.6054164772865337E-7,7.6054164772865337E-7,7.6054164772865337E-7,"-",5.3237915341005728E-7,1.1061274743612243E-3,1.3163577415641184E-5,1.2570290486832789E-4,6.2800001816998678,-2.9088820873213997E-4,2.9088820873213997E-4,{"$f":"FI_T-Rechentabelle!AL1216","v":-1.8169986759630774E-7},{"$f":"K1216","v":2.974960811030769E-8}]
[7.5937502086162567E-2,6.2500002968590707E-5,6.2800002098083496,0,0,null,0,null,null,null,null,null,"-",{"$f":"N1216+(L1218-L1216)/2","v":1.0279561151253239E-5},1.3163577415641184E-5,0,-2.8840162643879449E-6,1.5211437212695058E-7,"-",1.5211437212695058E-7,0,1.5211437212695058E-7,1.5211437212695058E-7,7.6054164772865337E-7,-6.0842727560170279E-7,-4.1640446437611347E-5,-4.1640446437611347E-5,-4.1640446437611347E-5,"-",3.6800792153326886E-7,3.6800792153326886E-7,3.6800792153326886E-7,"-",2.5760554507328818E-7,5.3522864133240841E-4,1.3197029205724459E-5,1.2602234593314942E-4,6.2800001825246818,-2.9088820873213997E-4,2.9088820873213997E-4,{"$f":"FI_T-Rechentabelle!AL1217","v":-1.8252468159118962E-7},{"$f":"AP1216","v":2.974960811030769E-8}]
[7.5999997556209564E-2,6.2500002968590707E-5,6.2800002098083496,0,0,null,0,null,{"$f":"C1218","v":6.2800002098083496},{"$f":"AL1216","v":6.2800001816998678},{"$f":"I1218-J1218","v":2.8108481764377302E-8},{"$f":"L1216+KP_LR*(1+2*TA_SIM/TN_LR)*K1218-KP_LR*K1216","v":1.0477678581378644E-5},"-",{"$f":"L1218","v":1.0477678581378644E-5},1.3197029205724459E-5,0,-2.719350624345815E-6,-1.2947271960288589E-7,"-",-1.2947271960288589E-7,{"$f":"G1218*(JM_EMS+JL_EMS)/KT_M*KP_VSR","v":0},-1.2947271960288589E-7,{"$f":"IF(V1218<-IM_R,-IM_R,IF(V1218>IM_R,IM_R,V1218))","v":-1.2947271960288589E-7},3.6800792153326886E-7,-4.974806411361547E-7,-3.4783478714671496E-5,{"$f":"IF(Z1218<-U_ZWK,-U_ZWK,IF(Z1218>U_ZWK,U_ZWK,Z1218))","v":-3.4783478714671496E-5},-3.4783478714671496E-5,"-",4.7052669186644195E-8,4.7052669186644195E-8,4.7052669186644195E-8,"-",{"$f":"AF1218*KT_M","v":3.2936868430650936E-8},{"$f":"AH1218/(JM_EMS+JL_EMS)","v":6.8433136153440546E-5},1.3201306276734049E-5,1.2606318895273729E-4,6.2800001833497632,{"$f":"-DF_LR","v":-2.9088820873213997E-4},{"$f":"DF_LR","v":2.9088820873213997E-4},{"$f":"FI_T-Rechentabelle!AL1218","v":-1.8334976292777583E-7},{"$f":"K1218","v":2.8108481764377302E-8}]
[7.6062500476837158E-2,6.2500002968590707E-5,6.2800002098083496,0,0,null,{"$f":"E1219/1000","v":0},null,null,null,null,null,"-",{"$f":"N1218+(L1220-L1218)/2","v":1.0604617929218728E-5},1.3201306276734049E-5,0,-2.5966883475153215E-6,{"$f":"R1218+KP_DR*(1+TA_SIM/TN_DR)*Q1219-KP_DR*Q1218","v":-4.7843670355513205E-7},"-",{"$f":"R1219","v":-4.7843670355513205E-7},0,{"$f":"T1219+U1219","v":-4.7843670355513205E-7},-4.7843670355513205E-7,4.7052669186644195E-8,{"$f":"W1219-X1219","v":-5.2548937274177627E-7},-3.7732684637021667E-5,-3.7732684637021667E-5,{"$f":"AA1219","v":-3.7732684637021667E-5},"-",{"$f":"(1/R_M*AB1219+AD1218*T_M/TA_SIM)/(1+T_M/TA_SIM)","v":-2.9197273258294337E-7},{"$f":"AD1219","v":-2.9197273258294337E-7},{"$f":"AE1219","v":-2.9197273258294337E-7},"-",-2.0438091280806036E-7,-4.2464349222534874E-4,1.3174766058469964E-5,1.258097485370893E-4,6.2800001841731863,-2.9088820873213997E-4,2.9088820873213997E-4,{"$f":"FI_T-Rechentabelle!AL1219","v":-1.8417318603525246E-7},{"$f":"AP1218","v":2.8108481764377302E-8}]
[7.6124995946884155E-2,6.2500002968590707E-5,6.2800002098083496,0,0,null,0,null,{"$f":"C1220","v":6.2800002098083496},{"$f":"AL1218","v":6.2800001833497632},{"$f":"I1220-J1220","v":2.6458586432909215E-8},{"$f":"L1218+KP_LR*(1+2*TA_SIM/TN_LR)*K1220-KP_LR*K1218","v":1.0731557277058812E-5},"-",{"$f":"L1220","v":1.0731557277058812E-5},{"$f":"AJ1219","v":1.3174766058469964E-5},{"$f":"D1220*KP_VDR","v":0},{"$f":"N1220-O1220+P1220","v":-2.4432087814111525E-6},-7.1860973018492902E-7,"-",-7.1860973018492902E-7,0,-7.1860973018492902E-7,-7.1860973018492902E-7,{"$f":"AF1219","v":-2.9197273258294337E-7},-4.2663699760198565E-7,-3.159210971949686E-5,-3.159210971949686E-5,-3.159210971949686E-5,"-",-5.6722240845587368E-7,-5.6722240845587368E-7,-5.6722240845587368E-7,"-",-3.9705568591911153E-7,-8.2496506527968312E-4,1.3123205741889984E-5,1.2531738378202407E-4,6.2800001849933871,-2.9088820873213997E-4,2.9088820873213997E-4,{"$f":"FI_T-Rechentabelle!AL1220","v":-1.8499338683142241E-7},{"$f":"K1220","v":2.6458586432909215E-8}]
[7.6187498867511749E-2,6.2500002968590707E-5,6.2800002098083496,0,0,null,0,null,null,null,null,null,"-",{"$f":"N1220+(L1222-L1220)/2","v":1.0796092122295752E-5},1.3123205741889984E-5,0,-2.3271136195942322E-6,-1.0170630155552125E-6,"-",-1.0170630155552125E-6,0,-1.0170630155552125E-6,-1.0170630155552125E-6,-5.6722240845587368E-7,-4.4984060709933879E-7,-3.4062490670400158E-5,-3.4062490670400158E-5,-3.4062490670400158E-5,"-",-8.5744215497223994E-7,-8.5744215497223994E-7,-8.5744215497223994E-7,"-",-6.0020950848056792E-7,-1.247059024476559E-3,1.3045264552860199E-5,1.2457310025175105E-4,6.2800001858087162,-2.9088820873213997E-4,2.9088820873213997E-4,{"$f":"FI_T-Rechentabelle!AL1221","v":-1.8580871596896031E-7},{"$f":"AP1220","v":2.6458586432909215E-8}]
[7.6250001788139343E-2,6.2500002968590707E-5,6.2800002098083496,0,0,null,0,null,{"$f":"C1222","v":6.2800002098083496},{"$f":"AL1220","v":6.2800001849933871},{"$f":"I1222-J1222","v":2.481496252926263E-8},{"$f":"L1220+KP_LR*(1+2*TA_SIM/TN_LR)*K1222-KP_LR*K1220","v":1.0860626967532691E-5},"-",{"$f":"L1222","v":1.0860626967532691E-5},1.3045264552860199E-5,0,-2.1846375853275075E-6,-1.219682798463604E-6,"-",-1.219682798463604E-6,0,-1.219682798463604E-6,-1.219682798463604E-6,-8.5744215497223994E-7,-3.6224064349136407E-7,-2.8591278944966163E-5,-2.8591278944966163E-5,-2.8591278944966163E-5,"-",-1.0911457959350568E-6,-1.0911457959350568E-6,-1.0911457959350568E-6,"-",-7.6380205715453973E-7,-1.5869562791492617E-3,1.2946079785413369E-5,1.2362595549063608E-4,6.2800001866178459,-2.9088820873213997E-4,2.9088820873213997E-4,{"$f":"FI_T-Rechentabelle!AL1222","v":-1.8661784562112871E-7},{"$f":"K1222","v":2.481496252926263E-8}]
[7.631249725818634E-2,6.2500002968590707E-5,6.2800002098083496,0,0,null,0,null,null,null,null,null,"-",{"$f":"N1222+(L1224-L1222)/2","v":1.0870831970409709E-5},1.2946079785413369E-5,0,-2.0752478150036604E-6,-1.4722629428984723E-6,"-",-1.4722629428984723E-6,0,-1.4722629428984723E-6,-1.4722629428984723E-6,-1.0911457959350568E-6,-3.8111714696341547E-7,-3.0629345592677842E-5,-3.0629345592677842E-5,-3.0629345592677842E-5,"-",-1.3370278262346646E-6,-1.3370278262346646E-6,-1.3370278262346646E-6,"-",-9.3591947836426508E-7,-1.9445657144489196E-3,1.2824544428260311E-5,1.2246537831955522E-4,6.2800001874193798,-2.9088820873213997E-4,2.9088820873213997E-4,{"$f":"FI_T-Rechentabelle!AL1223","v":-1.8741937957145183E-7},{"$f":"AP1222","v":2.481496252926263E-8}]
[7.6375000178813934E-2,6.2500002968590707E-5,6.2800002098083496,0,0,null,0,null,{"$f":"C1224","v":6.2800002098083496},{"$f":"AL1222","v":6.2800001866178459},{"$f":"I1224-J1224","v":2.3190503739556334E-8},{"$f":"L1222+KP_LR*(1+2*TA_SIM/TN_LR)*K1224-KP_LR*K1222","v":1.0881036973286726E-5},"-",{"$f":"L1224","v":1.0881036973286726E-5},1.2824544428260311E-5,0,-1.943507454973585E-6,-1.6409611192759762E-6,"-",-1.6409611192759762E-6,0,-1.6409611192759762E-6,-1.6409611192759762E-6,-1.3370278262346646E-6,-3.0393329304131163E-7,-2.5780186394674557E-5,-2.5780186394674557E-5,-2.5780186394674557E-5,"-",-1.5331138217458017E-6,-1.5331138217458017E-6,-1.5331138217458017E-6,"-",-1.0731796752220611E-6,-2.2297520781675898E-3,1.2685184923374837E-5,1.2113459307539345E-4,6.2800001882122043,-2.9088820873213997E-4,2.9088820873213997E-4,{"$f":"FI_T-Rechentabelle!AL1224","v":-1.8821220404419137E-7},{"$f":"K1224","v":2.3190503739556334E-8}]
[7.6437503099441528E-2,6.2500002968590707E-5,6.2800002098083496,0,0,null,0,null,null,null,null,null,"-",{"$f":"N1224+(L1226-L1224)/2","v":1.0844315970973042E-5},1.2685184923374837E-5,0,-1.8408689524017948E-6,-1.8520375613150679E-6,"-",-1.8520375613150679E-6,0,-1.8520375613150679E-6,-1.8520375613150679E-6,-1.5331138217458017E-6,-3.1892373956926613E-7,-2.7429115057250251E-5,-2.7429115057250251E-5,-2.7429115057250251E-5,"-",-1.7388710730814096E-6,-1.7388710730814096E-6,-1.7388710730814096E-6,"-",-1.2172097511569866E-6,-2.5290042617016136E-3,1.2527122157018486E-5,1.1962520484032991E-4,6.2800001889951496,-2.9088820873213997E-4,2.9088820873213997E-4,{"$f":"FI_T-Rechentabelle!AL1225","v":-1.8899514930836858E-7},{"$f":"AP1224","v":2.3190503739556334E-8}]
[7.6499998569488525E-2,6.2500002968590707E-5,6.2800002098083496,0,0,null,0,null,{"$f":"C1226","v":6.2800002098083496},{"$f":"AL1224","v":6.2800001882122043},{"$f":"I1226-J1226","v":2.1596145316493676E-8},{"$f":"L1224+KP_LR*(1+2*TA_SIM/TN_LR)*K1226-KP_LR*K1224","v":1.0807594968659358E-5},"-",{"$f":"L1226","v":1.0807594968659358E-5},1.2527122157018486E-5,0,-1.7195271883591277E-6,-1.9902144583467488E-6,"-",-1.9902144583467488E-6,0,-1.9902144583467488E-6,-1.9902144583467488E-6,-1.7388710730814096E-6,-2.5134338526533918E-7,-2.3155665553380726E-5,-2.3155665553380726E-5,-2.3155665553380726E-5,"-",-1.9010280958338235E-6,-1.9010280958338235E-6,-1.9010280958338235E-6,"-",-1.3307196670836764E-6,-2.7648445191848663E-3,1.2354319374569431E-5,1.1797505981992186E-4,6.2800001897672946,-2.9088820873213997E-4,2.9088820873213997E-4,{"$f":"FI_T-Rechentabelle!AL1226","v":-1.8976729432296224E-7},{"$f":"K1226","v":2.1596145316493676E-8}]
[7.6562501490116119E-2,6.2500002968590707E-5,6.2800002098083496,0,0,null,0,null,null,null,null,null,"-",{"$f":"N1226+(L1228-L1226)/2","v":1.0730718244417269E-5},1.2354319374569431E-5,0,-1.6236011301521624E-6,-2.1638688275495646E-6,"-",-2.1638688275495646E-6,0,-2.1638688275495646E-6,-2.1638688275495646E-6,-1.9010280958338235E-6,-2.6284073171574104E-7,-2.4454471628077094E-5,-2.4454471628077094E-5,-2.4454471628077094E-5,"-",-2.0706027614574493E-6,-2.0706027614574493E-6,-2.0706027614574493E-6,"-",-1.4494219330202145E-6,-3.0114729545402336E-3,1.2166102314910667E-5,1.16177719294787E-4,6.2800001905276757,-2.9088820873213997E-4,2.9088820873213997E-4,{"$f":"FI_T-Rechentabelle!AL1227","v":-1.9052767541438698E-7},{"$f":"AP1226","v":2.1596145316493676E-8}]
[7.6624996960163116E-2,6.2500002968590707E-5,6.2800002098083496,0,0,null,0,null,{"$f":"C1228","v":6.2800002098083496},{"$f":"AL1226","v":6.2800001897672946},{"$f":"I1228-J1228","v":2.0041055037722799E-8},{"$f":"L1226+KP_LR*(1+2*TA_SIM/TN_LR)*K1228-KP_LR*K1226","v":1.0653841520175179E-5},"-",{"$f":"L1228","v":1.0653841520175179E-5},1.2166102314910667E-5,0,-1.5122607947354878E-6,-2.2746793128940894E-6,"-",-2.2746793128940894E-6,0,-2.2746793128940894E-6,-2.2746793128940894E-6,-2.0706027614574493E-6,-2.0407655143664003E-7,-2.0711425940851328E-5,-2.0711425940851328E-5,-2.0711425940851328E-5,"-",-2.2022650527074469E-6,-2.2022650527074469E-6,-2.2022650527074469E-6,"-",-1.5415855368952129E-6,-3.2029618468631055E-3,1.1965917199481722E-5,1.1426609225555071E-4,6.2800001912755459,-2.9088820873213997E-4,2.9088820873213997E-4,{"$f":"FI_T-Rechentabelle!AL1228","v":-1.9127554562459181E-7},{"$f":"K1228","v":2.0041055037722799E-8}]
[7.668749988079071E-2,6.2500002968590707E-5,6.2800002098083496,0,0,null,0,null,null,null,null,null,"-",{"$f":"N1228+(L1230-L1228)/2","v":1.0542978341251084E-5},1.1965917199481722E-5,0,-1.4229388582306383E-6,-2.4147090416607018E-6,"-",-2.4147090416607018E-6,0,-2.4147090416607018E-6,-2.4147090416607018E-6,-2.2022650527074469E-6,-2.1244398895325488E-7,-2.169624192134948E-5,-2.169624192134948E-5,-2.169624192134948E-5,"-",-2.3393256907423426E-6,-2.3393256907423426E-6,-2.3393256907423426E-6,"-",-1.6375279835196399E-6,-3.4023020642419276E-3,1.1753273320466602E-5,1.1223549278774122E-4,6.2800001920101254,-2.9088820873213997E-4,2.9088820873213997E-4,{"$f":"FI_T-Rechentabelle!AL1229","v":-1.9201012513292426E-7},{"$f":"AP1228","v":2.0041055037722799E-8}]
[7.6749995350837708E-2,6.2500002968590707E-5,6.2800002098083496,0,0,null,0,null,{"$f":"C1230","v":6.2800002098083496},{"$f":"AL1228","v":6.2800001912755459},{"$f":"I1230-J1230","v":1.8532803736093229E-8},{"$f":"L1228+KP_LR*(1+2*TA_SIM/TN_LR)*K1230-KP_LR*K1228","v":1.0432115162326989E-5},"-",{"$f":"L1230","v":1.0432115162326989E-5},1.1753273320466602E-5,0,-1.3211581581396133E-6,-2.5010705137373898E-6,"-",-2.5010705137373898E-6,0,-2.5010705137373898E-6,-2.5010705137373898E-6,-2.3393256907423426E-6,-1.6174482299504712E-7,-1.8440106908725375E-5,-1.8440106908725375E-5,-1.8440106908725375E-5,"-",-2.4436771894493486E-6,-2.4436771894493486E-6,-2.4436771894493486E-6,"-",-1.7105740326145438E-6,-3.554070294233417E-3,1.1531143927077013E-5,1.1011431332990379E-4,6.2800001927308218,-2.9088820873213997E-4,2.9088820873213997E-4,{"$f":"FI_T-Rechentabelle!AL1230","v":-1.9273082152437837E-7},{"$f":"K1230","v":1.8532803736093229E-8}]
[7.6812498271465302E-2,6.2500002968590707E-5,6.2800002098083496,0,0,null,0,null,null,null,null,null,"-",{"$f":"N1230+(L1232-L1230)/2","v":1.0292868311182817E-5},1.1531143927077013E-5,0,-1.2382756158941964E-6,-2.6109945340082179E-6,"-",-2.6109945340082179E-6,0,-2.6109945340082179E-6,-2.6109945340082179E-6,-2.4436771894493486E-6,-1.6731734455886926E-7,-1.9144307325089614E-5,-1.9144307325089614E-5,-1.9144307325089614E-5,"-",-2.5516238633588071E-6,-2.5516238633588071E-6,-2.5516238633588071E-6,"-",-1.7861367043511649E-6,-3.7110673267217219E-3,1.1299202219156906E-5,1.078994331704241E-4,6.2800001934370222,-2.9088820873213997E-4,2.9088820873213997E-4,{"$f":"FI_T-Rechentabelle!AL1231","v":-1.9343702195584456E-7},{"$f":"AP1230","v":1.8532803736093229E-8}]
[7.6875001192092896E-2,6.2500002968590707E-5,6.2800002098083496,0,0,null,0,null,{"$f":"C1232","v":6.2800002098083496},{"$f":"AL1230","v":6.2800001927308218},{"$f":"I1232-J1232","v":1.7077527836306672E-8},{"$f":"L1230+KP_LR*(1+2*TA_SIM/TN_LR)*K1232-KP_LR*K1230","v":1.0153621460038645E-5},"-",{"$f":"L1232","v":1.0153621460038645E-5},1.1299202219156906E-5,0,-1.1455807591182609E-6,-2.6755946149182854E-6,"-",-2.6755946149182854E-6,0,-2.6755946149182854E-6,-2.6755946149182854E-6,-2.5516238633588071E-6,-1.2397075155947827E-7,-1.6333601429082359E-5,-1.6333601429082359E-5,-1.6333601429082359E-5,"-",-2.631604993397677E-6,-2.631604993397677E-6,-2.631604993397677E-6,"-",-1.8421234953783738E-6,-3.8273914302480233E-3,1.1059990254766404E-5,1.0561512717565584E-4,6.2800001941282719,-2.9088820873213997E-4,2.9088820873213997E-4,{"$f":"FI_T-Rechentabelle!AL1232","v":-1.9412827167997193E-7},{"$f":"K1232","v":1.7077527836306672E-8}]
[7.6937496662139893E-2,6.2500002968590707E-5,6.2800002098083496,0,0,null,0,null,null,null,null,null,"-",{"$f":"N1232+(L1234-L1232)/2","v":9.9910596659502537E-6},1.1059990254766404E-5,0,-1.0689305888161506E-6,-2.7586679249131185E-6,"-",-2.7586679249131185E-6,0,-2.7586679249131185E-6,-2.7586679249131185E-6,-2.631604993397677E-6,-1.2706293151544148E-7,-1.6788383158504022E-5,-1.6788383158504022E-5,-1.6788383158504022E-5,"-",-2.7135810782468334E-6,-2.7135810782468334E-6,-2.7135810782468334E-6,"-",-1.8995067547727832E-6,-3.9466169847761955E-3,1.0813326693217891E-5,1.0325966366958998E-4,6.2800001948041047,-2.9088820873213997E-4,2.9088820873213997E-4,{"$f":"FI_T-Rechentabelle!AL1233","v":-1.9480410440309015E-7},{"$f":"AP1232","v":1.7077527836306672E-8}]
[7.6999999582767487E-2,6.2500002968590707E-5,6.2800002098083496,0,0,null,0,null,{"$f":"C1234","v":6.2800002098083496},{"$f":"AL1232","v":6.2800001941282719},{"$f":"I1234-J1234","v":1.5680077680713111E-8},{"$f":"L1232+KP_LR*(1+2*TA_SIM/TN_LR)*K1234-KP_LR*K1232","v":9.8284978718618624E-6},"-",{"$f":"L1234","v":9.8284978718618624E-6},1.0813326693217891E-5,0,-9.8482882135602883E-7,-2.803979719906642E-6,"-",-2.803979719906642E-6,0,-2.803979719906642E-6,-2.803979719906642E-6,-2.7135810782468334E-6,-9.0398641659808658E-8,-1.4383919496904408E-5,-1.4383919496904408E-5,-1.4383919496904408E-5,"-",-2.7719027825439559E-6,-2.7719027825439559E-6,-2.7719027825439559E-6,"-",-1.940331947780769E-6,-4.0314397419089314E-3,1.0561361709348582E-5,1.0085357530945777E-4,6.28000019546419,-2.9088820873213997E-4,2.9088820873213997E-4,{"$f":"FI_T-Rechentabelle!AL1234","v":-1.9546418972282709E-7},{"$f":"K1234","v":1.5680077680713111E-8}]
[7.7062502503395081E-2,6.2500002968590707E-5,6.2800002098083496,0,0,null,0,null,null,null,null,null,"-",{"$f":"N1234+(L1236-L1234)/2","v":9.6471904225722613E-6},1.0561361709348582E-5,0,-9.1417128677632083E-7,-2.8632029757337468E-6,"-",-2.8632029757337468E-6,0,-2.8632029757337468E-6,-2.8632029757337468E-6,-2.7719027825439559E-6,-9.1300193189790903E-8,{"$f":"Z1234+KP_SR*(1+TA_SIM/TN_SR)*Y1235-KP_SR*Y1234","v":-1.4618022314138253E-5},-1.4618022314138253E-5,-1.4618022314138253E-5,"-",-2.8308061329894419E-6,-2.8308061329894419E-6,-2.8308061329894419E-6,"-",-1.9815642930926093E-6,-4.1171084419127551E-3,{"$f":"AJ1234+AI1235*TA_SIM","v":1.0304042431729036E-5},9.839635721029857E-5,{"$f":"AL1234+AJ1235*TA_SIM","v":6.280000196108193},-2.9088820873213997E-4,2.9088820873213997E-4,{"$f":"FI_T-Rechentabelle!AL1235","v":-1.9610819279591851E-7},{"$f":"AP1234","v":1.5680077680713111E-8}]
[7.7124997973442078E-2,6.2500002968590707E-5,6.2800002098083496,0,0,null,0,null,{"$f":"C1236","v":6.2800002098083496},{"$f":"AL1234","v":6.28000019546419},{"$f":"I1236-J1236","v":1.4344159637857956E-8},{"$f":"L1234+KP_LR*(1+2*TA_SIM/TN_LR)*K1236-KP_LR*K1234","v":9.4658829732826602E-6},"-",{"$f":"L1236","v":9.4658829732826602E-6},1.0304042431729036E-5,0,-8.3815945844637533E-7,-2.8914944019426283E-6,"-",-2.8914944019426283E-6,0,-2.8914944019426283E-6,-2.8914944019426283E-6,-2.8308061329894419E-6,-6.0688268953186412E-8,-1.2582808522539334E-5,-1.2582808522539334E-5,-1.2582808522539334E-5,"-",-2.869959854895171E-6,-2.869959854895171E-6,-2.869959854895171E-6,"-",-2.0089718984266197E-6,-4.1740533937806345E-3,1.0043164094617746E-5,9.5905152596487242E-5,6.2800001967358909,-2.9088820873213997E-4,2.9088820873213997E-4,{"$f":"FI_T-Rechentabelle!AL1236","v":-1.9673589068958108E-7},{"$f":"K1236","v":1.4344159637857956E-8}]
[7.7187500894069672E-2,6.2500002968590707E-5,6.2800002098083496,0,0,null,0,null,null,null,null,null,"-",{"$f":"N1236+(L1238-L1236)/2","v":9.2699281739426566E-6},1.0043164094617746E-5,0,-7.7323592067508984E-7,-2.9296387619292741E-6,"-",-2.9296387619292741E-6,0,-2.9296387619292741E-6,-2.9296387619292741E-6,-2.869959854895171E-6,-5.9678907034103103E-8,-1.2623615137766843E-5,-1.2623615137766843E-5,-1.2623615137766843E-5,"-",-2.9084623755627706E-6,-2.9084623755627706E-6,-2.9084623755627706E-6,"-",-2.0359236628939394E-6,-4.230051242247952E-3,9.7787858919772499E-6,9.3380526728728102E-5,6.2800001973470652,-2.9088820873213997E-4,2.9088820873213997E-4,{"$f":"FI_T-Rechentabelle!AL1237","v":-1.9734706491192355E-7},{"$f":"AP1236","v":1.4344159637857956E-8}]
[7.7250003814697266E-2,6.2500002968590707E-5,6.2800002098083496,0,0,null,0,null,{"$f":"C1238","v":6.2800002098083496},{"$f":"AL1236","v":6.2800001967358909},{"$f":"I1238-J1238","v":1.3072458671103959E-8},{"$f":"L1236+KP_LR*(1+2*TA_SIM/TN_LR)*K1238-KP_LR*K1236","v":9.073973374602653E-6},"-",{"$f":"L1238","v":9.073973374602653E-6},9.7787858919772499E-6,0,-7.0481251737459693E-7,-2.9429962059974077E-6,"-",-2.9429962059974077E-6,0,-2.9429962059974077E-6,-2.9429962059974077E-6,-2.9084623755627706E-6,-3.4533830434637118E-8,-1.0923204669533649E-5,-1.0923204669533649E-5,-1.0923204669533649E-5,"-",-2.9307422661661866E-6,-2.9307422661661866E-6,-2.9307422661661866E-6,"-",-2.0515195863163302E-6,-4.2624549892298566E-3,9.5123824551503841E-6,9.0836561299068188E-5,6.2800001979415887,-2.9088820873213997E-4,2.9088820873213997E-4,{"$f":"FI_T-Rechentabelle!AL1238","v":-1.979415884534319E-7},{"$f":"K1238","v":1.3072458671103959E-8}]
[7.7312499284744263E-2,6.2500002968590707E-5,6.2800002098083496,0,0,null,0,null,null,null,null,null,"-",{"$f":"N1238+(L1240-L1238)/2","v":8.8670319253359693E-6},9.5123824551503841E-6,0,-6.4535052981441477E-7,-2.9626121635395388E-6,"-",-2.9626121635395388E-6,0,-2.9626121635395388E-6,-2.9626121635395388E-6,-2.9307422661661866E-6,-3.1869897373352248E-8,-1.0795841305220701E-5,-1.0795841305220701E-5,-1.0795841305220701E-5,"-",-2.9513034902784402E-6,-2.9513034902784402E-6,-2.9513034902784402E-6,"-",-2.0659124431949081E-6,-4.2923591173798211E-3,9.2441100103141449E-6,8.8274748157606074E-5,6.2800001985193452,-2.9088820873213997E-4,2.9088820873213997E-4,{"$f":"FI_T-Rechentabelle!AL1239","v":-1.9851934496273316E-7},{"$f":"AP1238","v":1.3072458671103959E-8}]
[7.7375002205371857E-2,6.2500002968590707E-5,6.2800002098083496,0,0,null,0,null,{"$f":"C1240","v":6.2800002098083496},{"$f":"AL1238","v":6.2800001979415887},{"$f":"I1240-J1240","v":1.1866760907253138E-8},{"$f":"L1238+KP_LR*(1+2*TA_SIM/TN_LR)*K1240-KP_LR*K1238","v":8.660090476069284E-6},"-",{"$f":"L1240","v":8.660090476069284E-6},9.2441100103141449E-6,0,-5.8401953424486088E-7,-2.9629473970285339E-6,"-",-2.9629473970285339E-6,0,-2.9629473970285339E-6,-2.9629473970285339E-6,-2.9513034902784402E-6,-1.1643906750093677E-8,-9.3978926276495657E-6,-9.3978926276495657E-6,-9.3978926276495657E-6,"-",-2.9588156881821296E-6,-2.9588156881821296E-6,-2.9588156881821296E-6,"-",-2.0711709817274906E-6,-4.3032848155568054E-3,8.9751547093418438E-6,8.5706414220375457E-5,6.2800001990802921,-2.9088820873213997E-4,2.9088820873213997E-4,{"$f":"FI_T-Rechentabelle!AL1240","v":-1.9908029180726317E-7},{"$f":"K1240","v":1.1866760907253138E-8}]
[7.7437497675418854E-2,6.2500002968590707E-5,6.2800002098083496,0,0,null,0,null,null,null,null,null,"-",{"$f":"N1240+(L1242-L1240)/2","v":8.4454124515813281E-6},8.9751547093418438E-6,0,-5.297422577605158E-7,-2.9663868555621647E-6,"-",-2.9663868555621647E-6,0,-2.9663868555621647E-6,-2.9663868555621647E-6,-2.9588156881821296E-6,-7.5711673800351547E-9,-9.1261780095461687E-6,-9.1261780095461687E-6,-9.1261780095461687E-6,"-",-2.9637003122986735E-6,-2.9637003122986735E-6,-2.9637003122986735E-6,"-",-2.0745902186090712E-6,-4.3103889852671327E-3,8.7057553977626477E-6,{"$f":"AJ1241/(2*PI())*60","v":8.3133840294172492E-5},6.2800001996244017,-2.9088820873213997E-4,2.9088820873213997E-4,{"$f":"FI_T-Rechentabelle!AL1241","v":-1.9962440145349092E-7},{"$f":"AP1240","v":1.1866760907253138E-8}]
[7.7500000596046448E-2,6.2500002968590707E-5,6.2800002098083496,0,0,null,0,null,{"$f":"C1242","v":6.2800002098083496},{"$f":"AL1240","v":6.2800001990802921},{"$f":"I1242-J1242","v":1.0728057553421877E-8},{"$f":"L1240+KP_LR*(1+2*TA_SIM/TN_LR)*K1242-KP_LR*K1240","v":8.2307344270933721E-6},"-",{"$f":"L1242","v":8.2307344270933721E-6},8.7057553977626477E-6,0,-4.7502097066927562E-7,-2.9554573251600706E-6,"-",-2.9554573251600706E-6,0,-2.9554573251600706E-6,-2.9554573251600706E-6,-2.9637003122986735E-6,8.2429871386029217E-9,-8.0007040261076057E-6,-8.0007040261076057E-6,-8.0007040261076057E-6,"-",-2.9583822560806023E-6,-2.9583822560806023E-6,-2.9583822560806023E-6,"-",-2.0708675792564216E-6,-4.3026544343578253E-3,8.4368394956152831E-6,8.0565882588006313E-5,6.2800002001517043,-2.9088820873213997E-4,2.9088820873213997E-4,{"$f":"FI_T-Rechentabelle!AL1242","v":-2.0015170409948269E-7},{"$f":"K1242","v":1.0728057553421877E-8}]
[7.7562496066093445E-2,6.2500002968590707E-5,6.2800002098083496,0,0,null,0,null,null,null,null,null,"-",{"$f":"N1242+(L1244-L1242)/2","v":8.0111882708789708E-6},8.4368394956152831E-6,0,-4.2565122473631229E-7,-2.944886144357033E-6,"-",-2.944886144357033E-6,0,-2.944886144357033E-6,-2.944886144357033E-6,-2.9583822560806023E-6,1.3496111723569355E-8,-7.6067177816929614E-6,-7.6067177816929614E-6,-7.6067177816929614E-6,"-",-2.9496750872270589E-6,-2.9496750872270589E-6,-2.9496750872270589E-6,"-",-2.0647725610589412E-6,-4.2899907771845854E-3,8.1687150720412461E-6,7.8005482945477943E-5,6.2800002006622488,-2.9088820873213997E-4,2.9088820873213997E-4,{"$f":"FI_T-Rechentabelle!AL1243","v":-2.0066224859505155E-7},{"$f":"AP1242","v":1.0728057553421877E-8}]
[7.7624998986721039E-2,6.2500002968590707E-5,6.2800002098083496,0,0,null,0,null,{"$f":"C1244","v":6.2800002098083496},{"$f":"AL1242","v":6.2800002001517043},{"$f":"I1244-J1244","v":9.6566452612023568E-9},{"$f":"L1242+KP_LR*(1+2*TA_SIM/TN_LR)*K1244-KP_LR*K1242","v":7.7916421146645712E-6},"-",{"$f":"L1244","v":7.7916421146645712E-6},8.1687150720412461E-6,0,-3.7707295737667492E-7,-2.9243050277120593E-6,"-",-2.9243050277120593E-6,0,-2.9243050277120593E-6,-2.9243050277120593E-6,-2.9496750872270589E-6,2.537005951499955E-8,-6.7257766898857971E-6,-6.7257766898857971E-6,-6.7257766898857971E-6,"-",-2.9333073068951634E-6,-2.9333073068951634E-6,-2.9333073068951634E-6,"-",-2.0533151148266142E-6,-4.2661855699701106E-3,7.9020784739181137E-6,7.5459290989447717E-5,6.2800002011561284,-2.9088820873213997E-4,2.9088820873213997E-4,{"$f":"FI_T-Rechentabelle!AL1244","v":-2.0115612819893158E-7},{"$f":"K1244","v":9.6566452612023568E-9}]
[7.7687501907348633E-2,6.2500002968590707E-5,6.2800002098083496,0,0,null,0,null,null,null,null,null,"-",{"$f":"N1244+(L1246-L1244)/2","v":7.569744427476185E-6},7.9020784739181137E-6,0,-3.3233404644192867E-7,-2.9017089588316544E-6,"-",-2.9017089588316544E-6,0,-2.9017089588316544E-6,-2.9017089588316544E-6,-2.9333073068951634E-6,3.1598348063509029E-8,-6.2294715263619216E-6,-6.2294715263619216E-6,-6.2294715263619216E-6,"-",-2.912921275886801E-6,-2.912921275886801E-6,-2.912921275886801E-6,"-",-2.0390448931207606E-6,-4.2365362416803666E-3,7.6372949588130909E-6,7.293079467275499E-5,6.2800002016334595,-2.9088820873213997E-4,2.9088820873213997E-4,{"$f":"FI_T-Rechentabelle!AL1245","v":-2.0163345926249576E-7},{"$f":"AP1244","v":9.6566452612023568E-9}]
[7.774999737739563E-2,6.2500002968590707E-5,6.2800002098083496,0,0,null,0,null,{"$f":"C1246","v":6.2800002098083496},{"$f":"AL1244","v":6.2800002011561284},{"$f":"I1246-J1246","v":8.6522211617534595E-9},{"$f":"L1244+KP_LR*(1+2*TA_SIM/TN_LR)*K1246-KP_LR*K1244","v":7.3478467402877988E-6},"-",{"$f":"L1246","v":7.3478467402877988E-6},7.6372949588130909E-6,0,-2.8944821852529207E-7,-2.8729494367683519E-6,"-",-2.8729494367683519E-6,0,-2.8729494367683519E-6,-2.8729494367683519E-6,-2.912921275886801E-6,3.9971839118449147E-8,-5.5669204552516071E-6,-5.5669204552516071E-6,-5.5669204552516071E-6,"-",-2.88713299258492E-6,-2.88713299258492E-6,-2.88713299258492E-6,"-",-2.0209930948094437E-6,-4.1990299081850063E-3,7.3748555895515278E-6,7.0424683299961184E-5,6.2800002020943877,-2.9088820873213997E-4,2.9088820873213997E-4,{"$f":"FI_T-Rechentabelle!AL1246","v":-2.0209438744700492E-7},{"$f":"K1246","v":8.6522211617534595E-9}]
[7.7812500298023224E-2,6.2500002968590707E-5,6.2800002098083496,0,0,null,0,null,null,null,null,null,"-",{"$f":"N1246+(L1248-L1246)/2","v":7.1257861823934338E-6},7.3748555895515278E-6,0,-2.49069407158094E-7,-2.840152183429725E-6,"-",-2.840152183429725E-6,0,-2.840152183429725E-6,-2.840152183429725E-6,-2.88713299258492E-6,4.6980809155194949E-8,-4.9870363994141816E-6,-4.9870363994141816E-6,-4.9870363994141816E-6,"-",-2.8568227931302905E-6,-2.8568227931302905E-6,-2.8568227931302905E-6,"-",-1.9997759551912033E-6,-4.1549469253920699E-3,7.115171406714523E-6,6.7944882019483843E-5,6.2800002025390862,-2.9088820873213997E-4,2.9088820873213997E-4,{"$f":"FI_T-Rechentabelle!AL1247","v":-2.025390859472509E-7},{"$f":"AP1246","v":8.6522211617534595E-9}]
[7.7875003218650818E-2,6.2500002968590707E-5,6.2800002098083496,0,0,null,0,null,{"$f":"C1248","v":6.2800002098083496},{"$f":"AL1246","v":6.2800002020943877},{"$f":"I1248-J1248","v":7.713961913680123E-9},{"$f":"L1246+KP_LR*(1+2*TA_SIM/TN_LR)*K1248-KP_LR*K1246","v":6.9037256244990687E-6},"-",{"$f":"L1248","v":6.9037256244990687E-6},7.115171406714523E-6,0,-2.1144578221545432E-7,-2.8045636618810468E-6,"-",-2.8045636618810468E-6,0,-2.8045636618810468E-6,-2.8045636618810468E-6,-2.8568227931302905E-6,5.225913124924367E-8,-4.5187570933139832E-6,-4.5187570933139832E-6,-4.5187570933139832E-6,"-",-2.8231072245827172E-6,-2.8231072245827172E-6,-2.8231072245827172E-6,"-",-1.976175057207902E-6,-4.105911193035325E-3,6.8585519571498155E-6,6.5494346785979185E-5,6.280000202967746,-2.9088820873213997E-4,2.9088820873213997E-4,{"$f":"FI_T-Rechentabelle!AL1248","v":-2.0296774572159393E-7},{"$f":"K1248","v":7.713961913680123E-9}]
[7.7937498688697815E-2,6.2500002968590707E-5,6.2800002098083496,0,0,null,0,null,null,null,null,null,"-",{"$f":"N1248+(L1250-L1248)/2","v":6.6833905289813357E-6},6.8585519571498155E-6,0,-1.7516142816847981E-7,-2.7632310735601251E-6,"-",-2.7632310735601251E-6,0,-2.7632310735601251E-6,-2.7632310735601251E-6,-2.8231072245827172E-6,5.9876151022592107E-8,-3.8720651002134495E-6,-3.8720651002134495E-6,-3.8720651002134495E-6,"-",-2.7844774497297498E-6,-2.7844774497297498E-6,-2.7844774497297498E-6,"-",-1.9491342148108247E-6,-4.0497282667999682E-3,6.6054439404748171E-6,6.3077343266578471E-5,6.2800002033805864,-2.9088820873213997E-4,2.9088820873213997E-4,{"$f":"FI_T-Rechentabelle!AL1249","v":-2.0338058615010368E-7},{"$f":"AP1248","v":7.713961913680123E-9}]
[7.8000001609325409E-2,6.2500002968590707E-5,6.2800002098083496,0,0,null,0,null,{"$f":"C1250","v":6.2800002098083496},{"$f":"AL1248","v":6.280000202967746},{"$f":"I1250-J1250","v":6.840603639091114E-9},{"$f":"L1248+KP_LR*(1+2*TA_SIM/TN_LR)*K1250-KP_LR*K1248","v":6.4630554334636027E-6},"-",{"$f":"L1250","v":6.4630554334636027E-6},6.6054439404748171E-6,0,-1.4238850701121432E-7,-2.7220412724659327E-6,"-",-2.7220412724659327E-6,0,-2.7220412724659327E-6,-2.7220412724659327E-6,-2.7844774497297498E-6,6.243617726381717E-8,-3.5755517007874127E-6,-3.5755517007874127E-6,-3.5755517007874127E-6,"-",-2.7441960450437258E-6,-2.7441960450437258E-6,-2.7441960450437258E-6,"-",-1.9209372315306079E-6,-3.9911432194693697E-3,6.3559974892579811E-6,6.0695305121705016E-5,6.2800002037778366,-2.9088820873213997E-4,2.9088820873213997E-4,{"$f":"FI_T-Rechentabelle!AL1250","v":-2.0377783638281244E-7},{"$f":"K1250","v":6.840603639091114E-9}]
[7.8062497079372406E-2,6.2500002968590707E-5,6.2800002098083496,0,0,null,0,null,null,null,null,null,"-",{"$f":"N1250+(L1252-L1250)/2","v":6.2460592384693519E-6},6.3559974892579811E-6,0,-1.0993825078862923E-7,-2.6736876394479246E-6,"-",-2.6736876394479246E-6,0,-2.6736876394479246E-6,-2.6736876394479246E-6,-2.7441960450437258E-6,7.0508405595801174E-8,-2.8770143983695525E-6,-2.8770143983695525E-6,-2.8770143983695525E-6,"-",-2.6987067511112524E-6,-2.6987067511112524E-6,-2.6987067511112524E-6,"-",-1.8890947257778766E-6,-3.924983847450398E-3,6.1106859987923316E-6,5.8352752943414119E-5,6.2800002041597542,-2.9088820873213997E-4,2.9088820873213997E-4,{"$f":"FI_T-Rechentabelle!AL1251","v":-2.0415975399146191E-7},{"$f":"AP1250","v":6.840603639091114E-9}]
[7.8125E-2,6.2500002968590707E-5,6.2800002098083496,0,0,null,0,null,{"$f":"C1252","v":6.2800002098083496},{"$f":"AL1250","v":6.2800002037778366},{"$f":"I1252-J1252","v":6.0305129778726041E-9},{"$f":"L1250+KP_LR*(1+2*TA_SIM/TN_LR)*K1252-KP_LR*K1250","v":6.0290630434751011E-6},"-",{"$f":"L1252","v":6.0290630434751011E-6},6.1106859987923316E-6,0,-8.1622955317230499E-8,-2.6280076392683768E-6,"-",-2.6280076392683768E-6,0,-2.6280076392683768E-6,-2.6280076392683768E-6,-2.6987067511112524E-6,7.0699111842875573E-8,-2.7313522925463049E-6,-2.7313522925463049E-6,-2.7313522925463049E-6,"-",-2.6530944208903364E-6,-2.6530944208903364E-6,-2.6530944208903364E-6,"-",-1.8571660946232354E-6,-3.8586455321488371E-3,5.8695206530330289E-6,5.6049793530610563E-5,6.2800002045265995,-2.9088820873213997E-4,2.9088820873213997E-4,{"$f":"FI_T-Rechentabelle!AL1252","v":-2.0452659921232907E-7},{"$f":"K1252","v":6.0305129778726041E-9}]
[7.8187495470046997E-2,6.2500002968590707E-5,6.2800002098083496,0,0,null,0,null,null,null,null,null,"-",{"$f":"N1252+(L1254-L1252)/2","v":5.8167677258783576E-6},5.8695206530330289E-6,0,-5.2752927154671362E-8,-2.5740045611244103E-6,"-",-2.5740045611244103E-6,0,-2.5740045611244103E-6,-2.5740045611244103E-6,-2.6530944208903364E-6,7.9089859765926122E-8,-1.9944013458694751E-6,-1.9944013458694751E-6,-1.9944013458694751E-6,"-",-2.602068704912606E-6,-2.602068704912606E-6,-2.602068704912606E-6,"-",-1.8214480934388242E-6,-3.784434019195562E-3,5.6329935268333065E-6,5.3791125852010183E-5,6.2800002048786618,-2.9088820873213997E-4,2.9088820873213997E-4,{"$f":"FI_T-Rechentabelle!AL1253","v":-2.0487866159157875E-7},{"$f":"AP1252","v":6.0305129778726041E-9}]
[7.8249998390674591E-2,6.2500002968590707E-5,6.2800002098083496,0,0,null,0,null,{"$f":"C1254","v":6.2800002098083496},{"$f":"AL1252","v":6.2800002045265995},{"$f":"I1254-J1254","v":5.2817501483559681E-9},{"$f":"L1252+KP_LR*(1+2*TA_SIM/TN_LR)*K1254-KP_LR*K1252","v":5.604472408281614E-6},"-",{"$f":"L1254","v":5.604472408281614E-6},5.6329935268333065E-6,0,-2.8521118551692436E-8,-2.5248362023967356E-6,"-",-2.5248362023967356E-6,0,-2.5248362023967356E-6,-2.5248362023967356E-6,-2.602068704912606E-6,7.7232502515870416E-8,-1.9802763210372401E-6,-1.9802763210372401E-6,-1.9802763210372401E-6,"-",-2.552241283934904E-6,-2.552241283934904E-6,-2.552241283934904E-6,"-",-1.7865688987544326E-6,-3.7119652997183302E-3,5.4009956956009112E-6,5.157570975437608E-5,6.2800002052162238,-2.9088820873213997E-4,2.9088820873213997E-4,{"$f":"FI_T-Rechentabelle!AL1254","v":-2.052162235699484E-7},{"$f":"K1254","v":5.2817501483559681E-9}]
[7.8312501311302185E-2,6.2500002968590707E-5,6.2800002098083496,0,0,null,0,null,null,null,null,null,"-",{"$f":"N1254+(L1256-L1254)/2","v":5.398010675749562E-6},5.4009956956009112E-6,0,-2.9850198513492015E-9,-2.4664215556722729E-6,"-",-2.4664215556722729E-6,0,-2.4664215556722729E-6,-2.4664215556722729E-6,-2.552241283934904E-6,8.5819728262631118E-8,-1.2169425318700167E-6,-1.2169425318700167E-6,-1.2169425318700167E-6,"-",-2.496873717314123E-6,-2.496873717314123E-6,-2.496873717314123E-6,"-",-1.747811602119886E-6,-3.631439023727168E-3,5.1740307566179632E-6,4.940835423751489E-5,6.2800002055396007,-2.9088820873213997E-4,2.9088820873213997E-4,{"$f":"FI_T-Rechentabelle!AL1255","v":-2.0553960045077702E-7},{"$f":"AP1254","v":5.2817501483559681E-9}]
[7.8374996781349182E-2,6.2500002968590707E-5,6.2800002098083496,0,0,null,0,null,{"$f":"C1256","v":6.2800002098083496},{"$f":"AL1254","v":6.2800002052162238},{"$f":"I1256-J1256","v":4.5921257907366453E-9},{"$f":"L1254+KP_LR*(1+2*TA_SIM/TN_LR)*K1256-KP_LR*K1254","v":5.19154894321751E-6},"-",{"$f":"L1256","v":5.19154894321751E-6},5.1740307566179632E-6,0,1.7518186599546806E-8,-2.4146647079439669E-6,"-",-2.4146647079439669E-6,0,-2.4146647079439669E-6,-2.4146647079439669E-6,-2.496873717314123E-6,8.2209009370156149E-8,-1.3165812985331284E-6,-1.3165812985331284E-6,-1.3165812985331284E-6,"-",-2.4438356467529968E-6,-2.4438356467529968E-6,-2.4438356467529968E-6,"-",-1.7106849527270976E-6,-3.5543007536403435E-3,4.9518869595154414E-6,4.7287037234350724E-5,6.2800002058490936,-2.9088820873213997E-4,2.9088820873213997E-4,{"$f":"FI_T-Rechentabelle!AL1256","v":-2.0584909332654888E-7},{"$f":"K1256","v":4.5921257907366453E-9}]
[7.8437499701976776E-2,6.2500002968590707E-5,6.2800002098083496,0,0,null,0,null,null,null,null,null,"-",{"$f":"N1256+(L1258-L1256)/2","v":4.9918476296080833E-6},4.9518869595154414E-6,0,3.9960670092641996E-8,-2.3529451239742355E-6,"-",-2.3529451239742355E-6,0,-2.3529451239742355E-6,-2.3529451239742355E-6,-2.4438356467529968E-6,9.0890522778761221E-8,-5.371418308462645E-7,-5.371418308462645E-7,-5.371418308462645E-7,"-",-2.3851965997992147E-6,-2.3851965997992147E-6,-2.3851965997992147E-6,"-",-1.6696376198594501E-6,-3.4690164551411801E-3,4.7350734310691175E-6,4.5216620547465059E-5,6.2800002061450355,-2.9088820873213997E-4,2.9088820873213997E-4,{"$f":"FI_T-Rechentabelle!AL1257","v":-2.0614503526417138E-7},{"$f":"AP1256","v":4.5921257907366453E-9}]
[7.850000262260437E-2,6.2500002968590707E-5,6.2800002098083496,0,0,null,0,null,{"$f":"C1258","v":6.2800002098083496},{"$f":"AL1256","v":6.2800002058490936},{"$f":"I1258-J1258","v":3.9592560341361605E-9},{"$f":"L1256+KP_LR*(1+2*TA_SIM/TN_LR)*K1258-KP_LR*K1256","v":4.7921463159986567E-6},"-",{"$f":"L1258","v":4.7921463159986567E-6},4.7350734310691175E-6,0,5.7072884929539198E-8,-2.2993987704984242E-6,"-",-2.2993987704984242E-6,0,-2.2993987704984242E-6,-2.2993987704984242E-6,-2.3851965997992147E-6,8.5797829300790452E-8,-7.3409108596299181E-7,-7.3409108596299181E-7,-7.3409108596299181E-7,"-",-2.329843161540891E-6,-2.329843161540891E-6,-2.329843161540891E-6,"-",-1.6308902130786236E-6,-3.3885107273605307E-3,4.5232915106090847E-6,4.3194252177542534E-5,6.2800002064277409,-2.9088820873213997E-4,2.9088820873213997E-4,{"$f":"FI_T-Rechentabelle!AL1258","v":-2.0642774067880509E-7},{"$f":"K1258","v":3.9592560341361605E-9}]
[7.8562498092651367E-2,6.2500002968590707E-5,6.2800002098083496,0,0,null,0,null,null,null,null,null,"-",{"$f":"N1258+(L1260-L1258)/2","v":4.5999465977269162E-6},4.5232915106090847E-6,0,7.665508711783146E-8,-2.235357855272869E-6,"-",-2.235357855272869E-6,0,-2.235357855272869E-6,-2.235357855272869E-6,-2.329843161540891E-6,9.4485306268021937E-8,5.2492709012523854E-8,5.2492709012523854E-8,5.2492709012523854E-8,"-",-2.2688848994327343E-6,-2.2688848994327343E-6,-2.2688848994327343E-6,"-",-1.588219429602914E-6,-3.2998533754475669E-3,4.3170506746436122E-6,4.1224797266863948E-5,6.2800002066975562,-2.9088820873213997E-4,2.9088820873213997E-4,{"$f":"FI_T-Rechentabelle!AL1259","v":-2.066975559600337E-7},{"$f":"AP1258","v":3.9592560341361605E-9}]
[7.8625001013278961E-2,6.2500002968590707E-5,6.2800002098083496,0,0,null,0,null,{"$f":"C1260","v":6.2800002098083496},{"$f":"AL1258","v":6.2800002064277409},{"$f":"I1260-J1260","v":3.3806086818799486E-9},{"$f":"L1258+KP_LR*(1+2*TA_SIM/TN_LR)*K1260-KP_LR*K1258","v":4.4077468794551765E-6},"-",{"$f":"L1260","v":4.4077468794551765E-6},4.3170506746436122E-6,0,9.0696204811564322E-8,-2.1807271372418777E-6,"-",-2.1807271372418777E-6,0,-2.1807271372418777E-6,-2.1807271372418777E-6,-2.2688848994327343E-6,8.8157762190856585E-8,-2.2671973307915713E-7,-2.2671973307915713E-7,-2.2671973307915713E-7,"-",-2.2120089238259681E-6,-2.2120089238259681E-6,-2.2120089238259681E-6,"-",-1.5484062466781776E-6,-3.2171332779517507E-3,4.1159798447716277E-6,3.9304712277720998E-5,6.2800002069548047,-2.9088820873213997E-4,2.9088820873213997E-4,{"$f":"FI_T-Rechentabelle!AL1260","v":-2.0695480440480196E-7},{"$f":"K1260","v":3.3806086818799486E-9}]
[7.8687503933906555E-2,6.2500002968590707E-5,6.2800002098083496,0,0,null,0,null,null,null,null,null,"-",{"$f":"N1260+(L1262-L1260)/2","v":4.2236236508304223E-6},4.1159798447716277E-6,0,1.0764380605879459E-7,-2.1152332154468022E-6,"-",-2.1152332154468022E-6,0,-2.1152332154468022E-6,-2.1152332154468022E-6,-2.2120089238259681E-6,9.6775708379165874E-8,5.5926871826770149E-7,5.5926871826770149E-7,5.5926871826770149E-7,"-",-2.1495729829364154E-6,-2.1495729829364154E-6,-2.1495729829364154E-6,"-",-1.5047010880554907E-6,-3.1263267983700199E-3,3.9205844198735016E-6,3.7438823413916318E-5,6.2800002071998415,-2.9088820873213997E-4,2.9088820873213997E-4,{"$f":"FI_T-Rechentabelle!AL1261","v":-2.0719984128447777E-7},{"$f":"AP1260","v":3.3806086818799486E-9}]
[7.8749999403953552E-2,6.2500002968590707E-5,6.2800002098083496,0,0,null,0,null,{"$f":"C1262","v":6.2800002098083496},{"$f":"AL1260","v":6.2800002069548047},{"$f":"I1262-J1262","v":2.8535449558830805E-9},{"$f":"L1260+KP_LR*(1+2*TA_SIM/TN_LR)*K1262-KP_LR*K1260","v":4.0395004222056682E-6},"-",{"$f":"L1262","v":4.0395004222056682E-6},3.9205844198735016E-6,0,1.1891600233216658E-7,-2.0601356237776801E-6,"-",-2.0601356237776801E-6,0,-2.0601356237776801E-6,-2.0601356237776801E-6,-2.1495729829364154E-6,8.9437359158735285E-8,2.1149836109188517E-7,2.1149836109188517E-7,2.1149836109188517E-7,"-",-2.0918714608987473E-6,-2.0918714608987473E-6,-2.0918714608987473E-6,"-",-1.464310022629123E-6,-3.0424060308105608E-3,3.7304340429478417E-6,3.5623021068805969E-5,6.2800002074329937,-2.9088820873213997E-4,2.9088820873213997E-4,{"$f":"FI_T-Rechentabelle!AL1262","v":-2.0743299344871957E-7},{"$f":"K1262","v":2.8535449558830805E-9}]
[7.8812502324581146E-2,6.2500002968590707E-5,6.2800002098083496,0,0,null,0,null,null,null,null,null,"-",{"$f":"N1262+(L1264-L1262)/2","v":3.8638801126434471E-6},3.7304340429478417E-6,0,1.3344606969560548E-7,-1.9939503812083267E-6,"-",-1.9939503812083267E-6,0,-1.9939503812083267E-6,-1.9939503812083267E-6,-2.0918714608987473E-6,9.7921079690420647E-8,9.9020799009161915E-7,9.9020799009161915E-7,9.9020799009161915E-7,"-",-2.0286965707761149E-6,-2.0286965707761149E-6,-2.0286965707761149E-6,"-",-1.4200875995432803E-6,-2.9505248276403078E-3,3.5460262412203224E-6,3.386205627742728E-5,6.28000020765462,-2.9088820873213997E-4,2.9088820873213997E-4,{"$f":"FI_T-Rechentabelle!AL1263","v":-2.0765461972160892E-7},{"$f":"AP1262","v":2.8535449558830805E-9}]
[7.8874997794628143E-2,6.2500002968590707E-5,6.2800002098083496,0,0,null,0,null,{"$f":"C1264","v":6.2800002098083496},{"$f":"AL1262","v":6.2800002074329937},{"$f":"I1264-J1264","v":2.375355911965471E-9},{"$f":"L1262+KP_LR*(1+2*TA_SIM/TN_LR)*K1264-KP_LR*K1262","v":3.6882598030812265E-6},"-",{"$f":"L1264","v":3.6882598030812265E-6},3.5460262412203224E-6,0,1.4223356186090414E-7,-1.9389227895973884E-6,"-",-1.9389227895973884E-6,0,-1.9389227895973884E-6,-1.9389227895973884E-6,-2.0286965707761149E-6,8.9773781178726539E-8,5.8628404644386956E-7,5.8628404644386956E-7,5.8628404644386956E-7,"-",-1.9707780022739252E-6,-1.9707780022739252E-6,-1.9707780022739252E-6,"-",-1.3795446015917476E-6,-2.8662883889294566E-3,3.3668832169122312E-6,3.2151366407083417E-5,6.2800002078650499,-2.9088820873213997E-4,2.9088820873213997E-4,{"$f":"FI_T-Rechentabelle!AL1264","v":-2.0786504961733954E-7},{"$f":"K1264","v":2.375355911965471E-9}]
[7.8937500715255737E-2,6.2500002968590707E-5,6.2800002098083496,0,0,null,0,null,null,null,null,null,"-",{"$f":"N1264+(L1266-L1264)/2","v":3.5214401945305973E-6},3.3668832169122312E-6,0,1.545569776183661E-7,-1.872701534548346E-6,"-",-1.872701534548346E-6,0,-1.872701534548346E-6,-1.872701534548346E-6,-1.9707780022739252E-6,9.807646772557926E-8,1.3525769836708099E-6,1.3525769836708099E-6,1.3525769836708099E-6,"-",-1.907502861806018E-6,-1.907502861806018E-6,-1.907502861806018E-6,"-",-1.3352520032642125E-6,-2.7742613822235866E-3,3.1934918805232569E-6,3.049560111054653E-5,6.2800002080646431,-2.9088820873213997E-4,2.9088820873213997E-4,{"$f":"FI_T-Rechentabelle!AL1265","v":-2.0806464284817139E-7},{"$f":"AP1264","v":2.375355911965471E-9}]
[7.8999996185302734E-2,6.2500002968590707E-5,6.2800002098083496,0,0,null,0,null,{"$f":"C1266","v":6.2800002098083496},{"$f":"AL1264","v":6.2800002078650499},{"$f":"I1266-J1266","v":1.9432997433455057E-9},{"$f":"L1264+KP_LR*(1+2*TA_SIM/TN_LR)*K1266-KP_LR*K1264","v":3.3546205859799685E-6},"-",{"$f":"L1266","v":3.3546205859799685E-6},3.1934918805232569E-6,0,1.6112870545671156E-7,-1.8181992228273298E-6,"-",-1.8181992228273298E-6,0,-1.8181992228273298E-6,-1.8181992228273298E-6,-1.907502861806018E-6,8.9303638978688126E-8,9.0386523230077126E-7,9.0386523230077126E-7,9.0386523230077126E-7,"-",-1.8498876108522289E-6,-1.8498876108522289E-6,-1.8498876108522289E-6,"-",-1.2949213275965601E-6,-2.6904660868409722E-3,3.0253377500956961E-6,2.8889847447014592E-5,6.2800002082537265,-2.9088820873213997E-4,2.9088820873213997E-4,{"$f":"FI_T-Rechentabelle!AL1266","v":-2.0825372626376293E-7},{"$f":"K1266","v":1.9432997433455057E-9}]
[7.9062499105930328E-2,6.2500002968590707E-5,6.2800002098083496,0,0,null,0,null,null,null,null,null,"-",{"$f":"N1266+(L1268-L1266)/2","v":3.1967824273970424E-6},3.0253377500956961E-6,0,1.7144467730134629E-7,-1.7525101713739618E-6,"-",-1.7525101713739618E-6,0,-1.7525101713739618E-6,-1.7525101713739618E-6,-1.8498876108522289E-6,9.7377439478267112E-8,1.6527839863918483E-6,1.6527839863918483E-6,1.6527839863918483E-6,"-",-1.7870634563503191E-6,-1.7870634563503191E-6,-1.7870634563503191E-6,"-",-1.2509444194452232E-6,-2.5990949915753649E-3,2.8628943131222359E-6,2.7338626888984816E-5,6.2800002084326572,-2.9088820873213997E-4,2.9088820873213997E-4,{"$f":"FI_T-Rechentabelle!AL1267","v":-2.0843265691183888E-7},{"$f":"AP1266","v":1.9432997433455057E-9}]
[7.9125002026557922E-2,6.2500002968590707E-5,6.2800002098083496,0,0,null,0,null,{"$f":"C1268","v":6.2800002098083496},{"$f":"AL1266","v":6.2800002082537265},{"$f":"I1268-J1268","v":1.5546230969221142E-9},{"$f":"L1266+KP_LR*(1+2*TA_SIM/TN_LR)*K1268-KP_LR*K1266","v":3.0389442688141163E-6},"-",{"$f":"L1268","v":3.0389442688141163E-6},2.8628943131222359E-6,0,1.7604995569188037E-7,-1.6989245247360392E-6,"-",-1.6989245247360392E-6,0,-1.6989245247360392E-6,-1.6989245247360392E-6,-1.7870634563503191E-6,8.8138931614279868E-8,1.1692054354754609E-6,1.1692054354754609E-6,1.1692054354754609E-6,"-",-1.7301996295025895E-6,-1.7301996295025895E-6,-1.7301996295025895E-6,"-",-1.2111397406518127E-6,-2.5163925631660347E-3,2.7056197779243586E-6,2.583676570703147E-5,6.2800002086017583,-2.9088820873213997E-4,2.9088820873213997E-4,{"$f":"FI_T-Rechentabelle!AL1268","v":-2.08601758089344E-7},{"$f":"K1268","v":1.5546230969221142E-9}]
[7.9187497496604919E-2,6.2500002968590707E-5,6.2800002098083496,0,0,null,0,null,null,null,null,null,"-",{"$f":"N1268+(L1270-L1268)/2","v":2.8901691348965377E-6},2.7056197779243586E-6,0,1.8454935697217909E-7,-1.6342478808967057E-6,"-",-1.6342478808967057E-6,0,-1.6342478808967057E-6,-1.6342478808967057E-6,-1.7301996295025895E-6,9.5951748605883829E-8,1.8971374094390566E-6,1.8971374094390566E-6,1.8971374094390566E-6,"-",-1.6682952755634974E-6,-1.6682952755634974E-6,-1.6682952755634974E-6,"-",-1.1678066928944481E-6,-2.4263592206408644E-3,2.5539723266343047E-6,2.4388639218225498E-5,6.2800002087613818,-2.9088820873213997E-4,2.9088820873213997E-4,{"$f":"FI_T-Rechentabelle!AL1269","v":-2.0876138151493251E-7},{"$f":"AP1268","v":1.5546230969221142E-9}]
[7.9250000417232513E-2,6.2500002968590707E-5,6.2800002098083496,0,0,null,0,null,{"$f":"C1270","v":6.2800002098083496},{"$f":"AL1268","v":6.2800002086017583},{"$f":"I1270-J1270","v":1.2065912713410398E-9},{"$f":"L1268+KP_LR*(1+2*TA_SIM/TN_LR)*K1270-KP_LR*K1268","v":2.7413940009789591E-6},"-",{"$f":"L1270","v":2.7413940009789591E-6},2.5539723266343047E-6,0,1.8742167434465448E-7,-1.5819034827897987E-6,"-",-1.5819034827897987E-6,0,-1.5819034827897987E-6,-1.5819034827897987E-6,-1.6682952755634974E-6,8.6391792773698751E-8,1.3877264446016315E-6,1.3877264446016315E-6,1.3877264446016315E-6,"-",-1.61255863506452E-6,-1.61255863506452E-6,-1.61255863506452E-6,"-",-1.128791044545164E-6,-2.3452961656870224E-3,2.4073913162788656E-6,2.2988893676537155E-5,6.2800002089118436,-2.9088820873213997E-4,2.9088820873213997E-4,{"$f":"FI_T-Rechentabelle!AL1270","v":-2.0891184338012181E-7},{"$f":"K1270","v":1.2065912713410398E-9}]
[7.9312503337860107E-2,6.2500002968590707E-5,6.2800002098083496,0,0,null,0,null,null,null,null,null,"-",{"$f":"N1270+(L1272-L1270)/2","v":2.6016758183482146E-6},2.4073913162788656E-6,0,1.9428450206934901E-7,-1.518643835806411E-6,"-",-1.518643835806411E-6,0,-1.518643835806411E-6,-1.518643835806411E-6,-1.61255863506452E-6,9.3914799258109008E-8,2.0915045241837944E-6,2.0915045241837944E-6,2.0915045241837944E-6,"-",-1.5519684419949502E-6,-1.5519684419949502E-6,-1.5519684419949502E-6,"-",-1.0863779093964651E-6,-2.2571741313036878E-3,2.2663179330723853E-6,2.1641742099976642E-5,6.2800002090534885,-2.9088820873213997E-4,2.9088820873213997E-4,{"$f":"FI_T-Rechentabelle!AL1271","v":-2.0905348829813875E-7},{"$f":"AP1270","v":1.2065912713410398E-9}]
[7.9374998807907104E-2,6.2500002968590707E-5,6.2800002098083496,0,0,null,0,null,{"$f":"C1272","v":6.2800002098083496},{"$f":"AL1270","v":6.2800002089118436},{"$f":"I1272-J1272","v":8.9650598056323361E-10},{"$f":"L1270+KP_LR*(1+2*TA_SIM/TN_LR)*K1272-KP_LR*K1270","v":2.46195763571747E-6},"-",{"$f":"L1272","v":2.46195763571747E-6},2.2663179330723853E-6,0,1.9563970264508473E-7,-1.4678096310175317E-6,"-",-1.4678096310175317E-6,0,-1.4678096310175317E-6,-1.4678096310175317E-6,-1.5519684419949502E-6,8.4158810977418481E-8,1.564155509277591E-6,1.564155509277591E-6,1.564155509277591E-6,"-",-1.4976724349129184E-6,-1.4976724349129184E-6,-1.4976724349129184E-6,"-",-1.0483707044390428E-6,-2.1782063254499121E-3,2.1301800377317656E-6,2.0341720960841436E-5,6.2800002091866247,-2.9088820873213997E-4,2.9088820873213997E-4,{"$f":"FI_T-Rechentabelle!AL1272","v":-2.0918662446689495E-7},{"$f":"K1272","v":8.9650598056323361E-10}]
[7.9437501728534698E-2,6.2500002968590707E-5,6.2800002098083496,0,0,null,0,null,null,null,null,null,"-",{"$f":"N1272+(L1274-L1272)/2","v":2.3312159997149178E-6},2.1301800377317656E-6,0,2.0103596198315217E-7,-1.4063006442920716E-6,"-",-1.4063006442920716E-6,0,-1.4063006442920716E-6,-1.4063006442920716E-6,-1.4976724349129184E-6,9.1371790620846813E-8,2.2414138176682106E-6,2.2414138176682106E-6,2.2414138176682106E-6,"-",-1.4387228925770574E-6,-1.4387228925770574E-6,-1.4387228925770574E-6,"-",-1.00710602480394E-6,-2.0924704442217743E-3,1.9994006349679048E-6,1.9092869656572978E-5,6.280000209311587,-2.9088820873213997E-4,2.9088820873213997E-4,{"$f":"FI_T-Rechentabelle!AL1273","v":-2.0931158672965466E-7},{"$f":"AP1272","v":8.9650598056323361E-10}]
[7.9499997198581696E-2,6.2500002968590707E-5,6.2800002098083496,0,0,null,0,null,{"$f":"C1274","v":6.2800002098083496},{"$f":"AL1272","v":6.2800002091866247},{"$f":"I1274-J1274","v":6.2172489379008766E-10},{"$f":"L1272+KP_LR*(1+2*TA_SIM/TN_LR)*K1274-KP_LR*K1272","v":2.2004743637123655E-6},"-",{"$f":"L1274","v":2.2004743637123655E-6},1.9994006349679048E-6,0,2.0107372874446071E-7,-1.357192880273632E-6,"-",-1.357192880273632E-6,0,-1.357192880273632E-6,-1.357192880273632E-6,-1.4387228925770574E-6,8.153001230342542E-8,1.7031244981485251E-6,1.7031244981485251E-6,1.7031244981485251E-6,"-",-1.3861228846395283E-6,-1.3861228846395283E-6,-1.3861228846395283E-6,"-",-9.7028601924766973E-7,-2.01596928993906E-3,1.8734025543467135E-6,1.7889676615515753E-5,6.2800002094286747,-2.9088820873213997E-4,2.9088820873213997E-4,{"$f":"FI_T-Rechentabelle!AL1274","v":-2.0942867440254531E-7},{"$f":"K1274","v":6.2172489379008766E-10}]
[7.956250011920929E-2,6.2500002968590707E-5,6.2800002098083496,0,0,null,0,null,null,null,null,null,"-",{"$f":"N1274+(L1276-L1274)/2","v":2.0785648671302089E-6},1.8734025543467135E-6,0,2.0516231278349535E-7,-1.2977065349162206E-6,"-",-1.2977065349162206E-6,0,-1.2977065349162206E-6,-1.2977065349162206E-6,-1.3861228846395283E-6,8.8416349723307676E-8,2.3519250952329006E-6,2.3519250952329006E-6,2.3519250952329006E-6,"-",-1.329080078366587E-6,-1.329080078366587E-6,-1.329080078366587E-6,"-",-9.3035605485661083E-7,-1.9330065548651791E-3,1.7525896446676399E-6,1.6735998309631401E-5,6.2800002095382119,-2.9088820873213997E-4,2.9088820873213997E-4,{"$f":"FI_T-Rechentabelle!AL1275","v":-2.0953821167069009E-7},{"$f":"AP1274","v":6.2172489379008766E-10}]
[7.9624995589256287E-2,6.2500002968590707E-5,6.2800002098083496,0,0,null,0,null,{"$f":"C1276","v":6.2800002098083496},{"$f":"AL1274","v":6.2800002094286747},{"$f":"I1276-J1276","v":3.7967495813973073E-10},{"$f":"L1274+KP_LR*(1+2*TA_SIM/TN_LR)*K1276-KP_LR*K1274","v":1.9566553705480527E-6},"-",{"$f":"L1276","v":1.9566553705480527E-6},1.7525896446676399E-6,0,2.0406572588041277E-7,-1.2504965412212799E-6,"-",-1.2504965412212799E-6,0,-1.2504965412212799E-6,-1.2504965412212799E-6,-1.329080078366587E-6,7.8583537145307098E-8,1.8087523528038227E-6,1.8087523528038227E-6,1.8087523528038227E-6,"-",-1.2783810221439646E-6,-1.2783810221439646E-6,-1.2783810221439646E-6,"-",-8.9486671550077516E-7,-1.8592701340136612E-3,1.636385261291786E-6,1.5626328188238632E-5,6.2800002096404857,-2.9088820873213997E-4,2.9088820873213997E-4,{"$f":"FI_T-Rechentabelle!AL1276","v":-2.0964048541571856E-7},{"$f":"K1276","v":3.7967495813973073E-10}]
[7.9687498509883881E-2,6.2500002968590707E-5,6.2800002098083496,0,0,null,0,null,null,null,null,null,"-",{"$f":"N1276+(L1278-L1276)/2","v":1.8433793892238103E-6},1.636385261291786E-6,0,2.069941279320243E-7,-1.1932506291893079E-6,"-",-1.1932506291893079E-6,0,-1.1932506291893079E-6,-1.1932506291893079E-6,-1.2783810221439646E-6,8.5130392954656703E-8,2.4275756119172045E-6,2.4275756119172045E-6,2.4275756119172045E-6,"-",-1.2234581879798222E-6,-1.2234581879798222E-6,-1.2234581879798222E-6,"-",-8.5642073158587542E-7,-1.7793906743940897E-3,1.5251733441421555E-6,1.4564332607533227E-5,6.2800002097358094,-2.9088820873213997E-4,2.9088820873213997E-4,{"$f":"FI_T-Rechentabelle!AL1277","v":-2.0973580916461287E-7},{"$f":"AP1276","v":3.7967495813973073E-10}]
[7.9750001430511475E-2,6.2500002968590707E-5,6.2800002098083496,0,0,null,0,null,{"$f":"C1278","v":6.2800002098083496},{"$f":"AL1276","v":6.2800002096404857},{"$f":"I1278-J1278","v":1.6786394496648427E-10},{"$f":"L1276+KP_LR*(1+2*TA_SIM/TN_LR)*K1278-KP_LR*K1276","v":1.730103407899568E-6},"-",{"$f":"L1278","v":1.730103407899568E-6},1.5251733441421555E-6,0,2.0493006375741245E-7,-1.1480706227398418E-6,"-",-1.1480706227398418E-6,0,-1.1480706227398418E-6,-1.1480706227398418E-6,-1.2234581879798222E-6,7.5387565239980366E-8,1.8847396660069842E-6,1.8847396660069842E-6,1.8847396660069842E-6,"-",-1.1748210491154669E-6,-1.1748210491154669E-6,-1.1748210491154669E-6,"-",-8.2237473438082675E-7,-1.708653094495796E-3,1.4183825257361683E-6,1.3544555409964718E-5,6.2800002098244585,-2.9088820873213997E-4,2.9088820873213997E-4,{"$f":"FI_T-Rechentabelle!AL1278","v":-2.0982445825268314E-7},{"$f":"K1278","v":1.6786394496648427E-10}]
[7.9812496900558472E-2,6.2500002968590707E-5,6.2800002098083496,0,0,null,0,null,null,null,null,null,"-",{"$f":"N1278+(L1280-L1278)/2","v":1.6252178107744246E-6},1.4183825257361683E-6,0,2.0683528503825631E-7,-1.0932331528736581E-6,"-",-1.0932331528736581E-6,0,-1.0932331528736581E-6,-1.0932331528736581E-6,-1.1748210491154669E-6,8.1587896241808765E-8,2.4726112222006461E-6,2.4726112222006461E-6,2.4726112222006461E-6,"-",-1.122183696701541E-6,-1.122183696701541E-6,-1.122183696701541E-6,"-",-7.855285876910787E-7,-1.6320976266176576E-3,1.3163764240725647E-6,1.2570468891646905E-5,6.2800002099067322,-2.9088820873213997E-4,2.9088820873213997E-4,{"$f":"FI_T-Rechentabelle!AL1279","v":-2.0990673199605681E-7},{"$f":"AP1278","v":1.6786394496648427E-10}]
[7.9874999821186066E-2,6.2500002968590707E-5,6.2800002098083496,0,0,null,0,null,{"$f":"C1280","v":6.2800002098083496},{"$f":"AL1278","v":6.2800002098244585},{"$f":"I1280-J1280","v":-1.6108891998101171E-11},{"$f":"L1278+KP_LR*(1+2*TA_SIM/TN_LR)*K1280-KP_LR*K1278","v":1.5203322136492812E-6},"-",{"$f":"L1280","v":1.5203322136492812E-6},1.3163764240725647E-6,0,2.0395578957671647E-7,-1.0501792306830689E-6,"-",-1.0501792306830689E-6,0,-1.0501792306830689E-6,-1.0501792306830689E-6,-1.122183696701541E-6,7.2004466018472105E-8,1.93463428230035E-6,1.93463428230035E-6,1.93463428230035E-6,"-",-1.0757292024962158E-6,-1.0757292024962158E-6,-1.0757292024962158E-6,"-",-7.5301044174735104E-7,-1.5645344727765447E-3,1.2185930195240308E-6,1.1636706160471681E-5,6.2800002099828944,-2.9088820873213997E-4,2.9088820873213997E-4,{"$f":"FI_T-Rechentabelle!AL1280","v":-2.0998289418372451E-7},{"$f":"K1280","v":-1.6108891998101171E-11}]
[7.993750274181366E-2,6.2500002968590707E-5,6.2800002098083496,0,0,null,0,null,null,null,null,null,"-",{"$f":"N1280+(L1282-L1280)/2","v":1.4235578838785168E-6},1.2185930195240308E-6,0,2.0496486435448601E-7,-9.9787325786523938E-7,"-",-9.9787325786523938E-7,0,-9.9787325786523938E-7,-9.9787325786523938E-7,-1.0757292024962158E-6,7.785594463097643E-8,2.491036290345706E-6,2.491036290345706E-6,2.491036290345706E-6,"-",-1.0254995607989486E-6,-1.0254995607989486E-6,-1.0254995607989486E-6,"-",-7.1784969255926397E-7,-1.4914807657578721E-3,1.1253754716641637E-6,1.0746544148983492E-5,6.2800002100532302,-2.9088820873213997E-4,2.9088820873213997E-4,{"$f":"FI_T-Rechentabelle!AL1281","v":-2.1005322992095898E-7},{"$f":"AP1280","v":-1.6108891998101171E-11}]
[7.9999998211860657E-2,6.2500002968590707E-5,6.2800002098083496,0,0,null,0,null,{"$f":"C1282","v":6.2800002098083496},{"$f":"AL1280","v":6.2800002099828944},{"$f":"I1282-J1282","v":-1.7454482303946861E-10},{"$f":"L1280+KP_LR*(1+2*TA_SIM/TN_LR)*K1282-KP_LR*K1280","v":1.3267835541077525E-6},"-",{"$f":"L1282","v":1.3267835541077525E-6},1.1253754716641637E-6,0,2.014080824435888E-7,-9.5700906370752054E-7,"-",-9.5700906370752054E-7,{"$f":"G1282*(JM_EMS+JL_EMS)/KT_M*KP_VSR","v":0},-9.5700906370752054E-7,{"$f":"IF(V1282<-IM_R,-IM_R,IF(V1282>IM_R,IM_R,V1282))","v":-9.5700906370752054E-7},-1.0254995607989486E-6,6.8490497091428104E-8,1.961785805998793E-6,{"$f":"IF(Z1282<-U_ZWK,-U_ZWK,IF(Z1282>U_ZWK,U_ZWK,Z1282))","v":1.961785805998793E-6},1.961785805998793E-6,"-",-9.8131214332074145E-7,-9.8131214332074145E-7,-9.8131214332074145E-7,"-",{"$f":"AF1282*KT_M","v":-6.8691850032451899E-7},{"$f":"AH1282/(JM_EMS+JL_EMS)","v":-1.4272148354966111E-3},1.0361745444456256E-6,9.8947380392708472E-6,6.2800002101179908,{"$f":"-DF_LR","v":-2.9088820873213997E-4},{"$f":"DF_LR","v":2.9088820873213997E-4},{"$f":"FI_T-Rechentabelle!AL1282","v":-2.10117990562253E-7},{"$f":"K1282","v":-1.7454482303946861E-10}]
[8.0062501132488251E-2,6.2500002968590707E-5,6.2800002098083496,0,0,null,{"$f":"E1283/1000","v":0},null,null,null,null,null,"-",{"$f":"N1282+(L1284-L1282)/2","v":1.2378120754118322E-6},1.0361745444456256E-6,0,2.0163753096620655E-7,{"$f":"R1282+KP_DR*(1+TA_SIM/TN_DR)*Q1283-KP_DR*Q1282","v":-9.0731990813323223E-7},"-",{"$f":"R1283","v":-9.0731990813323223E-7},0,{"$f":"T1283+U1283","v":-9.0731990813323223E-7},-9.0731990813323223E-7,-9.8131214332074145E-7,{"$f":"W1283-X1283","v":7.3992235187509216E-8},2.4864094104487298E-6,2.4864094104487298E-6,{"$f":"AA1283","v":2.4864094104487298E-6},"-",{"$f":"(1/R_M*AB1283+AD1282*T_M/TA_SIM)/(1+T_M/TA_SIM)","v":-9.33575217393446E-7},{"$f":"AD1283","v":-9.33575217393446E-7},{"$f":"AE1283","v":-9.33575217393446E-7},"-",-6.5350265217541211E-7,-1.357786520206549E-3,9.5131288693271631E-7,9.084368902941787E-6,6.2800002101774481,-2.9088820873213997E-4,2.9088820873213997E-4,{"$f":"FI_T-Rechentabelle!AL1283","v":-2.1017744789020298E-7},{"$f":"AP1282","v":-1.7454482303946861E-10}]
[8.0125004053115845E-2,6.2500002968590707E-5,6.2800002098083496,0,0,null,0,null,{"$f":"C1284","v":6.2800002098083496},{"$f":"AL1282","v":6.2800002101179908},{"$f":"I1284-J1284","v":-3.0964120156795616E-10},{"$f":"L1282+KP_LR*(1+2*TA_SIM/TN_LR)*K1284-KP_LR*K1282","v":1.148840596715912E-6},"-",{"$f":"L1284","v":1.148840596715912E-6},{"$f":"AJ1283","v":9.5131288693271631E-7},{"$f":"D1284*KP_VDR","v":0},{"$f":"N1284-O1284+P1284","v":1.9752770978319572E-7},-8.6868257585558421E-7,"-",-8.6868257585558421E-7,0,-8.6868257585558421E-7,-8.6868257585558421E-7,{"$f":"AF1283","v":-9.33575217393446E-7},6.4892641537861784E-8,1.9690886823056058E-6,1.9690886823056058E-6,1.9690886823056058E-6,"-",-8.91708997046565E-7,-8.91708997046565E-7,-8.91708997046565E-7,"-",-6.2419629793259546E-7,-1.2968965259351659E-3,8.7025685406176843E-7,8.310340805011958E-6,6.2800002102318393,-2.9088820873213997E-4,2.9088820873213997E-4,{"$f":"FI_T-Rechentabelle!AL1284","v":-2.10231839048447E-7},{"$f":"K1284","v":-3.0964120156795616E-10}]
[8.0187499523162842E-2,6.2500002968590707E-5,6.2800002098083496,0,0,null,0,null,null,null,null,null,"-",{"$f":"N1284+(L1286-L1284)/2","v":1.0673395012882099E-6},8.7025685406176843E-7,0,1.9708264722644148E-7,-8.2166605535667214E-7,"-",-8.2166605535667214E-7,0,-8.2166605535667214E-7,-8.2166605535667214E-7,-8.91708997046565E-7,7.0042941689892862E-8,2.4616546096873288E-6,2.4616546096873288E-6,2.4616546096873288E-6,"-",-8.4652000240804774E-7,-8.4652000240804774E-7,-8.4652000240804774E-7,"-",-5.9256400168563338E-7,-1.2311739075122239E-3,7.9330848484225447E-7,7.5755380055632035E-6,6.280000210281421,-2.9088820873213997E-4,2.9088820873213997E-4,{"$f":"FI_T-Rechentabelle!AL1285","v":-2.1028142072054834E-7},{"$f":"AP1284","v":-3.0964120156795616E-10}]
[8.0249994993209839E-2,6.2500002968590707E-5,6.2800002098083496,0,0,null,0,null,{"$f":"C1286","v":6.2800002098083496},{"$f":"AL1284","v":6.2800002102318393},{"$f":"I1286-J1286","v":-4.2348968776195761E-10},{"$f":"L1284+KP_LR*(1+2*TA_SIM/TN_LR)*K1286-KP_LR*K1284","v":9.8583840586050779E-7},"-",{"$f":"L1286","v":9.8583840586050779E-7},7.9330848484225447E-7,0,1.9252992101825332E-7,-7.8527292855242279E-7,"-",-7.8527292855242279E-7,0,-7.8527292855242279E-7,-7.8527292855242279E-7,-8.4652000240804774E-7,6.1247073855624951E-8,1.9588327347279504E-6,1.9588327347279504E-6,1.9588327347279504E-6,"-",-8.0700576121099061E-7,-8.0700576121099061E-7,-8.0700576121099061E-7,"-",-5.6490403284769342E-7,-1.1737046184244616E-3,7.1995194619072562E-7,6.8750346614930542E-6,6.2800002103264179,-2.9088820873213997E-4,2.9088820873213997E-4,{"$f":"FI_T-Rechentabelle!AL1286","v":-2.1032641761564719E-7},{"$f":"K1286","v":-4.2348968776195761E-10}]
[8.0312497913837433E-2,6.2500002968590707E-5,6.2800002098083496,0,0,null,0,null,null,null,null,null,"-",{"$f":"N1286+(L1288-L1286)/2","v":9.1146026575303521E-7},7.1995194619072562E-7,0,1.9150831956230959E-7,-7.4095066953818956E-7,"-",-7.4095066953818956E-7,0,-7.4095066953818956E-7,-7.4095066953818956E-7,-8.0700576121099061E-7,6.6055091672801053E-8,2.419911511734327E-6,2.419911511734327E-6,2.419911511734327E-6,"-",-7.6438957303510699E-7,-7.6438957303510699E-7,-7.6438957303510699E-7,"-",-5.3507270112457487E-7,-1.1117238751809158E-3,6.504692039919184E-7,6.2115233486618539E-6,6.2800002103670725,-2.9088820873213997E-4,2.9088820873213997E-4,{"$f":"FI_T-Rechentabelle!AL1287","v":-2.1036707220645212E-7},{"$f":"AP1286","v":-4.2348968776195761E-10}]
[8.0375000834465027E-2,6.2500002968590707E-5,6.2800002098083496,0,0,null,0,null,{"$f":"C1288","v":6.2800002098083496},{"$f":"AL1286","v":6.2800002103264179},{"$f":"I1288-J1288","v":-5.1806825496214515E-10},{"$f":"L1286+KP_LR*(1+2*TA_SIM/TN_LR)*K1288-KP_LR*K1286","v":8.3708212564556262E-7},"-",{"$f":"L1288","v":8.3708212564556262E-7},6.504692039919184E-7,0,1.8661292165364422E-7,-7.0679370159114056E-7,"-",-7.0679370159114056E-7,0,-7.0679370159114056E-7,-7.0679370159114056E-7,-7.6438957303510699E-7,5.7595871443966433E-8,1.9338888448248407E-6,1.9338888448248407E-6,1.9338888448248407E-6,"-",-7.2723094629717815E-7,-7.2723094629717815E-7,-7.2723094629717815E-7,"-",-5.0906166240802464E-7,-1.0576805784500822E-3,5.8436416783878825E-7,5.5802667526395076E-6,6.2800002104035952,-2.9088820873213997E-4,2.9088820873213997E-4,{"$f":"FI_T-Rechentabelle!AL1288","v":-2.1040359499124861E-7},{"$f":"K1288","v":-5.1806825496214515E-10}]
[8.0437496304512024E-2,6.2500002968590707E-5,6.2800002098083496,0,0,null,0,null,null,null,null,null,"-",{"$f":"N1288+(L1290-L1288)/2","v":7.6946642054736852E-7},5.8436416783878825E-7,0,1.8510225270858028E-7,-6.6516588953754874E-7,"-",-6.6516588953754874E-7,0,-6.6516588953754874E-7,-6.6516588953754874E-7,-7.2723094629717815E-7,6.2065056759629402E-8,2.3637185396293941E-6,2.3637185396293941E-6,2.3637185396293941E-6,"-",-6.8718897419430246E-7,-6.8718897419430246E-7,-6.8718897419430246E-7,"-",-4.8103228193601167E-7,-9.994437605152953E-4,5.2189893280658233E-7,4.9837676970331517E-6,6.2800002104362136,-2.9088820873213997E-4,2.9088820873213997E-4,{"$f":"FI_T-Rechentabelle!AL1289","v":-2.104362133437121E-7},{"$f":"AP1288","v":-5.1806825496214515E-10}]
[8.0499999225139618E-2,6.2500002968590707E-5,6.2800002098083496,0,0,null,0,null,{"$f":"C1290","v":6.2800002098083496},{"$f":"AL1288","v":6.2800002104035952},{"$f":"I1290-J1290","v":-5.9524563056356783E-10},{"$f":"L1288+KP_LR*(1+2*TA_SIM/TN_LR)*K1290-KP_LR*K1288","v":7.0185071544917453E-7},"-",{"$f":"L1290","v":7.0185071544917453E-7},5.2189893280658233E-7,0,1.799517826425922E-7,-6.3322361303973943E-7,"-",-6.3322361303973943E-7,0,-6.3322361303973943E-7,-6.3322361303973943E-7,-6.8718897419430246E-7,5.3965361154563032E-8,1.8961396141564981E-6,1.8961396141564981E-6,1.8961396141564981E-6,"-",-6.5237261215920859E-7,-6.5237261215920859E-7,-6.5237261215920859E-7,"-",-4.5666082851144596E-7,-9.488070403312818E-4,4.6259849278587723E-7,4.4174902076239704E-6,6.2800002104651256,-2.9088820873213997E-4,2.9088820873213997E-4,{"$f":"FI_T-Rechentabelle!AL1290","v":-2.1046512532763018E-7},{"$f":"K1290","v":-5.9524563056356783E-10}]
[8.0562502145767212E-2,6.2500002968590707E-5,6.2800002098083496,0,0,null,0,null,null,null,null,null,"-",{"$f":"N1290+(L1292-L1290)/2","v":6.4063144998650232E-7},4.6259849278587723E-7,0,1.7803295720062509E-7,-5.9426454591960249E-7,"-",-5.9426454591960249E-7,0,-5.9426454591960249E-7,-5.9426454591960249E-7,-6.5237261215920859E-7,5.8108066239606094E-8,2.2956491014774939E-6,2.2956491014774939E-6,2.2956491014774939E-6,"-",-6.1488353716601965E-7,-6.1488353716601965E-7,-6.1488353716601965E-7,"-",-4.3041847601621374E-7,-8.9428314152548041E-4,4.0670579644053471E-7,3.8837542732582362E-6,6.2800002104905444,-2.9088820873213997E-4,2.9088820873213997E-4,{"$f":"FI_T-Rechentabelle!AL1291","v":-2.1049054410582357E-7},{"$f":"AP1290","v":-5.9524563056356783E-10}]
[8.0624997615814209E-2,6.2500002968590707E-5,6.2800002098083496,0,0,null,0,null,{"$f":"C1292","v":6.2800002098083496},{"$f":"AL1290","v":6.2800002104651256},{"$f":"I1292-J1292","v":-6.567759669451334E-10},{"$f":"L1290+KP_LR*(1+2*TA_SIM/TN_LR)*K1292-KP_LR*K1290","v":5.7941218452383012E-7},"-",{"$f":"L1292","v":5.7941218452383012E-7},4.0670579644053471E-7,0,1.7270638808329541E-7,-5.6449649398469501E-7,"-",-5.6449649398469501E-7,0,-5.6449649398469501E-7,-5.6449649398469501E-7,-6.1488353716601965E-7,5.0387043181324644E-8,1.8479556282418943E-6,1.8479556282418943E-6,1.8479556282418943E-6,"-",-5.8237576737171925E-7,-5.8237576737171925E-7,-5.8237576737171925E-7,"-",-4.0766303716020346E-7,-8.4700402484978894E-4,3.5376804488742289E-7,3.3782359831073321E-6,6.2800002105126547,-2.9088820873213997E-4,2.9088820873213997E-4,{"$f":"FI_T-Rechentabelle!AL1292","v":-2.1051265441940359E-7},{"$f":"K1292","v":-6.567759669451334E-10}]
[8.0687500536441803E-2,6.2500002968590707E-5,6.2800002098083496,0,0,null,0,null,null,null,null,null,"-",{"$f":"N1292+(L1294-L1292)/2","v":5.2421871391112603E-7},3.5376804488742289E-7,0,1.7045066902370314E-7,-5.281661886631686E-7,"-",-5.281661886631686E-7,0,-5.281661886631686E-7,-5.281661886631686E-7,-5.8237576737171925E-7,5.4209578708550642E-8,2.2176973338012401E-6,2.2176973338012401E-6,2.2176973338012401E-6,"-",-5.4740184562436711E-7,-5.4740184562436711E-7,-5.4740184562436711E-7,"-",-3.8318129193705698E-7,-7.9613815071069387E-4,3.0400941046800451E-7,2.9030760253461544E-6,6.2800002105316555,-2.9088820873213997E-4,2.9088820873213997E-4,{"$f":"FI_T-Rechentabelle!AL1293","v":-2.1053165522033623E-7},{"$f":"AP1292","v":-6.567759669451334E-10}]
[8.0750003457069397E-2,6.2500002968590707E-5,6.2800002098083496,0,0,null,0,null,{"$f":"C1294","v":6.2800002098083496},{"$f":"AL1292","v":6.2800002105126547},{"$f":"I1294-J1294","v":-7.0430505871854621E-10},{"$f":"L1292+KP_LR*(1+2*TA_SIM/TN_LR)*K1294-KP_LR*K1292","v":4.6902524329842184E-7},"-",{"$f":"L1294","v":4.6902524329842184E-7},3.0400941046800451E-7,0,1.6501583283041734E-7,-5.005237872965977E-7,"-",-5.005237872965977E-7,0,-5.005237872965977E-7,-5.005237872965977E-7,-5.4740184562436711E-7,4.6878058327769408E-8,1.7907792381377137E-6,1.7907792381377137E-6,1.7907792381377137E-6,"-",-5.1715793702590353E-7,-5.1715793702590353E-7,-5.1715793702590353E-7,"-",-3.6201055591813247E-7,-7.5215158096433084E-4,2.5699993665773381E-7,2.4541686176029402E-6,6.2800002105477182,-2.9088820873213997E-4,2.9088820873213997E-4,{"$f":"FI_T-Rechentabelle!AL1294","v":-2.1054771792705651E-7},{"$f":"K1294","v":-7.0430505871854621E-10}]
[8.0812498927116394E-2,6.2500002968590707E-5,6.2800002098083496,0,0,null,0,null,null,null,null,null,"-",{"$f":"N1294+(L1296-L1294)/2","v":4.1948769945708997E-7},2.5699993665773381E-7,0,1.6248776279935617E-7,-4.667655529424726E-7,"-",-4.667655529424726E-7,0,-4.667655529424726E-7,-4.667655529424726E-7,-5.1715793702590353E-7,5.0392384083430928E-8,2.1317447581750832E-6,2.1317447581750832E-6,2.1317447581750832E-6,"-",-4.84646721488301E-7,-4.84646721488301E-7,-4.84646721488301E-7,"-",-3.392527050418107E-7,-7.0486745281905393E-4,2.1294572085654293E-7,2.0334818450751435E-6,6.2800002105610275,-2.9088820873213997E-4,2.9088820873213997E-4,{"$f":"FI_T-Rechentabelle!AL1295","v":-2.1056102728067572E-7},{"$f":"AP1294","v":-7.0430505871854621E-10}]
[8.0875001847743988E-2,6.2500002968590707E-5,6.2800002098083496,0,0,null,0,null,{"$f":"C1296","v":6.2800002098083496},{"$f":"AL1294","v":6.2800002105477182},{"$f":"I1296-J1296","v":-7.3936856637146775E-10},{"$f":"L1294+KP_LR*(1+2*TA_SIM/TN_LR)*K1296-KP_LR*K1294","v":3.699501556157581E-7},"-",{"$f":"L1296","v":3.699501556157581E-7},2.1294572085654293E-7,0,1.5700443475921517E-7,-4.4118858003343099E-7,"-",-4.4118858003343099E-7,0,-4.4118858003343099E-7,-4.4118858003343099E-7,-4.84646721488301E-7,4.3458141454870007E-8,1.7263144434858542E-6,1.7263144434858542E-6,1.7263144434858542E-6,"-",-4.5660921087234817E-7,-4.5660921087234817E-7,-4.5660921087234817E-7,"-",-3.1962644761064372E-7,-6.6408985582930334E-4,1.7144010486721145E-7,1.6371324080285766E-6,6.2800002105717425,-2.9088820873213997E-4,2.9088820873213997E-4,{"$f":"FI_T-Rechentabelle!AL1296","v":-2.1057174226513098E-7},{"$f":"K1296","v":-7.3936856637146775E-10}]
[8.0937497317790985E-2,6.2500002968590707E-5,6.2800002098083496,0,0,null,0,null,null,null,null,null,"-",{"$f":"N1296+(L1298-L1296)/2","v":3.257033279229314E-7},1.7144010486721145E-7,0,1.5426322305571994E-7,-4.0992907045565902E-7,"-",-4.0992907045565902E-7,0,-4.0992907045565902E-7,-4.0992907045565902E-7,-4.5660921087234817E-7,4.6680140416689147E-8,2.0398150204241257E-6,2.0398150204241257E-6,2.0398150204241257E-6,"-",-4.264929912487677E-7,-4.264929912487677E-7,-4.264929912487677E-7,"-",-2.9854509387413739E-7,-6.2028899620639383E-4,1.3267204260431182E-7,1.2669246834344857E-6,6.2800002105800345,-2.9088820873213997E-4,2.9088820873213997E-4,{"$f":"FI_T-Rechentabelle!AL1297","v":-2.105800342988573E-7},{"$f":"AP1296","v":-7.3936856637146775E-10}]
[8.1000000238418579E-2,6.2500002968590707E-5,6.2800002098083496,0,0,null,0,null,{"$f":"C1298","v":6.2800002098083496},{"$f":"AL1296","v":6.2800002105717425},{"$f":"I1298-J1298","v":-7.6339290444593644E-10},{"$f":"L1296+KP_LR*(1+2*TA_SIM/TN_LR)*K1298-KP_LR*K1296","v":2.814565002301047E-7},"-",{"$f":"L1298","v":2.814565002301047E-7},1.3267204260431182E-7,0,1.4878445762579287E-7,-3.8634550032607364E-7,"-",-3.8634550032607364E-7,0,-3.8634550032607364E-7,-3.8634550032607364E-7,-4.264929912487677E-7,4.0147490922694059E-8,1.6563798325074469E-6,1.6563798325074469E-6,1.6563798325074469E-6,"-",-4.005913842019559E-7,-4.005913842019559E-7,-4.005913842019559E-7,"-",-2.8041396894136913E-7,-5.8261784529684002E-4,9.6258427273259315E-8,9.1920027088745595E-7,6.2800002105860511,-2.9088820873213997E-4,2.9088820873213997E-4,{"$f":"FI_T-Rechentabelle!AL1298","v":-2.1058605081947235E-7},{"$f":"K1298","v":-7.6339290444593644E-10}]
[8.1062495708465576E-2,6.2500002968590707E-5,6.2800002098083496,0,0,null,0,null,null,null,null,null,"-",{"$f":"N1298+(L1300-L1298)/2","v":2.4214044731641625E-7},9.6258427273259315E-8,0,1.4588202004315694E-7,-3.5750267033785351E-7,"-",-3.5750267033785351E-7,0,-3.5750267033785351E-7,-3.5750267033785351E-7,-4.005913842019559E-7,4.3088713864102396E-8,{"$f":"Z1298+KP_SR*(1+TA_SIM/TN_SR)*Y1299-KP_SR*Y1298","v":1.9434523010436563E-6},1.9434523010436563E-6,1.9434523010436563E-6,"-",-3.7279221396713647E-7,-3.7279221396713647E-7,-3.7279221396713647E-7,"-",-2.609545497769955E-7,-5.4218688921046226E-4,{"$f":"AJ1298+AI1299*TA_SIM","v":6.2371746697605432E-8},5.9560630777197023E-7,{"$f":"AL1298+AJ1299*TA_SIM","v":6.2800002105899493},-2.9088820873213997E-4,2.9088820873213997E-4,{"$f":"FI_T-Rechentabelle!AL1299","v":-2.1058994903455641E-7},{"$f":"AP1298","v":-7.6339290444593644E-10}]
[8.112499862909317E-2,6.2500002968590707E-5,6.2800002098083496,0,0,null,0,null,{"$f":"C1300","v":6.2800002098083496},{"$f":"AL1298","v":6.2800002105860511},{"$f":"I1300-J1300","v":-7.7770145878730546E-10},{"$f":"L1298+KP_LR*(1+2*TA_SIM/TN_LR)*K1300-KP_LR*K1298","v":2.0282439440272781E-7},"-",{"$f":"L1300","v":2.0282439440272781E-7},6.2371746697605432E-8,0,1.4045264770512238E-7,-3.3583593825425669E-7,"-",-3.3583593825425669E-7,0,-3.3583593825425669E-7,-3.3583593825425669E-7,-3.7279221396713647E-7,3.6956275712879785E-8,1.5821387066658052E-6,1.5821387066658052E-6,1.5821387066658052E-6,"-",-3.4894945544278101E-7,-3.4894945544278101E-7,-3.4894945544278101E-7,"-",-2.4426461880994668E-7,-5.0751011595667284E-4,3.0652364450313379E-8,2.9270851918329968E-7,6.2800002105918651,-2.9088820873213997E-4,2.9088820873213997E-4,{"$f":"FI_T-Rechentabelle!AL1300","v":-2.105918648354077E-7},{"$f":"K1300","v":-7.7770145878730546E-10}]
[8.1187501549720764E-2,6.2500002968590707E-5,6.2800002098083496,0,0,null,0,null,null,null,null,null,"-",{"$f":"N1300+(L1302-L1300)/2","v":1.6808803976343212E-7},3.0652364450313379E-8,0,1.3743567531311873E-7,-3.0931753100499597E-7,"-",-3.0931753100499597E-7,0,-3.0931753100499597E-7,-3.0931753100499597E-7,-3.4894945544278101E-7,3.9631924437785044E-8,1.844102037078237E-6,1.844102037078237E-6,1.844102037078237E-6,"-",-3.2338047193461355E-7,-3.2338047193461355E-7,-3.2338047193461355E-7,"-",-2.2636633035422948E-7,-4.7032273084194774E-4,1.257193772691646E-9,1.2005316200893448E-8,6.2800002105919432,-2.9088820873213997E-4,2.9088820873213997E-4,{"$f":"FI_T-Rechentabelle!AL1301","v":-2.1059194299510864E-7},{"$f":"AP1300","v":-7.7770145878730546E-10}]
[8.1249997019767761E-2,6.2500002968590707E-5,6.2800002098083496,0,0,null,0,null,{"$f":"C1302","v":6.2800002098083496},{"$f":"AL1300","v":6.2800002105918651},{"$f":"I1302-J1302","v":-7.8351547472266247E-10},{"$f":"L1300+KP_LR*(1+2*TA_SIM/TN_LR)*K1302-KP_LR*K1300","v":1.3335168512413642E-7},"-",{"$f":"L1302","v":1.3335168512413642E-7},1.257193772691646E-9,0,1.3209449135144477E-7,-2.8948420898822819E-7,"-",-2.8948420898822819E-7,0,-2.8948420898822819E-7,-2.8948420898822819E-7,-3.2338047193461355E-7,3.3896262946385358E-8,1.5049144191945153E-6,1.5049144191945153E-6,1.5049144191945153E-6,"-",-3.0151191519508896E-7,-3.0151191519508896E-7,-3.0151191519508896E-7,"-",-2.1105834063656225E-7,-4.3851722550708959E-4,-2.6150132821501453E-8,-2.4971537406309415E-7,6.280000210590309,-2.9088820873213997E-4,2.9088820873213997E-4,{"$f":"FI_T-Rechentabelle!AL1302","v":-2.1059030874681639E-7},{"$f":"K1302","v":-7.8351547472266247E-10}]
[8.1312499940395355E-2,6.2500002968590707E-5,6.2800002098083496,0,0,null,0,null,null,null,null,null,"-",{"$f":"N1302+(L1304-L1302)/2","v":1.028536826640298E-7},-2.6150132821501453E-8,0,1.2900381548553125E-7,-2.6519212656439504E-7,"-",-2.6519212656439504E-7,0,-2.6519212656439504E-7,-2.6519212656439504E-7,-3.0151191519508896E-7,3.6319788630693925E-8,1.7429834395053443E-6,1.7429834395053443E-6,1.7429834395053443E-6,"-",-2.7807979349794389E-7,-2.7807979349794389E-7,-2.7807979349794389E-7,"-",-1.9465585544856072E-7,-4.0443768013413819E-4,-5.142748782988509E-8,-4.9109633393547016E-7,6.2800002105870947,-2.9088820873213997E-4,2.9088820873213997E-4,{"$f":"FI_T-Rechentabelle!AL1303","v":-2.105870944291155E-7},{"$f":"AP1302","v":-7.8351547472266247E-10}]
[8.1375002861022949E-2,6.2500002968590707E-5,6.2800002098083496,0,0,null,0,null,{"$f":"C1304","v":6.2800002098083496},{"$f":"AL1302","v":6.280000210590309},{"$f":"I1304-J1304","v":-7.8195938613134786E-10},{"$f":"L1302+KP_LR*(1+2*TA_SIM/TN_LR)*K1304-KP_LR*K1302","v":7.2355680203923176E-8},"-",{"$f":"L1304","v":7.2355680203923176E-8},-5.142748782988509E-8,0,1.2378316803380828E-7,-2.4710587781471284E-7,"-",-2.4710587781471284E-7,0,-2.4710587781471284E-7,-2.4710587781471284E-7,-2.7807979349794389E-7,3.0973915683231048E-8,1.4256888451810925E-6,1.4256888451810925E-6,1.4256888451810925E-6,"-",-2.5809662208948256E-7,-2.5809662208948256E-7,-2.5809662208948256E-7,"-",-1.8066763546263779E-7,-3.7537426856978554E-4,-7.488837961549669E-8,-7.1513134775691789E-7,6.280000210582414,-2.9088820873213997E-4,2.9088820873213997E-4,{"$f":"FI_T-Rechentabelle!AL1304","v":-2.1058241372884368E-7},{"$f":"K1304","v":-7.8195938613134786E-10}]
[8.1437498331069946E-2,6.2500002968590707E-5,6.2800002098083496,0,0,null,0,null,null,null,null,null,"-",{"$f":"N1304+(L1306-L1304)/2","v":4.5766143698625049E-8},-7.488837961549669E-8,0,1.2065452331412175E-7,-2.2493722837450853E-7,"-",-2.2493722837450853E-7,0,-2.2493722837450853E-7,-2.2493722837450853E-7,-2.5809662208948256E-7,3.3159393714974034E-8,1.6411354591340356E-6,1.6411354591340356E-6,1.6411354591340356E-6,"-",-2.367034648540883E-7,-2.367034648540883E-7,-2.367034648540883E-7,"-",-1.6569242539786181E-7,-3.4426018158708037E-4,-9.6404640964689211E-8,{"$f":"AJ1305/(2*PI())*60","v":-9.2059650879178285E-7},6.2800002105763886,-2.9088820873213997E-4,2.9088820873213997E-4,{"$f":"FI_T-Rechentabelle!AL1305","v":-2.1057638832644443E-7},{"$f":"AP1304","v":-7.8195938613134786E-10}]
[8.150000125169754E-2,6.2500002968590707E-5,6.2800002098083496,0,0,null,0,null,{"$f":"C1306","v":6.2800002098083496},{"$f":"AL1304","v":6.280000210582414},{"$f":"I1306-J1306","v":-7.7406436815863344E-10},{"$f":"L1304+KP_LR*(1+2*TA_SIM/TN_LR)*K1306-KP_LR*K1304","v":1.9176607193326923E-8},"-",{"$f":"L1306","v":1.9176607193326923E-8},-9.6404640964689211E-8,0,1.1558124815801613E-7,-2.0850922865136035E-7,"-",-2.0850922865136035E-7,0,-2.0850922865136035E-7,-2.0850922865136035E-7,-2.367034648540883E-7,2.8194236202727942E-8,1.3453639414924461E-6,1.3453639414924461E-6,1.3453639414924461E-6,"-",-2.1851363504594769E-7,-2.1851363504594769E-7,-2.1851363504594769E-7,"-",-1.5295954453216338E-7,-3.1780499591141359E-4,-1.1626745320915256E-7,-1.1102723939365369E-6,6.2800002105691215,-2.9088820873213997E-4,2.9088820873213997E-4,{"$f":"FI_T-Rechentabelle!AL1306","v":-2.1056912125061444E-7},{"$f":"K1306","v":-7.7406436815863344E-10}]
[8.1562504172325134E-2,6.2500002968590707E-5,6.2800002098083496,0,0,null,0,null,null,null,null,null,"-",{"$f":"N1306+(L1308-L1306)/2","v":-3.8213028182640574E-9},-1.1626745320915256E-7,0,1.124461503908885E-7,-1.88356665564008E-7,"-",-1.88356665564008E-7,0,-1.88356665564008E-7,-1.88356665564008E-7,-2.1851363504594769E-7,3.0156969481939688E-8,1.5395578719930032E-6,1.5395578719930032E-6,1.5395578719930032E-6,"-",-1.9905752570282999E-7,-1.9905752570282999E-7,-1.9905752570282999E-7,"-",-1.3934026799198098E-7,-2.8950814043627877E-4,-1.3436171198641998E-7,-1.2830598374956982E-6,6.2800002105607238,-2.9088820873213997E-4,2.9088820873213997E-4,{"$f":"FI_T-Rechentabelle!AL1307","v":-2.1056072352365618E-7},{"$f":"AP1306","v":-7.7406436815863344E-10}]
[8.1624999642372131E-2,6.2500002968590707E-5,6.2800002098083496,0,0,null,0,null,{"$f":"C1308","v":6.2800002098083496},{"$f":"AL1306","v":6.2800002105691215},{"$f":"I1308-J1308","v":-7.6077188992940137E-10},{"$f":"L1306+KP_LR*(1+2*TA_SIM/TN_LR)*K1308-KP_LR*K1306","v":-2.6819212829855038E-8},"-",{"$f":"L1308","v":-2.6819212829855038E-8},-1.3436171198641998E-7,0,1.0754249915656494E-7,-1.7349559957383055E-7,"-",-1.7349559957383055E-7,0,-1.7349559957383055E-7,-1.7349559957383055E-7,-1.9905752570282999E-7,2.5561926128999436E-8,1.26484101326668E-6,1.26484101326668E-6,1.26484101326668E-6,"-",-1.8256596045838158E-7,-1.8256596045838158E-7,-1.8256596045838158E-7,"-",-1.277961723208671E-7,-2.6552290114453998E-4,-1.5095689330795373E-7,-1.4415321458254015E-6,6.2800002105512887,-2.9088820873213997E-4,2.9088820873213997E-4,{"$f":"FI_T-Rechentabelle!AL1308","v":-2.105512884043037E-7},{"$f":"K1308","v":-7.6077188992940137E-10}]
[8.1687495112419128E-2,6.2500002968590707E-5,6.2800002098083496,0,0,null,0,null,null,null,null,null,"-",{"$f":"N1308+(L1310-L1308)/2","v":-4.6528922491527119E-8},-1.5095689330795373E-7,0,1.0442797081642661E-7,-1.5525017023733228E-7,"-",-1.5525017023733228E-7,0,-1.5525017023733228E-7,-1.5525017023733228E-7,-1.8256596045838158E-7,2.7315790221049299E-8,1.4390579196254337E-6,1.4390579196254337E-6,1.4390579196254337E-6,"-",-1.6494286999325407E-7,-1.6494286999325407E-7,-1.6494286999325407E-7,"-",-1.1546000899527784E-7,-2.3989197796650286E-4,-1.6595014193086015E-7,-1.5847071237058801E-6,6.2800002105409165,-2.9088820873213997E-4,2.9088820873213997E-4,{"$f":"FI_T-Rechentabelle!AL1309","v":-2.1054091625671845E-7},{"$f":"AP1308","v":-7.6077188992940137E-10}]
[8.1749998033046722E-2,6.2500002968590707E-5,6.2800002098083496,0,0,null,0,null,{"$f":"C1310","v":6.2800002098083496},{"$f":"AL1308","v":6.2800002105512887},{"$f":"I1310-J1310","v":-7.4293904361866225E-10},{"$f":"L1308+KP_LR*(1+2*TA_SIM/TN_LR)*K1310-KP_LR*K1308","v":-6.62386321531992E-8},"-",{"$f":"L1310","v":-6.62386321531992E-8},-1.6595014193086015E-7,0,9.9711509777660954E-8,-1.4186470369499079E-7,"-",-1.4186470369499079E-7,0,-1.4186470369499079E-7,-1.4186470369499079E-7,-1.6494286999325407E-7,2.3078166298263286E-8,1.1847825644421079E-6,1.1847825644421079E-6,1.1847825644421079E-6,"-",-1.5005373044605134E-7,-1.5005373044605134E-7,-1.5005373044605134E-7,"-",-1.0503761131223593E-7,-2.1823729755295225E-4,-1.7958997302791968E-7,-1.7149579162280146E-6,6.2800002105296917,-2.9088820873213997E-4,2.9088820873213997E-4,{"$f":"FI_T-Rechentabelle!AL1310","v":-2.1052969145785028E-7},{"$f":"K1310","v":-7.4293904361866225E-10}]
[8.1812500953674316E-2,6.2500002968590707E-5,6.2800002098083496,0,0,null,0,null,null,null,null,null,"-",{"$f":"N1310+(L1312-L1310)/2","v":-8.2948923821033426E-8},-1.7958997302791968E-7,0,9.6641049206886253E-8,-1.2541560625201855E-7,"-",-1.2541560625201855E-7,0,-1.2541560625201855E-7,-1.2541560625201855E-7,-1.5005373044605134E-7,2.4638124194032787E-8,1.3403786800694737E-6,1.3403786800694737E-6,1.3403786800694737E-6,"-",-1.3415816644996335E-7,-1.3415816644996335E-7,-1.3415816644996335E-7,"-",-9.3910716514974342E-8,-1.9511887910861071E-4,-1.9178490297220786E-7,-1.8314109191055846E-6,6.2800002105177049,-2.9088820873213997E-4,2.9088820873213997E-4,{"$f":"FI_T-Rechentabelle!AL1311","v":-2.10517704601898E-7},{"$f":"AP1310","v":-7.4293904361866225E-10}]
[8.1874996423721313E-2,6.2500002968590707E-5,6.2800002098083496,0,0,null,0,null,{"$f":"C1312","v":6.2800002098083496},{"$f":"AL1310","v":6.2800002105296917},{"$f":"I1312-J1312","v":-7.2134209716523401E-10},{"$f":"L1310+KP_LR*(1+2*TA_SIM/TN_LR)*K1312-KP_LR*K1310","v":-9.9659215488867651E-8},"-",{"$f":"L1312","v":-9.9659215488867651E-8},-1.9178490297220786E-7,0,9.2125687483340204E-8,-1.1341375528738962E-7,"-",-1.1341375528738962E-7,0,-1.1341375528738962E-7,-1.1341375528738962E-7,-1.3415816644996335E-7,2.0744411162573732E-8,1.1058772701009053E-6,1.1058772701009053E-6,1.1058772701009053E-6,"-",-1.2077467537739577E-7,-1.2077467537739577E-7,-1.2077467537739577E-7,"-",-8.4542272764177042E-8,-1.7565400532760654E-4,-2.0276327830518327E-7,-1.9362466811872549E-6,6.2800002105050323,-2.9088820873213997E-4,2.9088820873213997E-4,{"$f":"FI_T-Rechentabelle!AL1312","v":-2.1050503207220572E-7},{"$f":"K1312","v":-7.2134209716523401E-10}]
[8.1937499344348907E-2,6.2500002968590707E-5,6.2800002098083496,0,0,null,0,null,null,null,null,null,"-",{"$f":"N1312+(L1314-L1312)/2","v":-1.1364475648406514E-7},-2.0276327830518327E-7,0,8.9118521821118135E-8,-9.8652001739641537E-8,"-",-9.8652001739641537E-8,0,-9.8652001739641537E-8,-9.8652001739641537E-8,-1.2077467537739577E-7,2.2122673637754238E-8,1.2440132125842125E-6,1.2440132125842125E-6,1.2440132125842125E-6,"-",-1.0650198270793596E-7,-1.0650198270793596E-7,-1.0650198270793596E-7,"-",-7.4551387895555168E-8,-1.5489588176928145E-4,-2.1244427091576336E-7,-2.0286933508678509E-6,6.2800002104917549,-2.9088820873213997E-4,2.9088820873213997E-4,{"$f":"FI_T-Rechentabelle!AL1313","v":-2.1049175469300963E-7},{"$f":"AP1312","v":-7.2134209716523401E-10}]
[8.2000002264976501E-2,6.2500002968590707E-5,6.2800002098083496,0,0,null,0,null,{"$f":"C1314","v":6.2800002098083496},{"$f":"AL1312","v":6.2800002105050323},{"$f":"I1314-J1314","v":-6.9668271152067973E-10},{"$f":"L1312+KP_LR*(1+2*TA_SIM/TN_LR)*K1314-KP_LR*K1312","v":-1.2763029747926263E-7},"-",{"$f":"L1314","v":-1.2763029747926263E-7},-2.1244427091576336E-7,0,8.4813973436500737E-8,-8.7944442808503508E-8,"-",-8.7944442808503508E-8,0,-8.7944442808503508E-8,-8.7944442808503508E-8,-1.0650198270793596E-7,1.8557539899432452E-8,1.0284843835383699E-6,1.0284843835383699E-6,1.0284843835383699E-6,"-",-9.4529376321262868E-8,-9.4529376321262868E-8,-9.4529376321262868E-8,"-",-6.6170563424884002E-8,-1.3748299070202367E-4,-2.2103695783463985E-7,-2.1107474667226665E-6,6.2800002104779402,-2.9088820873213997E-4,2.9088820873213997E-4,{"$f":"FI_T-Rechentabelle!AL1314","v":-2.1047793996586961E-7},{"$f":"K1314","v":-6.9668271152067973E-10}]
[8.2062497735023499E-2,6.2500002968590707E-5,6.2800002098083496,0,0,null,0,null,null,null,null,null,"-",{"$f":"N1314+(L1316-L1314)/2","v":-1.391502627972197E-7},-2.2103695783463985E-7,0,8.1886695037420145E-8,-7.4760734096652605E-8,"-",-7.4760734096652605E-8,0,-7.4760734096652605E-8,-7.4760734096652605E-8,-9.4529376321262868E-8,1.9768642224610263E-8,1.1504824451065735E-6,1.1504824451065735E-6,1.1504824451065735E-6,"-",-8.1775413595763885E-8,-8.1775413595763885E-8,-8.1775413595763885E-8,"-",-5.7242789517034715E-8,-1.189336993913042E-4,-2.2847031404659635E-7,-2.1817307898164102E-6,6.280000210463661,-2.9088820873213997E-4,2.9088820873213997E-4,{"$f":"FI_T-Rechentabelle!AL1315","v":-2.1046366072141609E-7},{"$f":"AP1314","v":-6.9668271152067973E-10}]
[8.2125000655651093E-2,6.2500002968590707E-5,6.2800002098083496,0,0,null,0,null,{"$f":"C1316","v":6.2800002098083496},{"$f":"AL1314","v":6.2800002104779402},{"$f":"I1316-J1316","v":-6.6959060518456681E-10},{"$f":"L1314+KP_LR*(1+2*TA_SIM/TN_LR)*K1316-KP_LR*K1314","v":-1.5067022811517678E-7},"-",{"$f":"L1316","v":-1.5067022811517678E-7},-2.2847031404659635E-7,0,7.780008593141957E-8,-6.5258355389647284E-8,"-",-6.5258355389647284E-8,0,-6.5258355389647284E-8,-6.5258355389647284E-8,-8.1775413595763885E-8,1.6517058206116601E-8,9.53145108065043E-7,9.53145108065043E-7,9.53145108065043E-7,"-",-7.111924701122709E-8,-7.111924701122709E-8,-7.111924701122709E-8,"-",-4.978347290785896E-8,-1.0343543093259704E-4,-2.3493502847988366E-7,-2.2434642652805217E-6,6.2800002104489776,-2.9088820873213997E-4,2.9088820873213997E-4,{"$f":"FI_T-Rechentabelle!AL1316","v":-2.1044897735578161E-7},{"$f":"K1316","v":-6.6959060518456681E-10}]
[8.2187503576278687E-2,6.2500002968590707E-5,6.2800002098083496,0,0,null,0,null,null,null,null,null,"-",{"$f":"N1316+(L1318-L1316)/2","v":-1.5996810783077652E-7},-2.3493502847988366E-7,0,7.4966920649107142E-8,-5.3543667931717795E-8,"-",-5.3543667931717795E-8,0,-5.3543667931717795E-8,-5.3543667931717795E-8,-7.111924701122709E-8,1.7575579079509295E-8,1.0603297857138832E-6,1.0603297857138832E-6,1.0603297857138832E-6,"-",-5.9780163734177459E-8,-5.9780163734177459E-8,-5.9780163734177459E-8,"-",-4.1846114613924219E-8,-8.6943932295707903E-5,-2.4036902424836539E-7,-2.2953551025181801E-6,6.280000210433955,-2.9088820873213997E-4,2.9088820873213997E-4,{"$f":"FI_T-Rechentabelle!AL1317","v":-2.104339547059908E-7},{"$f":"AP1316","v":-6.6959060518456681E-10}]
[8.2249999046325684E-2,6.2500002968590707E-5,6.2800002098083496,0,0,null,0,null,{"$f":"C1318","v":6.2800002098083496},{"$f":"AL1316","v":6.2800002104489776},{"$f":"I1318-J1318","v":-6.4062799509656543E-10},{"$f":"L1316+KP_LR*(1+2*TA_SIM/TN_LR)*K1318-KP_LR*K1316","v":-1.6926598754637625E-7},"-",{"$f":"L1318","v":-1.6926598754637625E-7},-2.4036902424836539E-7,0,7.1103036701989139E-8,-4.515814236669999E-8,"-",-4.515814236669999E-8,0,-4.515814236669999E-8,-4.515814236669999E-8,-5.9780163734177459E-8,1.4622021367477469E-8,8.8036641984073581E-7,8.8036641984073581E-7,8.8036641984073581E-7,"-",-5.0346601561663123E-8,-5.0346601561663123E-8,-5.0346601561663123E-8,"-",-3.5242621093164183E-8,-7.3223812784467443E-5,-2.4494551254739462E-7,-2.339057346605744E-6,6.2800002104186454,-2.9088820873213997E-4,2.9088820873213997E-4,{"$f":"FI_T-Rechentabelle!AL1318","v":-2.1041864517457043E-7},{"$f":"K1318","v":-6.4062799509656543E-10}]
[8.2312501966953278E-2,6.2500002968590707E-5,6.2800002098083496,0,0,null,0,null,null,null,null,null,"-",{"$f":"N1318+(L1320-L1318)/2","v":-1.7657065019990886E-7},-2.4494551254739462E-7,0,6.8374862347485768E-8,-3.4807388055389979E-8,"-",-3.4807388055389979E-8,0,-3.4807388055389979E-8,-3.4807388055389979E-8,-5.0346601561663123E-8,1.5539213506273144E-8,9.7382075782084027E-7,9.7382075782084027E-7,9.7382075782084027E-7,"-",-4.0321302525408301E-8,-4.0321302525408301E-8,-4.0321302525408301E-8,"-",-2.822491176778581E-8,-5.8643074522721396E-5,-2.4861070470506473E-7,-2.3740573535622343E-6,6.2800002104031076,-2.9088820873213997E-4,2.9088820873213997E-4,{"$f":"FI_T-Rechentabelle!AL1319","v":-2.1040310738129619E-7},{"$f":"AP1318","v":-6.4062799509656543E-10}]
[8.2374997437000275E-2,6.2500002968590707E-5,6.2800002098083496,0,0,null,0,null,{"$f":"C1320","v":6.2800002098083496},{"$f":"AL1318","v":6.2800002104186454},{"$f":"I1320-J1320","v":-6.1029581388538645E-10},{"$f":"L1318+KP_LR*(1+2*TA_SIM/TN_LR)*K1320-KP_LR*K1318","v":-1.8387531285344146E-7},"-",{"$f":"L1320","v":-1.8387531285344146E-7},-2.4861070470506473E-7,0,6.4735391851623276E-8,-2.7454499133415378E-8,"-",-2.7454499133415378E-8,0,-2.7454499133415378E-8,-2.7454499133415378E-8,-4.0321302525408301E-8,1.2866803391992924E-8,8.1030818324218962E-7,8.1030818324218962E-7,8.1030818324218962E-7,"-",-3.2020139046752314E-8,-3.2020139046752314E-8,-3.2020139046752314E-8,"-",-2.2414097332726618E-8,-4.6569909272234811E-5,-2.5152132403457938E-7,-2.4018517207872989E-6,6.2800002103873878,-2.9088820873213997E-4,2.9088820873213997E-4,{"$f":"FI_T-Rechentabelle!AL1320","v":-2.1038738751144592E-7},{"$f":"K1320","v":-6.1029581388538645E-10}]
[8.2437500357627869E-2,6.2500002968590707E-5,6.2800002098083496,0,0,null,0,null,null,null,null,null,"-",{"$f":"N1320+(L1322-L1320)/2","v":-1.8940124056237036E-7},-2.5152132403457938E-7,0,6.2120083472209023E-8,-1.8367212880785274E-8,"-",-1.8367212880785274E-8,0,-1.8367212880785274E-8,-1.8367212880785274E-8,-3.2020139046752314E-8,1.365292616596704E-8,8.9103311465489175E-7,8.9103311465489175E-7,8.9103311465489175E-7,"-",-2.321179958488594E-8,-2.321179958488594E-8,-2.321179958488594E-8,"-",-1.6248259709420157E-8,-3.375911013800157E-5,-2.5363126841820449E-7,-2.422000205485474E-6,6.2800002103715356,-2.9088820873213997E-4,2.9088820873213997E-4,{"$f":"FI_T-Rechentabelle!AL1321","v":-2.1037153530301111E-7},{"$f":"AP1320","v":-6.1029581388538645E-10}]
[8.2499995827674866E-2,6.2500002968590707E-5,6.2800002098083496,0,0,null,0,null,{"$f":"C1322","v":6.2800002098083496},{"$f":"AL1320","v":6.2800002103873878},{"$f":"I1322-J1322","v":-5.7903815076087994E-10},{"$f":"L1320+KP_LR*(1+2*TA_SIM/TN_LR)*K1322-KP_LR*K1320","v":-1.9492716827129926E-7},"-",{"$f":"L1322","v":-1.9492716827129926E-7},-2.5363126841820449E-7,0,5.8704100146905225E-8,-1.1967105474626363E-8,"-",-1.1967105474626363E-8,0,-1.1967105474626363E-8,-1.1967105474626363E-8,-2.321179958488594E-8,1.1244694110259577E-8,7.4302922127346028E-7,7.4302922127346028E-7,7.4302922127346028E-7,"-",-1.5957158223474753E-8,-1.5957158223474753E-8,-1.5957158223474753E-8,"-",-1.1170010756432326E-8,-2.3208000740561657E-5,-2.5508176846448961E-7,-2.435851460624752E-6,6.2800002103555927,-2.9088820873213997E-4,2.9088820873213997E-4,{"$f":"FI_T-Rechentabelle!AL1322","v":-2.103555925003775E-7},{"$f":"K1322","v":-5.7903815076087994E-10}]
[8.256249874830246E-2,6.2500002968590707E-5,6.2800002098083496,0,0,null,0,null,null,null,null,null,"-",{"$f":"N1322+(L1324-L1322)/2","v":-1.9887271451386263E-7},-2.5508176846448961E-7,0,5.6209053950626987E-8,-4.0423538781358258E-9,"-",-4.0423538781358258E-9,0,-4.0423538781358258E-9,-4.0423538781358258E-9,-1.5957158223474753E-8,1.1914804345338927E-8,8.1235885106579335E-7,8.1235885106579335E-7,8.1235885106579335E-7,"-",-8.2701876781401931E-9,-8.2701876781401931E-9,-8.2701876781401931E-9,"-",-5.7891313746981352E-9,-1.2028114221271836E-5,-2.5583352560331908E-7,-2.4430302125037119E-6,6.2800002103396029,-2.9088820873213997E-4,2.9088820873213997E-4,{"$f":"FI_T-Rechentabelle!AL1323","v":-2.1033960262428764E-7},{"$f":"AP1322","v":-5.7903815076087994E-10}]
[8.2625001668930054E-2,6.2500002968590707E-5,6.2800002098083496,0,0,null,0,null,{"$f":"C1324","v":6.2800002098083496},{"$f":"AL1322","v":6.2800002103555927},{"$f":"I1324-J1324","v":-5.4724313969245486E-10},{"$f":"L1322+KP_LR*(1+2*TA_SIM/TN_LR)*K1324-KP_LR*K1322","v":-2.0281826075642599E-7},"-",{"$f":"L1324","v":-2.0281826075642599E-7},-2.5583352560331908E-7,0,5.3015264846893088E-8,1.4854658542783702E-9,"-",1.4854658542783702E-9,0,1.4854658542783702E-9,1.4854658542783702E-9,-8.2701876781401931E-9,9.7556535324185633E-9,6.7905290706468255E-7,6.7905290706468255E-7,6.7905290706468255E-7,"-",-1.9762176572692063E-9,-1.9762176572692063E-9,-1.9762176572692063E-9,"-",-1.3833523600884444E-9,-2.8741997924131399E-6,-2.5601316309034492E-7,-2.4447456241451984E-6,6.2800002103236023,-2.9088820873213997E-4,2.9088820873213997E-4,{"$f":"FI_T-Rechentabelle!AL1324","v":-2.1032360209005674E-7},{"$f":"K1324","v":-5.4724313969245486E-10}]
[8.2687497138977051E-2,6.2500002968590707E-5,6.2800002098083496,0,0,null,0,null,null,null,null,null,"-",{"$f":"N1324+(L1326-L1324)/2","v":-2.0536933264543339E-7},-2.5601316309034492E-7,0,5.0643830444911525E-8,8.3397455561784913E-9,"-",8.3397455561784913E-9,0,8.3397455561784913E-9,8.3397455561784913E-9,-1.9762176572692063E-9,1.0315963213447698E-8,7.3768386617111354E-7,7.3768386617111354E-7,7.3768386617111354E-7,"-",4.6792424803959167E-9,4.6792424803959167E-9,4.6792424803959167E-9,"-",3.2754697362771415E-9,6.8054638193998364E-6,-2.5558782160163243E-7,-2.4406839121193582E-6,6.2800002103076284,-2.9088820873213997E-4,2.9088820873213997E-4,{"$f":"FI_T-Rechentabelle!AL1325","v":-2.1030762820117843E-7},{"$f":"AP1324","v":-5.4724313969245486E-10}]
[8.2750000059604645E-2,6.2500002968590707E-5,6.2800002098083496,0,0,null,0,null,{"$f":"C1326","v":6.2800002098083496},{"$f":"AL1324","v":6.2800002103236023},{"$f":"I1326-J1326","v":-5.1525272937169575E-10},{"$f":"L1324+KP_LR*(1+2*TA_SIM/TN_LR)*K1326-KP_LR*K1324","v":-2.0792040453444079E-7},"-",{"$f":"L1326","v":-2.0792040453444079E-7},-2.5558782160163243E-7,0,4.7667417067191633E-8,1.3067248081834202E-8,"-",1.3067248081834202E-8,0,1.3067248081834202E-8,1.3067248081834202E-8,4.6792424803959167E-9,8.3880056014382856E-9,6.1804736814372459E-7,6.1804736814372459E-7,6.1804736814372459E-7,"-",1.0090858997410925E-8,1.0090858997410925E-8,1.0090858997410925E-8,"-",7.0636012981876472E-9,1.4676088298748487E-5,-2.5467056608296066E-7,-2.4319247671268624E-6,6.2800002102917114,-2.9088820873213997E-4,2.9088820873213997E-4,{"$f":"FI_T-Rechentabelle!AL1326","v":-2.1029171115571899E-7},{"$f":"K1326","v":-5.1525272937169575E-10}]
[8.2812502980232239E-2,6.2500002968590707E-5,6.2800002098083496,0,0,null,0,null,null,null,null,null,"-",{"$f":"N1326+(L1328-L1326)/2","v":-2.0924807053775134E-7},-2.5467056608296066E-7,0,4.5422495545209317E-8,1.8941612401833443E-8,"-",1.8941612401833443E-8,0,1.8941612401833443E-8,1.8941612401833443E-8,1.0090858997410925E-8,8.850753404422518E-9,6.6708875255502109E-7,6.6708875255502109E-7,6.6708875255502109E-7,"-",1.5801022484094266E-8,1.5801022484094266E-8,1.5801022484094266E-8,"-",1.1060715738865985E-8,2.2980917803586088E-5,-2.5323425872023655E-7,-2.4182090421322527E-6,6.2800002102758841,-2.9088820873213997E-4,2.9088820873213997E-4,{"$f":"FI_T-Rechentabelle!AL1327","v":-2.1027588381627993E-7},{"$f":"AP1326","v":-5.1525272937169575E-10}]
[8.2874998450279236E-2,6.2500002968590707E-5,6.2800002098083496,0,0,null,0,null,{"$f":"C1328","v":6.2800002098083496},{"$f":"AL1326","v":6.2800002102917114},{"$f":"I1328-J1328","v":-4.8336179503394305E-10},{"$f":"L1326+KP_LR*(1+2*TA_SIM/TN_LR)*K1328-KP_LR*K1326","v":-2.105757365410619E-7},"-",{"$f":"L1328","v":-2.105757365410619E-7},-2.5323425872023655E-7,0,4.2658522179174651E-8,2.2940000678030425E-8,"-",2.2940000678030425E-8,0,2.2940000678030425E-8,2.2940000678030425E-8,1.5801022484094266E-8,7.1389781939361589E-9,5.6028997440114952E-7,5.6028997440114952E-7,5.6028997440114952E-7,"-",2.0406814867239083E-8,2.0406814867239083E-8,2.0406814867239083E-8,"-",1.4284770407067357E-8,2.9679556216636932E-5,-2.5137928645669674E-7,-2.4004953618298095E-6,6.2800002102601731,-2.9088820873213997E-4,2.9088820873213997E-4,{"$f":"FI_T-Rechentabelle!AL1328","v":-2.1026017282821385E-7},{"$f":"K1328","v":-4.8336179503394305E-10}]
[8.293750137090683E-2,6.2500002968590707E-5,6.2800002098083496,0,0,null,0,null,null,null,null,null,"-",{"$f":"N1328+(L1330-L1328)/2","v":-2.1083757075344875E-7},-2.5137928645669674E-7,0,4.0541715703247985E-8,2.7921185097320365E-8,"-",2.7921185097320365E-8,0,2.7921185097320365E-8,2.7921185097320365E-8,2.0406814867239083E-8,7.5143702300812825E-9,6.0069921775587541E-7,6.0069921775587541E-7,6.0069921775587541E-7,"-",2.5254795660801144E-8,2.5254795660801144E-8,2.5254795660801144E-8,"-",1.7678356962560799E-8,3.6730432085104501E-5,-2.4908363445137772E-7,-2.3785734999738889E-6,6.2800002102446051,-2.9088820873213997E-4,2.9088820873213997E-4,{"$f":"FI_T-Rechentabelle!AL1329","v":-2.1024460483687335E-7},{"$f":"AP1328","v":-4.8336179503394305E-10}]
[8.3000004291534424E-2,6.2500002968590707E-5,6.2800002098083496,0,0,null,0,null,{"$f":"C1330","v":6.2800002098083496},{"$f":"AL1328","v":6.2800002102601731},{"$f":"I1330-J1330","v":-4.5182346752881131E-10},{"$f":"L1328+KP_LR*(1+2*TA_SIM/TN_LR)*K1330-KP_LR*K1328","v":-2.110994049658356E-7},"-",{"$f":"L1330","v":-2.110994049658356E-7},-2.4908363445137772E-7,0,3.7984229485542117E-8,3.1258245665640898E-8,"-",3.1258245665640898E-8,0,3.1258245665640898E-8,3.1258245665640898E-8,2.5254795660801144E-8,6.0034500048397531E-9,5.0587462711571864E-7,5.0587462711571864E-7,5.0587462711571864E-7,"-",2.91279892122729E-8,2.91279892122729E-8,2.91279892122729E-8,"-",2.0389592448591029E-8,4.2363582897550439E-5,-2.4643591052028084E-7,-2.3532895988792826E-6,6.2800002102292032,-2.9088820873213997E-4,2.9088820873213997E-4,{"$f":"FI_T-Rechentabelle!AL1330","v":-2.1022920293489733E-7},{"$f":"K1330","v":-4.5182346752881131E-10}]
[8.3062499761581421E-2,6.2500002968590707E-5,6.2800002098083496,0,0,null,0,null,null,null,null,null,"-",{"$f":"N1330+(L1332-L1330)/2","v":-2.1044050634928834E-7},-2.4643591052028084E-7,0,3.5995404170992509E-8,3.5427481015329405E-8,"-",3.5427481015329405E-8,0,3.5427481015329405E-8,3.5427481015329405E-8,2.91279892122729E-8,6.2994918030565054E-9,5.3844099735755512E-7,5.3844099735755512E-7,5.3844099735755512E-7,"-",3.3192177472272574E-8,3.3192177472272574E-8,3.3192177472272574E-8,"-",2.32345242305908E-8,4.8274515334699351E-5,-2.4341875331186215E-7,-2.3244778698509717E-6,6.2800002102139896,-2.9088820873213997E-4,2.9088820873213997E-4,{"$f":"FI_T-Rechentabelle!AL1331","v":-2.1021398932674629E-7},{"$f":"AP1330","v":-4.5182346752881131E-10}]
[8.3124995231628418E-2,6.2500002968590707E-5,6.2800002098083496,0,0,null,0,null,{"$f":"C1332","v":6.2800002098083496},{"$f":"AL1330","v":6.2800002102292032},{"$f":"I1332-J1332","v":-4.2085357421228764E-10},{"$f":"L1330+KP_LR*(1+2*TA_SIM/TN_LR)*K1332-KP_LR*K1330","v":-2.0978160773274107E-7},"-",{"$f":"L1332","v":-2.0978160773274107E-7},-2.4341875331186215E-7,0,3.363714557912108E-8,3.8166171697244829E-8,"-",3.8166171697244829E-8,0,3.8166171697244829E-8,3.8166171697244829E-8,3.3192177472272574E-8,4.9739942249722553E-9,4.5470580171681523E-7,4.5470580171681523E-7,4.5470580171681523E-7,"-",3.6401206004476909E-8,3.6401206004476909E-8,3.6401206004476909E-8,"-",2.5480844203133835E-8,5.2941708296558971E-5,-2.4010989654332721E-7,-2.2928806152092474E-6,6.2800002101989829,-2.9088820873213997E-4,2.9088820873213997E-4,{"$f":"FI_T-Rechentabelle!AL1332","v":-2.1019898266416703E-7},{"$f":"K1332","v":-4.2085357421228764E-10}]
[8.3187498152256012E-2,6.2500002968590707E-5,6.2800002098083496,0,0,null,0,null,null,null,null,null,"-",{"$f":"N1332+(L1334-L1332)/2","v":-2.0833471979820164E-7},-2.4010989654332721E-7,0,3.1775176745125574E-8,4.1600350087714299E-8,"-",4.1600350087714299E-8,0,4.1600350087714299E-8,4.1600350087714299E-8,3.6401206004476909E-8,5.1991440832373904E-9,4.8023730005270881E-7,4.8023730005270881E-7,4.8023730005270881E-7,"-",3.9755492509756457E-8,3.9755492509756457E-8,3.9755492509756457E-8,"-",2.7828844756829517E-8,5.7820163633553944E-5,-2.3649613631623008E-7,-2.2583717470117635E-6,6.2800002101842018,-2.9088820873213997E-4,2.9088820873213997E-4,{"$f":"FI_T-Rechentabelle!AL1333","v":-2.1018420159890638E-7},{"$f":"AP1332","v":-4.2085357421228764E-10}]
[8.3250001072883606E-2,6.2500002968590707E-5,6.2800002098083496,0,0,null,0,null,{"$f":"C1334","v":6.2800002098083496},{"$f":"AL1332","v":6.2800002101989829},{"$f":"I1334-J1334","v":-3.9063330348199088E-10},{"$f":"L1332+KP_LR*(1+2*TA_SIM/TN_LR)*K1334-KP_LR*K1332","v":-2.068878318636622E-7},"-",{"$f":"L1334","v":-2.068878318636622E-7},-2.3649613631623008E-7,0,2.9608304452567878E-8,4.3800095382476995E-8,"-",4.3800095382476995E-8,0,4.3800095382476995E-8,4.3800095382476995E-8,3.9755492509756457E-8,4.0446028727205379E-9,4.0676327723119658E-7,4.0676327723119658E-7,4.0676327723119658E-7,"-",4.2364913717929262E-8,4.2364913717929262E-8,4.2364913717929262E-8,"-",2.965543960255048E-8,6.1615291091939492E-5,-2.3264518062298386E-7,-2.2215978289592828E-6,6.2800002101696615,-2.9088820873213997E-4,2.9088820873213997E-4,{"$f":"FI_T-Rechentabelle!AL1334","v":-2.1016966122999747E-7},{"$f":"K1334","v":-3.9063330348199088E-10}]
[8.3312496542930603E-2,6.2500002968590707E-5,6.2800002098083496,0,0,null,0,null,null,null,null,null,"-",{"$f":"N1334+(L1336-L1334)/2","v":-2.0477356927937971E-7},-2.3264518062298386E-7,0,2.7871611343604148E-8,4.6572755607138738E-8,"-",4.6572755607138738E-8,0,4.6572755607138738E-8,4.6572755607138738E-8,4.2364913717929262E-8,4.2078418892094765E-9,4.2609433947165075E-7,4.2609433947165075E-7,4.2609433947165075E-7,"-",4.5079650420611943E-8,4.5079650420611943E-8,4.5079650420611943E-8,"-",3.1555755294428361E-8,6.5563588810364339E-5,-2.2854745632233609E-7,-2.1824674442867303E-6,6.2800002101553769,-2.9088820873213997E-4,2.9088820873213997E-4,{"$f":"FI_T-Rechentabelle!AL1335","v":-2.1015537665647344E-7},{"$f":"AP1334","v":-3.9063330348199088E-10}]
[8.3374999463558197E-2,6.2500002968590707E-5,6.2800002098083496,0,0,null,0,null,{"$f":"C1336","v":6.2800002098083496},{"$f":"AL1334","v":6.2800002101696615},{"$f":"I1336-J1336","v":-3.6131186931243064E-10},{"$f":"L1334+KP_LR*(1+2*TA_SIM/TN_LR)*K1336-KP_LR*K1334","v":-2.0265930669509722E-7},"-",{"$f":"L1336","v":-2.0265930669509722E-7},-2.2854745632233609E-7,0,2.5888149627238867E-8,4.8290338948279298E-8,"-",4.8290338948279298E-8,0,4.8290338948279298E-8,4.8290338948279298E-8,4.5079650420611943E-8,3.2106885276673549E-9,3.6210770140355559E-7,3.6210770140355559E-7,3.6210770140355559E-7,"-",4.7151062373913473E-8,4.7151062373913473E-8,4.7151062373913473E-8,"-",3.3005743661739426E-8,6.8576238648949562E-5,-2.2426144140677673E-7,-2.1415390166881184E-6,6.2800002101413606,-2.9088820873213997E-4,2.9088820873213997E-4,{"$f":"FI_T-Rechentabelle!AL1336","v":-2.1014136031283215E-7},{"$f":"K1336","v":-3.6131186931243064E-10}]
[8.3437502384185791E-2,6.2500002968590707E-5,6.2800002098083496,0,0,null,0,null,null,null,null,null,"-",{"$f":"N1336+(L1338-L1336)/2","v":-1.9998756659119836E-7},-2.2426144140677673E-7,0,2.4273874815578368E-8,5.0469421946879145E-8,"-",5.0469421946879145E-8,0,5.0469421946879145E-8,5.0469421946879145E-8,4.7151062373913473E-8,3.3183595729656721E-9,3.758740578487539E-7,3.758740578487539E-7,3.758740578487539E-7,"-",4.9291939517730882E-8,4.9291939517730882E-8,4.9291939517730882E-8,"-",3.4504357662411615E-8,7.1689918268048227E-5,-2.1978082151502371E-7,-2.0987522484548162E-6,6.280000210127624,-2.9088820873213997E-4,2.9088820873213997E-4,{"$f":"FI_T-Rechentabelle!AL1337","v":-2.1012762374539307E-7},{"$f":"AP1336","v":-3.6131186931243064E-10}]
[8.3499997854232788E-2,6.2500002968590707E-5,6.2800002098083496,0,0,null,0,null,{"$f":"C1338","v":6.2800002098083496},{"$f":"AL1336","v":6.2800002101413606},{"$f":"I1338-J1338","v":-3.3301095214710585E-10},{"$f":"L1336+KP_LR*(1+2*TA_SIM/TN_LR)*K1338-KP_LR*K1336","v":-1.9731582648729951E-7},"-",{"$f":"L1338","v":-1.9731582648729951E-7},-2.1978082151502371E-7,0,2.24649950277242E-8,5.1756802389825852E-8,"-",5.1756802389825852E-8,0,5.1756802389825852E-8,5.1756802389825852E-8,4.9291939517730882E-8,2.4648628720949696E-9,3.2057577479994289E-7,3.2057577479994289E-7,3.2057577479994289E-7,"-",5.0882173628729294E-8,5.0882173628729294E-8,5.0882173628729294E-8,"-",3.5617521540110504E-8,7.4002745772097452E-5,-2.1515564990426762E-7,-2.0545851129848083E-6,6.280000210114177,-2.9088820873213997E-4,2.9088820873213997E-4,{"$f":"FI_T-Rechentabelle!AL1338","v":-2.1011417672411881E-7},{"$f":"K1338","v":-3.3301095214710585E-10}]
[8.3562500774860382E-2,6.2500002968590707E-5,6.2800002098083496,0,0,null,0,null,null,null,null,null,"-",{"$f":"N1338+(L1340-L1338)/2","v":-1.9418630020179326E-7},-2.1515564990426762E-7,0,2.0969349702474363E-8,5.34050159471608E-8,"-",5.34050159471608E-8,0,5.34050159471608E-8,5.34050159471608E-8,5.0882173628729294E-8,2.5228423184315063E-9,3.2936571446759872E-7,3.2936571446759872E-7,3.2936571446759872E-7,"-",5.2509813834139169E-8,5.2509813834139169E-8,5.2509813834139169E-8,"-",3.6756869683897417E-8,7.6369976488463358E-5,-2.1038252637373866E-7,-2.0090051407524928E-6,6.2800002101010284,-2.9088820873213997E-4,2.9088820873213997E-4,{"$f":"FI_T-Rechentabelle!AL1339","v":-2.1010102813079357E-7},{"$f":"AP1338","v":-3.3301095214710585E-10}]
[8.3625003695487976E-2,6.2500002968590707E-5,6.2800002098083496,0,0,null,0,null,{"$f":"C1340","v":6.2800002098083496},{"$f":"AL1338","v":6.280000210114177},{"$f":"I1340-J1340","v":-3.0582736343376382E-10},{"$f":"L1338+KP_LR*(1+2*TA_SIM/TN_LR)*K1340-KP_LR*K1338","v":-1.9105677391628701E-7},"-",{"$f":"L1340","v":-1.9105677391628701E-7},-2.1038252637373866E-7,0,1.9325752457451655E-8,5.4309871497991696E-8,"-",5.4309871497991696E-8,0,5.4309871497991696E-8,5.4309871497991696E-8,5.2509813834139169E-8,1.8000576638525279E-9,2.8199874466564995E-7,2.8199874466564995E-7,2.8199874466564995E-7,"-",5.3671141359176288E-8,5.3671141359176288E-8,5.3671141359176288E-8,"-",3.7569798951423399E-8,7.8059004677796378E-5,-2.055038385813764E-7,-1.9624171040751003E-6,6.2800002100881844,-2.9088820873213997E-4,2.9088820873213997E-4,{"$f":"FI_T-Rechentabelle!AL1340","v":-2.1008818418266628E-7},{"$f":"K1340","v":-3.0582736343376382E-10}]
[8.3687499165534973E-2,6.2500002968590707E-5,6.2800002098083496,0,0,null,0,null,null,null,null,null,"-",{"$f":"N1340+(L1342-L1340)/2","v":-1.875590267828881E-7},-2.055038385813764E-7,0,1.7944811798488293E-8,5.5486384433349707E-8,"-",5.5486384433349707E-8,0,5.5486384433349707E-8,5.5486384433349707E-8,5.3671141359176288E-8,1.8152430741734193E-9,2.8646092373533762E-7,2.8646092373533762E-7,2.8646092373533762E-7,"-",5.4842265923130861E-8,5.4842265923130861E-8,5.4842265923130861E-8,"-",3.8389586146191602E-8,7.9762281625164337E-5,-2.0051869597980362E-7,-1.9148124988516028E-6,6.2800002100756522,-2.9088820873213997E-4,2.9088820873213997E-4,{"$f":"FI_T-Rechentabelle!AL1341","v":-2.1007565198516431E-7},{"$f":"AP1340","v":-3.0582736343376382E-10}]
[8.3750002086162567E-2,6.2500002968590707E-5,6.2800002098083496,0,0,null,0,null,{"$f":"C1342","v":6.2800002098083496},{"$f":"AL1340","v":6.2800002100881844},{"$f":"I1342-J1342","v":-2.7983482198123966E-10},{"$f":"L1340+KP_LR*(1+2*TA_SIM/TN_LR)*K1342-KP_LR*K1340","v":-1.840612796494892E-7},"-",{"$f":"L1342","v":-1.840612796494892E-7},-2.0051869597980362E-7,0,1.6457416330314421E-8,5.6053728761771047E-8,"-",5.6053728761771047E-8,0,5.6053728761771047E-8,5.6053728761771047E-8,5.4842265923130861E-8,1.2114628386401859E-9,2.4634605444891228E-7,2.4634605444891228E-7,2.4634605444891228E-7,"-",5.5623854851258281E-8,5.5623854851258281E-8,5.5623854851258281E-8,"-",3.8936698395880796E-8,8.0899020145191761E-5,-1.9546250722072913E-7,-1.8665294527988598E-6,6.2800002100634362,-2.9088820873213997E-4,2.9088820873213997E-4,{"$f":"FI_T-Rechentabelle!AL1342","v":-2.1006343597917976E-7},{"$f":"K1342","v":-2.7983482198123966E-10}]
[8.3812497556209564E-2,6.2500002968590707E-5,6.2800002098083496,0,0,null,0,null,null,null,null,null,"-",{"$f":"N1342+(L1344-L1342)/2","v":-1.802754409546537E-7},-1.9546250722072913E-7,0,1.5187066266075432E-8,5.6814054778145371E-8,"-",5.6814054778145371E-8,0,5.6814054778145371E-8,5.6814054778145371E-8,5.5623854851258281E-8,1.1901999268870908E-9,2.4708036089358053E-7,2.4708036089358053E-7,2.4708036089358053E-7,"-",5.6391725771803777E-8,5.6391725771803777E-8,5.6391725771803777E-8,"-",3.9474208040262639E-8,8.2015807272517422E-5,-1.903365192661968E-7,-1.8175798735272597E-6,6.28000021005154,-2.9088820873213997E-4,2.9088820873213997E-4,{"$f":"FI_T-Rechentabelle!AL1343","v":-2.1005153971742629E-7},{"$f":"AP1342","v":-2.7983482198123966E-10}]
[8.3875000476837158E-2,6.2500002968590707E-5,6.2800002098083496,0,0,null,0,null,{"$f":"C1344","v":6.2800002098083496},{"$f":"AL1342","v":6.2800002100634362},{"$f":"I1344-J1344","v":-2.5508661849471537E-10},{"$f":"L1342+KP_LR*(1+2*TA_SIM/TN_LR)*K1344-KP_LR*K1342","v":-1.764896022598182E-7},"-",{"$f":"L1344","v":-1.764896022598182E-7},-1.903365192661968E-7,0,1.3846917006378603E-8,5.7086005233278708E-8,"-",5.7086005233278708E-8,0,5.7086005233278708E-8,5.7086005233278708E-8,5.6391725771803777E-8,6.9427946147493074E-10,2.1356891818482843E-7,2.1356891818482843E-7,2.1356891818482843E-7,"-",5.6839648004987275E-8,5.6839648004987275E-8,5.6839648004987275E-8,"-",3.9787753603491092E-8,8.2667262837089319E-5,-1.8516981533887872E-7,-1.7682414853557607E-6,6.280000210039967,-2.9088820873213997E-4,2.9088820873213997E-4,{"$f":"FI_T-Rechentabelle!AL1344","v":-2.100399667526176E-7},{"$f":"K1344","v":-2.5508661849471537E-10}]
[8.3937495946884155E-2,6.2500002968590707E-5,6.2800002098083496,0,0,null,0,null,null,null,null,null,"-",{"$f":"N1344+(L1346-L1344)/2","v":-1.7248662324159829E-7},-1.8516981533887872E-7,0,1.2683192097280427E-8,5.7482852223160682E-8,"-",5.7482852223160682E-8,0,5.7482852223160682E-8,5.7482852223160682E-8,5.6839648004987275E-8,6.4320421817340632E-10,2.1118717996643943E-7,2.1118717996643943E-7,2.1118717996643943E-7,"-",5.7254618468299505E-8,5.7254618468299505E-8,5.7254618468299505E-8,"-",4.0078232927809653E-8,8.3270793533782772E-5,-1.799653907430173E-7,-1.7185428913329375E-6,6.2800002100287191,-2.9088820873213997E-4,2.9088820873213997E-4,{"$f":"FI_T-Rechentabelle!AL1345","v":-2.1002871886111052E-7},{"$f":"AP1344","v":-2.5508661849471537E-10}]
[8.3999998867511749E-2,6.2500002968590707E-5,6.2800002098083496,0,0,null,0,null,{"$f":"C1346","v":6.2800002098083496},{"$f":"AL1344","v":6.280000210039967},{"$f":"I1346-J1346","v":-2.3161739193255926E-10},{"$f":"L1344+KP_LR*(1+2*TA_SIM/TN_LR)*K1346-KP_LR*K1344","v":-1.6848364422337838E-7},"-",{"$f":"L1346","v":-1.6848364422337838E-7},-1.799653907430173E-7,0,1.1481746519638912E-8,5.7499433421659089E-8,"-",5.7499433421659089E-8,{"$f":"G1346*(JM_EMS+JL_EMS)/KT_M*KP_VSR","v":0},5.7499433421659089E-8,{"$f":"IF(V1346<-IM_R,-IM_R,IF(V1346>IM_R,IM_R,V1346))","v":5.7499433421659089E-8},5.7254618468299505E-8,2.4481495335958375E-10,1.8368086471030968E-7,{"$f":"IF(Z1346<-U_ZWK,-U_ZWK,IF(Z1346>U_ZWK,U_ZWK,Z1346))","v":1.8368086471030968E-7},1.8368086471030968E-7,"-",5.7412563599474442E-8,5.7412563599474442E-8,5.7412563599474442E-8,"-",{"$f":"AF1346*KT_M","v":4.0188794519632105E-8},{"$f":"AH1346/(JM_EMS+JL_EMS)","v":8.350050803995865E-5},-1.7474660899051988E-7,-1.6687071965632727E-6,6.2800002100177972,{"$f":"-DF_LR","v":-2.9088820873213997E-4},{"$f":"DF_LR","v":2.9088820873213997E-4},{"$f":"FI_T-Rechentabelle!AL1346","v":-2.1001779693108347E-7},{"$f":"K1346","v":-2.3161739193255926E-10}]
[8.4062501788139343E-2,6.2500002968590707E-5,6.2800002098083496,0,0,null,{"$f":"E1347/1000","v":0},null,null,null,null,null,"-",{"$f":"N1346+(L1348-L1346)/2","v":-1.6432724400908641E-7},-1.7474660899051988E-7,0,1.0419364981433471E-8,{"$f":"R1346+KP_DR*(1+TA_SIM/TN_DR)*Q1347-KP_DR*Q1346","v":5.7579090318520345E-8},"-",{"$f":"R1347","v":5.7579090318520345E-8},0,{"$f":"T1347+U1347","v":5.7579090318520345E-8},5.7579090318520345E-8,5.7412563599474442E-8,{"$f":"W1347-X1347","v":1.6652671904590353E-10},1.7849710186637723E-7,1.7849710186637723E-7,{"$f":"AA1347","v":1.7849710186637723E-7},"-",{"$f":"(1/R_M*AB1347+AD1346*T_M/TA_SIM)/(1+T_M/TA_SIM)","v":5.7520000192383127E-8},{"$f":"AD1347","v":5.7520000192383127E-8},{"$f":"AE1347","v":5.7520000192383127E-8},"-",4.0264000134668189E-8,8.3656763213522099E-5,-1.6951806128967474E-7,-1.6187782438563965E-6,6.2800002100072021,-2.9088820873213997E-4,2.9088820873213997E-4,{"$f":"FI_T-Rechentabelle!AL1347","v":-2.1000720185071486E-7},{"$f":"AP1346","v":-2.3161739193255926E-10}]
[8.412499725818634E-2,6.2500002968590707E-5,6.2800002098083496,0,0,null,0,null,{"$f":"C1348","v":6.2800002098083496},{"$f":"AL1346","v":6.2800002100177972},{"$f":"I1348-J1348","v":-2.0944757039842443E-10},{"$f":"L1346+KP_LR*(1+2*TA_SIM/TN_LR)*K1348-KP_LR*K1346","v":-1.6017084379479444E-7},"-",{"$f":"L1348","v":-1.6017084379479444E-7},{"$f":"AJ1347","v":-1.6951806128967474E-7},{"$f":"D1348*KP_VDR","v":0},{"$f":"N1348-O1348+P1348","v":9.3472174948803004E-9},5.7374747319622435E-8,"-",5.7374747319622435E-8,0,5.7374747319622435E-8,5.7374747319622435E-8,{"$f":"AF1347","v":5.7520000192383127E-8},-1.4525287276069281E-10,1.5634042256343293E-7,1.5634042256343293E-7,1.5634042256343293E-7,"-",5.7426288661546251E-8,5.7426288661546251E-8,5.7426288661546251E-8,"-",4.0198402063082371E-8,8.3520469692670621E-5,-1.6429803193388282E-7,-1.5689306353528515E-6,6.2800002099969339,-2.9088820873213997E-4,2.9088820873213997E-4,{"$f":"FI_T-Rechentabelle!AL1348","v":-2.0999693362000471E-7},{"$f":"K1348","v":-2.0944757039842443E-10}]
[8.4187500178813934E-2,6.2500002968590707E-5,6.2800002098083496,0,0,null,0,null,null,null,null,null,"-",{"$f":"N1348+(L1350-L1348)/2","v":-1.5591747801050241E-7},-1.6429803193388282E-7,0,8.3805539233804147E-9,5.717904277683836E-8,"-",5.717904277683836E-8,0,5.717904277683836E-8,5.717904277683836E-8,5.7426288661546251E-8,-2.4724588470789163E-10,1.4871858206955672E-7,1.4871858206955672E-7,1.4871858206955672E-7,"-",5.7266775187518255E-8,5.7266775187518255E-8,5.7266775187518255E-8,"-",4.0086742631262776E-8,8.3288474197512507E-5,-1.5909250229653829E-7,-1.5192214889611671E-6,6.2800002099869907,-2.9088820873213997E-4,2.9088820873213997E-4,{"$f":"FI_T-Rechentabelle!AL1349","v":-2.0998699046259617E-7},{"$f":"AP1348","v":-2.0944757039842443E-10}]
[8.4250003099441528E-2,6.2500002968590707E-5,6.2800002098083496,0,0,null,0,null,{"$f":"C1350","v":6.2800002098083496},{"$f":"AL1348","v":6.2800002099969339},{"$f":"I1350-J1350","v":-1.8858425931966849E-10},{"$f":"L1348+KP_LR*(1+2*TA_SIM/TN_LR)*K1350-KP_LR*K1348","v":-1.516641122262104E-7},"-",{"$f":"L1350","v":-1.516641122262104E-7},-1.5909250229653829E-7,0,7.4283900703278923E-9,5.6784789479094187E-8,"-",5.6784789479094187E-8,0,5.6784789479094187E-8,5.6784789479094187E-8,5.7266775187518255E-8,-4.8198570842406793E-10,1.3133958118262139E-7,1.3133958118262139E-7,1.3133958118262139E-7,"-",5.6955816665932027E-8,5.6955816665932027E-8,5.6955816665932027E-8,"-",3.9869071666152414E-8,8.2836217881056327E-5,-1.5391523867897227E-7,-1.4697822631756391E-6,6.2800002099773709,-2.9088820873213997E-4,2.9088820873213997E-4,{"$f":"FI_T-Rechentabelle!AL1350","v":-2.099773706021324E-7},{"$f":"K1350","v":-1.8858425931966849E-10}]
[8.4312498569488525E-2,6.2500002968590707E-5,6.2800002098083496,0,0,null,0,null,null,null,null,null,"-",{"$f":"N1350+(L1352-L1350)/2","v":-1.4736243836365705E-7},-1.5391523867897227E-7,0,6.5528003153152226E-9,5.6354421757902722E-8,"-",5.6354421757902722E-8,0,5.6354421757902722E-8,5.6354421757902722E-8,5.6955816665932027E-8,-6.0139490802930493E-10,1.2183263527917957E-7,1.2183263527917957E-7,1.2183263527917957E-7,"-",5.6567819951052675E-8,5.6567819951052675E-8,5.6567819951052675E-8,"-",3.9597473965736868E-8,8.2271917651645263E-5,-1.4877324382574443E-7,-1.4206798292809814E-6,6.2800002099680725,-2.9088820873213997E-4,2.9088820873213997E-4,{"$f":"FI_T-Rechentabelle!AL1351","v":-2.0996807226225656E-7},{"$f":"AP1350","v":-1.8858425931966849E-10}]
[8.4375001490116119E-2,6.2500002968590707E-5,6.2800002098083496,0,0,null,0,null,{"$f":"C1352","v":6.2800002098083496},{"$f":"AL1350","v":6.2800002099773709},{"$f":"I1352-J1352","v":-1.6902124144735353E-10},{"$f":"L1350+KP_LR*(1+2*TA_SIM/TN_LR)*K1352-KP_LR*K1350","v":-1.4306076450110372E-7},"-",{"$f":"L1352","v":-1.4306076450110372E-7},-1.4877324382574443E-7,0,5.7124793246407119E-9,5.5800873483294845E-8,"-",5.5800873483294845E-8,0,5.5800873483294845E-8,5.5800873483294845E-8,5.6567819951052675E-8,-7.669464677578305E-10,1.0877705175984971E-7,1.0877705175984971E-7,1.0877705175984971E-7,"-",5.6073015778284514E-8,5.6073015778284514E-8,5.6073015778284514E-8,"-",3.925111104479916E-8,8.1552277259088214E-5,-1.4367622649705142E-7,-1.3720068991077891E-6,6.280000209959093,-2.9088820873213997E-4,2.9088820873213997E-4,{"$f":"FI_T-Rechentabelle!AL1352","v":-2.0995909277843339E-7},{"$f":"K1352","v":-1.6902124144735353E-10}]
[8.4437504410743713E-2,6.2500002968590707E-5,6.2800002098083496,0,0,null,0,null,null,null,null,null,"-",{"$f":"N1352+(L1354-L1352)/2","v":-1.387538017085956E-7},-1.4367622649705142E-7,0,4.9224247884558268E-9,5.5171134348337708E-8,"-",5.5171134348337708E-8,0,5.5171134348337708E-8,5.5171134348337708E-8,5.6073015778284514E-8,-9.0188142994680583E-10,9.7618096899845675E-8,9.7618096899845675E-8,9.7618096899845675E-8,"-",5.5491156791201439E-8,5.5491156791201439E-8,5.5491156791201439E-8,"-",3.8843809753841008E-8,8.0706024836569714E-5,-1.3863209994476581E-7,-1.3238390386451491E-6,6.2800002099504288,-2.9088820873213997E-4,2.9088820873213997E-4,{"$f":"FI_T-Rechentabelle!AL1353","v":-2.0995042859794921E-7},{"$f":"AP1352","v":-1.6902124144735353E-10}]
[8.449999988079071E-2,6.2500002968590707E-5,6.2800002098083496,0,0,null,0,null,{"$f":"C1354","v":6.2800002098083496},{"$f":"AL1352","v":6.280000209959093},{"$f":"I1354-J1354","v":-1.5074341774834465E-10},{"$f":"L1352+KP_LR*(1+2*TA_SIM/TN_LR)*K1354-KP_LR*K1352","v":-1.3444683891608745E-7},"-",{"$f":"L1354","v":-1.3444683891608745E-7},-1.3863209994476581E-7,0,4.1852610286783663E-9,5.4484176743505123E-8,"-",5.4484176743505123E-8,0,5.4484176743505123E-8,5.4484176743505123E-8,5.5491156791201439E-8,-1.0069800476963167E-9,8.8356824803415937E-8,8.8356824803415937E-8,8.8356824803415937E-8,"-",5.4841492244280509E-8,5.4841492244280509E-8,5.4841492244280509E-8,"-",3.8389044570996353E-8,7.9761156391016725E-5,-1.3364702767032726E-7,-1.2762351049963138E-6,6.2800002099420755,-2.9088820873213997E-4,2.9088820873213997E-4,{"$f":"FI_T-Rechentabelle!AL1354","v":-2.0994207527991193E-7},{"$f":"K1354","v":-1.5074341774834465E-10}]
[8.4562495350837708E-2,6.2500002968590707E-5,6.2800002098083496,0,0,null,0,null,null,null,null,null,"-",{"$f":"N1354+(L1356-L1354)/2","v":-1.3017107269163793E-7},-1.3364702767032726E-7,0,3.4759549786893324E-9,5.3688814838232876E-8,"-",5.3688814838232876E-8,0,5.3688814838232876E-8,5.3688814838232876E-8,5.4841492244280509E-8,-1.1526774060476335E-9,7.5973187986537611E-8,7.5973187986537611E-8,7.5973187986537611E-8,"-",5.4097829401649565E-8,5.4097829401649565E-8,5.4097829401649565E-8,"-",3.7868480581154691E-8,7.8679577355401386E-5,-1.2872955408561466E-7,-1.229276691284464E-6,6.2800002099340295,-2.9088820873213997E-4,2.9088820873213997E-4,{"$f":"FI_T-Rechentabelle!AL1355","v":-2.0993402927160787E-7},{"$f":"AP1354","v":-1.5074341774834465E-10}]
[8.4624998271465302E-2,6.2500002968590707E-5,6.2800002098083496,0,0,null,0,null,{"$f":"C1356","v":6.2800002098083496},{"$f":"AL1354","v":6.2800002099420755},{"$f":"I1356-J1356","v":-1.3372591922689026E-10},{"$f":"L1354+KP_LR*(1+2*TA_SIM/TN_LR)*K1356-KP_LR*K1354","v":-1.2589530646718841E-7},"-",{"$f":"L1356","v":-1.2589530646718841E-7},-1.2872955408561466E-7,0,2.8342476184262524E-9,5.2893570000268316E-8,"-",5.2893570000268316E-8,0,5.2893570000268316E-8,5.2893570000268316E-8,5.4097829401649565E-8,-1.2042594013812481E-9,7.0099334208277678E-8,7.0099334208277678E-8,7.0099334208277678E-8,"-",5.3320887852352273E-8,5.3320887852352273E-8,5.3320887852352273E-8,"-",3.7324621496646592E-8,7.7549597956880502E-5,-1.2388270421330964E-7,-1.182992684348364E-6,6.2800002099262873,-2.9088820873213997E-4,2.9088820873213997E-4,{"$f":"FI_T-Rechentabelle!AL1356","v":-2.0992628702032334E-7},{"$f":"K1356","v":-1.3372591922689026E-10}]
[8.4687501192092896E-2,6.2500002968590707E-5,6.2800002098083496,0,0,null,0,null,null,null,null,null,"-",{"$f":"N1356+(L1358-L1356)/2","v":-1.2168245213344503E-7},-1.2388270421330964E-7,0,2.2002520798646132E-9,5.1961622527525758E-8,"-",5.1961622527525758E-8,0,5.1961622527525758E-8,5.1961622527525758E-8,5.3320887852352273E-8,-1.3592653248265152E-9,5.6675776845153837E-8,5.6675776845153837E-8,5.6675776845153837E-8,"-",5.2443942481477897E-8,5.2443942481477897E-8,5.2443942481477897E-8,"-",3.6710759737034525E-8,7.6274173565415589E-5,-1.1911556836547117E-7,-1.13746989027392E-6,6.2800002099188426,-2.9088820873213997E-4,2.9088820873213997E-4,{"$f":"FI_T-Rechentabelle!AL1357","v":-2.0991884230880942E-7},{"$f":"AP1356","v":-1.3372591922689026E-10}]
[8.4749996662139893E-2,6.2500002968590707E-5,6.2800002098083496,0,0,null,0,null,{"$f":"C1358","v":6.2800002098083496},{"$f":"AL1356","v":6.2800002099262873},{"$f":"I1358-J1358","v":-1.1793765963830083E-10},{"$f":"L1356+KP_LR*(1+2*TA_SIM/TN_LR)*K1358-KP_LR*K1356","v":-1.1746959779970167E-7},"-",{"$f":"L1358","v":-1.1746959779970167E-7},-1.1911556836547117E-7,0,1.6459705657695003E-9,5.107916537951826E-8,"-",5.107916537951826E-8,0,5.107916537951826E-8,5.107916537951826E-8,5.2443942481477897E-8,-1.3647771019596366E-9,5.3735431717562505E-8,5.3735431717562505E-8,5.3735431717562505E-8,"-",5.1563441125356828E-8,5.1563441125356828E-8,5.1563441125356828E-8,"-",3.6094408787749776E-8,7.4993577369104043E-5,-1.1442846977990218E-7,-1.0927113957547799E-6,6.2800002099116909,-2.9088820873213997E-4,2.9088820873213997E-4,{"$f":"FI_T-Rechentabelle!AL1358","v":-2.0991169069617399E-7},{"$f":"K1358","v":-1.1793765963830083E-10}]
[8.4812499582767487E-2,6.2500002968590707E-5,6.2800002098083496,0,0,null,0,null,null,null,null,null,"-",{"$f":"N1358+(L1360-L1358)/2","v":-1.1334635100850269E-7},-1.1442846977990218E-7,0,1.0821187713994834E-9,5.0037080257333505E-8,"-",5.0037080257333505E-8,0,5.0037080257333505E-8,5.0037080257333505E-8,5.1563441125356828E-8,-1.5263608680233225E-9,3.9537521869177554E-8,3.9537521869177554E-8,3.9537521869177554E-8,"-",5.0578692178227399E-8,5.0578692178227399E-8,5.0578692178227399E-8,"-",3.5405084524759177E-8,7.3561364065570696E-5,-1.09830884525804E-7,-1.0488076905862118E-6,6.2800002099048262,-2.9088820873213997E-4,2.9088820873213997E-4,{"$f":"FI_T-Rechentabelle!AL1359","v":-2.0990482596516813E-7},{"$f":"AP1358","v":-1.1793765963830083E-10}]
[8.4875002503395081E-2,6.2500002968590707E-5,6.2800002098083496,0,0,null,0,null,{"$f":"C1360","v":6.2800002098083496},{"$f":"AL1358","v":6.2800002099116909},{"$f":"I1360-J1360","v":-1.0334133548894897E-10},{"$f":"L1358+KP_LR*(1+2*TA_SIM/TN_LR)*K1360-KP_LR*K1358","v":-1.0922310421730371E-7},"-",{"$f":"L1360","v":-1.0922310421730371E-7},-1.09830884525804E-7,0,6.0778030850028896E-10,4.9086670477081972E-8,"-",4.9086670477081972E-8,0,4.9086670477081972E-8,4.9086670477081972E-8,5.0578692178227399E-8,-1.4920217011454265E-9,3.915638536788293E-8,3.915638536788293E-8,3.915638536788293E-8,"-",4.9616097532309975E-8,4.9616097532309975E-8,4.9616097532309975E-8,"-",3.473126827261698E-8,7.2161371852518127E-5,-1.0532079878502161E-7,-1.0057395442213846E-6,6.2800002098982439,-2.9088820873213997E-4,2.9088820873213997E-4,{"$f":"FI_T-Rechentabelle!AL1360","v":-2.0989824367489973E-7},{"$f":"K1360","v":-1.0334133548894897E-10}]
[8.4937497973442078E-2,6.2500002968590707E-5,6.2800002098083496,0,0,null,0,null,null,null,null,null,"-",{"$f":"N1360+(L1362-L1360)/2","v":-1.0521143033903341E-7},-1.0532079878502161E-7,0,1.0936844598820746E-10,4.7958996835798298E-8,"-",4.7958996835798298E-8,0,4.7958996835798298E-8,4.7958996835798298E-8,4.9616097532309975E-8,-1.657100696511677E-9,2.446852297063654E-8,2.446852297063654E-8,2.446852297063654E-8,"-",4.8547000308737353E-8,4.8547000308737353E-8,4.8547000308737353E-8,"-",3.3982900216116144E-8,7.060648289240836E-5,-1.009078936042461E-7,-9.6359940384640914E-7,6.280000209891937,-2.9088820873213997E-4,2.9088820873213997E-4,{"$f":"FI_T-Rechentabelle!AL1361","v":-2.0989193671994144E-7},{"$f":"AP1360","v":-1.0334133548894897E-10}]
[8.5000000894069672E-2,6.2500002968590707E-5,6.2800002098083496,0,0,null,0,null,{"$f":"C1362","v":6.2800002098083496},{"$f":"AL1360","v":6.2800002098982439},{"$f":"I1362-J1362","v":-8.9894314214689075E-11},{"$f":"L1360+KP_LR*(1+2*TA_SIM/TN_LR)*K1362-KP_LR*K1360","v":-1.0119975646076309E-7},"-",{"$f":"L1362","v":-1.0119975646076309E-7},-1.009078936042461E-7,0,-2.9186285651699244E-10,4.6958579055929028E-8,"-",4.6958579055929028E-8,0,4.6958579055929028E-8,4.6958579055929028E-8,4.8547000308737353E-8,-1.5884212528083247E-9,2.6317491900817558E-8,2.6317491900817558E-8,2.6317491900817558E-8,"-",4.7522212403683444E-8,4.7522212403683444E-8,4.7522212403683444E-8,"-",3.3265548682578407E-8,6.9116037154744241E-5,-9.6588141282074584E-8,-9.2234880774603164E-7,6.2800002098859,-2.9088820873213997E-4,2.9088820873213997E-4,{"$f":"FI_T-Rechentabelle!AL1362","v":-2.0988589977122274E-7},{"$f":"K1362","v":-8.9894314214689075E-11}]
[8.5062503814697266E-2,6.2500002968590707E-5,6.2800002098083496,0,0,null,0,null,null,null,null,null,"-",{"$f":"N1362+(L1364-L1362)/2","v":-9.731775450071231E-8},-9.6588141282074584E-8,0,-7.2961321863772555E-10,4.5766861719451965E-8,"-",4.5766861719451965E-8,0,4.5766861719451965E-8,4.5766861719451965E-8,4.7522212403683444E-8,-1.7553506842314783E-9,{"$f":"Z1362+KP_SR*(1+TA_SIM/TN_SR)*Y1363-KP_SR*Y1362","v":1.1315918273004384E-8},1.1315918273004384E-8,1.1315918273004384E-8,"-",4.6389728091260183E-8,4.6389728091260183E-8,4.6389728091260183E-8,"-",3.2472809663882128E-8,6.7468958370833415E-5,{"$f":"AJ1362+AI1363*TA_SIM","v":-9.2371331383897497E-8},-8.8208123938360874E-7,{"$f":"AL1362+AJ1363*TA_SIM","v":6.2800002098801269},-2.9088820873213997E-4,2.9088820873213997E-4,{"$f":"FI_T-Rechentabelle!AL1363","v":-2.0988012661149469E-7},{"$f":"AP1362","v":-8.9894314214689075E-11}]
[8.5124999284744263E-2,6.2500002968590707E-5,6.2800002098083496,0,0,null,0,null,{"$f":"C1364","v":6.2800002098083496},{"$f":"AL1362","v":6.2800002098859},{"$f":"I1364-J1364","v":-7.7550410537696735E-11},{"$f":"L1362+KP_LR*(1+2*TA_SIM/TN_LR)*K1364-KP_LR*K1362","v":-9.3435752540661518E-8},"-",{"$f":"L1364","v":-9.3435752540661518E-8},-9.2371331383897497E-8,0,-1.0644211567640212E-9,4.473193842199959E-8,"-",4.473193842199959E-8,0,4.473193842199959E-8,4.473193842199959E-8,4.6389728091260183E-8,-1.6577896692605935E-9,1.5062401103956981E-8,1.5062401103956981E-8,1.5062401103956981E-8,"-",4.5320186369141139E-8,4.5320186369141139E-8,4.5320186369141139E-8,"-",3.1724130458398794E-8,6.5913422934549745E-5,-8.8251742450488139E-8,-8.4274206284808264E-7,6.2800002098746113,-2.9088820873213997E-4,2.9088820873213997E-4,{"$f":"FI_T-Rechentabelle!AL1364","v":-2.0987461102350835E-7},{"$f":"K1364","v":-7.7550410537696735E-11}]
[8.5187502205371857E-2,6.2500002968590707E-5,6.2800002098083496,0,0,null,0,null,null,null,null,null,"-",{"$f":"N1364+(L1366-L1364)/2","v":-8.9698590339800617E-8},-8.8251742450488139E-8,0,-1.4468478893124782E-9,4.3493495741980447E-8,"-",4.3493495741980447E-8,0,4.3493495741980447E-8,4.3493495741980447E-8,4.5320186369141139E-8,-1.8266906271606915E-9,-2.1103569494408764E-10,-2.1103569494408764E-10,-2.1103569494408764E-10,"-",4.4141676287086943E-8,4.4141676287086943E-8,4.4141676287086943E-8,"-",3.0899173400960856E-8,6.4199404531395916E-5,-8.423927966727589E-8,-8.0442586569285304E-7,6.2800002098693462,-2.9088820873213997E-4,2.9088820873213997E-4,{"$f":"FI_T-Rechentabelle!AL1365","v":-2.0986934590183637E-7},{"$f":"AP1364","v":-7.7550410537696735E-11}]
[8.5249997675418854E-2,6.2500002968590707E-5,6.2800002098083496,0,0,null,0,null,{"$f":"C1366","v":6.2800002098083496},{"$f":"AL1364","v":6.2800002098746113},{"$f":"I1366-J1366","v":-6.6261662823308143E-11},{"$f":"L1364+KP_LR*(1+2*TA_SIM/TN_LR)*K1366-KP_LR*K1364","v":-8.5961428138939716E-8},"-",{"$f":"L1366","v":-8.5961428138939716E-8},-8.423927966727589E-8,0,-1.7221484716638261E-9,4.2436044192031386E-8,"-",4.2436044192031386E-8,0,4.2436044192031386E-8,4.2436044192031386E-8,4.4141676287086943E-8,-1.7056320950555567E-9,5.0953096065897969E-9,5.0953096065897969E-9,5.0953096065897969E-9,"-",4.3041268483810642E-8,4.3041268483810642E-8,4.3041268483810642E-8,"-",3.0128887938667445E-8,6.2598977641112487E-5,-8.0326843564706359E-8,-7.6706485297754528E-7,6.2800002098643262,-2.9088820873213997E-4,2.9088820873213997E-4,{"$f":"FI_T-Rechentabelle!AL1366","v":-2.0986432591740822E-7},{"$f":"K1366","v":-6.6261662823308143E-11}]
[8.5312500596046448E-2,6.2500002968590707E-5,6.2800002098083496,0,0,null,0,null,null,null,null,null,"-",{"$f":"N1366+(L1368-L1366)/2","v":-8.2380193319908369E-8},-8.0326843564706359E-8,0,-2.0533497552020099E-9,4.1168380501792122E-8,"-",4.1168380501792122E-8,0,4.1168380501792122E-8,4.1168380501792122E-8,4.3041268483810642E-8,-1.8728879820185199E-9,-1.0149087586587037E-8,-1.0149087586587037E-8,-1.0149087586587037E-8,"-",4.1832953656687653E-8,4.1832953656687653E-8,4.1832953656687653E-8,"-",2.9283067559681354E-8,6.0841611385167986E-5,-7.6524242853133366E-8,-7.3075269098644914E-7,6.2800002098595433,-2.9088820873213997E-4,2.9088820873213997E-4,{"$f":"FI_T-Rechentabelle!AL1367","v":-2.0985954307661814E-7},{"$f":"AP1366","v":-6.6261662823308143E-11}]
[8.5374996066093445E-2,6.2500002968590707E-5,6.2800002098083496,0,0,null,0,null,{"$f":"C1368","v":6.2800002098083496},{"$f":"AL1366","v":6.2800002098643262},{"$f":"I1368-J1368","v":-5.5976556723180693E-11},{"$f":"L1366+KP_LR*(1+2*TA_SIM/TN_LR)*K1368-KP_LR*K1366","v":-7.8798958500877035E-8},"-",{"$f":"L1368","v":-7.8798958500877035E-8},-7.6524242853133366E-8,0,-2.274715647743668E-9,4.0101131505184282E-8,"-",4.0101131505184282E-8,0,4.0101131505184282E-8,4.0101131505184282E-8,4.1832953656687653E-8,-1.7318221515033716E-9,-3.4873597667881051E-9,-3.4873597667881051E-9,-3.4873597667881051E-9,"-",4.0715649042800611E-8,4.0715649042800611E-8,4.0715649042800611E-8,"-",2.8500954329960424E-8,5.9216609869022278E-5,-7.282320473631947E-8,-6.9541038033470211E-7,6.2800002098549923,-2.9088820873213997E-4,2.9088820873213997E-4,{"$f":"FI_T-Rechentabelle!AL1368","v":-2.0985499205039559E-7},{"$f":"K1368","v":-5.5976556723180693E-11}]
[8.5437498986721039E-2,6.2500002968590707E-5,6.2800002098083496,0,0,null,0,null,null,null,null,null,"-",{"$f":"N1368+(L1370-L1368)/2","v":-7.5382132553556064E-8},-7.282320473631947E-8,0,-2.5589278172365945E-9,3.8819039806066861E-8,"-",3.8819039806066861E-8,0,3.8819039806066861E-8,3.8819039806066861E-8,4.0715649042800611E-8,-1.8966092367337492E-9,-1.8602844708460992E-8,-1.8602844708460992E-8,-1.8602844708460992E-8,"-",3.9492030180378197E-8,3.9492030180378197E-8,3.9492030180378197E-8,"-",2.7644421126264738E-8,5.7436985510626919E-5,-6.9233393141905287E-8,{"$f":"AJ1369/(2*PI())*60","v":-6.6113020473352512E-7},6.2800002098506651,-2.9088820873213997E-4,2.9088820873213997E-4,{"$f":"FI_T-Rechentabelle!AL1369","v":-2.0985066484513482E-7},{"$f":"AP1368","v":-5.5976556723180693E-11}]
[8.5500001907348633E-2,6.2500002968590707E-5,6.2800002098083496,0,0,null,0,null,{"$f":"C1370","v":6.2800002098083496},{"$f":"AL1368","v":6.2800002098549923},{"$f":"I1370-J1370","v":-4.6642689710552077E-11},{"$f":"L1368+KP_LR*(1+2*TA_SIM/TN_LR)*K1370-KP_LR*K1368","v":-7.1965306606235094E-8},"-",{"$f":"L1370","v":-7.1965306606235094E-8},-6.9233393141905287E-8,0,-2.7319134643298062E-9,3.7752379450486411E-8,"-",3.7752379450486411E-8,0,3.7752379450486411E-8,3.7752379450486411E-8,3.9492030180378197E-8,-1.7396507298917866E-9,-1.0840200561545277E-8,-1.0840200561545277E-8,-1.0840200561545277E-8,"-",3.8369674870757408E-8,3.8369674870757408E-8,3.8369674870757408E-8,"-",2.6858772409530182E-8,5.5804638291149342E-5,-6.5745603248708449E-8,-6.2782426461543135E-7,6.2800002098465564,-2.9088820873213997E-4,2.9088820873213997E-4,{"$f":"FI_T-Rechentabelle!AL1370","v":-2.0984655613176528E-7},{"$f":"K1370","v":-4.6642689710552077E-11}]
[8.556249737739563E-2,6.2500002968590707E-5,6.2800002098083496,0,0,null,0,null,null,null,null,null,"-",{"$f":"N1370+(L1372-L1370)/2","v":-6.8718729245540178E-8},-6.5745603248708449E-8,0,-2.9731259968317295E-9,3.6468897736385434E-8,"-",3.6468897736385434E-8,0,3.6468897736385434E-8,3.6468897736385434E-8,3.8369674870757408E-8,-1.9007771343719733E-9,-2.5706527333882717E-8,-2.5706527333882717E-8,-2.5706527333882717E-8,"-",3.7143367042117487E-8,3.7143367042117487E-8,3.7143367042117487E-8,"-",2.600035692948224E-8,5.4021103115483562E-5,-6.236928430399072E-8,-5.9558279364503307E-7,6.2800002098426582,-2.9088820873213997E-4,2.9088820873213997E-4,{"$f":"FI_T-Rechentabelle!AL1371","v":-2.0984265791668122E-7},{"$f":"AP1370","v":-4.6642689710552077E-11}]
[8.5625000298023224E-2,6.2500002968590707E-5,6.2800002098083496,0,0,null,0,null,{"$f":"C1372","v":6.2800002098083496},{"$f":"AL1370","v":6.2800002098465564},{"$f":"I1372-J1372","v":-3.8206771080240287E-11},{"$f":"L1370+KP_LR*(1+2*TA_SIM/TN_LR)*K1372-KP_LR*K1370","v":-6.5472151884845276E-8},"-",{"$f":"L1372","v":-6.5472151884845276E-8},-6.236928430399072E-8,0,-3.1028675808545562E-9,3.5411956048250781E-8,"-",3.5411956048250781E-8,0,3.5411956048250781E-8,3.5411956048250781E-8,3.7143367042117487E-8,-1.7314109938667066E-9,-1.7057531072747516E-8,-1.7057531072747516E-8,-1.7057531072747516E-8,"-",3.6026327691223231E-8,3.6026327691223231E-8,3.6026327691223231E-8,"-",2.5218429383856259E-8,5.2396487396335461E-5,-5.9094503841719752E-8,-5.6431094375836187E-7,6.2800002098389651,-2.9088820873213997E-4,2.9088820873213997E-4,{"$f":"FI_T-Rechentabelle!AL1372","v":-2.0983896487081211E-7},{"$f":"K1372","v":-3.8206771080240287E-11}]
[8.5687503218650818E-2,6.2500002968590707E-5,6.2800002098083496,0,0,null,0,null,null,null,null,null,"-",{"$f":"N1372+(L1374-L1372)/2","v":-6.2399524293319711E-8},-5.9094503841719752E-8,0,-3.3050204515999588E-9,3.4138024260343377E-8,"-",3.4138024260343377E-8,0,3.4138024260343377E-8,3.4138024260343377E-8,3.6026327691223231E-8,-1.8883034308798542E-9,-3.1603322747961749E-8,-3.1603322747961749E-8,-3.1603322747961749E-8,"-",3.4808067413224045E-8,3.4808067413224045E-8,3.4808067413224045E-8,"-",2.4365647189256831E-8,5.0624656532841948E-5,-5.5930462808417132E-8,-5.3409657752261993E-7,6.2800002098354692,-2.9088820873213997E-4,2.9088820873213997E-4,{"$f":"FI_T-Rechentabelle!AL1373","v":-2.0983546900055217E-7},{"$f":"AP1372","v":-3.8206771080240287E-11}]
[8.5749998688697815E-2,6.2500002968590707E-5,6.2800002098083496,0,0,null,0,null,{"$f":"C1374","v":6.2800002098083496},{"$f":"AL1372","v":6.2800002098389651},{"$f":"I1374-J1374","v":-3.0615510127063317E-11},{"$f":"L1372+KP_LR*(1+2*TA_SIM/TN_LR)*K1374-KP_LR*K1372","v":-5.9326896701794146E-8},"-",{"$f":"L1374","v":-5.9326896701794146E-8},-5.5930462808417132E-8,0,-3.3964338933770134E-9,3.3098282396179802E-8,"-",3.3098282396179802E-8,0,3.3098282396179802E-8,3.3098282396179802E-8,3.4808067413224045E-8,-1.7097850170442428E-9,-2.2271434440938394E-8,-2.2271434440938394E-8,-2.2271434440938394E-8,"-",3.3704980305441692E-8,3.3704980305441692E-8,3.3704980305441692E-8,"-",2.3593486213809182E-8,4.9020332877226639E-5,-5.2866692003590467E-8,-5.0483972143729199E-7,6.2800002098321652,-2.9088820873213997E-4,2.9088820873213997E-4,{"$f":"FI_T-Rechentabelle!AL1374","v":-2.0983216497683088E-7},{"$f":"K1374","v":-3.0615510127063317E-11}]
[8.5812501609325409E-2,6.2500002968590707E-5,6.2800002098083496,0,0,null,0,null,null,null,null,null,"-",{"$f":"N1374+(L1376-L1374)/2","v":-5.6429781529608762E-8},-5.2866692003590467E-8,0,-3.5630895260182951E-9,3.1843647938483568E-8,"-",3.1843647938483568E-8,0,3.1843647938483568E-8,3.1843647938483568E-8,3.3704980305441692E-8,-1.8613323669581242E-9,-3.6391573495653782E-8,-3.6391573495653782E-8,-3.6391573495653782E-8,"-",3.2504120713844245E-8,3.2504120713844245E-8,3.2504120713844245E-8,"-",2.2752884499690972E-8,4.7273809473698255E-5,-4.9912078911484328E-8,-4.7662524472532872E-7,6.2800002098290459,-2.9088820873213997E-4,2.9088820873213997E-4,{"$f":"FI_T-Rechentabelle!AL1375","v":-2.0982904569422089E-7},{"$f":"AP1374","v":-3.0615510127063317E-11}]
[8.5875004529953003E-2,6.2500002968590707E-5,6.2800002098083496,0,0,null,0,null,{"$f":"C1376","v":6.2800002098083496},{"$f":"AL1374","v":6.2800002098321652},{"$f":"I1376-J1376","v":-2.3815616145839158E-11},{"$f":"L1374+KP_LR*(1+2*TA_SIM/TN_LR)*K1376-KP_LR*K1374","v":-5.3532666357423386E-8},"-",{"$f":"L1376","v":-5.3532666357423386E-8},-4.9912078911484328E-8,0,-3.6205874459390575E-9,3.0827808456723919E-8,"-",3.0827808456723919E-8,0,3.0827808456723919E-8,3.0827808456723919E-8,3.2504120713844245E-8,-1.6763122571203267E-9,-2.6540681621651569E-8,-2.6540681621651569E-8,-2.6540681621651569E-8,"-",3.1422628935045682E-8,3.1422628935045682E-8,3.1422628935045682E-8,"-",2.1995840254531977E-8,4.5700893942513973E-5,-4.7055773040077203E-8,-4.4934953282031788E-7,6.2800002098261052,-2.9088820873213997E-4,2.9088820873213997E-4,{"$f":"FI_T-Rechentabelle!AL1376","v":-2.0982610493547327E-7},{"$f":"K1376","v":-2.3815616145839158E-11}]
[8.59375E-2,6.2500002968590707E-5,6.2800002098083496,0,0,null,0,null,null,null,null,null,"-",{"$f":"N1376+(L1378-L1376)/2","v":-5.081156549197434E-8},-4.7055773040077203E-8,0,-3.7557924518971369E-9,2.9599035041371379E-8,"-",2.9599035041371379E-8,0,2.9599035041371379E-8,2.9599035041371379E-8,3.1422628935045682E-8,-1.8235938936743033E-9,-4.0290787653089066E-8,-4.0290787653089066E-8,-4.0290787653089066E-8,"-",3.0246116745567422E-8,3.0246116745567422E-8,3.0246116745567422E-8,"-",2.1172281721897193E-8,4.3989781263031769E-5,-4.4306411711137716E-8,-4.2309506606953253E-7,6.2800002098233358,-2.9088820873213997E-4,2.9088820873213997E-4,{"$f":"FI_T-Rechentabelle!AL1377","v":-2.0982333559516064E-7},{"$f":"AP1376","v":-2.3815616145839158E-11}]
[8.5999995470046997E-2,6.2500002968590707E-5,6.2800002098083496,0,0,null,0,null,{"$f":"C1378","v":6.2800002098083496},{"$f":"AL1376","v":6.2800002098261052},{"$f":"I1378-J1378","v":-1.7755574788225204E-11},{"$f":"L1376+KP_LR*(1+2*TA_SIM/TN_LR)*K1378-KP_LR*K1376","v":-4.8090464626525302E-8},"-",{"$f":"L1378","v":-4.8090464626525302E-8},-4.4306411711137716E-8,0,-3.7840529153875856E-9,2.8611058709763442E-8,"-",2.8611058709763442E-8,0,2.8611058709763442E-8,2.8611058709763442E-8,3.0246116745567422E-8,-1.6350580358039798E-9,-3.0115927632147362E-8,-3.0115927632147362E-8,-3.0115927632147362E-8,"-",2.9191240593425139E-8,2.9191240593425139E-8,2.9191240593425139E-8,"-",2.0433868415397597E-8,4.2455575348841878E-5,-4.16529382518351E-8,-3.9775626102486277E-7,6.2800002098207326,-2.9088820873213997E-4,2.9088820873213997E-4,{"$f":"FI_T-Rechentabelle!AL1378","v":-2.098207323442125E-7},{"$f":"K1378","v":-1.7755574788225204E-11}]
[8.6062498390674591E-2,6.2500002968590707E-5,6.2800002098083496,0,0,null,0,null,null,null,null,null,"-",{"$f":"N1378+(L1380-L1378)/2","v":-4.5543273822449858E-8},-4.16529382518351E-8,0,-3.8903355706147577E-9,2.7416469706510965E-8,"-",2.7416469706510965E-8,0,2.7416469706510965E-8,2.7416469706510965E-8,2.9191240593425139E-8,-1.7747708869141739E-9,-4.3243407485592666E-8,-4.3243407485592666E-8,-4.3243407485592666E-8,"-",2.8046227117986235E-8,2.8046227117986235E-8,2.8046227117986235E-8,"-",1.9632358982590365E-8,4.0790274221047915E-5,-3.9103546113019604E-8,-3.7341135937853644E-7,6.2800002098182883,-2.9088820873213997E-4,2.9088820873213997E-4,{"$f":"FI_T-Rechentabelle!AL1379","v":-2.0981828807720149E-7},{"$f":"AP1378","v":-1.7755574788225204E-11}]
[8.6125001311302185E-2,6.2500002968590707E-5,6.2800002098083496,0,0,null,0,null,{"$f":"C1380","v":6.2800002098083496},{"$f":"AL1378","v":6.2800002098207326},{"$f":"I1380-J1380","v":-1.2382983527459146E-11},{"$f":"L1378+KP_LR*(1+2*TA_SIM/TN_LR)*K1380-KP_LR*K1378","v":-4.2996083018374414E-8},"-",{"$f":"L1380","v":-4.2996083018374414E-8},-3.9103546113019604E-8,0,-3.8925369053548101E-9,2.6462399502565248E-8,"-",2.6462399502565248E-8,0,2.6462399502565248E-8,2.6462399502565248E-8,2.8046227117986235E-8,-1.5838276154209867E-9,-3.2803712096084342E-8,-3.2803712096084342E-8,-3.2803712096084342E-8,"-",2.702440284996256E-8,2.702440284996256E-8,2.702440284996256E-8,"-",1.8917081994973792E-8,3.9304138780331995E-5,-3.6647037439248852E-8,-3.4995342948781255E-7,6.2800002098159977,-2.9088820873213997E-4,2.9088820873213997E-4,{"$f":"FI_T-Rechentabelle!AL1380","v":-2.0981599746505708E-7},{"$f":"K1380","v":-1.2382983527459146E-11}]
[8.6187496781349182E-2,6.2500002968590707E-5,6.2800002098083496,0,0,null,0,null,null,null,null,null,"-",{"$f":"N1380+(L1382-L1380)/2","v":-4.0620211794540225E-8},-3.6647037439248852E-8,0,-3.9731743552913722E-9,2.5307010080081446E-8,"-",2.5307010080081446E-8,0,2.5307010080081446E-8,2.5307010080081446E-8,2.702440284996256E-8,-1.717392769881114E-9,-4.5392310701192138E-8,-4.5392310701192138E-8,-4.5392310701192138E-8,"-",2.5916407514545516E-8,2.5916407514545516E-8,2.5916407514545516E-8,"-",1.8141485260181859E-8,3.7692676626182957E-5,-3.4291245150112418E-8,-3.2745727022498248E-7,6.2800002098138545,-2.9088820873213997E-4,2.9088820873213997E-4,{"$f":"FI_T-Rechentabelle!AL1381","v":-2.0981385429053034E-7},{"$f":"AP1380","v":-1.2382983527459146E-11}]
[8.6249999701976776E-2,6.2500002968590707E-5,6.2800002098083496,0,0,null,0,null,{"$f":"C1382","v":6.2800002098083496},{"$f":"AL1380","v":6.2800002098159977},{"$f":"I1382-J1382","v":-7.6481043720377784E-12},{"$f":"L1380+KP_LR*(1+2*TA_SIM/TN_LR)*K1382-KP_LR*K1380","v":-3.8244340570706041E-8},"-",{"$f":"L1382","v":-3.8244340570706041E-8},-3.4291245150112418E-8,0,-3.9530954205936239E-9,2.4389777929963091E-8,"-",2.4389777929963091E-8,0,2.4389777929963091E-8,2.4389777929963091E-8,2.5916407514545516E-8,-1.5266295845824242E-9,-3.4858240530089951E-8,-3.4858240530089951E-8,-3.4858240530089951E-8,"-",2.4931485201902078E-8,2.4931485201902078E-8,2.4931485201902078E-8,"-",1.7452039641331455E-8,3.6260211180825792E-5,-3.2024981951310804E-8,-3.0581605079879081E-7,6.2800002098118526,-2.9088820873213997E-4,2.9088820873213997E-4,{"$f":"FI_T-Rechentabelle!AL1382","v":-2.0981185233637234E-7},{"$f":"K1382","v":-7.6481043720377784E-12}]
[8.631250262260437E-2,6.2500002968590707E-5,6.2800002098083496,0,0,null,0,null,null,null,null,null,"-",{"$f":"N1382+(L1384-L1382)/2","v":-3.6036280252030897E-8},-3.2024981951310804E-8,0,-4.0112983007200933E-9,2.3277053308599399E-8,"-",2.3277053308599399E-8,0,2.3277053308599399E-8,2.3277053308599399E-8,2.4931485201902078E-8,-1.6544318933026791E-9,-4.6924526774826399E-8,-4.6924526774826399E-8,-4.6924526774826399E-8,"-",2.3864109786858724E-8,2.3864109786858724E-8,2.3864109786858724E-8,"-",1.6704876850801106E-8,3.4707826409310421E-5,-2.9855742800728902E-8,-2.8510134278497638E-7,6.2800002098099865,-2.9088820873213997E-4,2.9088820873213997E-4,{"$f":"FI_T-Rechentabelle!AL1383","v":-2.0980998627351255E-7},{"$f":"AP1382","v":-7.6481043720377784E-12}]
[8.6374998092651367E-2,6.2500002968590707E-5,6.2800002098083496,0,0,null,0,null,{"$f":"C1384","v":6.2800002098083496},{"$f":"AL1382","v":6.2800002098118526},{"$f":"I1384-J1384","v":-3.5029756872972939E-12},{"$f":"L1382+KP_LR*(1+2*TA_SIM/TN_LR)*K1384-KP_LR*K1382","v":-3.3828219933355746E-8},"-",{"$f":"L1384","v":-3.3828219933355746E-8},-2.9855742800728902E-8,0,-3.9724771326268445E-9,2.2398503615966731E-8,"-",2.2398503615966731E-8,0,2.2398503615966731E-8,2.2398503615966731E-8,2.3864109786858724E-8,-1.4656061708919922E-9,-3.6412281160183839E-8,-3.6412281160183839E-8,-3.6412281160183839E-8,"-",2.2918557418532184E-8,2.2918557418532184E-8,2.2918557418532184E-8,"-",1.6042990192972529E-8,3.3332620388473983E-5,-2.7772454026449277E-8,-2.6520740040610886E-7,6.280000209808251,-2.9088820873213997E-4,2.9088820873213997E-4,{"$f":"FI_T-Rechentabelle!AL1384","v":-2.0980825077288046E-7},{"$f":"K1384","v":-3.5029756872972939E-12}]
[8.6437501013278961E-2,6.2500002968590707E-5,6.2800002098083496,0,0,null,0,null,null,null,null,null,"-",{"$f":"N1384+(L1386-L1384)/2","v":-3.1783614935219981E-8},-2.7772454026449277E-8,0,-4.0111609087707039E-9,2.133101932161347E-8,"-",2.133101932161347E-8,0,2.133101932161347E-8,2.133101932161347E-8,2.2918557418532184E-8,-1.5875380969187132E-9,-4.7941348278100938E-8,-4.7941348278100938E-8,-4.7941348278100938E-8,"-",2.1894339291478962E-8,2.1894339291478962E-8,2.1894339291478962E-8,"-",1.5326037504035273E-8,3.1843003332714048E-5,-2.5782266318154648E-8,-2.4620250771875961E-7,6.2800002098066399,-2.9088820873213997E-4,2.9088820873213997E-4,{"$f":"FI_T-Rechentabelle!AL1385","v":-2.0980663961722712E-7},{"$f":"AP1384","v":-3.5029756872972939E-12}]
[8.6500003933906555E-2,6.2500002968590707E-5,6.2800002098083496,0,0,null,0,null,{"$f":"C1386","v":6.2800002098083496},{"$f":"AL1384","v":6.280000209808251},{"$f":"I1386-J1386","v":9.8587804586713901E-14},{"$f":"L1384+KP_LR*(1+2*TA_SIM/TN_LR)*K1386-KP_LR*K1384","v":-2.9739009937084218E-8},"-",{"$f":"L1386","v":-2.9739009937084218E-8},-2.5782266318154648E-8,0,-3.9567436189295697E-9,2.0492426430837968E-8,"-",2.0492426430837968E-8,0,2.0492426430837968E-8,2.0492426430837968E-8,2.1894339291478962E-8,-1.4019128606409948E-9,-3.7534588012838438E-8,-3.7534588012838438E-8,-3.7534588012838438E-8,"-",2.098987938137934E-8,2.098987938137934E-8,2.098987938137934E-8,"-",1.4692915566965537E-8,3.052756195089453E-5,-2.387429369622374E-8,-2.279827112749011E-7,6.2800002098051477,-2.9088820873213997E-4,2.9088820873213997E-4,{"$f":"FI_T-Rechentabelle!AL1386","v":-2.0980514747748202E-7},{"$f":"K1386","v":9.8587804586713901E-14}]
[8.6562499403953552E-2,6.2500002968590707E-5,6.2800002098083496,0,0,null,0,null,null,null,null,null,"-",{"$f":"N1386+(L1388-L1386)/2","v":-2.7852190164944272E-8},-2.387429369622374E-8,0,-3.9778964687205318E-9,1.9473653914805024E-8,"-",1.9473653914805024E-8,0,1.9473653914805024E-8,1.9473653914805024E-8,2.098987938137934E-8,-1.5162254665743156E-9,-4.8395404386135746E-8,-4.8395404386135746E-8,-4.8395404386135746E-8,"-",2.0011669402935867E-8,2.0011669402935867E-8,2.0011669402935867E-8,"-",1.4008168582055105E-8,2.9104858886463959E-5,-2.2055240015819742E-8,-2.1061202817575304E-7,6.2800002098037693,-2.9088820873213997E-4,2.9088820873213997E-4,{"$f":"FI_T-Rechentabelle!AL1387","v":-2.0980376902457465E-7},{"$f":"AP1386","v":9.8587804586713901E-14}]
[8.6625002324581146E-2,6.2500002968590707E-5,6.2800002098083496,0,0,null,0,null,{"$f":"C1388","v":6.2800002098083496},{"$f":"AL1386","v":6.2800002098051477},{"$f":"I1388-J1388","v":3.2018832030189515E-12},{"$f":"L1386+KP_LR*(1+2*TA_SIM/TN_LR)*K1388-KP_LR*K1386","v":-2.596537039280433E-8},"-",{"$f":"L1388","v":-2.596537039280433E-8},-2.2055240015819742E-8,0,-3.910130376984588E-9,1.8677341215974742E-8,"-",1.8677341215974742E-8,0,1.8677341215974742E-8,1.8677341215974742E-8,2.0011669402935867E-8,-1.3343281869611248E-9,-3.8123873883085482E-8,-3.8123873883085482E-8,-3.8123873883085482E-8,"-",1.9150812508114028E-8,1.9150812508114028E-8,1.9150812508114028E-8,"-",1.3405568755679819E-8,2.7852833483648073E-5,-2.0314437923091738E-8,-1.9398859269561038E-7,6.2800002098024992,-2.9088820873213997E-4,2.9088820873213997E-4,{"$f":"FI_T-Rechentabelle!AL1388","v":-2.0980249892943448E-7},{"$f":"K1388","v":3.2018832030189515E-12}]
[8.6687497794628143E-2,6.2500002968590707E-5,6.2800002098083496,0,0,null,0,null,null,null,null,null,"-",{"$f":"N1388+(L1390-L1388)/2","v":-2.4229925769197814E-8},-2.0314437923091738E-8,0,-3.9154878461060769E-9,1.7710366039455673E-8,"-",1.7710366039455673E-8,0,1.7710366039455673E-8,1.7710366039455673E-8,1.9150812508114028E-8,-1.4404464686583549E-9,-4.8267721501000255E-8,-4.8267721501000255E-8,-4.8267721501000255E-8,"-",1.8221492205745798E-8,1.8221492205745798E-8,1.8221492205745798E-8,"-",1.2755044544022058E-8,2.6501235287808137E-5,-1.8658110717603728E-8,-1.7817183296775022E-7,6.280000209801333,-2.9088820873213997E-4,2.9088820873213997E-4,{"$f":"FI_T-Rechentabelle!AL1389","v":-2.0980133275116941E-7},{"$f":"AP1388","v":3.2018832030189515E-12}]
[8.6750000715255737E-2,6.2500002968590707E-5,6.2800002098083496,0,0,null,0,null,{"$f":"C1390","v":6.2800002098083496},{"$f":"AL1388","v":6.2800002098024992},{"$f":"I1390-J1390","v":5.8504312505647249E-12},{"$f":"L1388+KP_LR*(1+2*TA_SIM/TN_LR)*K1390-KP_LR*K1388","v":-2.2494481145591299E-8},"-",{"$f":"L1390","v":-2.2494481145591299E-8},-1.8658110717603728E-8,0,-3.836370427987571E-9,1.6958325486575565E-8,"-",1.6958325486575565E-8,0,1.6958325486575565E-8,1.6958325486575565E-8,1.8221492205745798E-8,-1.263166719170233E-9,-3.8187171011507374E-8,-3.8187171011507374E-8,-3.8187171011507374E-8,"-",1.7406545935305595E-8,1.7406545935305595E-8,1.7406545935305595E-8,"-",1.2184582154713915E-8,2.5315982037635392E-5,-1.7075861840251518E-8,-1.6306246916581786E-7,6.2800002098002654,-2.9088820873213997E-4,2.9088820873213997E-4,{"$f":"FI_T-Rechentabelle!AL1390","v":-2.0980026516070893E-7},{"$f":"K1390","v":5.8504312505647249E-12}]
[8.6812496185302734E-2,6.2500002968590707E-5,6.2800002098083496,0,0,null,0,null,null,null,null,null,"-",{"$f":"N1390+(L1392-L1390)/2","v":-2.090441066414715E-8},-1.7075861840251518E-8,0,-3.8285488238956324E-9,1.6043068533681564E-8,"-",1.6043068533681564E-8,0,1.6043068533681564E-8,1.6043068533681564E-8,1.7406545935305595E-8,-1.3634774016240305E-9,-4.777935598936729E-8,-4.777935598936729E-8,-4.777935598936729E-8,"-",1.6526883095540567E-8,1.6526883095540567E-8,1.6526883095540567E-8,"-",1.1568818166878397E-8,2.4036605374773315E-5,-1.5573574004328187E-8,-1.4871667706377641E-7,6.280000209799292,-2.9088820873213997E-4,2.9088820873213997E-4,{"$f":"FI_T-Rechentabelle!AL1391","v":-2.0979929171716094E-7},{"$f":"AP1390","v":5.8504312505647249E-12}]
[8.6874999105930328E-2,6.2500002968590707E-5,6.2800002098083496,0,0,null,0,null,{"$f":"C1392","v":6.2800002098083496},{"$f":"AL1390","v":6.2800002098002654},{"$f":"I1392-J1392","v":8.0841999761105399E-12},{"$f":"L1390+KP_LR*(1+2*TA_SIM/TN_LR)*K1392-KP_LR*K1390","v":-1.9314340182703001E-8},"-",{"$f":"L1392","v":-1.9314340182703001E-8},-1.5573574004328187E-8,0,-3.7407661783748139E-9,1.5334404520433441E-8,"-",1.5334404520433441E-8,0,1.5334404520433441E-8,1.5334404520433441E-8,1.6526883095540567E-8,-1.1924785751071265E-9,-3.8007430533090828E-8,-3.8007430533090828E-8,-3.8007430533090828E-8,"-",1.5757542079335029E-8,1.5757542079335029E-8,1.5757542079335029E-8,"-",1.1030279455534519E-8,2.2917680148627714E-5,-1.4141218995038956E-8,-1.3503869426432724E-7,6.2800002097984082,-2.9088820873213997E-4,2.9088820873213997E-4,{"$f":"FI_T-Rechentabelle!AL1392","v":-2.0979840797963334E-7},{"$f":"K1392","v":8.0841999761105399E-12}]
[8.6937502026557922E-2,6.2500002968590707E-5,6.2800002098083496,0,0,null,0,null,null,null,null,null,"-",{"$f":"N1392+(L1394-L1392)/2","v":-1.7863116707368573E-8},-1.4141218995038956E-8,0,-3.7218977123296174E-9,1.4470733188053226E-8,"-",1.4470733188053226E-8,0,1.4470733188053226E-8,1.4470733188053226E-8,1.5757542079335029E-8,-1.2868088912818031E-9,-4.7036388071492165E-8,-4.7036388071492165E-8,-4.7036388071492165E-8,"-",1.4927342794629893E-8,1.4927342794629893E-8,1.4927342794629893E-8,"-",1.0449139956240924E-8,2.1710243000708338E-5,-1.2784328807494684E-8,-1.2208134742949368E-7,6.2800002097976089,-2.9088820873213997E-4,2.9088820873213997E-4,{"$f":"FI_T-Rechentabelle!AL1393","v":-2.0979760861905561E-7},{"$f":"AP1392","v":8.0841999761105399E-12}]
[8.6999997496604919E-2,6.2500002968590707E-5,6.2800002098083496,0,0,null,0,null,{"$f":"C1394","v":6.2800002098083496},{"$f":"AL1392","v":6.2800002097984082},{"$f":"I1394-J1394","v":9.9413810517035017E-12},{"$f":"L1392+KP_LR*(1+2*TA_SIM/TN_LR)*K1394-KP_LR*K1392","v":-1.6411893232034145E-8},"-",{"$f":"L1394","v":-1.6411893232034145E-8},-1.2784328807494684E-8,0,-3.6275644245394606E-9,1.3804838413675499E-8,"-",1.3804838413675499E-8,0,1.3804838413675499E-8,1.3804838413675499E-8,1.4927342794629893E-8,-1.1225043809543934E-9,-3.7603440962553832E-8,-3.7603440962553832E-8,-3.7603440962553832E-8,"-",1.4203146419813593E-8,1.4203146419813593E-8,1.4203146419813593E-8,"-",9.9422024938695153E-9,2.0656975885870587E-5,-1.1493267814627773E-8,-1.0975262309861974E-7,6.2800002097968903,-2.9088820873213997E-4,2.9088820873213997E-4,{"$f":"FI_T-Rechentabelle!AL1394","v":-2.0979689008271407E-7},{"$f":"K1394","v":9.9413810517035017E-12}]
[8.7062500417232513E-2,6.2500002968590707E-5,6.2800002098083496,0,0,null,0,null,null,null,null,null,"-",{"$f":"N1394+(L1396-L1394)/2","v":-1.509199589668875E-8},-1.1493267814627773E-8,0,-3.5987280820609777E-9,1.299428083216916E-8,"-",1.299428083216916E-8,0,1.299428083216916E-8,1.299428083216916E-8,1.4203146419813593E-8,-1.2088655876444326E-9,-4.5927189021937778E-8,-4.5927189021937778E-8,-4.5927189021937778E-8,"-",1.3423233137455514E-8,1.3423233137455514E-8,1.3423233137455514E-8,"-",9.3962631962188596E-9,1.9522674415580426E-5,-1.0273100663653996E-8,-9.810088509006985E-8,6.2800002097962482,-2.9088820873213997E-4,2.9088820873213997E-4,{"$f":"FI_T-Rechentabelle!AL1395","v":-2.0979624792971663E-7},{"$f":"AP1394","v":9.9413810517035017E-12}]
[8.7125003337860107E-2,6.2500002968590707E-5,6.2800002098083496,0,0,null,0,null,{"$f":"C1396","v":6.2800002098083496},{"$f":"AL1394","v":6.2800002097968903},{"$f":"I1396-J1396","v":1.1459277970971016E-11},{"$f":"L1394+KP_LR*(1+2*TA_SIM/TN_LR)*K1396-KP_LR*K1394","v":-1.3772098561343354E-8},"-",{"$f":"L1396","v":-1.3772098561343354E-8},-1.0273100663653996E-8,0,-3.4989978976893584E-9,1.2372229005518074E-8,"-",1.2372229005518074E-8,0,1.2372229005518074E-8,1.2372229005518074E-8,1.3423233137455514E-8,-1.0510041319374404E-9,-3.681272811980735E-8,-3.681272811980735E-8,-3.681272811980735E-8,"-",1.2745165955553737E-8,1.2745165955553737E-8,1.2745165955553737E-8,"-",8.9216161688876151E-9,1.8536497338224836E-5,-9.1145695800149435E-9,-8.7037728168863927E-8,6.2800002097956789,-2.9088820873213997E-4,2.9088820873213997E-4,{"$f":"FI_T-Rechentabelle!AL1396","v":-2.097956786073496E-7},{"$f":"K1396","v":1.1459277970971016E-11}]
[8.7187498807907104E-2,6.2500002968590707E-5,6.2800002098083496,0,0,null,0,null,null,null,null,null,"-",{"$f":"N1396+(L1398-L1396)/2","v":-1.2577203951199957E-8},-9.1145695800149435E-9,0,-3.462634371185013E-9,1.161228325359002E-8,"-",1.161228325359002E-8,0,1.161228325359002E-8,1.161228325359002E-8,1.2745165955553737E-8,-1.1328827019637168E-9,-4.4679662477583915E-8,-4.4679662477583915E-8,-4.4679662477583915E-8,"-",1.2014273889764216E-8,1.2014273889764216E-8,1.2014273889764216E-8,"-",8.4099917228349507E-9,1.7473492048275399E-5,-8.0224763269977312E-9,-7.6609005796764096E-8,6.280000209795177,-2.9088820873213997E-4,2.9088820873213997E-4,{"$f":"FI_T-Rechentabelle!AL1397","v":-2.0979517678654247E-7},{"$f":"AP1396","v":1.1459277970971016E-11}]
[8.7250001728534698E-2,6.2500002968590707E-5,6.2800002098083496,0,0,null,0,null,{"$f":"C1398","v":6.2800002098083496},{"$f":"AL1396","v":6.2800002097956789},{"$f":"I1398-J1398","v":1.2670753335441987E-11},{"$f":"L1396+KP_LR*(1+2*TA_SIM/TN_LR)*K1398-KP_LR*K1396","v":-1.1382309341056557E-8},"-",{"$f":"L1398","v":-1.1382309341056557E-8},-8.0224763269977312E-9,0,-3.3598330140588259E-9,1.1031271729709701E-8,"-",1.1031271729709701E-8,0,1.1031271729709701E-8,1.1031271729709701E-8,1.2014273889764216E-8,-9.8300216005451547E-10,-3.5998180738511014E-8,-3.5998180738511014E-8,-3.5998180738511014E-8,"-",1.1380078947787248E-8,1.1380078947787248E-8,1.1380078947787248E-8,"-",7.9660552634510737E-9,1.6551122508728596E-5,-6.9880311702021943E-9,-6.6730782193075265E-8,6.2800002097947401,-2.9088820873213997E-4,2.9088820873213997E-4,{"$f":"FI_T-Rechentabelle!AL1398","v":-2.0979473980275998E-7},{"$f":"K1398","v":1.2670753335441987E-11}]
[8.7312497198581696E-2,6.2500002968590707E-5,6.2800002098083496,0,0,null,0,null,null,null,null,null,"-",{"$f":"N1398+(L1400-L1398)/2","v":-1.0304236394899581E-8},-6.9880311702021943E-9,0,-3.3162052246973869E-9,1.032384857715374E-8,"-",1.032384857715374E-8,0,1.032384857715374E-8,1.032384857715374E-8,1.1380078947787248E-8,-1.0562303706335087E-9,-4.3114501632595945E-8,-4.3114501632595945E-8,-4.3114501632595945E-8,"-",1.0698639998985287E-8,1.0698639998985287E-8,1.0698639998985287E-8,"-",7.4890479992897005E-9,1.5560041552648451E-5,-6.0155285731616661E-9,-5.7444066463752917E-8,6.2800002097943644,-2.9088820873213997E-4,2.9088820873213997E-4,{"$f":"FI_T-Rechentabelle!AL1399","v":-2.0979436410328844E-7},{"$f":"AP1398","v":1.2670753335441987E-11}]
[8.737500011920929E-2,6.2500002968590707E-5,6.2800002098083496,0,0,null,0,null,{"$f":"C1400","v":6.2800002098083496},{"$f":"AL1398","v":6.2800002097947401},{"$f":"I1400-J1400","v":1.3609557925065019E-11},{"$f":"L1398+KP_LR*(1+2*TA_SIM/TN_LR)*K1400-KP_LR*K1398","v":-9.2261634487426038E-9},"-",{"$f":"L1400","v":-9.2261634487426038E-9},-6.0155285731616661E-9,0,-3.2106348755809376E-9,9.7856235299878596E-9,"-",9.7856235299878596E-9,0,9.7856235299878596E-9,9.7856235299878596E-9,1.0698639998985287E-8,-9.1301646899742774E-10,-3.4770034059748808E-8,-3.4770034059748808E-8,-3.4770034059748808E-8,"-",1.010959711575515E-8,1.010959711575515E-8,1.010959711575515E-8,"-",7.0767179810286049E-9,1.4703340912172459E-5,-5.096569766150887E-9,-4.8668656265737125E-8,6.2800002097940455,-2.9088820873213997E-4,2.9088820873213997E-4,{"$f":"FI_T-Rechentabelle!AL1400","v":-2.0979404524723577E-7},{"$f":"K1400","v":1.3609557925065019E-11}]
[8.7437495589256287E-2,6.2500002968590707E-5,6.2800002098083496,0,0,null,0,null,null,null,null,null,"-",{"$f":"N1400+(L1402-L1400)/2","v":-8.2586100103138217E-9},-5.096569766150887E-9,0,-3.1620402441629347E-9,9.1272880205355648E-9,"-",9.1272880205355648E-9,0,9.1272880205355648E-9,9.1272880205355648E-9,1.010959711575515E-8,-9.8230909521958532E-10,-4.1471798001108525E-8,-4.1471798001108525E-8,-4.1471798001108525E-8,"-",9.4758493123818398E-9,9.4758493123818398E-9,9.4758493123818398E-9,"-",6.6330945186672877E-9,1.3781621688483871E-5,-4.2352184106206447E-9,-4.0443356707444566E-8,6.2800002097937808,-2.9088820873213997E-4,2.9088820873213997E-4,{"$f":"FI_T-Rechentabelle!AL1401","v":-2.097937805700667E-7},{"$f":"AP1400","v":1.3609557925065019E-11}]
[8.7499998509883881E-2,6.2500002968590707E-5,6.2800002098083496,0,0,null,0,null,{"$f":"C1402","v":6.2800002098083496},{"$f":"AL1400","v":6.2800002097940455},{"$f":"I1402-J1402","v":1.4304113449270517E-11},{"$f":"L1400+KP_LR*(1+2*TA_SIM/TN_LR)*K1402-KP_LR*K1400","v":-7.2910565718850396E-9},"-",{"$f":"L1402","v":-7.2910565718850396E-9},-4.2352184106206447E-9,0,-3.0558381612643949E-9,8.6282643873766642E-9,"-",8.6282643873766642E-9,0,8.6282643873766642E-9,8.6282643873766642E-9,9.4758493123818398E-9,-8.4758492500517567E-10,-3.3600834493487395E-8,-3.3600834493487395E-8,-3.3600834493487395E-8,"-",8.9290203285018513E-9,8.9290203285018513E-9,8.9290203285018513E-9,"-",6.2503142299512957E-9,1.2986316704656753E-5,-3.4235736165795974E-9,-3.2692719847058411E-8,6.2800002097935668,-2.9088820873213997E-4,2.9088820873213997E-4,{"$f":"FI_T-Rechentabelle!AL1402","v":-2.0979356651906755E-7},{"$f":"K1402","v":1.4304113449270517E-11}]
[8.7562501430511475E-2,6.2500002968590707E-5,6.2800002098083496,0,0,null,0,null,null,null,null,null,"-",{"$f":"N1402+(L1404-L1402)/2","v":-6.4265799343275954E-9},-3.4235736165795974E-9,0,-3.003006317747998E-9,8.0185136892689075E-9,"-",8.0185136892689075E-9,0,8.0185136892689075E-9,8.0185136892689075E-9,8.9290203285018513E-9,-9.1050663923294375E-10,-3.9721061436556233E-8,-3.9721061436556233E-8,-3.9721061436556233E-8,"-",8.3415966902815129E-9,8.3415966902815129E-9,8.3415966902815129E-9,"-",5.8391176831970589E-9,1.2131971084972073E-5,-2.6653254237688427E-9,-2.5451982968478717E-8,6.2800002097933998,-2.9088820873213997E-4,2.9088820873213997E-4,{"$f":"FI_T-Rechentabelle!AL1403","v":-2.0979339954152465E-7},{"$f":"AP1402","v":1.4304113449270517E-11}]
[8.7624996900558472E-2,6.2500002968590707E-5,6.2800002098083496,0,0,null,0,null,{"$f":"C1404","v":6.2800002098083496},{"$f":"AL1402","v":6.2800002097935668},{"$f":"I1404-J1404","v":1.4782841617488884E-11},{"$f":"L1402+KP_LR*(1+2*TA_SIM/TN_LR)*K1404-KP_LR*K1402","v":-5.5621032967701512E-9},"-",{"$f":"L1404","v":-5.5621032967701512E-9},-2.6653254237688427E-9,0,-2.8967778730013085E-9,7.5583288384574096E-9,"-",7.5583288384574096E-9,0,7.5583288384574096E-9,7.5583288384574096E-9,8.3415966902815129E-9,-7.832678518241033E-10,-3.2255188339916268E-8,-3.2255188339916268E-8,-3.2255188339916268E-8,"-",7.8362625923250866E-9,7.8362625923250866E-9,7.8362625923250866E-9,"-",5.4853838146275599E-9,1.1397016028729606E-5,-1.9530119219732422E-9,-1.8649890077966669E-8,6.2800002097932781,-2.9088820873213997E-4,2.9088820873213997E-4,{"$f":"FI_T-Rechentabelle!AL1404","v":-2.0979327786108115E-7},{"$f":"K1404","v":1.4782841617488884E-11}]
[8.7687499821186066E-2,6.2500002968590707E-5,6.2800002098083496,0,0,null,0,null,null,null,null,null,"-",{"$f":"N1404+(L1406-L1404)/2","v":-4.793736857025165E-9},-1.9530119219732422E-9,0,-2.8407249350519228E-9,6.995601298559602E-9,"-",6.995601298559602E-9,0,6.995601298559602E-9,6.995601298559602E-9,7.8362625923250866E-9,-8.4066129376548458E-10,-3.7856687846459621E-8,-3.7856687846459621E-8,-3.7856687846459621E-8,"-",7.2939004673098466E-9,7.2939004673098466E-9,7.2939004673098466E-9,"-",5.1057303271168925E-9,1.0608207619191547E-5,-1.2899989457737704E-9,-1.2318582528193765E-8,6.2800002097931973,-2.9088820873213997E-4,2.9088820873213997E-4,{"$f":"FI_T-Rechentabelle!AL1405","v":-2.0979319703684496E-7},{"$f":"AP1404","v":1.4782841617488884E-11}]
[8.775000274181366E-2,6.2500002968590707E-5,6.2800002098083496,0,0,null,0,null,{"$f":"C1406","v":6.2800002098083496},{"$f":"AL1404","v":6.2800002097932781},{"$f":"I1406-J1406","v":1.5071499603891425E-11},{"$f":"L1404+KP_LR*(1+2*TA_SIM/TN_LR)*K1406-KP_LR*K1404","v":-4.0253704172801788E-9},"-",{"$f":"L1406","v":-4.0253704172801788E-9},-1.2899989457737704E-9,0,-2.7353714715064084E-9,6.5727396576225439E-9,"-",6.5727396576225439E-9,0,6.5727396576225439E-9,6.5727396576225439E-9,7.2939004673098466E-9,-7.2116080968730268E-10,-3.081779344670929E-8,-3.081779344670929E-8,-3.081779344670929E-8,"-",6.8286354287967941E-9,6.8286354287967941E-9,6.8286354287967941E-9,"-",4.7800448001577556E-9,9.9315287765588096E-6,-6.6927839723884485E-10,-6.3911379135109961E-9,6.2800002097931555,-2.9088820873213997E-4,2.9088820873213997E-4,{"$f":"FI_T-Rechentabelle!AL1406","v":-2.0979315529245923E-7},{"$f":"K1406","v":1.5071499603891425E-11}]
[8.7812498211860657E-2,6.2500002968590707E-5,6.2800002098083496,0,0,null,0,null,null,null,null,null,"-",{"$f":"N1406+(L1408-L1406)/2","v":-3.3461917179065054E-9},-6.6927839723884485E-10,0,-2.6769133206676604E-9,6.0555187289641553E-9,"-",6.0555187289641553E-9,0,6.0555187289641553E-9,6.0555187289641553E-9,6.8286354287967941E-9,-7.7311669983263871E-10,-3.5911238141759109E-8,-3.5911238141759109E-8,-3.5911238141759109E-8,"-",6.3298504611578523E-9,6.3298504611578523E-9,6.3298504611578523E-9,"-",4.4308953228104962E-9,9.2060987384385946E-6,-9.3897226086432666E-11,-8.9665246045638119E-10,6.2800002097931493,-2.9088820873213997E-4,2.9088820873213997E-4,{"$f":"FI_T-Rechentabelle!AL1407","v":-2.0979314907521029E-7},{"$f":"AP1406","v":1.5071499603891425E-11}]
[8.7875001132488251E-2,6.2500002968590707E-5,6.2800002098083496,0,0,null,0,null,{"$f":"C1408","v":6.2800002098083496},{"$f":"AL1406","v":6.2800002097931555},{"$f":"I1408-J1408","v":1.5194068225810042E-11},{"$f":"L1406+KP_LR*(1+2*TA_SIM/TN_LR)*K1408-KP_LR*K1406","v":-2.6670130185328319E-9},"-",{"$f":"L1408","v":-2.6670130185328319E-9},-9.3897226086432666E-11,0,-2.573115792446399E-9,5.6686102352919247E-9,"-",5.6686102352919247E-9,0,5.6686102352919247E-9,5.6686102352919247E-9,6.3298504611578523E-9,-6.6124022586592756E-10,-2.9295390585264281E-8,-2.9295390585264281E-8,-2.9295390585264281E-8,"-",5.9032438638201432E-9,5.9032438638201432E-9,5.9032438638201432E-9,"-",4.1322707046741003E-9,8.5856445141784757E-6,4.4270555604972204E-10,4.2275266547735637E-9,6.2800002097931769,-2.9088820873213997E-4,2.9088820873213997E-4,{"$f":"FI_T-Rechentabelle!AL1408","v":-2.0979317660874131E-7},{"$f":"K1408","v":1.5194068225810042E-11}]
[8.7937504053115845E-2,6.2500002968590707E-5,6.2800002098083496,0,0,null,0,null,null,null,null,null,"-",{"$f":"N1408+(L1410-L1408)/2","v":-2.0702150321194674E-9},4.4270555604972204E-10,0,-2.5129205881691896E-9,5.1953925957527714E-9,"-",5.1953925957527714E-9,0,5.1953925957527714E-9,5.1953925957527714E-9,5.9032438638201432E-9,-7.0785126806737177E-10,-3.3891551920046554E-8,-3.3891551920046554E-8,-3.3891551920046554E-8,"-",5.4465656263525966E-9,5.4465656263525966E-9,5.4465656263525966E-9,"-",3.8125959384468174E-9,7.921454266459209E-6,9.3779644770342269E-10,8.955296415961191E-9,6.2800002097932355,-2.9088820873213997E-4,2.9088820873213997E-4,{"$f":"FI_T-Rechentabelle!AL1409","v":-2.0979323522851701E-7},{"$f":"AP1408","v":1.5194068225810042E-11}]
[8.7999999523162842E-2,6.2500002968590707E-5,6.2800002098083496,0,0,null,0,null,{"$f":"C1410","v":6.2800002098083496},{"$f":"AL1408","v":6.2800002097931769},{"$f":"I1410-J1410","v":1.5172751943737239E-11},{"$f":"L1408+KP_LR*(1+2*TA_SIM/TN_LR)*K1410-KP_LR*K1408","v":-1.4734170457061029E-9},"-",{"$f":"L1410","v":-1.4734170457061029E-9},9.3779644770342269E-10,0,-2.4112134934095256E-9,4.843113184135563E-9,"-",4.843113184135563E-9,{"$f":"G1410*(JM_EMS+JL_EMS)/KT_M*KP_VSR","v":0},4.843113184135563E-9,{"$f":"IF(V1410<-IM_R,-IM_R,IF(V1410>IM_R,IM_R,V1410))","v":4.843113184135563E-9},5.4465656263525966E-9,-6.034524422170336E-10,-2.7692467939345007E-8,{"$f":"IF(Z1410<-U_ZWK,-U_ZWK,IF(Z1410>U_ZWK,U_ZWK,Z1410))","v":-2.7692467939345007E-8},-2.7692467939345007E-8,"-",5.0572414700789386E-9,5.0572414700789386E-9,5.0572414700789386E-9,"-",{"$f":"AF1410*KT_M","v":3.5400690290552569E-9},{"$f":"AH1410/(JM_EMS+JL_EMS)","v":7.3552234137861139E-6},1.3974979110650548E-9,1.3345122030396084E-8,6.2800002097933225,{"$f":"-DF_LR","v":-2.9088820873213997E-4},{"$f":"DF_LR","v":2.9088820873213997E-4},{"$f":"FI_T-Rechentabelle!AL1410","v":-2.0979332227000214E-7},{"$f":"K1410","v":1.5172751943737239E-11}]
[8.8062502443790436E-2,6.2500002968590707E-5,6.2800002098083496,0,0,null,{"$f":"E1411/1000","v":0},null,null,null,null,null,"-",{"$f":"N1410+(L1412-L1410)/2","v":-9.5291834408347812E-10},1.3974979110650548E-9,0,-2.3504162551485329E-9,{"$f":"R1410+KP_DR*(1+TA_SIM/TN_DR)*Q1411-KP_DR*Q1410","v":4.4109072336853687E-9},"-",{"$f":"R1411","v":4.4109072336853687E-9},0,{"$f":"T1411+U1411","v":4.4109072336853687E-9},4.4109072336853687E-9,5.0572414700789386E-9,{"$f":"W1411-X1411","v":-6.4633423639356992E-10},-3.1911763740602115E-8,-3.1911763740602115E-8,{"$f":"AA1411","v":-3.1911763740602115E-8},"-",{"$f":"(1/R_M*AB1411+AD1410*T_M/TA_SIM)/(1+T_M/TA_SIM)","v":4.6402516401431186E-9},{"$f":"AD1411","v":4.6402516401431186E-9},{"$f":"AE1411","v":4.6402516401431186E-9},"-",3.2481761481001827E-9,6.7487557616874761E-6,1.8192951461705221E-9,1.737298892736785E-8,6.2800002097934362,-2.9088820873213997E-4,2.9088820873213997E-4,{"$f":"FI_T-Rechentabelle!AL1411","v":-2.0979343595683986E-7},{"$f":"AP1410","v":1.5172751943737239E-11}]
[8.8124997913837433E-2,6.2500002968590707E-5,6.2800002098083496,0,0,null,0,null,{"$f":"C1412","v":6.2800002098083496},{"$f":"AL1410","v":6.2800002097933225},{"$f":"I1412-J1412","v":1.5027090682906419E-11},{"$f":"L1410+KP_LR*(1+2*TA_SIM/TN_LR)*K1412-KP_LR*K1410","v":-4.3241964246085332E-10},"-",{"$f":"L1412","v":-4.3241964246085332E-10},{"$f":"AJ1411","v":1.8192951461705221E-9},{"$f":"D1412*KP_VDR","v":0},{"$f":"N1412-O1412+P1412","v":-2.2517147886313754E-9},4.0905513068973356E-9,"-",4.0905513068973356E-9,0,4.0905513068973356E-9,4.0905513068973356E-9,{"$f":"AF1411","v":4.6402516401431186E-9},-5.49700333245783E-10,-2.6157158775397966E-8,-2.6157158775397966E-8,-2.6157158775397966E-8,"-",4.2856062638511481E-9,4.2856062638511481E-9,4.2856062638511481E-9,"-",2.9999243846958036E-9,6.2329615306374468E-6,2.2088552418353625E-9,2.1093013818752512E-8,6.2800002097935739,-2.9088820873213997E-4,2.9088820873213997E-4,{"$f":"FI_T-Rechentabelle!AL1412","v":-2.0979357362449491E-7},{"$f":"K1412","v":1.5027090682906419E-11}]
[8.8187500834465027E-2,6.2500002968590707E-5,6.2800002098083496,0,0,null,0,null,null,null,null,null,"-",{"$f":"N1412+(L1414-L1412)/2","v":1.8106446278293317E-11},2.2088552418353625E-9,0,-2.1907487955570691E-9,3.6976619490851283E-9,"-",3.6976619490851283E-9,0,3.6976619490851283E-9,3.6976619490851283E-9,4.2856062638511481E-9,-5.8794431476601979E-10,-2.9941664389735526E-8,-2.9941664389735526E-8,-2.9941664389735526E-8,"-",3.9062873510946223E-9,3.9062873510946223E-9,3.9062873510946223E-9,"-",2.7344011457662356E-9,5.6812822475924273E-6,2.5639353823098893E-9,2.4483779391769641E-8,6.2800002097937337,-2.9088820873213997E-4,2.9088820873213997E-4,{"$f":"FI_T-Rechentabelle!AL1413","v":-2.0979373349661046E-7},{"$f":"AP1412","v":1.5027090682906419E-11}]
[8.8249996304512024E-2,6.2500002968590707E-5,6.2800002098083496,0,0,null,0,null,{"$f":"C1414","v":6.2800002098083496},{"$f":"AL1412","v":6.2800002097935739},{"$f":"I1414-J1414","v":1.4775736190131283E-11},{"$f":"L1412+KP_LR*(1+2*TA_SIM/TN_LR)*K1414-KP_LR*K1412","v":4.6863253501743995E-10},"-",{"$f":"L1414","v":4.6863253501743995E-10},2.5639353823098893E-9,0,-2.0953028472924493E-9,3.4078982241412104E-9,"-",3.4078982241412104E-9,0,3.4078982241412104E-9,3.4078982241412104E-9,3.9062873510946223E-9,-4.9838912695341194E-10,-2.4587937960156928E-8,-2.4587937960156928E-8,-2.4587937960156928E-8,"-",3.5847459788624707E-9,3.5847459788624707E-9,3.5847459788624707E-9,"-",2.5093221852037295E-9,5.213634292964324E-6,2.8897875256201595E-9,2.7595438151264733E-8,6.280000209793914,-2.9088820873213997E-4,2.9088820873213997E-4,{"$f":"FI_T-Rechentabelle!AL1414","v":-2.0979391379682966E-7},{"$f":"K1414","v":1.4775736190131283E-11}]
[8.8312499225139618E-2,6.2500002968590707E-5,6.2800002098083496,0,0,null,0,null,null,null,null,null,"-",{"$f":"N1414+(L1416-L1414)/2","v":8.5518339951297651E-10},2.8897875256201595E-9,0,-2.034604126107183E-9,3.0524567777037584E-9,"-",3.0524567777037584E-9,0,3.0524567777037584E-9,3.0524567777037584E-9,3.5847459788624707E-9,-5.3228920115871231E-10,-2.7963400383961404E-8,-2.7963400383961404E-8,-2.7963400383961404E-8,"-",3.2413335910141037E-9,3.2413335910141037E-9,3.2413335910141037E-9,"-",2.2689335137098724E-9,4.7141772568249993E-6,3.184423604171722E-9,3.0409005450146319E-8,6.280000209794113,-2.9088820873213997E-4,2.9088820873213997E-4,{"$f":"FI_T-Rechentabelle!AL1415","v":-2.0979411274879567E-7},{"$f":"AP1414","v":1.4775736190131283E-11}]
[8.8375002145767212E-2,6.2500002968590707E-5,6.2800002098083496,0,0,null,0,null,{"$f":"C1416","v":6.2800002098083496},{"$f":"AL1414","v":6.280000209793914},{"$f":"I1416-J1416","v":1.4435563855386135E-11},{"$f":"L1414+KP_LR*(1+2*TA_SIM/TN_LR)*K1416-KP_LR*K1414","v":1.2417342640085131E-9},"-",{"$f":"L1416","v":1.2417342640085131E-9},3.184423604171722E-9,0,-1.9426893401632089E-9,2.7917208243502465E-9,"-",2.7917208243502465E-9,0,2.7917208243502465E-9,2.7917208243502465E-9,3.2413335910141037E-9,-4.4961276666385713E-10,-2.3001259061564593E-8,-2.3001259061564593E-8,-2.3001259061564593E-8,"-",2.9512608383238124E-9,2.9512608383238124E-9,2.9512608383238124E-9,"-",2.0658825868266685E-9,4.2922970846180515E-6,3.4526921719603502E-9,3.2970781568530927E-8,6.2800002097943288,-2.9088820873213997E-4,2.9088820873213997E-4,{"$f":"FI_T-Rechentabelle!AL1416","v":-2.0979432857615166E-7},{"$f":"K1416","v":1.4435563855386135E-11}]
[8.8437497615814209E-2,6.2500002968590707E-5,6.2800002098083496,0,0,null,0,null,null,null,null,null,"-",{"$f":"N1416+(L1418-L1416)/2","v":1.5693678404216402E-9},3.4526921719603502E-9,0,-1.8833243315387099E-9,2.4700713599302788E-9,"-",2.4700713599302788E-9,0,2.4700713599302788E-9,2.4700713599302788E-9,2.9512608383238124E-9,-4.811894783935336E-10,-2.6118030496100109E-8,-2.6118030496100109E-8,-2.6118030496100109E-8,"-",2.6408160135499616E-9,2.6408160135499616E-9,2.6408160135499616E-9,"-",1.8485712094849729E-9,3.8407878859027064E-6,3.6927414148292695E-9,3.5263082983814252E-8,6.2800002097945598,-2.9088820873213997E-4,2.9088820873213997E-4,{"$f":"FI_T-Rechentabelle!AL1417","v":-2.0979455950254078E-7},{"$f":"AP1416","v":1.4435563855386135E-11}]
[8.8500000536441803E-2,6.2500002968590707E-5,6.2800002098083496,0,0,null,0,null,{"$f":"C1418","v":6.2800002098083496},{"$f":"AL1416","v":6.2800002097943288},{"$f":"I1418-J1418","v":1.4020784533386177E-11},{"$f":"L1416+KP_LR*(1+2*TA_SIM/TN_LR)*K1418-KP_LR*K1416","v":1.8970014168347674E-9},"-",{"$f":"L1418","v":1.8970014168347674E-9},3.6927414148292695E-9,0,-1.7957399979945021E-9,2.2351311165788777E-9,"-",2.2351311165788777E-9,0,2.2351311165788777E-9,2.2351311165788777E-9,2.6408160135499616E-9,-4.056848969710839E-10,-2.1577119362199219E-8,-2.1577119362199219E-8,-2.1577119362199219E-8,"-",2.3790838219519838E-9,2.3790838219519838E-9,2.3790838219519838E-9,"-",1.6653586753663886E-9,3.4601260655856815E-6,3.9089992939283746E-9,3.732819361028577E-8,6.280000209794804,-2.9088820873213997E-4,2.9088820873213997E-4,{"$f":"FI_T-Rechentabelle!AL1418","v":-2.097948037516062E-7},{"$f":"K1418","v":1.4020784533386177E-11}]
[8.8562503457069397E-2,6.2500002968590707E-5,6.2800002098083496,0,0,null,0,null,null,null,null,null,"-",{"$f":"N1418+(L1420-L1418)/2","v":2.1713459166259973E-9},3.9089992939283746E-9,0,-1.7376533773023773E-9,1.9460343736905817E-9,"-",1.9460343736905817E-9,0,1.9460343736905817E-9,1.9460343736905817E-9,2.3790838219519838E-9,-4.3304944826140211E-10,-2.4308155865647408E-8,-2.4308155865647408E-8,-2.4308155865647408E-8,"-",2.0996970811345426E-9,2.0996970811345426E-9,2.0996970811345426E-9,"-",1.4697879567941798E-9,3.0537875686560974E-6,4.099861016969381E-9,3.9150788810426522E-8,6.2800002097950607,-2.9088820873213997E-4,2.9088820873213997E-4,{"$f":"FI_T-Rechentabelle!AL1419","v":-2.0979506043516949E-7},{"$f":"AP1418","v":1.4020784533386177E-11}]
[8.8624998927116394E-2,6.2500002968590707E-5,6.2800002098083496,0,0,null,0,null,{"$f":"C1420","v":6.2800002098083496},{"$f":"AL1418","v":6.280000209794804},{"$f":"I1420-J1420","v":1.354560907884661E-11},{"$f":"L1418+KP_LR*(1+2*TA_SIM/TN_LR)*K1420-KP_LR*K1418","v":2.4456904164172271E-9},"-",{"$f":"L1420","v":2.4456904164172271E-9},4.099861016969381E-9,0,-1.6541706005521539E-9,1.7361083785231914E-9,"-",1.7361083785231914E-9,0,1.7361083785231914E-9,1.7361083785231914E-9,2.0996970811345426E-9,-3.6358870261135127E-10,-2.0112722388774756E-8,-2.0112722388774756E-8,-2.0112722388774756E-8,"-",1.865123724607551E-9,1.865123724607551E-9,1.865123724607551E-9,"-",1.3055866072252855E-9,2.7126254045819353E-6,4.2694001047557519E-9,4.0769767842536025E-8,6.2800002097953271,-2.9088820873213997E-4,2.9088820873213997E-4,{"$f":"FI_T-Rechentabelle!AL1420","v":-2.097953268886954E-7},{"$f":"K1420","v":1.354560907884661E-11}]
[8.8687501847743988E-2,6.2500002968590707E-5,6.2800002098083496,0,0,null,0,null,null,null,null,null,"-",{"$f":"N1420+(L1422-L1420)/2","v":2.6718665567486477E-9},4.2694001047557519E-9,0,-1.5975335480071042E-9,1.4778145752395053E-9,"-",1.4778145752395053E-9,0,1.4778145752395053E-9,1.4778145752395053E-9,1.865123724607551E-9,-3.8730914936804571E-10,-2.2502387640578427E-8,-2.2502387640578427E-8,-2.2502387640578427E-8,"-",1.6152468540440742E-9,1.6152468540440742E-9,1.6152468540440742E-9,"-",1.1306727978308519E-9,2.3492058961787901E-6,4.4162254732669259E-9,4.2171846832726567E-8,6.2800002097956034,-2.9088820873213997E-4,2.9088820873213997E-4,{"$f":"FI_T-Rechentabelle!AL1421","v":-2.0979560311218393E-7},{"$f":"AP1420","v":1.354560907884661E-11}]
[8.8749997317790985E-2,6.2500002968590707E-5,6.2800002098083496,0,0,null,0,null,{"$f":"C1422","v":6.2800002098083496},{"$f":"AL1420","v":6.2800002097953271},{"$f":"I1422-J1422","v":1.3022471989643236E-11},{"$f":"L1420+KP_LR*(1+2*TA_SIM/TN_LR)*K1422-KP_LR*K1420","v":2.8980426970800682E-9},"-",{"$f":"L1422","v":2.8980426970800682E-9},4.4162254732669259E-9,0,-1.5181827761868576E-9,1.2914715630244542E-9,"-",1.2914715630244542E-9,0,1.2914715630244542E-9,1.2914715630244542E-9,1.6152468540440742E-9,-3.2377529101962005E-10,-1.8648493805512736E-8,-1.8648493805512736E-8,-1.8648493805512736E-8,"-",1.4063595695119294E-9,1.4063595695119294E-9,1.4063595695119294E-9,"-",9.8445169865835045E-10,2.0454014100526708E-6,4.5440630613952181E-9,4.3392605876540379E-8,6.2800002097958876,-2.9088820873213997E-4,2.9088820873213997E-4,{"$f":"FI_T-Rechentabelle!AL1422","v":-2.0979588732927823E-7},{"$f":"K1422","v":1.3022471989643236E-11}]
[8.8812500238418579E-2,6.2500002968590707E-5,6.2800002098083496,0,0,null,0,null,null,null,null,null,"-",{"$f":"N1422+(L1424-L1422)/2","v":3.0805924164029307E-9},4.5440630613952181E-9,0,-1.4634706449922874E-9,1.061403132984826E-9,"-",1.061403132984826E-9,0,1.061403132984826E-9,1.061403132984826E-9,1.4063595695119294E-9,-3.4495643652710337E-10,-2.0780675932701629E-8,-2.0780675932701629E-8,-2.0780675932701629E-8,"-",1.1838070298137535E-9,1.1838070298137535E-9,1.1838070298137535E-9,"-",8.2866492086962739E-10,1.7217222540403643E-6,4.6516707022727409E-9,4.4420183154147296E-8,6.280000209796178,-2.9088820873213997E-4,2.9088820873213997E-4,{"$f":"FI_T-Rechentabelle!AL1423","v":-2.0979617776362147E-7},{"$f":"AP1422","v":1.3022471989643236E-11}]
[8.8874995708465576E-2,6.2500002968590707E-5,6.2800002098083496,0,0,null,0,null,{"$f":"C1424","v":6.2800002098083496},{"$f":"AL1422","v":6.2800002097958876},{"$f":"I1424-J1424","v":1.2462031406812457E-11},{"$f":"L1422+KP_LR*(1+2*TA_SIM/TN_LR)*K1424-KP_LR*K1422","v":3.2631421357257931E-9},"-",{"$f":"L1424","v":3.2631421357257931E-9},4.6516707022727409E-9,0,-1.3885285665469478E-9,8.9645819631076192E-10,"-",8.9645819631076192E-10,0,8.9645819631076192E-10,8.9645819631076192E-10,1.1838070298137535E-9,-2.8734883350299161E-10,-1.7274614260530871E-8,-1.7274614260530871E-8,-1.7274614260530871E-8,"-",9.9842068561508965E-10,9.9842068561508965E-10,9.9842068561508965E-10,"-",6.9889447993056269E-10,1.4520974027229642E-6,4.7424267899429263E-9,4.5286839952250783E-8,6.2800002097964747,-2.9088820873213997E-4,2.9088820873213997E-4,{"$f":"FI_T-Rechentabelle!AL1424","v":-2.0979647441521365E-7},{"$f":"K1424","v":1.2462031406812457E-11}]
[8.893749862909317E-2,6.2500002968590707E-5,6.2800002098083496,0,0,null,0,null,null,null,null,null,"-",{"$f":"N1424+(L1426-L1424)/2","v":3.4070350789658301E-9},4.7424267899429263E-9,0,-1.3353917109770962E-9,6.939660819346478E-10,"-",6.939660819346478E-10,0,6.939660819346478E-10,6.939660819346478E-10,9.9842068561508965E-10,-3.0445460368044184E-10,-1.9044953709550141E-8,-1.9044953709550141E-8,-1.9044953709550141E-8,"-",8.0199836065686315E-10,8.0199836065686315E-10,8.0199836065686315E-10,"-",5.6139885245980414E-10,1.1664218833571661E-6,4.8153281576527491E-9,4.598299673400147E-8,6.2800002097967758,-2.9088820873213997E-4,2.9088820873213997E-4,{"$f":"FI_T-Rechentabelle!AL1425","v":-2.0979677550769793E-7},{"$f":"AP1424","v":1.2462031406812457E-11}]
[8.9000001549720764E-2,6.2500002968590707E-5,6.2800002098083496,0,0,null,0,null,{"$f":"C1426","v":6.2800002098083496},{"$f":"AL1424","v":6.2800002097964747},{"$f":"I1426-J1426","v":1.1874945471390674E-11},{"$f":"L1424+KP_LR*(1+2*TA_SIM/TN_LR)*K1426-KP_LR*K1424","v":3.5509280222058671E-9},"-",{"$f":"L1426","v":3.5509280222058671E-9},4.8153281576527491E-9,0,-1.264400135446882E-9,5.5013325955110406E-10,"-",5.5013325955110406E-10,0,5.5013325955110406E-10,5.5013325955110406E-10,8.0199836065686315E-10,-2.5186510110575909E-10,-1.582474139540899E-8,-1.582474139540899E-8,-1.582474139540899E-8,"-",6.3950474703722204E-10,6.3950474703722204E-10,6.3950474703722204E-10,"-",4.4765332292605542E-10,9.300920900188144E-7,4.8734589132789247E-9,4.6538104560215842E-8,6.2800002097970804,-2.9088820873213997E-4,2.9088820873213997E-4,{"$f":"FI_T-Rechentabelle!AL1426","v":-2.0979708015289589E-7},{"$f":"K1426","v":1.1874945471390674E-11}]
[8.9062497019767761E-2,6.2500002968590707E-5,6.2800002098083496,0,0,null,0,null,null,null,null,null,"-",{"$f":"N1426+(L1428-L1426)/2","v":3.6599448863666945E-9},4.8734589132789247E-9,0,-1.2135140269122301E-9,3.7214122964335262E-10,"-",3.7214122964335262E-10,0,3.7214122964335262E-10,3.7214122964335262E-10,6.3950474703722204E-10,-2.6736351739386942E-10,{"$f":"Z1426+KP_SR*(1+TA_SIM/TN_SR)*Y1427-KP_SR*Y1426","v":-1.7412858745466166E-8},-1.7412858745466166E-8,-1.7412858745466166E-8,"-",4.6701215516726575E-10,4.6701215516726575E-10,4.6701215516726575E-10,"-",3.2690850861708599E-10,6.7921983922103882E-7,{"$f":"AJ1426+AI1427*TA_SIM","v":4.9159101532302398E-9},4.6943484040933761E-8,{"$f":"AL1426+AJ1427*TA_SIM","v":6.2800002097973877},-2.9088820873213997E-4,2.9088820873213997E-4,{"$f":"FI_T-Rechentabelle!AL1427","v":-2.097973874626291E-7},{"$f":"AP1426","v":1.1874945471390674E-11}]
[8.9124999940395355E-2,6.2500002968590707E-5,6.2800002098083496,0,0,null,0,null,{"$f":"C1428","v":6.2800002098083496},{"$f":"AL1426","v":6.2800002097970804},{"$f":"I1428-J1428","v":1.1269207789155189E-11},{"$f":"L1426+KP_LR*(1+2*TA_SIM/TN_LR)*K1428-KP_LR*K1426","v":3.7689617505275219E-9},"-",{"$f":"L1428","v":3.7689617505275219E-9},4.9159101532302398E-9,0,-1.1469484027027179E-9,2.4669163882852652E-10,"-",2.4669163882852652E-10,0,2.4669163882852652E-10,2.4669163882852652E-10,4.6701215516726575E-10,-2.2032051633873923E-10,-1.4522956153584993E-8,-1.4522956153584993E-8,-1.4522956153584993E-8,"-",3.2486988655876023E-10,3.2486988655876023E-10,3.2486988655876023E-10,"-",2.2740892059113216E-10,4.7248892705408712E-7,4.9454407111711201E-9,4.7225480097046929E-8,6.2800002097976968,-2.9088820873213997E-4,2.9088820873213997E-4,{"$f":"FI_T-Rechentabelle!AL1428","v":-2.0979769654871916E-7},{"$f":"K1428","v":1.1269207789155189E-11}]
[8.9187502861022949E-2,6.2500002968590707E-5,6.2800002098083496,0,0,null,0,null,null,null,null,null,"-",{"$f":"N1428+(L1430-L1428)/2","v":3.8472040124686146E-9},4.9454407111711201E-9,0,-1.0982366987025055E-9,9.1767386741392432E-11,"-",9.1767386741392432E-11,0,9.1767386741392432E-11,9.1767386741392432E-11,3.2486988655876023E-10,-2.331024998173678E-10,-1.5856296187097996E-8,-1.5856296187097996E-8,-1.5856296187097996E-8,"-",1.7448117699637525E-10,1.7448117699637525E-10,1.7448117699637525E-10,"-",1.2213682389746267E-10,2.5376443776742712E-7,4.9613009885315847E-9,4.7376934589490509E-8,6.2800002097980068,-2.9088820873213997E-4,2.9088820873213997E-4,{"$f":"FI_T-Rechentabelle!AL1429","v":-2.0979800652298763E-7},{"$f":"AP1428","v":1.1269207789155189E-11}]
[8.9249998331069946E-2,6.2500002968590707E-5,6.2800002098083496,0,0,null,0,null,{"$f":"C1430","v":6.2800002098083496},{"$f":"AL1428","v":6.2800002097976968},{"$f":"I1430-J1430","v":1.0652811965883302E-11},{"$f":"L1428+KP_LR*(1+2*TA_SIM/TN_LR)*K1430-KP_LR*K1428","v":3.9254462744097073E-9},"-",{"$f":"L1430","v":3.9254462744097073E-9},4.9613009885315847E-9,0,-1.0358547141218774E-9,-1.6287815707488859E-11,"-",-1.6287815707488859E-11,0,-1.6287815707488859E-11,-1.6287815707488859E-11,1.7448117699637525E-10,-1.907689927038641E-10,-1.3241679738641225E-8,-1.3241679738641225E-8,-1.3241679738641225E-8,"-",5.1404407507290951E-11,5.1404407507290951E-11,5.1404407507290951E-11,"-",3.5983085255103663E-11,7.4762279773745391E-8,4.9659736310174435E-9,4.7421555038426047E-8,6.2800002097983167,-2.9088820873213997E-4,2.9088820873213997E-4,{"$f":"FI_T-Rechentabelle!AL1430","v":-2.0979831649725611E-7},{"$f":"K1430","v":1.0652811965883302E-11}]
[8.931250125169754E-2,6.2500002968590707E-5,6.2800002098083496,0,0,null,0,null,null,null,null,null,"-",{"$f":"N1430+(L1432-L1430)/2","v":3.9767973060475387E-9},4.9659736310174435E-9,0,-9.8917632496990485E-10,-1.4933316975905779E-10,"-",-1.4933316975905779E-10,0,-1.4933316975905779E-10,-1.4933316975905779E-10,5.1404407507290951E-11,-2.0073757726634876E-10,-1.4316983593138479E-8,-1.4316983593138479E-8,-1.4316983593138479E-8,"-",-7.8103706860745069E-11,-7.8103706860745069E-11,-7.8103706860745069E-11,"-",-5.4672594802521546E-11,-1.135935898660327E-7,4.9588740316508166E-9,4.7353758858435801E-8,6.2800002097986267,-2.9088820873213997E-4,2.9088820873213997E-4,{"$f":"FI_T-Rechentabelle!AL1431","v":-2.0979862647152459E-7},{"$f":"AP1430","v":1.0652811965883302E-11}]
[8.9375004172325134E-2,6.2500002968590707E-5,6.2800002098083496,0,0,null,0,null,{"$f":"C1432","v":6.2800002098083496},{"$f":"AL1430","v":6.2800002097983167},{"$f":"I1432-J1432","v":1.0032863428932615E-11},{"$f":"L1430+KP_LR*(1+2*TA_SIM/TN_LR)*K1432-KP_LR*K1430","v":4.02814833768537E-9},"-",{"$f":"L1432","v":4.02814833768537E-9},4.9588740316508166E-9,0,-9.3072569396544656E-10,-2.4086382401524677E-10,"-",-2.4086382401524677E-10,0,-2.4086382401524677E-10,-2.4086382401524677E-10,-7.8103706860745069E-11,-1.627601171545017E-10,-1.1955729838028217E-8,-1.1955729838028217E-8,-1.1955729838028217E-8,"-",-1.8311023405977868E-10,-1.8311023405977868E-10,-1.8311023405977868E-10,"-",-1.2817716384184507E-10,-2.6631448959452537E-7,4.9422293760511584E-9,4.7194814105550927E-8,6.2800002097989358,-2.9088820873213997E-4,2.9088820873213997E-4,{"$f":"FI_T-Rechentabelle!AL1432","v":-2.0979893555761464E-7},{"$f":"K1432","v":1.0032863428932615E-11}]
[8.9437499642372131E-2,6.2500002968590707E-5,6.2800002098083496,0,0,null,0,null,null,null,null,null,"-",{"$f":"N1432+(L1434-L1432)/2","v":4.0551599941894585E-9},4.9422293760511584E-9,0,-8.8706938186169988E-10,-3.5601547822908314E-10,"-",-3.5601547822908314E-10,0,-3.5601547822908314E-10,-3.5601547822908314E-10,-1.8311023405977868E-10,-1.7290524416930445E-10,-1.2991352436287266E-8,-1.2991352436287266E-8,-1.2991352436287266E-8,"-",-2.946620044941019E-10,-2.946620044941019E-10,-2.946620044941019E-10,"-",-2.0626340314587131E-10,-4.2855475409489151E-7,4.9154447039202273E-9,{"$f":"AJ1433/(2*PI())*60","v":4.6939039327426922E-8},6.2800002097992431,-2.9088820873213997E-4,2.9088820873213997E-4,{"$f":"FI_T-Rechentabelle!AL1433","v":-2.0979924286734786E-7},{"$f":"AP1432","v":1.0032863428932615E-11}]
[8.9500002562999725E-2,6.2500002968590707E-5,6.2800002098083496,0,0,null,0,null,{"$f":"C1434","v":6.2800002098083496},{"$f":"AL1432","v":6.2800002097989358},{"$f":"I1434-J1434","v":9.4138030704016273E-12},{"$f":"L1432+KP_LR*(1+2*TA_SIM/TN_LR)*K1434-KP_LR*K1432","v":4.082171650693547E-9},"-",{"$f":"L1434","v":4.082171650693547E-9},4.9154447039202273E-9,0,-8.332730532266803E-10,-4.3456740024059838E-10,"-",-4.3456740024059838E-10,0,-4.3456740024059838E-10,-4.3456740024059838E-10,-2.946620044941019E-10,-1.3990539574649648E-10,-1.0936734461618448E-8,-1.0936734461618448E-8,-1.0936734461618448E-8,"-",-3.8492355013945148E-10,-3.8492355013945148E-10,-3.8492355013945148E-10,"-",-2.6944648509761604E-10,-5.5983063598091834E-7,4.88045528917142E-9,4.6604915028637021E-8,6.2800002097995478,-2.9088820873213997E-4,2.9088820873213997E-4,{"$f":"FI_T-Rechentabelle!AL1434","v":-2.0979954751254581E-7},{"$f":"K1434","v":9.4138030704016273E-12}]
[8.9562498033046722E-2,6.2500002968590707E-5,6.2800002098083496,0,0,null,0,null,null,null,null,null,"-",{"$f":"N1434+(L1436-L1434)/2","v":4.0886517678621879E-9},4.88045528917142E-9,0,-7.9180352130923217E-10,-5.3155858753602406E-10,"-",-5.3155858753602406E-10,0,-5.3155858753602406E-10,-5.3155858753602406E-10,-3.8492355013945148E-10,-1.4663503739657259E-10,-1.1683461313217378E-8,-1.1683461313217378E-8,-1.1683461313217378E-8,"-",-4.7952680007510915E-10,-4.7952680007510915E-10,-4.7952680007510915E-10,"-",-3.3566876005257637E-10,-6.9742106805023135E-7,4.8368664724182806E-9,4.6188672489649682E-8,6.2800002097998497,-2.9088820873213997E-4,2.9088820873213997E-4,{"$f":"FI_T-Rechentabelle!AL1435","v":-2.0979984949320851E-7},{"$f":"AP1434","v":9.4138030704016273E-12}]
[8.9625000953674316E-2,6.2500002968590707E-5,6.2800002098083496,0,0,null,0,null,{"$f":"C1436","v":6.2800002098083496},{"$f":"AL1434","v":6.2800002097995478},{"$f":"I1436-J1436","v":8.8018481392282411E-12},{"$f":"L1434+KP_LR*(1+2*TA_SIM/TN_LR)*K1436-KP_LR*K1434","v":4.0951318850308287E-9},"-",{"$f":"L1436","v":4.0951318850308287E-9},4.8368664724182806E-9,0,-7.4173458738745184E-10,-5.964268636033694E-10,"-",-5.964268636033694E-10,0,-5.964268636033694E-10,-5.964268636033694E-10,-4.7952680007510915E-10,-1.1690006352826026E-10,-9.8149742340945226E-9,-9.8149742340945226E-9,-9.8149742340945226E-9,"-",-5.5494619590211629E-10,-5.5494619590211629E-10,-5.5494619590211629E-10,"-",-3.8846233713148136E-10,-8.0711061111880603E-7,4.7864220592233553E-9,4.5706963826969137E-8,6.2800002098001491,-2.9088820873213997E-4,2.9088820873213997E-4,{"$f":"FI_T-Rechentabelle!AL1436","v":-2.0980014880933595E-7},{"$f":"K1436","v":8.8018481392282411E-12}]
[8.9687496423721313E-2,6.2500002968590707E-5,6.2800002098083496,0,0,null,0,null,null,null,null,null,"-",{"$f":"N1436+(L1438-L1436)/2","v":4.0835211397091593E-9},4.7864220592233553E-9,0,-7.0290091951419609E-10,-6.7784899134980236E-10,"-",-6.7784899134980236E-10,0,-6.7784899134980236E-10,-6.7784899134980236E-10,-5.5494619590211629E-10,-1.2290279544768607E-10,-1.0466274453211825E-8,-1.0466274453211825E-8,-1.0466274453211825E-8,"-",-6.3423832199966047E-10,-6.3423832199966047E-10,-6.3423832199966047E-10,"-",-4.4396682539976232E-10,-9.2243263120665343E-7,4.7287700197729394E-9,4.5156427403497377E-8,6.2800002098004448,-2.9088820873213997E-4,2.9088820873213997E-4,{"$f":"FI_T-Rechentabelle!AL1437","v":-2.0980044457274971E-7},{"$f":"AP1436","v":8.8018481392282411E-12}]
[8.9749999344348907E-2,6.2500002968590707E-5,6.2800002098083496,0,0,null,0,null,{"$f":"C1438","v":6.2800002098083496},{"$f":"AL1436","v":6.2800002098001491},{"$f":"I1438-J1438","v":8.2005513490912563E-12},{"$f":"L1436+KP_LR*(1+2*TA_SIM/TN_LR)*K1438-KP_LR*K1436","v":4.0719103943874898E-9},"-",{"$f":"L1438","v":4.0719103943874898E-9},4.7287700197729394E-9,0,-6.5685962538544965E-10,-7.3135351129646198E-10,"-",-7.3135351129646198E-10,0,-7.3135351129646198E-10,-7.3135351129646198E-10,-6.3423832199966047E-10,-9.7115189296801507E-11,-8.8378502594985883E-9,-8.8378502594985883E-9,-8.8378502594985883E-9,"-",-6.9689328283851069E-10,-6.9689328283851069E-10,-6.9689328283851069E-10,"-",-4.8782529798695745E-10,-1.0135576521648814E-6,4.6654226665126342E-9,4.4551504739307411E-8,6.2800002098007361,-2.9088820873213997E-4,2.9088820873213997E-4,{"$f":"FI_T-Rechentabelle!AL1438","v":-2.0980073589527137E-7},{"$f":"K1438","v":8.2005513490912563E-12}]
[8.9812502264976501E-2,6.2500002968590707E-5,6.2800002098083496,0,0,null,0,null,null,null,null,null,"-",{"$f":"N1438+(L1440-L1438)/2","v":4.0447920322454763E-9},4.6654226665126342E-9,0,-6.2063063426715788E-10,-7.9875125875127821E-10,"-",-7.9875125875127821E-10,0,-7.9875125875127821E-10,-7.9875125875127821E-10,-6.9689328283851069E-10,-1.0185797591276752E-10,-9.3613362685077021E-9,-9.3613362685077021E-9,-9.3613362685077021E-9,"-",-7.6260810601018497E-10,-7.6260810601018497E-10,-7.6260810601018497E-10,"-",-5.3382567420712947E-10,-1.1091329196075824E-6,4.5961018590371604E-9,4.3889539789176818E-8,6.280000209801023,-2.9088820873213997E-4,2.9088820873213997E-4,{"$f":"FI_T-Rechentabelle!AL1439","v":-2.0980102277690094E-7},{"$f":"AP1438","v":8.2005513490912563E-12}]
[8.9874997735023499E-2,6.2500002968590707E-5,6.2800002098083496,0,0,null,0,null,{"$f":"C1440","v":6.2800002098083496},{"$f":"AL1438","v":6.2800002098007361},{"$f":"I1440-J1440","v":7.6134654136694735E-12},{"$f":"L1438+KP_LR*(1+2*TA_SIM/TN_LR)*K1440-KP_LR*K1438","v":4.0176736701034628E-9},"-",{"$f":"L1440","v":4.0176736701034628E-9},4.5961018590371604E-9,0,-5.7842818893369764E-10,-8.4202566105008256E-10,"-",-8.4202566105008256E-10,0,-8.4202566105008256E-10,-8.4202566105008256E-10,-7.6260810601018497E-10,-7.9417555039897596E-11,-7.9347511837641267E-9,-7.9347511837641267E-9,-7.9347511837641267E-9,"-",-8.1384523829608097E-10,-8.1384523829608097E-10,-8.1384523829608097E-10,"-",-5.6969166680725667E-10,-1.1836519152446637E-6,4.5221236143343688E-9,4.3183099589634152E-8,6.2800002098013055,-2.9088820873213997E-4,2.9088820873213997E-4,{"$f":"FI_T-Rechentabelle!AL1440","v":-2.098013052176384E-7},{"$f":"K1440","v":7.6134654136694735E-12}]
[8.9937500655651093E-2,6.2500002968590707E-5,6.2800002098083496,0,0,null,0,null,null,null,null,null,"-",{"$f":"N1440+(L1442-L1440)/2","v":3.9777735056358974E-9},4.5221236143343688E-9,0,-5.4435010869847138E-10,-8.9580835212878831E-10,"-",-8.9580835212878831E-10,0,-8.9580835212878831E-10,-8.9580835212878831E-10,-8.1384523829608097E-10,-8.1963113832707343E-11,-8.2667833300689972E-9,-8.2667833300689972E-9,-8.2667833300689972E-9,"-",-8.6672466657728379E-10,-8.6672466657728379E-10,-8.6672466657728379E-10,"-",-6.0670726660409861E-10,-1.2605594568961117E-6,4.4433386482783618E-9,4.2430758582285712E-8,6.2800002098015835,-2.9088820873213997E-4,2.9088820873213997E-4,{"$f":"FI_T-Rechentabelle!AL1441","v":-2.0980158321748377E-7},{"$f":"AP1440","v":7.6134654136694735E-12}]
[9.0000003576278687E-2,6.2500002968590707E-5,6.2800002098083496,0,0,null,0,null,{"$f":"C1442","v":6.2800002098083496},{"$f":"AL1440","v":6.2800002098013055},{"$f":"I1442-J1442","v":7.0441430466416932E-12},{"$f":"L1440+KP_LR*(1+2*TA_SIM/TN_LR)*K1442-KP_LR*K1440","v":3.937873341168332E-9},"-",{"$f":"L1442","v":3.937873341168332E-9},4.4433386482783618E-9,0,-5.0546530711002978E-10,-9.289787035749729E-10,"-",-9.289787035749729E-10,0,-9.289787035749729E-10,-9.289787035749729E-10,-8.6672466657728379E-10,-6.2254036997689105E-11,-6.9998085866130711E-9,-6.9998085866130711E-9,-6.9998085866130711E-9,"-",-9.0688856141648657E-10,-9.0688856141648657E-10,-9.0688856141648657E-10,"-",-6.3482199299154052E-10,-1.3189735985695834E-6,4.3609027983677631E-9,4.164355420221051E-8,6.2800002098018561,-2.9088820873213997E-4,2.9088820873213997E-4,{"$f":"FI_T-Rechentabelle!AL1442","v":-2.0980185588825861E-7},{"$f":"K1442","v":7.0441430466416932E-12}]
[9.0062499046325684E-2,6.2500002968590707E-5,6.2800002098083496,0,0,null,0,null,null,null,null,null,"-",{"$f":"N1442+(L1444-L1442)/2","v":3.8864431032982287E-9},4.3609027983677631E-9,0,-4.7445969506953448E-10,-9.7283855498384495E-10,"-",-9.7283855498384495E-10,0,-9.7283855498384495E-10,-9.7283855498384495E-10,-9.0688856141648657E-10,-6.5949993567358379E-11,-7.3826312034681389E-9,-7.3826312034681389E-9,-7.3826312034681389E-9,"-",-9.4943694436510178E-10,-9.4943694436510178E-10,-9.4943694436510178E-10,"-",-6.6460586105557118E-10,-1.3808557262737817E-6,4.2745993154756517E-9,4.0819416647710924E-8,6.2800002098021235,-2.9088820873213997E-4,2.9088820873213997E-4,{"$f":"FI_T-Rechentabelle!AL1443","v":-2.0980212322996294E-7},{"$f":"AP1442","v":7.0441430466416932E-12}]
[9.0125001966953278E-2,6.2500002968590707E-5,6.2800002098083496,0,0,null,0,null,{"$f":"C1444","v":6.2800002098083496},{"$f":"AL1442","v":6.2800002098018561},{"$f":"I1444-J1444","v":6.4934724264276156E-12},{"$f":"L1442+KP_LR*(1+2*TA_SIM/TN_LR)*K1444-KP_LR*K1442","v":3.8350128654281253E-9},"-",{"$f":"L1444","v":3.8350128654281253E-9},4.2745993154756517E-9,0,-4.3958645004752632E-10,-9.9923901163612653E-10,"-",-9.9923901163612653E-10,0,-9.9923901163612653E-10,-9.9923901163612653E-10,-9.4943694436510178E-10,-4.9802067271024755E-11,-6.3423290189809616E-9,-6.3423290189809616E-9,-6.3423290189809616E-9,"-",-9.8156731034829015E-10,-9.8156731034829015E-10,-9.8156731034829015E-10,"-",-6.870971172438031E-10,-1.4275859489794371E-6,4.1853751936644372E-9,3.9967389045953633E-8,6.2800002098023855,-2.9088820873213997E-4,2.9088820873213997E-4,{"$f":"FI_T-Rechentabelle!AL1444","v":-2.0980238524259676E-7},{"$f":"K1444","v":6.4934724264276156E-12}]
[9.0187497437000275E-2,6.2500002968590707E-5,6.2800002098083496,0,0,null,0,null,null,null,null,null,"-",{"$f":"N1444+(L1446-L1444)/2","v":3.7744176948824449E-9},4.1853751936644372E-9,0,-4.1095749878199229E-10,-1.0331219128317561E-9,"-",-1.0331219128317561E-9,0,-1.0331219128317561E-9,-1.0331219128317561E-9,-9.8156731034829015E-10,-5.1554602483465975E-11,-6.5618026824104173E-9,-6.5618026824104173E-9,-6.5618026824104173E-9,"-",-1.0148283442104241E-9,-1.0148283442104241E-9,-1.0148283442104241E-9,"-",-7.1037984094729685E-10,-1.4759606086584184E-6,4.0931276556232863E-9,3.9086489945915227E-8,6.2800002098026413,-2.9088820873213997E-4,2.9088820873213997E-4,{"$f":"FI_T-Rechentabelle!AL1445","v":-2.0980264103798163E-7},{"$f":"AP1444","v":6.4934724264276156E-12}]
[9.0250000357627869E-2,6.2500002968590707E-5,6.2800002098083496,0,0,null,0,null,{"$f":"C1446","v":6.2800002098083496},{"$f":"AL1444","v":6.2800002098023855},{"$f":"I1446-J1446","v":5.9641180882863409E-12},{"$f":"L1444+KP_LR*(1+2*TA_SIM/TN_LR)*K1446-KP_LR*K1444","v":3.7138225243367644E-9},"-",{"$f":"L1446","v":3.7138225243367644E-9},4.0931276556232863E-9,0,-3.7930513128652189E-10,-1.0522858768911034E-9,"-",-1.0522858768911034E-9,0,-1.0522858768911034E-9,-1.0522858768911034E-9,-1.0148283442104241E-9,-3.7457532680679316E-11,-5.6423611664302764E-9,-5.6423611664302764E-9,-5.6423611664302764E-9,"-",-1.0389944943287773E-9,-1.0389944943287773E-9,-1.0389944943287773E-9,"-",-7.2729614603014401E-10,-1.5111077208189153E-6,3.9986834230721037E-9,3.8184613958492755E-8,6.2800002098028909,-2.9088820873213997E-4,2.9088820873213997E-4,{"$f":"FI_T-Rechentabelle!AL1446","v":-2.0980289061611757E-7},{"$f":"K1446","v":5.9641180882863409E-12}]
[9.0312495827674866E-2,6.2500002968590707E-5,6.2800002098083496,0,0,null,0,null,null,null,null,null,"-",{"$f":"N1446+(L1448-L1446)/2","v":3.6465344884610877E-9},3.9986834230721037E-9,0,-3.5214893461101602E-10,-1.0752426269265455E-9,"-",-1.0752426269265455E-9,0,-1.0752426269265455E-9,-1.0752426269265455E-9,-1.0389944943287773E-9,-3.6248132597768259E-11,-5.6252881699869244E-9,-5.6252881699869244E-9,-5.6252881699869244E-9,"-",-1.0623803863290768E-9,-1.0623803863290768E-9,-1.0623803863290768E-9,"-",-7.4366627043035365E-10,-1.5451200299820353E-6,3.9021134211982268E-9,3.7262438369335489E-8,6.2800002098031351,-2.9088820873213997E-4,2.9088820873213997E-4,{"$f":"FI_T-Rechentabelle!AL1447","v":-2.0980313486518298E-7},{"$f":"AP1446","v":5.9641180882863409E-12}]
[9.037499874830246E-2,6.2500002968590707E-5,6.2800002098083496,0,0,null,0,null,{"$f":"C1448","v":6.2800002098083496},{"$f":"AL1446","v":6.2800002098028909},{"$f":"I1448-J1448","v":5.4587445674769697E-12},{"$f":"L1446+KP_LR*(1+2*TA_SIM/TN_LR)*K1448-KP_LR*K1446","v":3.579246452585411E-9},"-",{"$f":"L1448","v":3.579246452585411E-9},3.9021134211982268E-9,0,-3.2286696861281572E-10,-1.0861373034974562E-9,"-",-1.0861373034974562E-9,0,-1.0861373034974562E-9,-1.0861373034974562E-9,-1.0623803863290768E-9,-2.3756917168379465E-11,-4.792933861000344E-9,-4.792933861000344E-9,-4.792933861000344E-9,"-",-1.0777074296652095E-9,-1.0777074296652095E-9,-1.0777074296652095E-9,"-",-7.5439520076564667E-10,-1.5674115951914536E-6,3.8041501964987608E-9,3.6326958482206961E-8,6.2800002098033731,-2.9088820873213997E-4,2.9088820873213997E-4,{"$f":"FI_T-Rechentabelle!AL1448","v":-2.0980337289699946E-7},{"$f":"K1448","v":5.4587445674769697E-12}]
[9.0437501668930054E-2,6.2500002968590707E-5,6.2800002098083496,0,0,null,0,null,null,null,null,null,"-",{"$f":"N1448+(L1450-L1448)/2","v":3.5056890061484631E-9},3.8041501964987608E-9,0,-2.984611903502977E-10,-1.1023754284149581E-9,"-",-1.1023754284149581E-9,0,-1.1023754284149581E-9,-1.1023754284149581E-9,-1.0777074296652095E-9,-2.4667998749748621E-11,-4.9030389399856578E-9,-4.9030389399856578E-9,-4.9030389399856578E-9,"-",-1.0936222675699232E-9,-1.0936222675699232E-9,-1.0936222675699232E-9,"-",-7.6553558729894627E-10,-1.5905580454995767E-6,3.7047403186550374E-9,3.5377664075147565E-8,6.280000209803605,-2.9088820873213997E-4,2.9088820873213997E-4,{"$f":"FI_T-Rechentabelle!AL1449","v":-2.09803604711567E-7},{"$f":"AP1448","v":5.4587445674769697E-12}]
[9.0499997138977051E-2,6.2500002968590707E-5,6.2800002098083496,0,0,null,0,null,{"$f":"C1450","v":6.2800002098083496},{"$f":"AL1448","v":6.2800002098033731},{"$f":"I1450-J1450","v":4.9764636855798017E-12},{"$f":"L1448+KP_LR*(1+2*TA_SIM/TN_LR)*K1450-KP_LR*K1448","v":3.4321315597115151E-9},"-",{"$f":"L1450","v":3.4321315597115151E-9},3.7047403186550374E-9,0,-2.7260875894352224E-10,-1.1089604286520127E-9,"-",-1.1089604286520127E-9,0,-1.1089604286520127E-9,-1.1089604286520127E-9,-1.0936222675699232E-9,-1.5338161082089495E-11,-4.2768417328222686E-9,-4.2768417328222686E-9,-4.2768417328222686E-9,"-",-1.1035178553664271E-9,-1.1035178553664271E-9,-1.1035178553664271E-9,"-",-7.7246249875649898E-10,-1.6049501324672738E-6,3.6044309353758327E-9,3.4419780023904463E-8,6.2800002098038306,-2.9088820873213997E-4,2.9088820873213997E-4,{"$f":"FI_T-Rechentabelle!AL1450","v":-2.0980383030888561E-7},{"$f":"K1450","v":4.9764636855798017E-12}]
[9.0562500059604645E-2,6.2500002968590707E-5,6.2800002098083496,0,0,null,0,null,null,null,null,null,"-",{"$f":"N1450+(L1452-L1450)/2","v":3.3543091696724208E-9},3.6044309353758327E-9,0,-2.5012176570341192E-10,-1.1178577214629709E-9,"-",-1.1178577214629709E-9,0,-1.1178577214629709E-9,-1.1178577214629709E-9,-1.1035178553664271E-9,-1.4339866096543803E-11,-4.2335972923400783E-9,-4.2335972923400783E-9,-4.2335972923400783E-9,"-",-1.1127693818818921E-9,-1.1127693818818921E-9,-1.1127693818818921E-9,"-",-7.7893856731732448E-10,-1.618405500347651E-6,3.5032805916041045E-9,3.3453865391501556E-8,6.2800002098040499,-2.9088820873213997E-4,2.9088820873213997E-4,{"$f":"FI_T-Rechentabelle!AL1451","v":-2.0980404968895527E-7},{"$f":"AP1450","v":4.9764636855798017E-12}]
[9.0625002980232239E-2,6.2500002968590707E-5,6.2800002098083496,0,0,null,0,null,{"$f":"C1452","v":6.2800002098083496},{"$f":"AL1450","v":6.2800002098038306},{"$f":"I1452-J1452","v":4.5190517994342372E-12},{"$f":"L1450+KP_LR*(1+2*TA_SIM/TN_LR)*K1452-KP_LR*K1450","v":3.2764867796333264E-9},"-",{"$f":"L1452","v":3.2764867796333264E-9},3.5032805916041045E-9,0,-2.2679381197077809E-10,-1.1191201410667395E-9,"-",-1.1191201410667395E-9,0,-1.1191201410667395E-9,-1.1191201410667395E-9,-1.1127693818818921E-9,-6.3507591848473774E-12,-3.6846955953358761E-9,-3.6846955953358761E-9,-3.6846955953358761E-9,"-",-1.1168666458736412E-9,-1.1168666458736412E-9,-1.1168666458736412E-9,"-",-7.8180665211154879E-10,-1.6243645379421332E-6,3.4017578079827212E-9,3.2484394220514038E-8,6.2800002098042622,-2.9088820873213997E-4,2.9088820873213997E-4,{"$f":"FI_T-Rechentabelle!AL1452","v":-2.0980426196359758E-7},{"$f":"K1452","v":4.5190517994342372E-12}]
[9.0687498450279236E-2,6.2500002968590707E-5,6.2800002098083496,0,0,null,0,null,null,null,null,null,"-",{"$f":"N1452+(L1454-L1452)/2","v":3.1959363125647565E-9},3.4017578079827212E-9,0,-2.058214954179646E-10,-1.1207253908164999E-9,"-",-1.1207253908164999E-9,0,-1.1207253908164999E-9,-1.1207253908164999E-9,-1.1168666458736412E-9,-3.8587449428586923E-12,-3.5169918603719549E-9,-3.5169918603719549E-9,-3.5169918603719549E-9,"-",-1.1193561587414871E-9,-1.1193561587414871E-9,-1.1193561587414871E-9,"-",-7.8354931111904093E-10,-1.6279852713879927E-6,3.3000087285209717E-9,3.1512762083430789E-8,6.2800002098044683,-2.9088820873213997E-4,2.9088820873213997E-4,{"$f":"FI_T-Rechentabelle!AL1453","v":-2.0980446802099095E-7},{"$f":"AP1452","v":4.5190517994342372E-12}]
[9.075000137090683E-2,6.2500002968590707E-5,6.2800002098083496,0,0,null,0,null,{"$f":"C1454","v":6.2800002098083496},{"$f":"AL1452","v":6.2800002098042622},{"$f":"I1454-J1454","v":4.0873970874599763E-12},{"$f":"L1452+KP_LR*(1+2*TA_SIM/TN_LR)*K1454-KP_LR*K1452","v":3.1153858454961867E-9},"-",{"$f":"L1454","v":3.1153858454961867E-9},3.3000087285209717E-9,0,-1.8462288302478499E-10,-1.1166384669251502E-9,"-",-1.1166384669251502E-9,0,-1.1166384669251502E-9,-1.1166384669251502E-9,-1.1193561587414871E-9,2.7176918163368528E-12,-3.0502837147797922E-9,-3.0502837147797922E-9,-3.0502837147797922E-9,"-",-1.1176028091840069E-9,-1.1176028091840069E-9,-1.1176028091840069E-9,"-",-7.823219664288048E-10,-1.6254352097004046E-6,3.1984190279146965E-9,3.0542651902307924E-8,6.2800002098046681,-2.9088820873213997E-4,2.9088820873213997E-4,{"$f":"FI_T-Rechentabelle!AL1454","v":-2.0980466786113539E-7},{"$f":"K1454","v":4.0873970874599763E-12}]
[9.0812504291534424E-2,6.2500002968590707E-5,6.2800002098083496,0,0,null,0,null,null,null,null,null,"-",{"$f":"N1454+(L1456-L1454)/2","v":3.0331409253781506E-9},3.1984190279146965E-9,0,-1.6527810253654592E-10,-1.1121289583843362E-9,"-",-1.1121289583843362E-9,0,-1.1121289583843362E-9,-1.1121289583843362E-9,-1.1176028091840069E-9,5.473850799670622E-12,-2.8465777375502701E-9,-2.8465777375502701E-9,-2.8465777375502701E-9,"-",-1.1140712925404675E-9,-1.1140712925404675E-9,-1.1140712925404675E-9,"-",-7.7984990477832722E-10,-1.6202989918519159E-6,3.0971503409239517E-9,2.9575607175407748E-8,6.2800002098048617,-2.9088820873213997E-4,2.9088820873213997E-4,{"$f":"FI_T-Rechentabelle!AL1455","v":-2.0980486148403088E-7},{"$f":"AP1454","v":4.0873970874599763E-12}]
[9.0874999761581421E-2,6.2500002968590707E-5,6.2800002098083496,0,0,null,0,null,{"$f":"C1456","v":6.2800002098083496},{"$f":"AL1454","v":6.2800002098046681},{"$f":"I1456-J1456","v":3.6814995496570191E-12},{"$f":"L1454+KP_LR*(1+2*TA_SIM/TN_LR)*K1456-KP_LR*K1454","v":2.9508960052601145E-9},"-",{"$f":"L1456","v":2.9508960052601145E-9},3.0971503409239517E-9,0,-1.4625433566383722E-10,-1.1037250726926293E-9,"-",-1.1037250726926293E-9,0,-1.1037250726926293E-9,-1.1037250726926293E-9,-1.1140712925404675E-9,1.034621984783825E-11,-2.4852114214216448E-9,-2.4852114214216448E-9,-2.4852114214216448E-9,"-",-1.107396311994848E-9,-1.107396311994848E-9,-1.107396311994848E-9,"-",-7.7517741839639353E-10,-1.6105909378690909E-6,2.9964884073071334E-9,2.8614356516429455E-8,6.2800002098050491,-2.9088820873213997E-4,2.9088820873213997E-4,{"$f":"FI_T-Rechentabelle!AL1456","v":-2.0980504888967744E-7},{"$f":"K1456","v":3.6814995496570191E-12}]
[9.0937502682209015E-2,6.2500002968590707E-5,6.2800002098083496,0,0,null,0,null,null,null,null,null,"-",{"$f":"N1456+(L1458-L1456)/2","v":2.8674513712737504E-9},2.9964884073071334E-9,0,-1.2903703603338302E-10,-1.0953075685419671E-9,"-",-1.0953075685419671E-9,0,-1.0953075685419671E-9,-1.0953075685419671E-9,-1.107396311994848E-9,1.208874345288088E-11,-2.3402798573945526E-9,-2.3402798573945526E-9,-2.3402798573945526E-9,"-",-1.0995971226717458E-9,-1.0995971226717458E-9,-1.0995971226717458E-9,"-",-7.6971798587022205E-10,-1.5992478409936048E-6,2.8965354172450331E-9,2.7659875769717554E-8,6.2800002098052303,-2.9088820873213997E-4,2.9088820873213997E-4,{"$f":"FI_T-Rechentabelle!AL1457","v":-2.0980523007807506E-7},{"$f":"AP1456","v":3.6814995496570191E-12}]
[9.0999998152256012E-2,6.2500002968590707E-5,6.2800002098083496,0,0,null,0,null,{"$f":"C1458","v":6.2800002098083496},{"$f":"AL1456","v":6.2800002098050491},{"$f":"I1458-J1458","v":3.3004710076056654E-12},{"$f":"L1456+KP_LR*(1+2*TA_SIM/TN_LR)*K1458-KP_LR*K1456","v":2.7840067372873862E-9},"-",{"$f":"L1458","v":2.7840067372873862E-9},2.8965354172450331E-9,0,-1.1252867995764684E-10,-1.0845073832842409E-9,"-",-1.0845073832842409E-9,0,-1.0845073832842409E-9,-1.0845073832842409E-9,-1.0995971226717458E-9,1.5089739387504889E-11,-2.1013968884198065E-9,-2.1013968884198065E-9,-2.1013968884198065E-9,"-",-1.0898618069391741E-9,-1.0898618069391741E-9,-1.0898618069391741E-9,"-",-7.6290326485742176E-10,-1.5850888528099349E-6,2.7974673639444121E-9,2.6713845546600443E-8,6.2800002098054053,-2.9088820873213997E-4,2.9088820873213997E-4,{"$f":"FI_T-Rechentabelle!AL1458","v":-2.0980540504922374E-7},{"$f":"K1458","v":3.3004710076056654E-12}]
[9.1062501072883606E-2,6.2500002968590707E-5,6.2800002098083496,0,0,null,0,null,null,null,null,null,"-",{"$f":"N1458+(L1460-L1458)/2","v":2.7003603712064948E-9},2.7974673639444121E-9,0,-9.7106992737917288E-11,-1.0724642619460555E-9,"-",-1.0724642619460555E-9,0,-1.0724642619460555E-9,-1.0724642619460555E-9,-1.0898618069391741E-9,1.7397544993118566E-11,-1.9068535785031539E-9,-1.9068535785031539E-9,-1.9068535785031539E-9,"-",-1.0786375843642371E-9,-1.0786375843642371E-9,-1.0786375843642371E-9,"-",-7.5504630905496589E-10,-1.5687644069290793E-6,2.6994195885113448E-9,2.5777558259440238E-8,6.2800002098055741,-2.9088820873213997E-4,2.9088820873213997E-4,{"$f":"FI_T-Rechentabelle!AL1459","v":-2.0980557380312348E-7},{"$f":"AP1458","v":3.3004710076056654E-12}]
[9.1124996542930603E-2,6.2500002968590707E-5,6.2800002098083496,0,0,null,0,null,{"$f":"C1460","v":6.2800002098083496},{"$f":"AL1458","v":6.2800002098054053},{"$f":"I1460-J1460","v":2.9443114613059151E-12},{"$f":"L1458+KP_LR*(1+2*TA_SIM/TN_LR)*K1460-KP_LR*K1458","v":2.6167140051256034E-9},"-",{"$f":"L1460","v":2.6167140051256034E-9},2.6994195885113448E-9,0,-8.2705583385741417E-11,-1.0592731772357803E-9,"-",-1.0592731772357803E-9,0,-1.0592731772357803E-9,-1.0592731772357803E-9,-1.0786375843642371E-9,1.9364407128456796E-11,-1.7325623649564931E-9,-1.7325623649564931E-9,-1.7325623649564931E-9,"-",-1.0661444184761458E-9,-1.0661444184761458E-9,-1.0661444184761458E-9,"-",-7.4630109293330197E-10,-1.5505944170648283E-6,2.6025074374447929E-9,2.4852115386165623E-8,6.2800002098057366,-2.9088820873213997E-4,2.9088820873213997E-4,{"$f":"FI_T-Rechentabelle!AL1460","v":-2.0980573633977428E-7},{"$f":"K1460","v":2.9443114613059151E-12}]
[9.1187499463558197E-2,6.2500002968590707E-5,6.2800002098083496,0,0,null,0,null,null,null,null,null,"-",{"$f":"N1460+(L1462-L1460)/2","v":2.5338638887239862E-9},2.6025074374447929E-9,0,-6.8643548720806725E-11,-1.0434398739603E-9,"-",-1.0434398739603E-9,0,-1.0434398739603E-9,-1.0434398739603E-9,-1.0661444184761458E-9,2.2704544515845827E-11,-1.4556267992507645E-9,-1.4556267992507645E-9,-1.4556267992507645E-9,"-",-1.0514963252413198E-9,-1.0514963252413198E-9,-1.0514963252413198E-9,"-",-7.3604742766892385E-10,-1.5292903130457589E-6,2.5069267928794328E-9,2.3939387463376429E-8,6.2800002098058929,-2.9088820873213997E-4,2.9088820873213997E-4,{"$f":"FI_T-Rechentabelle!AL1461","v":-2.0980589265917615E-7},{"$f":"AP1460","v":2.9443114613059151E-12}]
[9.1250002384185791E-2,6.2500002968590707E-5,6.2800002098083496,0,0,null,0,null,{"$f":"C1462","v":6.2800002098083496},{"$f":"AL1460","v":6.2800002098057366},{"$f":"I1462-J1462","v":2.6130209107577684E-12},{"$f":"L1460+KP_LR*(1+2*TA_SIM/TN_LR)*K1462-KP_LR*K1460","v":2.451013772322369E-9},"-",{"$f":"L1462","v":2.451013772322369E-9},2.5069267928794328E-9,0,-5.591302055706383E-11,-1.0275867707237033E-9,"-",-1.0275867707237033E-9,0,-1.0275867707237033E-9,-1.0275867707237033E-9,-1.0514963252413198E-9,2.3909554517616552E-11,-1.3263088661580272E-9,-1.3263088661580272E-9,-1.3263088661580272E-9,"-",-1.0360708061988685E-9,-1.0360708061988685E-9,-1.0360708061988685E-9,"-",-7.2524956433920788E-10,-1.5068555253255927E-6,2.4127483225465834E-9,2.3040049318198047E-8,6.2800002098060439,-2.9088820873213997E-4,2.9088820873213997E-4,{"$f":"FI_T-Rechentabelle!AL1462","v":-2.098060436495075E-7},{"$f":"K1462","v":2.6130209107577684E-12}]
[9.1312497854232788E-2,6.2500002968590707E-5,6.2800002098083496,0,0,null,0,null,null,null,null,null,"-",{"$f":"N1462+(L1464-L1462)/2","v":2.3694190025749565E-9},2.4127483225465834E-9,0,-4.3329319971626841E-11,-1.0090059109940107E-9,"-",-1.0090059109940107E-9,0,-1.0090059109940107E-9,-1.0090059109940107E-9,-1.0360708061988685E-9,2.7064895204857789E-11,-1.0541867610832307E-9,-1.0541867610832307E-9,-1.0541867610832307E-9,"-",-1.0186095834871987E-9,-1.0186095834871987E-9,-1.0186095834871987E-9,"-",-7.1302670844103906E-10,-1.4814600216934115E-6,2.3201570711907451E-9,2.2155867997777297E-8,6.2800002098061887,-2.9088820873213997E-4,2.9088820873213997E-4,{"$f":"FI_T-Rechentabelle!AL1463","v":-2.0980618842258991E-7},{"$f":"AP1462","v":2.6130209107577684E-12}]
[9.1375000774860382E-2,6.2500002968590707E-5,6.2800002098083496,0,0,null,0,null,{"$f":"C1464","v":6.2800002098083496},{"$f":"AL1462","v":6.2800002098060439},{"$f":"I1464-J1464","v":2.3057111775415251E-12},{"$f":"L1462+KP_LR*(1+2*TA_SIM/TN_LR)*K1464-KP_LR*K1462","v":2.2878242328275441E-9},"-",{"$f":"L1464","v":2.2878242328275441E-9},2.3201570711907451E-9,0,-3.2332838363200922E-11,-9.9142023687452526E-10,"-",-9.9142023687452526E-10,0,-9.9142023687452526E-10,-9.9142023687452526E-10,-1.0186095834871987E-9,2.7189346612673457E-11,-9.9458068473026441E-10,-9.9458068473026441E-10,-9.9458068473026441E-10,"-",-1.0010680695446503E-9,-1.0010680695446503E-9,-1.0010680695446503E-9,"-",-7.0074764868125517E-10,-1.4559477429487951E-6,2.2291603372564454E-9,2.1286913197125587E-8,6.2800002098063281,-2.9088820873213997E-4,2.9088820873213997E-4,{"$f":"FI_T-Rechentabelle!AL1464","v":-2.098063278666018E-7},{"$f":"K1464","v":2.3057111775415251E-12}]
[9.1437503695487976E-2,6.2500002968590707E-5,6.2800002098083496,0,0,null,0,null,null,null,null,null,"-",{"$f":"N1464+(L1466-L1464)/2","v":2.2079082645030614E-9},2.2291603372564454E-9,0,-2.1252072753384016E-11,-9.7093794937733538E-10,"-",-9.7093794937733538E-10,0,-9.7093794937733538E-10,-9.7093794937733538E-10,-1.0010680695446503E-9,3.0130120167314955E-11,-7.317848710333555E-10,-7.317848710333555E-10,-7.317848710333555E-10,"-",-9.8162928234101435E-10,-9.8162928234101435E-10,-9.8162928234101435E-10,"-",-6.8714049763870998E-10,-1.4276760806954288E-6,2.1399305822129813E-9,2.043483180196281E-8,6.2800002098064622,-2.9088820873213997E-4,2.9088820873213997E-4,{"$f":"FI_T-Rechentabelle!AL1465","v":-2.0980646198154318E-7},{"$f":"AP1464","v":2.3057111775415251E-12}]
[9.1499999165534973E-2,6.2500002968590707E-5,6.2800002098083496,0,0,null,0,null,{"$f":"C1466","v":6.2800002098083496},{"$f":"AL1464","v":6.2800002098063281},{"$f":"I1466-J1466","v":2.021494083237485E-12},{"$f":"L1464+KP_LR*(1+2*TA_SIM/TN_LR)*K1466-KP_LR*K1464","v":2.1279922961785783E-9},"-",{"$f":"L1466","v":2.1279922961785783E-9},2.1399305822129813E-9,0,-1.1938286034402977E-11,-9.5227740548564421E-10,"-",-9.5227740548564421E-10,0,-9.5227740548564421E-10,-9.5227740548564421E-10,-9.8162928234101435E-10,2.9351876855370131E-11,-7.3149611584562836E-10,-7.3149611584562836E-10,-7.3149611584562836E-10,"-",-9.626925875966694E-10,-9.626925875966694E-10,-9.626925875966694E-10,"-",-6.738848113176685E-10,-1.4001346588773498E-6,2.0524221660331468E-9,1.9599187982133004E-8,6.2800002098065901,-2.9088820873213997E-4,2.9088820873213997E-4,{"$f":"FI_T-Rechentabelle!AL1466","v":-2.0980658987923562E-7},{"$f":"K1466","v":2.021494083237485E-12}]
[9.156249463558197E-2,6.2500002968590707E-5,6.2800002098083496,0,0,null,0,null,null,null,null,null,"-",{"$f":"N1466+(L1468-L1466)/2","v":2.0501429418395413E-9},2.0524221660331468E-9,0,-2.2792241936054824E-12,-9.3046238584641317E-10,"-",-9.3046238584641317E-10,0,-9.3046238584641317E-10,-9.3046238584641317E-10,-9.626925875966694E-10,3.2230201750256235E-11,-4.6915461027185357E-10,-4.6915461027185357E-10,-4.6915461027185357E-10,"-",-9.4189890904914485E-10,-9.4189890904914485E-10,-9.4189890904914485E-10,"-",-6.593292363344014E-10,-1.3698924503104121E-6,1.966803887888746E-9,1.8781593650991111E-8,6.2800002098067127,-2.9088820873213997E-4,2.9088820873213997E-4,{"$f":"FI_T-Rechentabelle!AL1467","v":-2.0980671244785754E-7},{"$f":"AP1466","v":2.021494083237485E-12}]
[9.1625005006790161E-2,6.2500002968590707E-5,6.2800002098083496,0,0,null,0,null,{"$f":"C1468","v":6.2800002098083496},{"$f":"AL1466","v":6.2800002098065901},{"$f":"I1468-J1468","v":1.7594814494259481E-12},{"$f":"L1466+KP_LR*(1+2*TA_SIM/TN_LR)*K1468-KP_LR*K1466","v":1.9722935875005043E-9},"-",{"$f":"L1468","v":1.9722935875005043E-9},1.966803887888746E-9,0,5.4896996117582881E-12,-9.1113097630297008E-10,"-",-9.1113097630297008E-10,0,-9.1113097630297008E-10,-9.1113097630297008E-10,-9.4189890904914485E-10,3.0767932746174772E-11,-5.1423065071066394E-10,-5.1423065071066394E-10,-5.1423065071066394E-10,"-",-9.2204862985906542E-10,-9.2204862985906542E-10,-9.2204862985906542E-10,"-",-6.4543404090134575E-10,-1.3410223164374521E-6,1.8829899931114052E-9,1.7981229911775246E-8,6.2800002098068308,-2.9088820873213997E-4,2.9088820873213997E-4,{"$f":"FI_T-Rechentabelle!AL1468","v":-2.0980683057558736E-7},{"$f":"K1468","v":1.7594814494259481E-12}]
[9.1687500476837158E-2,6.2500002968590707E-5,6.2800002098083496,0,0,null,0,null,null,null,null,null,"-",{"$f":"N1468+(L1470-L1468)/2","v":1.8968630175032234E-9},1.8829899931114052E-9,0,1.387302439181815E-11,-8.8833280274804416E-10,"-",-8.8833280274804416E-10,0,-8.8833280274804416E-10,-8.8833280274804416E-10,-9.2204862985906542E-10,3.371582711102125E-11,-2.4422626005436808E-10,-2.4422626005436808E-10,-2.4422626005436808E-10,"-",-9.0029648333680101E-10,-9.0029648333680101E-10,-9.0029648333680101E-10,"-",-6.3020753833576063E-10,-1.309386117464701E-6,1.8011533607698613E-9,1.7199747637986199E-8,6.2800002098069436,-2.9088820873213997E-4,2.9088820873213997E-4,{"$f":"FI_T-Rechentabelle!AL1469","v":-2.0980694337424666E-7},{"$f":"AP1468","v":1.7594814494259481E-12}]
[9.1749995946884155E-2,6.2500002968590707E-5,6.2800002098083496,0,0,null,0,null,{"$f":"C1470","v":6.2800002098083496},{"$f":"AL1468","v":6.2800002098068308},{"$f":"I1470-J1470","v":1.5187850976872141E-12},{"$f":"L1468+KP_LR*(1+2*TA_SIM/TN_LR)*K1470-KP_LR*K1468","v":1.8214324475059424E-9},"-",{"$f":"L1470","v":1.8214324475059424E-9},1.8011533607698613E-9,0,2.0279086736081101E-11,-8.6855227761329565E-10,"-",-8.6855227761329565E-10,0,-8.6855227761329565E-10,-8.6855227761329565E-10,-9.0029648333680101E-10,3.1744205723505364E-11,-3.2322897641795674E-10,-3.2322897641795674E-10,-3.2322897641795674E-10,"-",-8.7981635061290862E-10,-8.7981635061290862E-10,-8.7981635061290862E-10,"-",-6.1587144542903603E-10,-1.2795999281716933E-6,1.7211783652591306E-9,1.6436042686429104E-8,6.2800002098070511,-2.9088820873213997E-4,2.9088820873213997E-4,{"$f":"FI_T-Rechentabelle!AL1470","v":-2.0980705084383544E-7},{"$f":"K1470","v":1.5187850976872141E-12}]
[9.1812498867511749E-2,6.2500002968590707E-5,6.2800002098083496,0,0,null,0,null,null,null,null,null,"-",{"$f":"N1470+(L1472-L1470)/2","v":1.7487371900005203E-9},1.7211783652591306E-9,0,2.755882474138973E-11,-8.4497354682847044E-10,"-",-8.4497354682847044E-10,0,-8.4497354682847044E-10,-8.4497354682847044E-10,-8.7981635061290862E-10,3.4842803784438176E-11,-4.0537621576433876E-11,-4.0537621576433876E-11,-4.0537621576433876E-11,"-",-8.5733712236580919E-10,-8.5733712236580919E-10,-8.5733712236580919E-10,"-",-6.0013598565606637E-10,-1.2469062656473433E-6,1.6432467236561716E-9,1.5691850327366486E-8,6.2800002098071541,-2.9088820873213997E-4,2.9088820873213997E-4,{"$f":"FI_T-Rechentabelle!AL1471","v":-2.0980715387253213E-7},{"$f":"AP1470","v":1.5187850976872141E-12}]
[9.1875001788139343E-2,6.2500002968590707E-5,6.2800002098083496,0,0,null,0,null,{"$f":"C1472","v":6.2800002098083496},{"$f":"AL1470","v":6.2800002098070511},{"$f":"I1472-J1472","v":1.2985168496015831E-12},{"$f":"L1470+KP_LR*(1+2*TA_SIM/TN_LR)*K1472-KP_LR*K1470","v":1.6760419324950983E-9},"-",{"$f":"L1472","v":1.6760419324950983E-9},1.6432467236561716E-9,0,3.2795208838926789E-11,-8.2485069324775694E-10,"-",-8.2485069324775694E-10,0,-8.2485069324775694E-10,-8.2485069324775694E-10,-8.5733712236580919E-10,3.2486429118052253E-11,-1.4515885980897404E-10,-1.4515885980897404E-10,-1.4515885980897404E-10,"-",-8.3637813583893467E-10,-8.3637813583893467E-10,-8.3637813583893467E-10,"-",-5.8546469508725421E-10,-1.216423634089454E-6,1.5672202465255806E-9,1.4965850948894699E-8,6.2800002098072518,-2.9088820873213997E-4,2.9088820873213997E-4,{"$f":"FI_T-Rechentabelle!AL1472","v":-2.0980725157215829E-7},{"$f":"K1472","v":1.2985168496015831E-12}]
[9.193749725818634E-2,6.2500002968590707E-5,6.2800002098083496,0,0,null,0,null,null,null,null,null,"-",{"$f":"N1472+(L1474-L1472)/2","v":1.6063628734254302E-9},1.5672202465255806E-9,0,3.9142626899849551E-11,-8.0060719779024596E-10,"-",-8.0060719779024596E-10,0,-8.0060719779024596E-10,-8.0060719779024596E-10,-8.3637813583893467E-10,3.5770938048688712E-11,1.5231874792937684E-10,1.5231874792937684E-10,1.5231874792937684E-10,"-",-8.1330011129227144E-10,-8.1330011129227144E-10,-8.1330011129227144E-10,"-",-5.6931007790459002E-10,-1.1828590856110325E-6,1.4932915536748911E-9,1.4259883934684118E-8,6.2800002098073451,-2.9088820873213997E-4,2.9088820873213997E-4,{"$f":"FI_T-Rechentabelle!AL1473","v":-2.0980734483089236E-7},{"$f":"AP1472","v":1.2985168496015831E-12}]
[9.2000000178813934E-2,6.2500002968590707E-5,6.2800002098083496,0,0,null,0,null,{"$f":"C1474","v":6.2800002098083496},{"$f":"AL1472","v":6.2800002098072518},{"$f":"I1474-J1474","v":1.0977885267493548E-12},{"$f":"L1472+KP_LR*(1+2*TA_SIM/TN_LR)*K1474-KP_LR*K1472","v":1.536683814355762E-9},"-",{"$f":"L1474","v":1.536683814355762E-9},1.4932915536748911E-9,0,4.33922606808709E-11,-7.8018620437988743E-10,"-",-7.8018620437988743E-10,{"$f":"G1474*(JM_EMS+JL_EMS)/KT_M*KP_VSR","v":0},-7.8018620437988743E-10,{"$f":"IF(V1474<-IM_R,-IM_R,IF(V1474>IM_R,IM_R,V1474))","v":-7.8018620437988743E-10},-8.1330011129227144E-10,3.3113906912384011E-11,2.7767355939674801E-11,{"$f":"IF(Z1474<-U_ZWK,-U_ZWK,IF(Z1474>U_ZWK,U_ZWK,Z1474))","v":2.7767355939674801E-11},2.7767355939674801E-11,"-",-7.9193630038191096E-10,-7.9193630038191096E-10,-7.9193630038191096E-10,"-",{"$f":"AF1474*KT_M","v":-5.543554102673376E-10},{"$f":"AH1474/(JM_EMS+JL_EMS)","v":-1.1517876797576098E-6},1.4213048236900405E-9,1.3572461299837484E-8,6.2800002098074339,{"$f":"-DF_LR","v":-2.9088820873213997E-4},{"$f":"DF_LR","v":2.9088820873213997E-4},{"$f":"FI_T-Rechentabelle!AL1474","v":-2.0980743364873433E-7},{"$f":"K1474","v":1.0977885267493548E-12}]
[9.2062503099441528E-2,6.2500002968590707E-5,6.2800002098083496,0,0,null,{"$f":"E1475/1000","v":0},null,null,null,null,null,"-",{"$f":"N1474+(L1476-L1474)/2","v":1.470266197459536E-9},1.4213048236900405E-9,0,4.8961373769495456E-11,{"$f":"R1474+KP_DR*(1+TA_SIM/TN_DR)*Q1475-KP_DR*Q1474","v":-7.5535154843001819E-10},"-",{"$f":"R1475","v":-7.5535154843001819E-10},0,{"$f":"T1475+U1475","v":-7.5535154843001819E-10},-7.5535154843001819E-10,-7.9193630038191096E-10,{"$f":"W1475-X1475","v":3.6584751951892773E-11},3.3984717591325056E-10,3.3984717591325056E-10,{"$f":"AA1475","v":3.3984717591325056E-10},"-",{"$f":"(1/R_M*AB1475+AD1474*T_M/TA_SIM)/(1+T_M/TA_SIM)","v":-7.68333234607329E-10},{"$f":"AD1475","v":-7.68333234607329E-10},{"$f":"AE1475","v":-7.68333234607329E-10},"-",-5.3783326422513025E-10,-1.1174595142845008E-6,1.3514636040472592E-9,1.2905526779574558E-8,6.2800002098075183,-2.9088820873213997E-4,2.9088820873213997E-4,{"$f":"FI_T-Rechentabelle!AL1475","v":-2.098075180256842E-7},{"$f":"AP1474","v":1.0977885267493548E-12}]
[9.2124998569488525E-2,6.2500002968590707E-5,6.2800002098083496,0,0,null,0,null,{"$f":"C1476","v":6.2800002098083496},{"$f":"AL1474","v":6.2800002098074339},{"$f":"I1476-J1476","v":9.1571195071082911E-13},{"$f":"L1474+KP_LR*(1+2*TA_SIM/TN_LR)*K1476-KP_LR*K1474","v":1.4038485805633099E-9},"-",{"$f":"L1476","v":1.4038485805633099E-9},{"$f":"AJ1475","v":1.3514636040472592E-9},{"$f":"D1476*KP_VDR","v":0},{"$f":"N1476-O1476+P1476","v":5.2384976516050746E-11},-7.3465130980884837E-10,"-",-7.3465130980884837E-10,0,-7.3465130980884837E-10,-7.3465130980884837E-10,{"$f":"AF1475","v":-7.68333234607329E-10},3.3681924798480631E-11,1.9910523244509109E-10,1.9910523244509109E-10,1.9910523244509109E-10,"-",-7.4660296054460428E-10,-7.4660296054460428E-10,-7.4660296054460428E-10,"-",-5.2262207238122294E-10,-1.085855126493295E-6,1.2835976586414283E-9,1.2257454738837997E-8,6.2800002098075982,-2.9088820873213997E-4,2.9088820873213997E-4,{"$f":"FI_T-Rechentabelle!AL1476","v":-2.0980759796174198E-7},{"$f":"K1476","v":9.1571195071082911E-13}]
[9.2187501490116119E-2,6.2500002968590707E-5,6.2800002098083496,0,0,null,0,null,null,null,null,null,"-",{"$f":"N1476+(L1478-L1476)/2","v":1.3409020073720073E-9},1.2835976586414283E-9,0,5.7304348730578998E-11,-7.0928751737747459E-10,"-",-7.0928751737747459E-10,0,-7.0928751737747459E-10,-7.0928751737747459E-10,-7.4660296054460428E-10,3.731544316712969E-11,5.2397077031199032E-10,5.2397077031199032E-10,5.2397077031199032E-10,"-",-7.2252848108273014E-10,-7.2252848108273014E-10,-7.2252848108273014E-10,"-",-5.0576993675791103E-10,-1.0508413396175172E-6,1.2179200749153334E-9,1.1630280012817607E-8,6.2800002098076746,-2.9088820873213997E-4,2.9088820873213997E-4,{"$f":"FI_T-Rechentabelle!AL1477","v":-2.0980767434508607E-7},{"$f":"AP1476","v":9.1571195071082911E-13}]
[9.2250004410743713E-2,6.2500002968590707E-5,6.2800002098083496,0,0,null,0,null,{"$f":"C1478","v":6.2800002098083496},{"$f":"AL1476","v":6.2800002098075982},{"$f":"I1478-J1478","v":7.5139894306630595E-13},{"$f":"L1476+KP_LR*(1+2*TA_SIM/TN_LR)*K1478-KP_LR*K1476","v":1.2779554341807045E-9},"-",{"$f":"L1478","v":1.2779554341807045E-9},1.2179200749153334E-9,0,6.0035359265371118E-11,-6.8832623614499718E-10,"-",-6.8832623614499718E-10,0,-6.8832623614499718E-10,-6.8832623614499718E-10,-7.2252848108273014E-10,3.4202244937732964E-11,3.694356367384822E-10,3.694356367384822E-10,3.694356367384822E-10,"-",-7.0046251660754302E-10,-7.0046251660754302E-10,-7.0046251660754302E-10,"-",-4.9032376162528005E-10,-1.0187487255875337E-6,1.1542482795661126E-9,1.1022259154895764E-8,6.2800002098077465,-2.9088820873213997E-4,2.9088820873213997E-4,{"$f":"FI_T-Rechentabelle!AL1478","v":-2.0980774628753807E-7},{"$f":"K1478","v":7.5139894306630595E-13}]
[9.231249988079071E-2,6.2500002968590707E-5,6.2800002098083496,0,0,null,0,null,null,null,null,null,"-",{"$f":"N1478+(L1480-L1478)/2","v":1.2181149792207292E-9},1.1542482795661126E-9,0,6.3866699654616619E-11,-6.6388250529068634E-10,"-",-6.6388250529068634E-10,0,-6.6388250529068634E-10,-6.6388250529068634E-10,-7.0046251660754302E-10,3.6580011316856682E-11,6.0477951729818864E-10,6.0477951729818864E-10,6.0477951729818864E-10,"-",-6.7686250930709478E-10,-6.7686250930709478E-10,-6.7686250930709478E-10,"-",-4.7380375651496634E-10,-9.8442500834192044E-7,1.0927217165447424E-9,1.0434723756717401E-8,6.2800002098078149,-2.9088820873213997E-4,2.9088820873213997E-4,{"$f":"FI_T-Rechentabelle!AL1479","v":-2.0980781467727638E-7},{"$f":"AP1478","v":7.5139894306630595E-13}]
[9.2374995350837708E-2,6.2500002968590707E-5,6.2800002098083496,0,0,null,0,null,{"$f":"C1480","v":6.2800002098083496},{"$f":"AL1478","v":6.2800002098077465},{"$f":"I1480-J1480","v":6.0307314697638503E-13},{"$f":"L1478+KP_LR*(1+2*TA_SIM/TN_LR)*K1480-KP_LR*K1478","v":1.1582745242607536E-9},"-",{"$f":"L1480","v":1.1582745242607536E-9},1.0927217165447424E-9,0,6.5552807716011177E-11,-6.439961362911852E-10,"-",-6.439961362911852E-10,0,-6.439961362911852E-10,-6.439961362911852E-10,-6.7686250930709478E-10,3.2866373015909584E-11,4.0559799123566832E-10,4.0559799123566832E-10,4.0559799123566832E-10,"-",-6.5565839768465746E-10,-6.5565839768465746E-10,-6.5565839768465746E-10,"-",-4.5896087837926018E-10,-9.5358586823033478E-7,1.0331225997803466E-9,9.8655941144995217E-9,6.2800002098078798,-2.9088820873213997E-4,2.9088820873213997E-4,{"$f":"FI_T-Rechentabelle!AL1480","v":-2.0980787951430102E-7},{"$f":"K1480","v":6.0307314697638503E-13}]
[9.2437505722045898E-2,6.2500002968590707E-5,6.2800002098083496,0,0,null,0,null,null,null,null,null,"-",{"$f":"N1480+(L1482-L1480)/2","v":1.101642862444965E-9},1.0331225997803466E-9,0,6.8520262664618421E-11,-6.2041868568965206E-10,"-",-6.2041868568965206E-10,0,-6.2041868568965206E-10,-6.2041868568965206E-10,-6.5565839768465746E-10,3.5239711995005394E-11,6.3812344008156485E-10,6.3812344008156485E-10,6.3812344008156485E-10,"-",-6.3292309962407482E-10,-6.3292309962407482E-10,-6.3292309962407482E-10,"-",-4.4304616973685232E-10,-9.2051977921639784E-7,9.7559011357932178E-10,9.3161993404639612E-9,6.280000209807941,-2.9088820873213997E-4,2.9088820873213997E-4,{"$f":"FI_T-Rechentabelle!AL1481","v":-2.0980794079861198E-7},{"$f":"AP1480","v":6.0307314697638503E-13}]
[9.2500001192092896E-2,6.2500002968590707E-5,6.2800002098083496,0,0,null,0,null,{"$f":"C1482","v":6.2800002098083496},{"$f":"AL1480","v":6.2800002098078798},{"$f":"I1482-J1482","v":4.6984638402136625E-13},{"$f":"L1480+KP_LR*(1+2*TA_SIM/TN_LR)*K1482-KP_LR*K1480","v":1.0450112006291764E-9},"-",{"$f":"L1482","v":1.0450112006291764E-9},9.7559011357932178E-10,0,6.9421087049854607E-11,-6.0140799927259213E-10,"-",-6.0140799927259213E-10,0,-6.0140799927259213E-10,-6.0140799927259213E-10,-6.3292309962407482E-10,3.1515100351482691E-11,4.3564346860029367E-10,4.3564346860029367E-10,4.3564346860029367E-10,"-",-6.1259077681735933E-10,-6.1259077681735933E-10,-6.1259077681735933E-10,"-",-4.2881354377215152E-10,-8.9094856383160498E-7,9.1990582833984646E-10,8.7844535855598668E-9,6.2800002098079988,-2.9088820873213997E-4,2.9088820873213997E-4,{"$f":"FI_T-Rechentabelle!AL1482","v":-2.0980799853020926E-7},{"$f":"K1482","v":4.6984638402136625E-13}]
[9.2562496662139893E-2,6.2500002968590707E-5,6.2800002098083496,0,0,null,0,null,null,null,null,null,"-",{"$f":"N1482+(L1484-L1482)/2","v":9.9165536466422691E-10},9.1990582833984646E-10,0,7.1749536324380455E-11,-5.7852323188128716E-10,"-",-5.7852323188128716E-10,0,-5.7852323188128716E-10,-5.7852323188128716E-10,-6.1259077681735933E-10,3.4067544936072164E-11,6.7854788867638633E-10,6.7854788867638633E-10,6.7854788867638633E-10,"-",-5.9061171556895528E-10,-5.9061171556895528E-10,-5.9061171556895528E-10,"-",-4.1342820089826865E-10,-8.5898234136353336E-7,8.6621943200462566E-10,8.2717862643474064E-9,6.280000209808053,-2.9088820873213997E-4,2.9088820873213997E-4,{"$f":"FI_T-Rechentabelle!AL1483","v":-2.0980805270909286E-7},{"$f":"AP1482","v":4.6984638402136625E-13}]
[9.2624999582767487E-2,6.2500002968590707E-5,6.2800002098083496,0,0,null,0,null,{"$f":"C1484","v":6.2800002098083496},{"$f":"AL1482","v":6.2800002098079988},{"$f":"I1484-J1484","v":3.5083047578154947E-13},{"$f":"L1482+KP_LR*(1+2*TA_SIM/TN_LR)*K1484-KP_LR*K1482","v":9.3829952869927723E-10},"-",{"$f":"L1484","v":9.3829952869927723E-10},8.6621943200462566E-10,0,7.2080096694651572E-11,-5.6018504709394016E-10,"-",-5.6018504709394016E-10,0,-5.6018504709394016E-10,-5.6018504709394016E-10,-5.9061171556895528E-10,3.0426668475015117E-11,4.7990916584705585E-10,4.7990916584705585E-10,4.7990916584705585E-10,"-",-5.7098160687605446E-10,-5.7098160687605446E-10,-5.7098160687605446E-10,"-",-3.9968712481323808E-10,-8.304324222174071E-7,8.1431740561603775E-10,7.7761584209736215E-9,6.2800002098081036,-2.9088820873213997E-4,2.9088820873213997E-4,{"$f":"FI_T-Rechentabelle!AL1484","v":-2.0980810333526279E-7},{"$f":"K1484","v":3.5083047578154947E-13}]
[9.2687502503395081E-2,6.2500002968590707E-5,6.2800002098083496,0,0,null,0,null,null,null,null,null,"-",{"$f":"N1484+(L1486-L1484)/2","v":8.887897938844816E-10},8.1431740561603775E-10,0,7.4472388268443849E-11,-5.3648860775507192E-10,"-",-5.3648860775507192E-10,0,-5.3648860775507192E-10,-5.3648860775507192E-10,-5.7098160687605446E-10,3.4492999120982539E-11,8.298746314806718E-10,8.298746314806718E-10,8.298746314806718E-10,"-",-5.4872805905670584E-10,-5.4872805905670584E-10,-5.4872805905670584E-10,"-",-3.8410964133969405E-10,-7.9806698803177647E-7,7.6443821886405171E-10,7.2998472732346797E-9,6.2800002098081515,-2.9088820873213997E-4,2.9088820873213997E-4,{"$f":"FI_T-Rechentabelle!AL1485","v":-2.0980815129689745E-7},{"$f":"AP1484","v":3.5083047578154947E-13}]
[9.2749997973442078E-2,6.2500002968590707E-5,6.2800002098083496,0,0,null,0,null,{"$f":"C1486","v":6.2800002098083496},{"$f":"AL1484","v":6.2800002098081036},{"$f":"I1486-J1486","v":2.4602542225693469E-13},{"$f":"L1484+KP_LR*(1+2*TA_SIM/TN_LR)*K1486-KP_LR*K1484","v":8.3928005906968597E-10},"-",{"$f":"L1486","v":8.3928005906968597E-10},7.6443821886405171E-10,0,7.4841840205634256E-11,-5.1738705618892223E-10,"-",-5.1738705618892223E-10,0,-5.1738705618892223E-10,-5.1738705618892223E-10,-5.4872805905670584E-10,3.1341002867783615E-11,6.6726283533133623E-10,6.6726283533133623E-10,6.6726283533133623E-10,"-",-5.2850805720714647E-10,-5.2850805720714647E-10,-5.2850805720714647E-10,"-",-3.699556400450025E-10,-7.6865913161230511E-7,7.163970231382826E-10,6.841087646926596E-9,6.280000209808196,-2.9088820873213997E-4,2.9088820873213997E-4,{"$f":"FI_T-Rechentabelle!AL1486","v":-2.0980819570581843E-7},{"$f":"K1486","v":2.4602542225693469E-13}]
[9.2812500894069672E-2,6.2500002968590707E-5,6.2800002098083496,0,0,null,0,null,null,null,null,null,"-",{"$f":"N1486+(L1488-L1486)/2","v":7.9310893110661975E-10},7.163970231382826E-10,0,7.6711907968337157E-11,-4.9435412448368164E-10,"-",-4.9435412448368164E-10,0,-4.9435412448368164E-10,-4.9435412448368164E-10,-5.2850805720714647E-10,3.4153932723464831E-11,9.2861326965144227E-10,9.2861326965144227E-10,9.2861326965144227E-10,"-",-5.0647326190229264E-10,-5.0647326190229264E-10,-5.0647326190229264E-10,"-",-3.5453128333160483E-10,-7.3661184984750629E-7,6.7035878252281349E-10,6.4014548330142373E-9,6.2800002098082377,-2.9088820873213997E-4,2.9088820873213997E-4,{"$f":"FI_T-Rechentabelle!AL1487","v":-2.0980823745020416E-7},{"$f":"AP1486","v":2.4602542225693469E-13}]
[9.2875003814697266E-2,6.2500002968590707E-5,6.2800002098083496,0,0,null,0,null,{"$f":"C1488","v":6.2800002098083496},{"$f":"AL1486","v":6.280000209808196},{"$f":"I1488-J1488","v":1.5365486660812167E-13},{"$f":"L1486+KP_LR*(1+2*TA_SIM/TN_LR)*K1488-KP_LR*K1486","v":7.4693780314355364E-10},"-",{"$f":"L1488","v":7.4693780314355364E-10},6.7035878252281349E-10,0,7.657902062074015E-11,-4.7599249401037298E-10,"-",-4.7599249401037298E-10,0,-4.7599249401037298E-10,-4.7599249401037298E-10,-5.0647326190229264E-10,3.0480767891919662E-11,7.2780932978979883E-10,7.2780932978979883E-10,7.2780932978979883E-10,"-",-4.868082503597103E-10,-4.868082503597103E-10,-4.868082503597103E-10,"-",-3.4076577525179719E-10,-7.0801116819405186E-7,6.2610808451068521E-10,5.9788917935804221E-9,6.2800002098082768,-2.9088820873213997E-4,2.9088820873213997E-4,{"$f":"FI_T-Rechentabelle!AL1488","v":-2.0980827653005463E-7},{"$f":"K1488","v":1.5365486660812167E-13}]
[9.2937499284744263E-2,6.2500002968590707E-5,6.2800002098083496,0,0,null,0,null,null,null,null,null,"-",{"$f":"N1488+(L1490-L1488)/2","v":7.0406538812024753E-10},6.2610808451068521E-10,0,7.7957303609562327E-11,-4.5379493234137167E-10,"-",-4.5379493234137167E-10,0,-4.5379493234137167E-10,-4.5379493234137167E-10,-4.868082503597103E-10,3.3013318018338633E-11,9.6734486269790605E-10,9.6734486269790605E-10,9.6734486269790605E-10,"-",-4.6550933550974552E-10,-4.6550933550974552E-10,-4.6550933550974552E-10,"-",-3.2585653485682183E-10,-6.7703414680411763E-7,5.8379345033542781E-10,5.5748168019333748E-9,6.2800002098083132,-2.9088820873213997E-4,2.9088820873213997E-4,{"$f":"FI_T-Rechentabelle!AL1489","v":-2.0980831294536983E-7},{"$f":"AP1488","v":1.5365486660812167E-13}]
[9.299999475479126E-2,6.2500002968590707E-5,6.2800002098083496,0,0,null,0,null,{"$f":"C1490","v":6.2800002098083496},{"$f":"AL1488","v":6.2800002098082768},{"$f":"I1490-J1490","v":7.2830630415410269E-14},{"$f":"L1488+KP_LR*(1+2*TA_SIM/TN_LR)*K1490-KP_LR*K1488","v":6.6119297309694153E-10},"-",{"$f":"L1490","v":6.6119297309694153E-10},5.8379345033542781E-10,0,7.7399522761513724E-11,-4.3621733561125161E-10,"-",-4.3621733561125161E-10,0,-4.3621733561125161E-10,-4.3621733561125161E-10,-4.6550933550974552E-10,2.9291999898493902E-11,7.6093672609566467E-10,7.6093672609566467E-10,7.6093672609566467E-10,"-",-4.4661127105966556E-10,-4.4661127105966556E-10,-4.4661127105966556E-10,"-",-3.1262788974176589E-10,-6.4954890866770384E-7,5.4319664354369631E-10,5.1871458534543333E-9,6.2800002098083469,-2.9088820873213997E-4,2.9088820873213997E-4,{"$f":"FI_T-Rechentabelle!AL1490","v":-2.0980834669614978E-7},{"$f":"K1490","v":7.2830630415410269E-14}]
[9.3062505125999451E-2,6.2500002968590707E-5,6.2800002098083496,0,0,null,0,null,null,null,null,null,"-",{"$f":"N1490+(L1492-L1490)/2","v":6.1992708049860986E-10},5.4319664354369631E-10,0,7.6730436954913554E-11,-4.1906064270749321E-10,"-",-4.1906064270749321E-10,0,-4.1906064270749321E-10,-4.1906064270749321E-10,-4.4661127105966556E-10,2.7550628352172351E-11,{"$f":"Z1490+KP_SR*(1+TA_SIM/TN_SR)*Y1491-KP_SR*Y1490","v":6.9025001511599712E-10},6.9025001511599712E-10,6.9025001511599712E-10,"-",-4.2883667212332687E-10,-4.2883667212332687E-10,-4.2883667212332687E-10,"-",-3.0018567048632882E-10,-6.2369763242536623E-7,{"$f":"AJ1490+AI1491*TA_SIM","v":5.042155415171109E-10},4.8149037489722988E-9,{"$f":"AL1490+AJ1491*TA_SIM","v":6.280000209808378},-2.9088820873213997E-4,2.9088820873213997E-4,{"$f":"FI_T-Rechentabelle!AL1491","v":-2.0980837778239447E-7},{"$f":"AP1490","v":7.2830630415410269E-14}]
[9.3125000596046448E-2,6.2500002968590707E-5,6.2800002098083496,0,0,null,0,null,{"$f":"C1492","v":6.2800002098083496},{"$f":"AL1490","v":6.2800002098083469},{"$f":"I1492-J1492","v":0},{"$f":"L1490+KP_LR*(1+2*TA_SIM/TN_LR)*K1492-KP_LR*K1490","v":5.7866118790027819E-10},"-",{"$f":"L1492","v":5.7866118790027819E-10},5.042155415171109E-10,0,7.4445646383167294E-11,-4.0620298575661349E-10,"-",-4.0620298575661349E-10,0,-4.0620298575661349E-10,-4.0620298575661349E-10,-4.2883667212332687E-10,2.2633686366713385E-11,3.8745930701634118E-10,3.8745930701634118E-10,3.8745930701634118E-10,"-",-4.1423429382275395E-10,-4.1423429382275395E-10,-4.1423429382275395E-10,"-",-2.8996400567592775E-10,-6.0246001594832269E-7,4.6656179052034076E-10,4.455336913147058E-9,6.2800002098084073,-2.9088820873213997E-4,2.9088820873213997E-4,{"$f":"FI_T-Rechentabelle!AL1492","v":-2.0980840709228232E-7},{"$f":"K1492","v":0}]
[9.3187496066093445E-2,6.2500002968590707E-5,6.2800002098083496,0,0,null,0,null,null,null,null,null,"-",{"$f":"N1492+(L1494-L1492)/2","v":5.4363367597374362E-10},4.6656179052034076E-10,0,7.7071885453402866E-11,-3.8133097869989054E-10,"-",-3.8133097869989054E-10,0,-3.8133097869989054E-10,-3.8133097869989054E-10,-4.1423429382275395E-10,3.2903315122863403E-11,1.1698820312262934E-9,1.1698820312262934E-9,1.1698820312262934E-9,"-",-3.9300634858271561E-10,-3.9300634858271561E-10,-3.9300634858271561E-10,"-",-2.7510444400790089E-10,-5.7158621235799056E-7,4.3083765224796636E-10,4.114196521522253E-9,6.280000209808434,-2.9088820873213997E-4,2.9088820873213997E-4,{"$f":"FI_T-Rechentabelle!AL1493","v":-2.0980843373763491E-7},{"$f":"AP1492","v":0}]
[9.3249998986721039E-2,6.2500002968590707E-5,6.2800002098083496,0,0,null,0,null,{"$f":"C1494","v":6.2800002098083496},{"$f":"AL1492","v":6.2800002098084073},{"$f":"I1494-J1494","v":-5.773159728050814E-14},{"$f":"L1492+KP_LR*(1+2*TA_SIM/TN_LR)*K1494-KP_LR*K1492","v":5.0860616404720916E-10},"-",{"$f":"L1494","v":5.0860616404720916E-10},4.3083765224796636E-10,0,7.7768511799242801E-11,-3.6075818037074035E-10,"-",-3.6075818037074035E-10,0,-3.6075818037074035E-10,-3.6075818037074035E-10,-3.9300634858271561E-10,3.2248168211975263E-11,1.1842302272973248E-9,1.1842302272973248E-9,1.1842302272973248E-9,"-",-3.7220107876904334E-10,-3.7220107876904334E-10,-3.7220107876904334E-10,"-",-2.6054075513833031E-10,-5.4132714551907398E-7,3.9700470565302424E-10,3.7911156801253044E-9,6.2800002098084589,-2.9088820873213997E-4,2.9088820873213997E-4,{"$f":"FI_T-Rechentabelle!AL1494","v":-2.0980845860663067E-7},{"$f":"K1494","v":-5.773159728050814E-14}]
[9.3312501907348633E-2,6.2500002968590707E-5,6.2800002098083496,0,0,null,0,null,null,null,null,null,"-",{"$f":"N1494+(L1496-L1494)/2","v":4.7503410230929618E-10},3.9700470565302424E-10,0,7.8029396656271942E-11,-3.4113097062678413E-10,"-",-3.4113097062678413E-10,0,-3.4113097062678413E-10,-3.4113097062678413E-10,-3.7220107876904334E-10,3.1070108142259207E-11,1.1596691808634182E-9,1.1596691808634182E-9,1.1596691808634182E-9,"-",-3.5215584771001341E-10,-3.5215584771001341E-10,-3.5215584771001341E-10,"-",-2.4650909339700939E-10,-5.1217347474965588E-7,3.6499386348117077E-10,3.485434654274205E-9,6.2800002098084819,-2.9088820873213997E-4,2.9088820873213997E-4,{"$f":"FI_T-Rechentabelle!AL1495","v":-2.0980848169926958E-7},{"$f":"AP1494","v":-5.773159728050814E-14}]
[9.337499737739563E-2,6.2500002968590707E-5,6.2800002098083496,0,0,null,0,null,{"$f":"C1496","v":6.2800002098083496},{"$f":"AL1494","v":6.2800002098084589},{"$f":"I1496-J1496","v":-1.092459456231154E-13},{"$f":"L1494+KP_LR*(1+2*TA_SIM/TN_LR)*K1496-KP_LR*K1494","v":4.4146204057138331E-10},"-",{"$f":"L1496","v":4.4146204057138331E-10},3.6499386348117077E-10,0,7.6468177090212547E-11,-3.2610442336567247E-10,"-",-3.2610442336567247E-10,0,-3.2610442336567247E-10,-3.2610442336567247E-10,-3.5215584771001341E-10,2.6051424344340941E-11,8.5613133143443866E-10,8.5613133143443866E-10,8.5613133143443866E-10,"-",-3.3534847716575666E-10,-3.3534847716575666E-10,-3.3534847716575666E-10,"-",-2.3474393401602964E-10,-4.8772893001460552E-7,3.3451080535525793E-10,3.1943428913964093E-9,6.2800002098085033,-2.9088820873213997E-4,2.9088820873213997E-4,{"$f":"FI_T-Rechentabelle!AL1496","v":-2.0980850301555165E-7},{"$f":"K1496","v":-1.092459456231154E-13}]
[9.3437500298023224E-2,6.2500002968590707E-5,6.2800002098083496,0,0,null,0,null,null,null,null,null,"-",{"$f":"N1496+(L1498-L1496)/2","v":4.1013380926441198E-10},3.3451080535525793E-10,0,7.5623003909154057E-11,-3.096255381423084E-10,"-",-3.096255381423084E-10,0,-3.096255381423084E-10,-3.096255381423084E-10,-3.3534847716575666E-10,2.5722939023448257E-11,8.812005703085523E-10,8.812005703085523E-10,8.812005703085523E-10,"-",-3.1875303263496659E-10,-3.1875303263496659E-10,-3.1875303263496659E-10,"-",-2.2312712284447659E-10,-4.6359260927587072E-7,3.0553626727551598E-10,{"$f":"AJ1497/(2*PI())*60","v":2.9176564338446921E-9},6.2800002098085219,-2.9088820873213997E-4,2.9088820873213997E-4,{"$f":"FI_T-Rechentabelle!AL1497","v":-2.0980852166729846E-7},{"$f":"AP1496","v":-1.092459456231154E-13}]
[9.3500003218650818E-2,6.2500002968590707E-5,6.2800002098083496,0,0,null,0,null,{"$f":"C1498","v":6.2800002098083496},{"$f":"AL1496","v":6.2800002098085033},{"$f":"I1498-J1498","v":-1.5365486660812167E-13},{"$f":"L1496+KP_LR*(1+2*TA_SIM/TN_LR)*K1498-KP_LR*K1496","v":3.7880557795744065E-10},"-",{"$f":"L1498","v":3.7880557795744065E-10},3.0553626727551598E-10,0,7.3269310681924671E-11,-2.9721424379932422E-10,"-",-2.9721424379932422E-10,0,-2.9721424379932422E-10,-2.9721424379932422E-10,-3.1875303263496659E-10,2.1538788835642369E-11,6.2779860075376648E-10,6.2779860075376648E-10,6.2779860075376648E-10,"-",-3.048570398382327E-10,-3.048570398382327E-10,-3.048570398382327E-10,"-",-2.1339992788676287E-10,-4.4338235588357126E-7,2.7782487003279276E-10,2.6530320827749408E-9,6.2800002098085397,-2.9088820873213997E-4,2.9088820873213997E-4,{"$f":"FI_T-Rechentabelle!AL1498","v":-2.0980853943086686E-7},{"$f":"K1498","v":-1.5365486660812167E-13}]
[9.3562498688697815E-2,6.2500002968590707E-5,6.2800002098083496,0,0,null,0,null,null,null,null,null,"-",{"$f":"N1498+(L1500-L1498)/2","v":3.5054519952993819E-10},2.7782487003279276E-10,0,7.2720329497145434E-11,-2.8075701966104117E-10,"-",-2.8075701966104117E-10,0,-2.8075701966104117E-10,-2.8075701966104117E-10,-3.048570398382327E-10,2.4100020177191533E-11,8.5267087718886609E-10,8.5267087718886609E-10,8.5267087718886609E-10,"-",-2.8930863972435855E-10,-2.8930863972435855E-10,-2.8930863972435855E-10,"-",-2.0251604780705098E-10,-4.2076885062757316E-7,2.5152681686856945E-10,2.4019041734881655E-9,6.2800002098085557,-2.9088820873213997E-4,2.9088820873213997E-4,{"$f":"FI_T-Rechentabelle!AL1499","v":-2.0980855541807841E-7},{"$f":"AP1498","v":-1.5365486660812167E-13}]
[9.3625001609325409E-2,6.2500002968590707E-5,6.2800002098083496,0,0,null,0,null,{"$f":"C1500","v":6.2800002098083496},{"$f":"AL1498","v":6.2800002098085397},{"$f":"I1500-J1500","v":-1.900701818158268E-13},{"$f":"L1498+KP_LR*(1+2*TA_SIM/TN_LR)*K1500-KP_LR*K1498","v":3.2228482110243573E-10},"-",{"$f":"L1500","v":3.2228482110243573E-10},2.5152681686856945E-10,0,7.0758004233866275E-11,-2.6805154337063232E-10,"-",-2.6805154337063232E-10,0,-2.6805154337063232E-10,-2.6805154337063232E-10,-2.8930863972435855E-10,2.1257096353726228E-11,6.9288730779066023E-10,6.9288730779066023E-10,6.9288730779066023E-10,"-",-2.7559438401270862E-10,-2.7559438401270862E-10,-2.7559438401270862E-10,"-",-1.9291606880889601E-10,-4.0082291462475794E-7,2.2647538470452208E-10,2.162680617861799E-9,6.2800002098085699,-2.9088820873213997E-4,2.9088820873213997E-4,{"$f":"FI_T-Rechentabelle!AL1500","v":-2.0980856962893313E-7},{"$f":"K1500","v":-1.900701818158268E-13}]
[9.3687504529953003E-2,6.2500002968590707E-5,6.2800002098083496,0,0,null,0,null,null,null,null,null,"-",{"$f":"N1500+(L1502-L1500)/2","v":2.9633530581252722E-10},2.2647538470452208E-10,0,6.9859921108005132E-11,-2.5310019633841925E-10,"-",-2.5310019633841925E-10,0,-2.5310019633841925E-10,-2.5310019633841925E-10,-2.7559438401270862E-10,2.2494187674289367E-11,8.2180903677950457E-10,8.2180903677950457E-10,8.2180903677950457E-10,"-",-2.6108200486842605E-10,-2.6108200486842605E-10,-2.6108200486842605E-10,"-",-1.8275740340789822E-10,-3.7971619241200542E-7,2.0274312267877174E-10,1.9360542091327843E-9,6.2800002098085823,-2.9088820873213997E-4,2.9088820873213997E-4,{"$f":"FI_T-Rechentabelle!AL1501","v":-2.09808582063431E-7},{"$f":"AP1500","v":-1.900701818158268E-13}]
[9.375E-2,6.2500002968590707E-5,6.2800002098083496,0,0,null,0,null,{"$f":"C1502","v":6.2800002098083496},{"$f":"AL1500","v":6.2800002098085699},{"$f":"I1502-J1502","v":-2.2026824808563106E-13},{"$f":"L1500+KP_LR*(1+2*TA_SIM/TN_LR)*K1502-KP_LR*K1500","v":2.7038579052261865E-10},"-",{"$f":"L1502","v":2.7038579052261865E-10},2.0274312267877174E-10,0,6.7642667843846913E-11,-2.4174463704648677E-10,"-",-2.4174463704648677E-10,0,-2.4174463704648677E-10,-2.4174463704648677E-10,-2.6108200486842605E-10,1.9337367821939279E-11,6.3640024113301041E-10,6.3640024113301041E-10,6.3640024113301041E-10,"-",-2.4860628369339065E-10,-2.4860628369339065E-10,-2.4860628369339065E-10,"-",-1.7402439858537344E-10,-3.6157157403983672E-7,1.8014489930128195E-10,1.7202570717954447E-9,6.2800002098085939,-2.9088820873213997E-4,2.9088820873213997E-4,{"$f":"FI_T-Rechentabelle!AL1502","v":-2.0980859360975046E-7},{"$f":"K1502","v":-2.2026824808563106E-13}]
[9.3812495470046997E-2,6.2500002968590707E-5,6.2800002098083496,0,0,null,0,null,null,null,null,null,"-",{"$f":"N1502+(L1504-L1502)/2","v":2.4699663381375432E-10},1.8014489930128195E-10,0,6.6851734512472368E-11,-2.2727850161790637E-10,"-",-2.2727850161790637E-10,0,-2.2727850161790637E-10,-2.2727850161790637E-10,-2.4860628369339065E-10,2.1327782075484281E-11,8.1601807261984967E-10,8.1601807261984967E-10,8.1601807261984967E-10,"-",-2.3484642429025114E-10,-2.3484642429025114E-10,-2.3484642429025114E-10,"-",-1.6439249700317578E-10,-3.41559312285842E-7,1.5879744228341684E-10,1.5164038733853443E-9,6.2800002098086036,-2.9088820873213997E-4,2.9088820873213997E-4,{"$f":"FI_T-Rechentabelle!AL1503","v":-2.0980860337971308E-7},{"$f":"AP1502","v":-2.2026824808563106E-13}]
[9.3875005841255188E-2,6.2500002968590707E-5,6.2800002098083496,0,0,null,0,null,{"$f":"C1504","v":6.2800002098083496},{"$f":"AL1502","v":6.2800002098085939},{"$f":"I1504-J1504","v":-2.4424906541753444E-13},{"$f":"L1502+KP_LR*(1+2*TA_SIM/TN_LR)*K1504-KP_LR*K1502","v":2.2360747710488994E-10},"-",{"$f":"L1504","v":2.2360747710488994E-10},1.5879744228341684E-10,0,6.4810034821473106E-11,-2.1620693005197191E-10,"-",-2.1620693005197191E-10,0,-2.1620693005197191E-10,-2.1620693005197191E-10,-2.3484642429025114E-10,1.8639494238279229E-11,6.6219150268636564E-10,6.6219150268636564E-10,6.6219150268636564E-10,"-",-2.2282094413691099E-10,-2.2282094413691099E-10,-2.2282094413691099E-10,"-",-1.559746608958377E-10,-3.2406952191115247E-7,1.3854309716396981E-10,1.3229891246943927E-9,6.2800002098086125,-2.9088820873213997E-4,2.9088820873213997E-4,{"$f":"FI_T-Rechentabelle!AL1504","v":-2.0980861226149727E-7},{"$f":"K1504","v":-2.4424906541753444E-13}]
[9.3937501311302185E-2,6.2500002968590707E-5,6.2800002098083496,0,0,null,0,null,null,null,null,null,"-",{"$f":"N1504+(L1506-L1504)/2","v":2.0248928962165028E-10},1.3854309716396981E-10,0,6.3946192457680476E-11,-2.0261800390192164E-10,"-",-2.0261800390192164E-10,0,-2.0261800390192164E-10,-2.0261800390192164E-10,-2.2282094413691099E-10,2.0202940234989355E-11,8.0973437437896624E-10,8.0973437437896624E-10,8.0973437437896624E-10,"-",-2.0978678914697354E-10,-2.0978678914697354E-10,-2.0978678914697354E-10,"-",-1.4685075240288145E-10,-3.051127205545012E-7,1.1947355212931349E-10,1.1408883834076487E-9,6.2800002098086196,-2.9088820873213997E-4,2.9088820873213997E-4,{"$f":"FI_T-Rechentabelle!AL1505","v":-2.0980861936692463E-7},{"$f":"AP1504","v":-2.4424906541753444E-13}]
[9.3999996781349182E-2,6.2500002968590707E-5,6.2800002098083496,0,0,null,0,null,{"$f":"C1506","v":6.2800002098083496},{"$f":"AL1504","v":6.2800002098086125},{"$f":"I1506-J1506","v":-2.6290081223123707E-13},{"$f":"L1504+KP_LR*(1+2*TA_SIM/TN_LR)*K1506-KP_LR*K1504","v":1.8137110213841063E-10},"-",{"$f":"L1506","v":1.8137110213841063E-10},1.1947355212931349E-10,0,6.1897550009097134E-11,-1.9227255433125041E-10,"-",-1.9227255433125041E-10,0,-1.9227255433125041E-10,-1.9227255433125041E-10,-2.0978678914697354E-10,1.7514234815723128E-11,6.5377316879795454E-10,6.5377316879795454E-10,6.5377316879795454E-10,"-",-1.9848728281461742E-10,-1.9848728281461742E-10,-1.9848728281461742E-10,"-",-1.3894109797023219E-10,-2.8867878240231078E-7,1.0143112822916907E-10,9.6859592646360871E-10,6.2800002098086258,-2.9088820873213997E-4,2.9088820873213997E-4,{"$f":"FI_T-Rechentabelle!AL1506","v":-2.0980862558417357E-7},{"$f":"K1506","v":-2.6290081223123707E-13}]
[9.4062499701976776E-2,6.2500002968590707E-5,6.2800002098083496,0,0,null,0,null,null,null,null,null,"-",{"$f":"N1506+(L1508-L1506)/2","v":1.6273773711803873E-10},1.0143112822916907E-10,0,6.1306608888869661E-11,-1.7869509173895102E-10,"-",-1.7869509173895102E-10,0,-1.7869509173895102E-10,-1.7869509173895102E-10,-1.9848728281461742E-10,1.9792191075666393E-11,8.507015527987671E-10,8.507015527987671E-10,8.507015527987671E-10,"-",-1.8571812728228833E-10,-1.8571812728228833E-10,-1.8571812728228833E-10,"-",-1.3000268909760182E-10,-2.7010739475919759E-7,8.4549416056719213E-11,8.0738745005760771E-10,6.2800002098086312,-2.9088820873213997E-4,2.9088820873213997E-4,{"$f":"FI_T-Rechentabelle!AL1507","v":-2.0980863091324409E-7},{"$f":"AP1506","v":-2.6290081223123707E-13}]
[9.412500262260437E-2,6.2500002968590707E-5,6.2800002098083496,0,0,null,0,null,{"$f":"C1508","v":6.2800002098083496},{"$f":"AL1506","v":6.2800002098086258},{"$f":"I1508-J1508","v":-2.7622348852673895E-13},{"$f":"L1506+KP_LR*(1+2*TA_SIM/TN_LR)*K1508-KP_LR*K1506","v":1.4410437209766683E-10},"-",{"$f":"L1508","v":1.4410437209766683E-10},8.4549416056719213E-11,0,5.955495604094762E-11,-1.6823291248788684E-10,"-",-1.6823291248788684E-10,0,-1.6823291248788684E-10,-1.6823291248788684E-10,-1.8571812728228833E-10,1.7485214794401486E-11,7.2148097441305226E-10,7.2148097441305226E-10,7.2148097441305226E-10,"-",-1.7443734354431438E-10,-1.7443734354431438E-10,-1.7443734354431438E-10,"-",-1.2210614048102005E-10,-2.537006866424684E-7,6.8693123141564941E-11,6.5597100626401954E-10,6.2800002098086356,-2.9088820873213997E-4,2.9088820873213997E-4,{"$f":"FI_T-Rechentabelle!AL1508","v":-2.0980863535413619E-7},{"$f":"K1508","v":-2.7622348852673895E-13}]
[9.4187498092651367E-2,6.2500002968590707E-5,6.2800002098083496,0,0,null,0,null,null,null,null,null,"-",{"$f":"N1508+(L1510-L1508)/2","v":1.270919131796663E-10},6.8693123141564941E-11,0,5.839879003810136E-11,-1.5667343255577483E-10,"-",-1.5667343255577483E-10,0,-1.5667343255577483E-10,-1.5667343255577483E-10,-1.7443734354431438E-10,1.7763910988539556E-11,7.7427935363175337E-10,7.7427935363175337E-10,7.7427935363175337E-10,"-",-1.6297675581011325E-10,-1.6297675581011325E-10,-1.6297675581011325E-10,"-",-1.1408372906707926E-10,-2.3703247260976366E-7,5.3878593603454708E-11,5.1450266992975141E-10,6.2800002098086392,-2.9088820873213997E-4,2.9088820873213997E-4,{"$f":"FI_T-Rechentabelle!AL1509","v":-2.0980863890684986E-7},{"$f":"AP1508","v":-2.7622348852673895E-13}]
[9.4250001013278961E-2,6.2500002968590707E-5,6.2800002098083496,0,0,null,0,null,{"$f":"C1510","v":6.2800002098083496},{"$f":"AL1508","v":6.2800002098086356},{"$f":"I1510-J1510","v":-2.8599345114344032E-13},{"$f":"L1508+KP_LR*(1+2*TA_SIM/TN_LR)*K1510-KP_LR*K1508","v":1.1007945426166577E-10},"-",{"$f":"L1510","v":1.1007945426166577E-10},5.3878593603454708E-11,0,5.6200860658211061E-11,-1.4806254694106993E-10,"-",-1.4806254694106993E-10,0,-1.4806254694106993E-10,-1.4806254694106993E-10,-1.6297675581011325E-10,1.4914208869043321E-11,6.0215265370855038E-10,6.0215265370855038E-10,6.0215265370855038E-10,"-",-1.5335468557235248E-10,-1.5335468557235248E-10,-1.5335468557235248E-10,"-",-1.0734827990064673E-10,-2.2303818803375591E-7,3.9938706851344965E-11,3.8138655696538193E-10,6.2800002098086418,-2.9088820873213997E-4,2.9088820873213997E-4,{"$f":"FI_T-Rechentabelle!AL1510","v":-2.0980864157138512E-7},{"$f":"K1510","v":-2.8599345114344032E-13}]
[9.4312503933906555E-2,6.2500002968590707E-5,6.2800002098083496,0,0,null,0,null,null,null,null,null,"-",{"$f":"N1510+(L1512-L1510)/2","v":9.4830470270865303E-11},3.9938706851344965E-11,0,5.4891763419520339E-11,-1.3771224762672711E-10,"-",-1.3771224762672711E-10,0,-1.3771224762672711E-10,-1.3771224762672711E-10,-1.5335468557235248E-10,1.5642437945625369E-11,6.8253613343399599E-10,6.8253613343399599E-10,6.8253613343399599E-10,"-",-1.4326279012388498E-10,-1.4326279012388498E-10,-1.4326279012388498E-10,"-",-1.0028395308671949E-10,-2.0836059232644811E-7,2.6916169830941959E-11,2.570304886617215E-10,6.2800002098086436,-2.9088820873213997E-4,2.9088820873213997E-4,{"$f":"FI_T-Rechentabelle!AL1511","v":-2.0980864334774196E-7},{"$f":"AP1510","v":-2.8599345114344032E-13}]
[9.4374999403953552E-2,6.2500002968590707E-5,6.2800002098083496,0,0,null,0,null,{"$f":"C1512","v":6.2800002098083496},{"$f":"AL1510","v":6.2800002098086418},{"$f":"I1512-J1512","v":-2.922107000813412E-13},{"$f":"L1510+KP_LR*(1+2*TA_SIM/TN_LR)*K1512-KP_LR*K1510","v":7.9581486280064837E-11},"-",{"$f":"L1512","v":7.9581486280064837E-11},2.6916169830941959E-11,0,5.2665316449122878E-11,-1.3002934926408816E-10,"-",-1.3002934926408816E-10,0,-1.3002934926408816E-10,-1.3002934926408816E-10,-1.4326279012388498E-10,1.323344085979682E-11,5.381994208890055E-10,5.381994208890055E-10,5.381994208890055E-10,"-",-1.3472508634368556E-10,-1.3472508634368556E-10,-1.3472508634368556E-10,"-",-9.4307560440579887E-11,-1.9594340419817136E-7,1.4669707068556249E-11,1.4008538362025069E-10,6.2800002098086445,-2.9088820873213997E-4,2.9088820873213997E-4,{"$f":"FI_T-Rechentabelle!AL1512","v":-2.0980864423592038E-7},{"$f":"K1512","v":-2.922107000813412E-13}]
[9.4437494874000549E-2,6.2500002968590707E-5,6.2800002098083496,0,0,null,0,null,null,null,null,null,"-",{"$f":"N1512+(L1514-L1512)/2","v":6.6238546041293137E-11},1.4669707068556249E-11,0,5.1568838972736888E-11,-1.1999672070738699E-10,"-",-1.1999672070738699E-10,0,-1.1999672070738699E-10,-1.1999672070738699E-10,-1.3472508634368556E-10,1.472836563629857E-11,6.7068979252039656E-10,6.7068979252039656E-10,6.7068979252039656E-10,"-",-1.2522291496573494E-10,-1.2522291496573494E-10,-1.2522291496573494E-10,"-",-8.7656040476014447E-11,-1.8212349984627973E-7,3.2869883281637653E-12,3.1388426418757694E-11,6.2800002098086445,-2.9088820873213997E-4,2.9088820873213997E-4,{"$f":"FI_T-Rechentabelle!AL1513","v":-2.0980864423592038E-7},{"$f":"AP1512","v":-2.922107000813412E-13}]
[9.450000524520874E-2,6.2500002968590707E-5,6.2800002098083496,0,0,null,0,null,{"$f":"C1514","v":6.2800002098083496},{"$f":"AL1512","v":6.2800002098086445},{"$f":"I1514-J1514","v":-2.9487523534044158E-13},{"$f":"L1512+KP_LR*(1+2*TA_SIM/TN_LR)*K1514-KP_LR*K1512","v":5.2895605802521437E-11},"-",{"$f":"L1514","v":5.2895605802521437E-11},3.2869883281637653E-12,0,4.960861747435767E-11,-1.1244243685596767E-10,"-",-1.1244243685596767E-10,0,-1.1244243685596767E-10,-1.1244243685596767E-10,-1.2522291496573494E-10,1.2780478109767266E-11,5.5787251744408647E-10,5.5787251744408647E-10,5.5787251744408647E-10,"-",-1.1697744521779656E-10,-1.1697744521779656E-10,-1.1697744521779656E-10,"-",-8.1884211652457591E-11,-1.7013133524300351E-7,-7.346220124523955E-12,-7.0151234751548788E-11,6.2800002098086436,-2.9088820873213997E-4,2.9088820873213997E-4,{"$f":"FI_T-Rechentabelle!AL1514","v":-2.0980864334774196E-7},{"$f":"K1514","v":-2.9487523534044158E-13}]
[9.4562500715255737E-2,6.2500002968590707E-5,6.2800002098083496,0,0,null,0,null,null,null,null,null,"-",{"$f":"N1514+(L1516-L1514)/2","v":4.1601278140607254E-11},-7.346220124523955E-12,0,4.8947498265131212E-11,-1.0204056902916215E-10,"-",-1.0204056902916215E-10,0,-1.0204056902916215E-10,-1.0204056902916215E-10,-1.1697744521779656E-10,1.4936876188634411E-11,7.3718416384910926E-10,7.3718416384910926E-10,7.3718416384910926E-10,"-",-1.0734075090283935E-10,-1.0734075090283935E-10,-1.0734075090283935E-10,"-",-7.513852563198754E-11,-1.5611578149176715E-7,-1.7103456467759401E-11,-1.6332597844805741E-10,6.2800002098086427,-2.9088820873213997E-4,2.9088820873213997E-4,{"$f":"FI_T-Rechentabelle!AL1515","v":-2.0980864245956354E-7},{"$f":"AP1514","v":-2.9487523534044158E-13}]
[9.4624996185302734E-2,6.2500002968590707E-5,6.2800002098083496,0,0,null,0,null,{"$f":"C1516","v":6.2800002098083496},{"$f":"AL1514","v":6.2800002098086436},{"$f":"I1516-J1516","v":-2.9398705692074145E-13},{"$f":"L1514+KP_LR*(1+2*TA_SIM/TN_LR)*K1516-KP_LR*K1514","v":3.0306950478693072E-11},"-",{"$f":"L1516","v":3.0306950478693072E-11},-1.7103456467759401E-11,0,4.7410406946452473E-11,-9.4042210502597165E-11,"-",-9.4042210502597165E-11,0,-9.4042210502597165E-11,-9.4042210502597165E-11,-1.0734075090283935E-10,1.3298540400242189E-11,6.4706470151596655E-10,6.4706470151596655E-10,6.4706470151596655E-10,"-",-9.8761047419095368E-11,-9.8761047419095368E-11,-9.8761047419095368E-11,"-",-6.9132733193366747E-11,-1.4363750923201069E-7,-2.6080800794760068E-11,-2.4905330197686587E-10,6.2800002098086409,-2.9088820873213997E-4,2.9088820873213997E-4,{"$f":"FI_T-Rechentabelle!AL1516","v":-2.098086406832067E-7},{"$f":"K1516","v":-2.9398705692074145E-13}]
[9.4687499105930328E-2,6.2500002968590707E-5,6.2800002098083496,0,0,null,0,null,null,null,null,null,"-",{"$f":"N1516+(L1518-L1516)/2","v":2.012603462072557E-11},-2.6080800794760068E-11,0,4.6206835415485639E-11,-8.5564831997374707E-11,"-",-8.5564831997374707E-11,0,-8.5564831997374707E-11,-8.5564831997374707E-11,-9.8761047419095368E-11,1.3196215421720661E-11,6.6457184155457805E-10,6.6457184155457805E-10,6.6457184155457805E-10,"-",-9.0247360050519228E-11,-9.0247360050519228E-11,-9.0247360050519228E-11,"-",-6.3173152035363455E-11,-1.3125525043707345E-7,-3.4284253947077162E-11,-3.2739050915370923E-10,6.2800002098086392,-2.9088820873213997E-4,2.9088820873213997E-4,{"$f":"FI_T-Rechentabelle!AL1517","v":-2.0980863890684986E-7},{"$f":"AP1516","v":-2.9398705692074145E-13}]
[9.4750002026557922E-2,6.2500002968590707E-5,6.2800002098083496,0,0,null,0,null,{"$f":"C1518","v":6.2800002098083496},{"$f":"AL1516","v":6.2800002098086409},{"$f":"I1518-J1518","v":-2.9132252166164108E-13},{"$f":"L1516+KP_LR*(1+2*TA_SIM/TN_LR)*K1518-KP_LR*K1516","v":9.9451187627580687E-12},"-",{"$f":"L1518","v":9.9451187627580687E-12},-3.4284253947077162E-11,0,4.4229372709835231E-11,-7.9361899580152379E-11,"-",-7.9361899580152379E-11,0,-7.9361899580152379E-11,-7.9361899580152379E-11,-9.0247360050519228E-11,1.088546047036685E-11,5.2273809746217122E-10,5.2273809746217122E-10,5.2273809746217122E-10,"-",-8.3224482327970638E-11,-8.3224482327970638E-11,-8.3224482327970638E-11,"-",-5.8257137629579439E-11,-1.2104121676621533E-7,-4.1849329994965621E-11,-3.9963166402696213E-10,6.2800002098086365,-2.9088820873213997E-4,2.9088820873213997E-4,{"$f":"FI_T-Rechentabelle!AL1518","v":-2.0980863624231461E-7},{"$f":"K1518","v":-2.9132252166164108E-13}]
[9.4812497496604919E-2,6.2500002968590707E-5,6.2800002098083496,0,0,null,0,null,null,null,null,null,"-",{"$f":"N1518+(L1520-L1518)/2","v":9.4889912115166259E-13},-4.1849329994965621E-11,0,4.2798229116117284E-11,-7.224257794325116E-11,"-",-7.224257794325116E-11,0,-7.224257794325116E-11,-7.224257794325116E-11,-8.3224482327970638E-11,1.0981904384719478E-11,5.5005462687975357E-10,5.5005462687975357E-10,5.5005462687975357E-10,"-",-7.6139382725187563E-11,-7.6139382725187563E-11,-7.6139382725187563E-11,"-",-5.3297567907631292E-11,-1.1073668794438248E-7,-4.8770372991489525E-11,-4.6572275628186152E-10,6.2800002098086338,-2.9088820873213997E-4,2.9088820873213997E-4,{"$f":"FI_T-Rechentabelle!AL1519","v":-2.0980863357777935E-7},{"$f":"AP1518","v":-2.9132252166164108E-13}]
[9.4875000417232513E-2,6.2500002968590707E-5,6.2800002098083496,0,0,null,0,null,{"$f":"C1520","v":6.2800002098083496},{"$f":"AL1518","v":6.2800002098086365},{"$f":"I1520-J1520","v":-2.8688162956314045E-13},{"$f":"L1518+KP_LR*(1+2*TA_SIM/TN_LR)*K1520-KP_LR*K1518","v":-8.0473205204547435E-12},"-",{"$f":"L1520","v":-8.0473205204547435E-12},-4.8770372991489525E-11,0,4.0723052471034782E-11,-6.7120769014445205E-11,"-",-6.7120769014445205E-11,0,-6.7120769014445205E-11,-6.7120769014445205E-11,-7.6139382725187563E-11,9.0186137107423581E-12,4.2911782328778079E-10,4.2911782328778079E-10,4.2911782328778079E-10,"-",-7.0320922266899064E-11,-7.0320922266899064E-11,-7.0320922266899064E-11,"-",-4.9224645586829345E-11,-1.0227435193606761E-7,-5.5162519987493754E-11,-5.2676326376490645E-10,6.2800002098086303,-2.9088820873213997E-4,2.9088820873213997E-4,{"$f":"FI_T-Rechentabelle!AL1520","v":-2.0980863002506567E-7},{"$f":"K1520","v":-2.8688162956314045E-13}]
[9.4937503337860107E-2,6.2500002968590707E-5,6.2800002098083496,0,0,null,0,null,null,null,null,null,"-",{"$f":"N1520+(L1522-L1520)/2","v":-1.5787559533285743E-11},-5.5162519987493754E-11,0,3.9374960454208011E-11,-6.0643665130454382E-11,"-",-6.0643665130454382E-11,0,-6.0643665130454382E-11,-6.0643665130454382E-11,-7.0320922266899064E-11,9.6772571364446818E-12,4.9345617839236291E-10,4.9345617839236291E-10,4.9345617839236291E-10,"-",-6.4077530566215349E-11,-6.4077530566215349E-11,-6.4077530566215349E-11,"-",-4.485427139635074E-11,-9.3193998330252932E-8,-6.0987144883134567E-11,-5.8238433439274747E-10,6.2800002098086267,-2.9088820873213997E-4,2.9088820873213997E-4,{"$f":"FI_T-Rechentabelle!AL1521","v":-2.0980862647235199E-7},{"$f":"AP1520","v":-2.8688162956314045E-13}]
[9.4999998807907104E-2,6.2500002968590707E-5,6.2800002098083496,0,0,null,0,null,{"$f":"C1522","v":6.2800002098083496},{"$f":"AL1520","v":6.2800002098086303},{"$f":"I1522-J1522","v":-2.8066438062523957E-13},{"$f":"L1520+KP_LR*(1+2*TA_SIM/TN_LR)*K1522-KP_LR*K1520","v":-2.3527798546116742E-11},"-",{"$f":"L1522","v":-2.3527798546116742E-11},-6.0987144883134567E-11,0,3.7459346337017825E-11,-5.5947972121119821E-11,"-",-5.5947972121119821E-11,0,-5.5947972121119821E-11,-5.5947972121119821E-11,-6.4077530566215349E-11,8.1295584450955273E-12,4.0002785701945246E-10,4.0002785701945246E-10,4.0002785701945246E-10,"-",-5.8832654150266573E-11,-5.8832654150266573E-11,-5.8832654150266573E-11,"-",-4.1182857905186596E-11,-8.5565879711586514E-8,-6.6335012365108724E-11,-6.334527070781432E-10,6.2800002098086223,-2.9088820873213997E-4,2.9088820873213997E-4,{"$f":"FI_T-Rechentabelle!AL1522","v":-2.0980862203145989E-7},{"$f":"K1522","v":-2.8066438062523957E-13}]
[9.5062501728534698E-2,6.2500002968590707E-5,6.2800002098083496,0,0,null,0,null,null,null,null,null,"-",{"$f":"N1522+(L1524-L1522)/2","v":-2.994077251775797E-11},-6.6335012365108724E-11,0,3.6394239847350753E-11,-4.9542142989722508E-11,"-",-4.9542142989722508E-11,0,-4.9542142989722508E-11,-4.9542142989722508E-11,-5.8832654150266573E-11,9.2905111605440652E-12,4.9890149431389023E-10,4.9890149431389023E-10,4.9890149431389023E-10,"-",-5.2838775982409241E-11,-5.2838775982409241E-11,-5.2838775982409241E-11,"-",-3.6987143187686465E-11,-7.6848417177823521E-8,-7.1138038438722694E-11,-6.793182275630385E-10,6.2800002098086178,-2.9088820873213997E-4,2.9088820873213997E-4,{"$f":"FI_T-Rechentabelle!AL1523","v":-2.0980861759056779E-7},{"$f":"AP1522","v":-2.8066438062523957E-13}]
[9.5125004649162292E-2,6.2500002968590707E-5,6.2800002098083496,0,0,null,0,null,{"$f":"C1524","v":6.2800002098083496},{"$f":"AL1522","v":6.2800002098086223},{"$f":"I1524-J1524","v":-2.7267077484793845E-13},{"$f":"L1522+KP_LR*(1+2*TA_SIM/TN_LR)*K1524-KP_LR*K1522","v":-3.6353746489399199E-11},"-",{"$f":"L1524","v":-3.6353746489399199E-11},-7.1138038438722694E-11,0,3.4784291949323495E-11,-4.4790676393802205E-11,"-",-4.4790676393802205E-11,0,-4.4790676393802205E-11,-4.4790676393802205E-11,-5.2838775982409241E-11,8.0480995886070368E-12,4.2674995223660733E-10,4.2674995223660733E-10,4.2674995223660733E-10,"-",-4.7646453667408395E-11,-4.7646453667408395E-11,-4.7646453667408395E-11,"-",-3.3352517567185874E-11,-6.9296732946573595E-8,-7.5469084247883541E-11,-7.2067666852016157E-10,6.2800002098086134,-2.9088820873213997E-4,2.9088820873213997E-4,{"$f":"FI_T-Rechentabelle!AL1524","v":-2.0980861314967569E-7},{"$f":"K1524","v":-2.7267077484793845E-13}]
[9.518750011920929E-2,6.2500002968590707E-5,6.2800002098083496,0,0,null,0,null,null,null,null,null,"-",{"$f":"N1524+(L1526-L1524)/2","v":-4.1907055806306012E-11},-7.5469084247883541E-11,0,3.3562028441577529E-11,-3.9439299937019455E-11,"-",-3.9439299937019455E-11,0,-3.9439299937019455E-11,-3.9439299937019455E-11,-4.7646453667408395E-11,8.2071537303889403E-12,4.5326984671660673E-10,4.5326984671660673E-10,4.5326984671660673E-10,"-",-4.2351515777058434E-11,-4.2351515777058434E-11,-4.2351515777058434E-11,"-",-2.9646061043940904E-11,-6.1595805202453565E-8,-7.931882207303689E-11,-7.5743895678902149E-10,6.2800002098086081,-2.9088820873213997E-4,2.9088820873213997E-4,{"$f":"FI_T-Rechentabelle!AL1525","v":-2.0980860782060518E-7},{"$f":"AP1524","v":-2.7267077484793845E-13}]
[9.5249995589256287E-2,6.2500002968590707E-5,6.2800002098083496,0,0,null,0,null,{"$f":"C1526","v":6.2800002098083496},{"$f":"AL1524","v":6.2800002098086134},{"$f":"I1526-J1526","v":-2.6378899065093719E-13},{"$f":"L1524+KP_LR*(1+2*TA_SIM/TN_LR)*K1526-KP_LR*K1524","v":-4.7460365123212825E-11},"-",{"$f":"L1526","v":-4.7460365123212825E-11},-7.931882207303689E-11,0,3.1858456949824066E-11,-3.5617965437166566E-11,"-",-3.5617965437166566E-11,0,-3.5617965437166566E-11,-3.5617965437166566E-11,-4.2351515777058434E-11,6.7335503398918674E-12,3.6243065129699703E-10,3.6243065129699703E-10,3.6243065129699703E-10,"-",-3.8007289751539487E-11,-3.8007289751539487E-11,-3.8007289751539487E-11,"-",-2.660510282607764E-11,-5.5277587421727902E-8,-8.2773671286894886E-11,-7.9043033659038033E-10,6.2800002098086027,-2.9088820873213997E-4,2.9088820873213997E-4,{"$f":"FI_T-Rechentabelle!AL1526","v":-2.0980860249153466E-7},{"$f":"K1526","v":-2.6378899065093719E-13}]
[9.5312498509883881E-2,6.2500002968590707E-5,6.2800002098083496,0,0,null,0,null,null,null,null,null,"-",{"$f":"N1526+(L1528-L1526)/2","v":-5.1579482780308309E-11},-8.2773671286894886E-11,0,3.1194188506586576E-11,-2.9551517576825218E-11,"-",-2.9551517576825218E-11,0,-2.9551517576825218E-11,-2.9551517576825218E-11,-3.8007289751539487E-11,8.4557721747142693E-12,4.9913998996496389E-10,4.9913998996496389E-10,4.9913998996496389E-10,"-",-3.2551952864839143E-11,-3.2551952864839143E-11,-3.2551952864839143E-11,"-",-2.2786367005387398E-11,-4.7343376283788479E-8,-8.5732632304631664E-11,-8.1868633293372248E-10,6.2800002098085974,-2.9088820873213997E-4,2.9088820873213997E-4,{"$f":"FI_T-Rechentabelle!AL1527","v":-2.0980859716246414E-7},{"$f":"AP1526","v":-2.6378899065093719E-13}]
[9.5375001430511475E-2,6.2500002968590707E-5,6.2800002098083496,0,0,null,0,null,{"$f":"C1528","v":6.2800002098083496},{"$f":"AL1526","v":6.2800002098086027},{"$f":"I1528-J1528","v":-2.5313084961453569E-13},{"$f":"L1526+KP_LR*(1+2*TA_SIM/TN_LR)*K1528-KP_LR*K1526","v":-5.5698600437403794E-11},"-",{"$f":"L1528","v":-5.5698600437403794E-11},-8.5732632304631664E-11,0,3.003403186722787E-11,-2.4916399341966455E-11,"-",-2.4916399341966455E-11,0,-2.4916399341966455E-11,-2.4916399341966455E-11,-3.2551952864839143E-11,7.6355535228726887E-12,4.5585180667203922E-10,4.5585180667203922E-10,4.5585180667203922E-10,"-",-2.7625789301902055E-11,-2.7625789301902055E-11,-2.7625789301902055E-11,"-",-1.9338052511331439E-11,-4.0178791837380922E-8,-8.8243806794467969E-11,-8.4266628291514549E-10,6.2800002098085921,-2.9088820873213997E-4,2.9088820873213997E-4,{"$f":"FI_T-Rechentabelle!AL1528","v":-2.0980859183339362E-7},{"$f":"K1528","v":-2.5313084961453569E-13}]
[9.5437496900558472E-2,6.2500002968590707E-5,6.2800002098083496,0,0,null,0,null,null,null,null,null,"-",{"$f":"N1528+(L1530-L1528)/2","v":-5.9390011620013126E-11},-8.8243806794467969E-11,0,2.8853795174454843E-11,-2.0615520133284828E-11,"-",-2.0615520133284828E-11,0,-2.0615520133284828E-11,-2.0615520133284828E-11,-2.7625789301902055E-11,7.0102691686172269E-12,4.2507686657268152E-10,4.2507686657268152E-10,4.2507686657268152E-10,"-",-2.3103034999769579E-11,-2.3103034999769579E-11,-2.3103034999769579E-11,"-",-1.6172124499838706E-11,-3.3600923540076263E-8,-9.0343864515722739E-11,-8.6272035694210533E-10,6.2800002098085868,-2.9088820873213997E-4,2.9088820873213997E-4,{"$f":"FI_T-Rechentabelle!AL1529","v":-2.098085865043231E-7},{"$f":"AP1528","v":-2.5313084961453569E-13}]
[9.5499999821186066E-2,6.2500002968590707E-5,6.2800002098083496,0,0,null,0,null,{"$f":"C1530","v":6.2800002098083496},{"$f":"AL1528","v":6.2800002098085921},{"$f":"I1530-J1530","v":-2.4247270857813419E-13},{"$f":"L1528+KP_LR*(1+2*TA_SIM/TN_LR)*K1530-KP_LR*K1528","v":-6.3081422802622457E-11},"-",{"$f":"L1530","v":-6.3081422802622457E-11},-9.0343864515722739E-11,0,2.7262441713100281E-11,-1.7654759985762832E-11,"-",-1.7654759985762832E-11,0,-1.7654759985762832E-11,-1.7654759985762832E-11,-2.3103034999769579E-11,5.4482750140067469E-12,3.2562850110106816E-10,3.2562850110106816E-10,3.2562850110106816E-10,"-",-1.9588018861896704E-11,-1.9588018861896704E-11,-1.9588018861896704E-11,"-",-1.3711613203327692E-11,-2.8488703933778706E-8,-9.2124408511583911E-11,-8.7972329964213949E-10,6.2800002098085814,-2.9088820873213997E-4,2.9088820873213997E-4,{"$f":"FI_T-Rechentabelle!AL1530","v":-2.0980858117525258E-7},{"$f":"K1530","v":-2.4247270857813419E-13}]
[9.556250274181366E-2,6.2500002968590707E-5,6.2800002098083496,0,0,null,0,null,null,null,null,null,"-",{"$f":"N1530+(L1532-L1530)/2","v":-6.6345127510745636E-11},-9.2124408511583911E-11,0,2.5779281000838275E-11,-1.4805005842260584E-11,"-",-1.4805005842260584E-11,0,-1.4805005842260584E-11,-1.4805005842260584E-11,-1.9588018861896704E-11,4.7830130196361202E-12,2.8788026417811374E-10,2.8788026417811374E-10,2.8788026417811374E-10,"-",-1.6502204010709469E-11,-1.6502204010709469E-11,-1.6502204010709469E-11,"-",-1.1551542807496628E-11,-2.4000712253265381E-8,-9.3624453027412999E-11,-8.9404766961526474E-10,6.2800002098085752,-2.9088820873213997E-4,2.9088820873213997E-4,{"$f":"FI_T-Rechentabelle!AL1531","v":-2.0980857495800365E-7},{"$f":"AP1530","v":-2.4247270857813419E-13}]
[9.5624998211860657E-2,6.2500002968590707E-5,6.2800002098083496,0,0,null,0,null,{"$f":"C1532","v":6.2800002098083496},{"$f":"AL1530","v":6.2800002098085814},{"$f":"I1532-J1532","v":-2.3181456754173269E-13},{"$f":"L1530+KP_LR*(1+2*TA_SIM/TN_LR)*K1532-KP_LR*K1530","v":-6.9608832218868814E-11},"-",{"$f":"L1532","v":-6.9608832218868814E-11},-9.3624453027412999E-11,0,2.4015620808544185E-11,-1.3034864304036175E-11,"-",-1.3034864304036175E-11,0,-1.3034864304036175E-11,-1.3034864304036175E-11,-1.6502204010709469E-11,3.4673397066732936E-12,2.0201576656456337E-10,2.0201576656456337E-10,2.0201576656456337E-10,"-",-1.4265210651751359E-11,-1.4265210651751359E-11,-1.4265210651751359E-11,"-",-9.9856474562259499E-12,-2.07472417540535E-8,-9.4921155637041343E-11,-9.0643026741781531E-10,6.280000209808569,-2.9088820873213997E-4,2.9088820873213997E-4,{"$f":"FI_T-Rechentabelle!AL1532","v":-2.0980856874075471E-7},{"$f":"K1532","v":-2.3181456754173269E-13}]
[9.5687501132488251E-2,6.2500002968590707E-5,6.2800002098083496,0,0,null,0,null,null,null,null,null,"-",{"$f":"N1532+(L1534-L1532)/2","v":-7.1367060854766301E-11},-9.4921155637041343E-11,0,2.3554094782275042E-11,-8.3614575235072536E-12,"-",-8.3614575235072536E-12,0,-8.3614575235072536E-12,-8.3614575235072536E-12,-1.4265210651751359E-11,5.903753128244105E-12,3.8408200162186161E-10,3.8408200162186161E-10,3.8408200162186161E-10,"-",-1.045633766596854E-11,-1.045633766596854E-11,-1.045633766596854E-11,"-",-7.3194363661779771E-12,-1.5207638408846823E-8,-9.5871633037594267E-11,-9.1550665801352326E-10,6.2800002098085628,-2.9088820873213997E-4,2.9088820873213997E-4,{"$f":"FI_T-Rechentabelle!AL1533","v":-2.0980856252350577E-7},{"$f":"AP1532","v":-2.3181456754173269E-13}]
[9.5750004053115845E-2,6.2500002968590707E-5,6.2800002098083496,0,0,null,0,null,{"$f":"C1534","v":6.2800002098083496},{"$f":"AL1532","v":6.280000209808569},{"$f":"I1534-J1534","v":-2.1938006966593093E-13},{"$f":"L1532+KP_LR*(1+2*TA_SIM/TN_LR)*K1534-KP_LR*K1532","v":-7.3125289490663789E-11},"-",{"$f":"L1534","v":-7.3125289490663789E-11},-9.5871633037594267E-11,0,2.2746343546930478E-11,-4.6868425457040247E-12,"-",-4.6868425457040247E-12,0,-4.6868425457040247E-12,-4.6868425457040247E-12,-1.045633766596854E-11,5.7694951202645154E-12,3.8545249489966015E-10,3.8545249489966015E-10,3.8545249489966015E-10,"-",-6.7340827498452739E-12,-6.7340827498452739E-12,-6.7340827498452739E-12,"-",-4.7138579248916917E-12,-9.7940118946430315E-9,-9.6483758781009456E-11,-9.2135202828502295E-10,6.2800002098085566,-2.9088820873213997E-4,2.9088820873213997E-4,{"$f":"FI_T-Rechentabelle!AL1534","v":-2.0980855630625683E-7},{"$f":"K1534","v":-2.1938006966593093E-13}]
[9.5812499523162842E-2,6.2500002968590707E-5,6.2800002098083496,0,0,null,0,null,null,null,null,null,"-",{"$f":"N1534+(L1536-L1534)/2","v":-7.4384527239660708E-11},-9.6483758781009456E-11,0,2.2099231541348748E-11,-7.9794342440372323E-13,"-",-7.9794342440372323E-13,0,-7.9794342440372323E-13,-7.9794342440372323E-13,-6.7340827498452739E-12,5.9361393254415507E-12,4.0825616816871947E-10,4.0825616816871947E-10,4.0825616816871947E-10,"-",-2.9043154432806298E-12,-2.9043154432806298E-12,-2.9043154432806298E-12,"-",-2.0330208102964407E-12,-4.2240199673726168E-9,-9.6747760028970245E-11,-9.2387305450074645E-10,6.2800002098085503,-2.9088820873213997E-4,2.9088820873213997E-4,{"$f":"FI_T-Rechentabelle!AL1535","v":-2.0980855008900789E-7},{"$f":"AP1534","v":-2.1938006966593093E-13}]
[9.5874994993209839E-2,6.2500002968590707E-5,6.2800002098083496,0,0,null,0,null,{"$f":"C1536","v":6.2800002098083496},{"$f":"AL1534","v":6.2800002098085566},{"$f":"I1536-J1536","v":-2.0694557179012918E-13},{"$f":"L1534+KP_LR*(1+2*TA_SIM/TN_LR)*K1536-KP_LR*K1534","v":-7.5643764988657627E-11},"-",{"$f":"L1536","v":-7.5643764988657627E-11},-9.6747760028970245E-11,0,2.1103995040312617E-11,2.0420575620067016E-12,"-",2.0420575620067016E-12,0,2.0420575620067016E-12,2.0420575620067016E-12,-2.9043154432806298E-12,4.9463730052873318E-12,3.480354624155287E-10,3.480354624155287E-10,3.480354624155287E-10,"-",2.8689294705994766E-13,2.8689294705994766E-13,2.8689294705994766E-13,"-",2.0082506294196334E-13,4.1725548086840501E-10,-9.6721681561415971E-11,-9.2362402347957483E-10,6.2800002098085441,-2.9088820873213997E-4,2.9088820873213997E-4,{"$f":"FI_T-Rechentabelle!AL1536","v":-2.0980854387175896E-7},{"$f":"K1536","v":-2.0694557179012918E-13}]
[9.593750536441803E-2,6.2500002968590707E-5,6.2800002098083496,0,0,null,0,null,null,null,null,null,"-",{"$f":"N1536+(L1538-L1536)/2","v":-7.640401185075403E-11},-9.6721681561415971E-11,0,2.0317669710661941E-11,5.1742027767724739E-12,"-",5.1742027767724739E-12,0,5.1742027767724739E-12,5.1742027767724739E-12,2.8689294705994766E-13,4.8873098297125263E-12,3.5303360757915928E-10,3.5303360757915928E-10,3.5303360757915928E-10,"-",3.4399960628404802E-12,3.4399960628404802E-12,3.4399960628404802E-12,"-",2.4079972439883359E-12,5.0031108331359561E-9,-9.6408987134344972E-11,-9.2063801165483661E-10,6.2800002098085379,-2.9088820873213997E-4,2.9088820873213997E-4,{"$f":"FI_T-Rechentabelle!AL1537","v":-2.0980853765451002E-7},{"$f":"AP1536","v":-2.0694557179012918E-13}]
[9.6000000834465027E-2,6.2500002968590707E-5,6.2800002098083496,0,0,null,0,null,{"$f":"C1538","v":6.2800002098083496},{"$f":"AL1536","v":6.2800002098085441},{"$f":"I1538-J1538","v":-1.9451107391432743E-13},{"$f":"L1536+KP_LR*(1+2*TA_SIM/TN_LR)*K1538-KP_LR*K1536","v":-7.7164258712850433E-11},"-",{"$f":"L1538","v":-7.7164258712850433E-11},-9.6408987134344972E-11,0,1.9244728421494539E-11,7.3809616203610029E-12,"-",7.3809616203610029E-12,{"$f":"G1538*(JM_EMS+JL_EMS)/KT_M*KP_VSR","v":0},7.3809616203610029E-12,{"$f":"IF(V1538<-IM_R,-IM_R,IF(V1538>IM_R,IM_R,V1538))","v":7.3809616203610029E-12},3.4399960628404802E-12,3.9409655575205223E-12,2.9397976454839768E-10,{"$f":"IF(Z1538<-U_ZWK,-U_ZWK,IF(Z1538>U_ZWK,U_ZWK,Z1538))","v":2.9397976454839768E-10},2.9397976454839768E-10,"-",5.9825544868884679E-12,5.9825544868884679E-12,5.9825544868884679E-12,"-",{"$f":"AF1538*KT_M","v":4.1877881408219271E-12},{"$f":"AH1538/(JM_EMS+JL_EMS)","v":8.7009934361560919E-9},-9.5865175044585217E-11,-9.154449887229328E-10,6.2800002098085317,{"$f":"-DF_LR","v":-2.9088820873213997E-4},{"$f":"DF_LR","v":2.9088820873213997E-4},{"$f":"FI_T-Rechentabelle!AL1538","v":-2.0980853143726108E-7},{"$f":"K1538","v":-1.9451107391432743E-13}]
[9.6062496304512024E-2,6.2500002968590707E-5,6.2800002098083496,0,0,null,{"$f":"E1539/1000","v":0},null,null,null,null,null,"-",{"$f":"N1538+(L1540-L1538)/2","v":-7.7425514688046306E-11},-9.5865175044585217E-11,0,1.843966035653891E-11,{"$f":"R1538+KP_DR*(1+TA_SIM/TN_DR)*Q1539-KP_DR*Q1538","v":1.0011853239034139E-11},"-",{"$f":"R1539","v":1.0011853239034139E-11},0,{"$f":"T1539+U1539","v":1.0011853239034139E-11},1.0011853239034139E-11,5.9825544868884679E-12,{"$f":"W1539-X1539","v":4.0292987521456713E-12},3.0771887290739037E-10,3.0771887290739037E-10,{"$f":"AA1539","v":3.0771887290739037E-10},"-",{"$f":"(1/R_M*AB1539+AD1538*T_M/TA_SIM)/(1+T_M/TA_SIM)","v":8.5821020687632556E-12},{"$f":"AD1539","v":8.5821020687632556E-12},{"$f":"AE1539","v":8.5821020687632556E-12},"-",6.0074714481342785E-12,1.2481760748253226E-8,-9.508506499781939E-11,-9.0799548651702693E-10,6.2800002098085255,-2.9088820873213997E-4,2.9088820873213997E-4,{"$f":"FI_T-Rechentabelle!AL1539","v":-2.0980852522001214E-7},{"$f":"AP1538","v":-1.9451107391432743E-13}]
[9.6124999225139618E-2,6.2500002968590707E-5,6.2800002098083496,0,0,null,0,null,{"$f":"C1540","v":6.2800002098083496},{"$f":"AL1538","v":6.2800002098085317},{"$f":"I1540-J1540","v":-1.8207657603852567E-13},{"$f":"L1538+KP_LR*(1+2*TA_SIM/TN_LR)*K1540-KP_LR*K1538","v":-7.768677066324218E-11},"-",{"$f":"L1540","v":-7.768677066324218E-11},{"$f":"AJ1539","v":-9.508506499781939E-11},{"$f":"D1540*KP_VDR","v":0},{"$f":"N1540-O1540+P1540","v":1.739829433457721E-11},1.1841594311402873E-11,"-",1.1841594311402873E-11,0,1.1841594311402873E-11,1.1841594311402873E-11,{"$f":"AF1539","v":8.5821020687632556E-12},3.2594922426396172E-12,2.5978182727474278E-10,2.5978182727474278E-10,2.5978182727474278E-10,"-",1.0685000289670411E-11,1.0685000289670411E-11,1.0685000289670411E-11,"-",7.4795002027692879E-12,1.5540204036503816E-8,-9.4113802245537898E-11,-8.9872061043302854E-10,6.2800002098085193,-2.9088820873213997E-4,2.9088820873213997E-4,{"$f":"FI_T-Rechentabelle!AL1540","v":-2.0980851900276321E-7},{"$f":"K1540","v":-1.8207657603852567E-13}]
[9.6187502145767212E-2,6.2500002968590707E-5,6.2800002098083496,0,0,null,0,null,null,null,null,null,"-",{"$f":"N1540+(L1542-L1540)/2","v":-7.7449035751537537E-11},-9.4113802245537898E-11,0,1.6664766494000361E-11,1.4205469181753918E-11,"-",1.4205469181753918E-11,0,1.4205469181753918E-11,1.4205469181753918E-11,1.0685000289670411E-11,3.5204688920835071E-12,2.8468738807896043E-10,2.8468738807896043E-10,2.8468738807896043E-10,"-",1.2956270542480761E-11,1.2956270542480761E-11,1.2956270542480761E-11,"-",9.0693893797365311E-12,1.8843526656423291E-8,-9.2936081829511437E-11,-8.8747420888557727E-10,6.280000209808513,-2.9088820873213997E-4,2.9088820873213997E-4,{"$f":"FI_T-Rechentabelle!AL1541","v":-2.0980851278551427E-7},{"$f":"AP1540","v":-1.8207657603852567E-13}]
[9.6249997615814209E-2,6.2500002968590707E-5,6.2800002098083496,0,0,null,0,null,{"$f":"C1542","v":6.2800002098083496},{"$f":"AL1540","v":6.2800002098085193},{"$f":"I1542-J1542","v":-1.6964207816272392E-13},{"$f":"L1540+KP_LR*(1+2*TA_SIM/TN_LR)*K1542-KP_LR*K1540","v":-7.7211300839832894E-11},"-",{"$f":"L1542","v":-7.7211300839832894E-11},-9.2936081829511437E-11,0,1.5724780989678543E-11,1.586202034643435E-11,"-",1.586202034643435E-11,0,1.586202034643435E-11,1.586202034643435E-11,1.2956270542480761E-11,2.905749803953589E-12,2.4697463817117358E-10,2.4697463817117358E-10,2.4697463817117358E-10,"-",1.4830947835211104E-11,1.4830947835211104E-11,1.4830947835211104E-11,"-",1.0381663484647773E-11,2.1570046716492357E-8,-9.158795390973067E-11,-8.74600535544379E-10,6.2800002098085077,-2.9088820873213997E-4,2.9088820873213997E-4,{"$f":"FI_T-Rechentabelle!AL1542","v":-2.0980850745644375E-7},{"$f":"K1542","v":-1.6964207816272392E-13}]
[9.6312500536441803E-2,6.2500002968590707E-5,6.2800002098083496,0,0,null,0,null,null,null,null,null,"-",{"$f":"N1542+(L1544-L1542)/2","v":-7.7013459840097491E-11},-9.158795390973067E-11,0,1.4574494069633179E-11,1.6751075623031766E-11,"-",1.6751075623031766E-11,0,1.6751075623031766E-11,1.6751075623031766E-11,1.4830947835211104E-11,1.9201277878206615E-12,1.8138282864176544E-10,1.8138282864176544E-10,1.8138282864176544E-10,"-",1.6069739956246499E-11,1.6069739956246499E-11,1.6069739956246499E-11,"-",1.1248817969372548E-11,2.337173897646488E-8,-9.0127220223701614E-11,-8.6065155634403689E-10,6.2800002098085024,-2.9088820873213997E-4,2.9088820873213997E-4,{"$f":"FI_T-Rechentabelle!AL1543","v":-2.0980850212737323E-7},{"$f":"AP1542","v":-1.6964207816272392E-13}]
[9.6375003457069397E-2,6.2500002968590707E-5,6.2800002098083496,0,0,null,0,null,{"$f":"C1544","v":6.2800002098083496},{"$f":"AL1542","v":6.2800002098085077},{"$f":"I1544-J1544","v":-1.5809575870662229E-13},{"$f":"L1542+KP_LR*(1+2*TA_SIM/TN_LR)*K1544-KP_LR*K1542","v":-7.6815618840362088E-11},"-",{"$f":"L1544","v":-7.6815618840362088E-11},-9.0127220223701614E-11,0,1.3311601383339527E-11,1.7071448616970025E-11,"-",1.7071448616970025E-11,0,1.7071448616970025E-11,1.7071448616970025E-11,1.6069739956246499E-11,1.0017086607235265E-12,1.1878989579526866E-10,1.1878989579526866E-10,1.1878989579526866E-10,"-",1.6716003608190582E-11,1.6716003608190582E-11,1.6716003608190582E-11,"-",1.1701202525733406E-11,2.4311661179583224E-8,-8.8607741399977666E-11,-8.4614160240088948E-10,6.280000209808497,-2.9088820873213997E-4,2.9088820873213997E-4,{"$f":"FI_T-Rechentabelle!AL1544","v":-2.0980849679830271E-7},{"$f":"K1544","v":-1.5809575870662229E-13}]
[9.6437498927116394E-2,6.2500002968590707E-5,6.2800002098083496,0,0,null,0,null,null,null,null,null,"-",{"$f":"N1544+(L1546-L1544)/2","v":-7.669331395880308E-11},-8.8607741399977666E-11,0,1.1914427441174586E-11,1.6740201460584484E-11,"-",1.6740201460584484E-11,0,1.6740201460584484E-11,1.6740201460584484E-11,1.6716003608190582E-11,2.4197852393901293E-14,5.0220216973126141E-11,5.0220216973126141E-11,5.0220216973126141E-11,"-",1.6731615125731972E-11,1.6731615125731972E-11,1.6731615125731972E-11,"-",1.171213058801238E-11,2.4334366482469102E-8,-8.7086843494823346E-11,-8.3161809722828432E-10,6.2800002098084917,-2.9088820873213997E-4,2.9088820873213997E-4,{"$f":"FI_T-Rechentabelle!AL1545","v":-2.0980849146923219E-7},{"$f":"AP1544","v":-1.5809575870662229E-13}]
[9.6500001847743988E-2,6.2500002968590707E-5,6.2800002098083496,0,0,null,0,null,{"$f":"C1546","v":6.2800002098083496},{"$f":"AL1544","v":6.280000209808497},{"$f":"I1546-J1546","v":-1.4743761767022079E-13},{"$f":"L1544+KP_LR*(1+2*TA_SIM/TN_LR)*K1546-KP_LR*K1544","v":-7.6571009077244072E-11},"-",{"$f":"L1546","v":-7.6571009077244072E-11},-8.7086843494823346E-11,0,1.0515834417579274E-11,1.6064700984127603E-11,"-",1.6064700984127603E-11,0,1.6064700984127603E-11,1.6064700984127603E-11,1.6731615125731972E-11,-6.6691414160436882E-13,4.6083893592326761E-13,4.6083893592326761E-13,4.6083893592326761E-13,"-",1.6301347937471457E-11,1.6301347937471457E-11,1.6301347937471457E-11,"-",1.1410943556230018E-11,2.370858831545817E-8,-8.5605056725107214E-11,-8.1746807588777467E-10,6.2800002098084864,-2.9088820873213997E-4,2.9088820873213997E-4,{"$f":"FI_T-Rechentabelle!AL1546","v":-2.0980848614016168E-7},{"$f":"K1546","v":-1.4743761767022079E-13}]
[9.6562504768371582E-2,6.2500002968590707E-5,6.2800002098083496,0,0,null,0,null,null,null,null,null,"-",{"$f":"N1546+(L1548-L1546)/2","v":-7.6020997721198885E-11},-8.5605056725107214E-11,0,9.5840590039083295E-12,1.6243204144368968E-11,"-",1.6243204144368968E-11,0,1.6243204144368968E-11,1.6243204144368968E-11,1.6301347937471457E-11,-5.8143793102488794E-14,4.3083804688831224E-11,4.3083804688831224E-11,4.3083804688831224E-11,"-",1.626383581276388E-11,1.626383581276388E-11,1.626383581276388E-11,"-",1.1384685068934716E-11,2.3654030893278029E-8,-8.4126679794277333E-11,-8.0335061611009869E-10,6.2800002098084811,-2.9088820873213997E-4,2.9088820873213997E-4,{"$f":"FI_T-Rechentabelle!AL1547","v":-2.0980848081109116E-7},{"$f":"AP1546","v":-1.4743761767022079E-13}]
[9.6625000238418579E-2,6.2500002968590707E-5,6.2800002098083496,0,0,null,0,null,{"$f":"C1548","v":6.2800002098083496},{"$f":"AL1546","v":6.2800002098084864},{"$f":"I1548-J1548","v":-1.3677947663381929E-13},{"$f":"L1546+KP_LR*(1+2*TA_SIM/TN_LR)*K1548-KP_LR*K1546","v":-7.5470986365153698E-11},"-",{"$f":"L1548","v":-7.5470986365153698E-11},-8.4126679794277333E-11,0,8.6556934291236345E-12,1.6203275900130795E-11,"-",1.6203275900130795E-11,0,1.6203275900130795E-11,1.6203275900130795E-11,1.626383581276388E-11,-6.0559912633084643E-14,4.2800903042660407E-11,4.2800903042660407E-11,4.2800903042660407E-11,"-",1.6224764901265623E-11,1.6224764901265623E-11,1.6224764901265623E-11,"-",1.1357335430885935E-11,2.3597206380398783E-8,-8.2651854395502404E-11,-7.8926707096534829E-10,6.2800002098084757,-2.9088820873213997E-4,2.9088820873213997E-4,{"$f":"FI_T-Rechentabelle!AL1548","v":-2.0980847548202064E-7},{"$f":"K1548","v":-1.3677947663381929E-13}]
[9.6687495708465576E-2,6.2500002968590707E-5,6.2800002098083496,0,0,null,0,null,null,null,null,null,"-",{"$f":"N1548+(L1550-L1548)/2","v":-7.4493268534622371E-11},-8.2651854395502404E-11,0,8.1585858608800329E-12,1.7040963003033113E-11,"-",1.7040963003033113E-11,0,1.7040963003033113E-11,1.7040963003033113E-11,1.6224764901265623E-11,8.161981017674905E-13,1.0587073946969802E-10,1.0587073946969802E-10,1.0587073946969802E-10,"-",1.6751344321641879E-11,1.6751344321641879E-11,1.6751344321641879E-11,"-",1.1725941025149316E-11,2.4363060513503666E-8,-8.1129163113408423E-11,-7.7472644030445668E-10,6.2800002098084704,-2.9088820873213997E-4,2.9088820873213997E-4,{"$f":"FI_T-Rechentabelle!AL1549","v":-2.0980847015295012E-7},{"$f":"AP1548","v":-1.3677947663381929E-13}]
[9.674999862909317E-2,6.2500002968590707E-5,6.2800002098083496,0,0,null,0,null,{"$f":"C1550","v":6.2800002098083496},{"$f":"AL1548","v":6.2800002098084757},{"$f":"I1550-J1550","v":-1.2612133559741778E-13},{"$f":"L1548+KP_LR*(1+2*TA_SIM/TN_LR)*K1550-KP_LR*K1548","v":-7.3515550704091044E-11},"-",{"$f":"L1550","v":-7.3515550704091044E-11},-8.1129163113408423E-11,0,7.6136124093173799E-12,1.7634930764382745E-11,"-",1.7634930764382745E-11,0,1.7634930764382745E-11,1.7634930764382745E-11,1.6751344321641879E-11,8.8358644274086514E-13,1.1225412797411848E-10,1.1225412797411848E-10,1.1225412797411848E-10,"-",1.7321400091036301E-11,1.7321400091036301E-11,1.7321400091036301E-11,"-",1.2124980063725409E-11,2.5192146402920026E-8,-7.9554653963225926E-11,-7.5969098545275889E-10,6.2800002098084651,-2.9088820873213997E-4,2.9088820873213997E-4,{"$f":"FI_T-Rechentabelle!AL1550","v":-2.098084648238796E-7},{"$f":"K1550","v":-1.2612133559741778E-13}]
[9.6812501549720764E-2,6.2500002968590707E-5,6.2800002098083496,0,0,null,0,null,null,null,null,null,"-",{"$f":"N1550+(L1552-L1550)/2","v":-7.211012639907355E-11},-7.9554653963225926E-11,0,7.4445275641523755E-12,1.9058246202368708E-11,"-",1.9058246202368708E-11,0,1.9058246202368708E-11,1.9058246202368708E-11,1.7321400091036301E-11,1.7368461113324071E-12,1.7539703485516601E-10,1.7539703485516601E-10,1.7539703485516601E-10,"-",1.8441945969202465E-11,1.8441945969202465E-11,1.8441945969202465E-11,"-",1.2909362178441724E-11,2.6821861995515734E-8,-7.7878287588506197E-11,-7.4368286575457784E-10,6.2800002098084606,-2.9088820873213997E-4,2.9088820873213997E-4,{"$f":"FI_T-Rechentabelle!AL1551","v":-2.098084603829875E-7},{"$f":"AP1550","v":-1.2612133559741778E-13}]
[9.6874997019767761E-2,6.2500002968590707E-5,6.2800002098083496,0,0,null,0,null,{"$f":"C1552","v":6.2800002098083496},{"$f":"AL1550","v":6.2800002098084651},{"$f":"I1552-J1552","v":-1.1546319456101628E-13},{"$f":"L1550+KP_LR*(1+2*TA_SIM/TN_LR)*K1552-KP_LR*K1550","v":-7.0704702094056057E-11},"-",{"$f":"L1552","v":-7.0704702094056057E-11},-7.7878287588506197E-11,0,7.1735854944501397E-12,2.0179603562628732E-11,"-",2.0179603562628732E-11,0,2.0179603562628732E-11,2.0179603562628732E-11,1.8441945969202465E-11,1.7376575934262667E-12,1.7870509696661644E-10,1.7870509696661644E-10,1.7870509696661644E-10,"-",1.9563015384206305E-11,1.9563015384206305E-11,1.9563015384206305E-11,"-",1.3694110768944413E-11,2.8452339017129466E-8,-7.6100016399935607E-11,-7.2670162676544319E-10,6.2800002098084562,-2.9088820873213997E-4,2.9088820873213997E-4,{"$f":"FI_T-Rechentabelle!AL1552","v":-2.0980845594209541E-7},{"$f":"K1552","v":-1.1546319456101628E-13}]
[9.6937499940395355E-2,6.2500002968590707E-5,6.2800002098083496,0,0,null,0,null,null,null,null,null,"-",{"$f":"N1552+(L1554-L1552)/2","v":-6.9949340912291909E-11},-7.6100016399935607E-11,0,6.1506754876436972E-12,1.9310002634454732E-11,"-",1.9310002634454732E-11,0,1.9310002634454732E-11,1.9310002634454732E-11,1.9563015384206305E-11,-2.530127497515727E-13,3.8499503216920645E-11,3.8499503216920645E-11,3.8499503216920645E-11,"-",1.939978135200149E-11,1.939978135200149E-11,1.939978135200149E-11,"-",1.3579846946401043E-11,2.8214932363185208E-8,-7.4336583127236531E-11,-7.0986207943567663E-10,6.2800002098084517,-2.9088820873213997E-4,2.9088820873213997E-4,{"$f":"FI_T-Rechentabelle!AL1553","v":-2.0980845150120331E-7},{"$f":"AP1552","v":-1.1546319456101628E-13}]
[9.7000002861022949E-2,6.2500002968590707E-5,6.2800002098083496,0,0,null,0,null,{"$f":"C1554","v":6.2800002098083496},{"$f":"AL1552","v":6.2800002098084562},{"$f":"I1554-J1554","v":-1.0658141036401503E-13},{"$f":"L1552+KP_LR*(1+2*TA_SIM/TN_LR)*K1554-KP_LR*K1552","v":-6.9193979730527762E-11},"-",{"$f":"L1554","v":-6.9193979730527762E-11},-7.4336583127236531E-11,0,5.1426033967087694E-12,1.8229006209843536E-11,"-",1.8229006209843536E-11,0,1.8229006209843536E-11,1.8229006209843536E-11,1.939978135200149E-11,-1.1707751421579538E-12,-2.8111978206351828E-11,-2.8111978206351828E-11,-2.8111978206351828E-11,"-",1.8644442550505013E-11,1.8644442550505013E-11,1.8644442550505013E-11,"-",1.3051109785353509E-11,2.7116371878980901E-8,-7.2641809884800228E-11,-6.9367818709845972E-10,6.2800002098084473,-2.9088820873213997E-4,2.9088820873213997E-4,{"$f":"FI_T-Rechentabelle!AL1554","v":-2.0980844706031121E-7},{"$f":"K1554","v":-1.0658141036401503E-13}]
[9.7062498331069946E-2,6.2500002968590707E-5,6.2800002098083496,0,0,null,0,null,null,null,null,null,"-",{"$f":"N1554+(L1556-L1554)/2","v":-6.8082196486691811E-11},-7.2641809884800228E-11,0,4.559613398108417E-12,1.7990384024945973E-11,"-",1.7990384024945973E-11,0,1.7990384024945973E-11,1.7990384024945973E-11,1.8644442550505013E-11,-6.540585255590401E-13,{"$f":"Z1554+KP_SR*(1+TA_SIM/TN_SR)*Y1555-KP_SR*Y1554","v":6.9344722206420972E-12},6.9344722206420972E-12,6.9344722206420972E-12,"-",1.8222469308107317E-11,1.8222469308107317E-11,1.8222469308107317E-11,"-",1.275572851567512E-11,2.6502656379960771E-8,{"$f":"AJ1554+AI1555*TA_SIM","v":-7.0985393861052678E-11},-6.7786057921869697E-10,{"$f":"AL1554+AJ1555*TA_SIM","v":6.2800002098084429},-2.9088820873213997E-4,2.9088820873213997E-4,{"$f":"FI_T-Rechentabelle!AL1555","v":-2.0980844261941911E-7},{"$f":"AP1554","v":-1.0658141036401503E-13}]
[9.712500125169754E-2,6.2500002968590707E-5,6.2800002098083496,0,0,null,0,null,{"$f":"C1556","v":6.2800002098083496},{"$f":"AL1554","v":6.2800002098084473},{"$f":"I1556-J1556","v":-9.7699626167013776E-14},{"$f":"L1554+KP_LR*(1+2*TA_SIM/TN_LR)*K1556-KP_LR*K1554","v":-6.6970413242855861E-11},"-",{"$f":"L1556","v":-6.6970413242855861E-11},-7.0985393861052678E-11,0,4.014980618196817E-12,1.7707820849162809E-11,"-",1.7707820849162809E-11,0,1.7707820849162809E-11,1.7707820849162809E-11,1.8222469308107317E-11,-5.1464845894450747E-13,1.5757268812075692E-11,1.5757268812075692E-11,1.5757268812075692E-11,"-",1.7890438044173248E-11,1.7890438044173248E-11,1.7890438044173248E-11,"-",1.2523306630921273E-11,2.6019751986123567E-8,-6.9359159361919958E-11,-6.6233118366888434E-10,6.2800002098084384,-2.9088820873213997E-4,2.9088820873213997E-4,{"$f":"FI_T-Rechentabelle!AL1556","v":-2.0980843817852701E-7},{"$f":"K1556","v":-9.7699626167013776E-14}]
[9.7187504172325134E-2,6.2500002968590707E-5,6.2800002098083496,0,0,null,0,null,null,null,null,null,"-",{"$f":"N1556+(L1558-L1556)/2","v":-6.5502207936948121E-11},-6.9359159361919958E-11,0,3.8569514249718375E-12,1.8282116853188057E-11,"-",1.8282116853188057E-11,0,1.8282116853188057E-11,1.8282116853188057E-11,1.7890438044173248E-11,3.9167880901480931E-13,8.0108414166989643E-11,8.0108414166989643E-11,8.0108414166989643E-11,"-",1.8143134049892918E-11,1.8143134049892918E-11,1.8143134049892918E-11,"-",1.2700193834925043E-11,2.6387271628765931E-8,-6.7709954885122085E-11,-6.4658244098978433E-10,6.280000209808434,-2.9088820873213997E-4,2.9088820873213997E-4,{"$f":"FI_T-Rechentabelle!AL1557","v":-2.0980843373763491E-7},{"$f":"AP1556","v":-9.7699626167013776E-14}]
[9.7249999642372131E-2,6.2500002968590707E-5,6.2800002098083496,0,0,null,0,null,{"$f":"C1558","v":6.2800002098083496},{"$f":"AL1556","v":6.2800002098084384},{"$f":"I1558-J1558","v":-8.8817841970012523E-14},{"$f":"L1556+KP_LR*(1+2*TA_SIM/TN_LR)*K1558-KP_LR*K1556","v":-6.4034002631040367E-11},"-",{"$f":"L1558","v":-6.4034002631040367E-11},-6.7709954885122085E-11,0,3.6759522540817179E-12,1.875908743249701E-11,"-",1.875908743249701E-11,0,1.875908743249701E-11,1.875908743249701E-11,1.8143134049892918E-11,6.1595338260409158E-13,9.7003471209612719E-11,9.7003471209612719E-11,9.7003471209612719E-11,"-",1.8540523328898495E-11,1.8540523328898495E-11,1.8540523328898495E-11,"-",1.2978366330228946E-11,2.6965232350361406E-8,-6.6024627863224501E-11,-6.3048875341410379E-10,6.2800002098084295,-2.9088820873213997E-4,2.9088820873213997E-4,{"$f":"FI_T-Rechentabelle!AL1558","v":-2.0980842929674282E-7},{"$f":"K1558","v":-8.8817841970012523E-14}]
[9.7312495112419128E-2,6.2500002968590707E-5,6.2800002098083496,0,0,null,0,null,null,null,null,null,"-",{"$f":"N1558+(L1560-L1558)/2","v":-6.2209375263060811E-11},-6.6024627863224501E-11,0,3.8152526001636903E-12,2.0011841725235191E-11,"-",2.0011841725235191E-11,0,2.0011841725235191E-11,2.0011841725235191E-11,1.8540523328898495E-11,1.4713183963366959E-12,1.5979736594734419E-10,1.5979736594734419E-10,1.5979736594734419E-10,"-",1.9489761003863027E-11,1.9489761003863027E-11,1.9489761003863027E-11,"-",1.3642832702704118E-11,2.8345798260345141E-8,-6.4253015471952926E-11,-6.1357110125528031E-10,6.2800002098084251,-2.9088820873213997E-4,2.9088820873213997E-4,{"$f":"FI_T-Rechentabelle!AL1559","v":-2.0980842485585072E-7},{"$f":"AP1558","v":-8.8817841970012523E-14}]
[9.7375005483627319E-2,6.2500002968590707E-5,6.2800002098083496,0,0,null,0,null,{"$f":"C1560","v":6.2800002098083496},{"$f":"AL1558","v":6.2800002098084295},{"$f":"I1560-J1560","v":-7.9936057773011271E-14},{"$f":"L1558+KP_LR*(1+2*TA_SIM/TN_LR)*K1560-KP_LR*K1558","v":-6.0384747895081254E-11},"-",{"$f":"L1560","v":-6.0384747895081254E-11},-6.4253015471952926E-11,0,3.8682675768716717E-12,2.1077681168558825E-11,"-",2.1077681168558825E-11,0,2.1077681168558825E-11,2.1077681168558825E-11,1.9489761003863027E-11,1.5879201646957982E-12,1.7095300522159464E-10,1.7095300522159464E-10,1.7095300522159464E-10,"-",2.0514225626158387E-11,2.0514225626158387E-11,2.0514225626158387E-11,"-",1.4359957938310869E-11,2.9835773817392208E-8,-6.2388279608365917E-11,-5.9576418544024387E-10,6.2800002098084216,-2.9088820873213997E-4,2.9088820873213997E-4,{"$f":"FI_T-Rechentabelle!AL1560","v":-2.0980842130313704E-7},{"$f":"K1560","v":-7.9936057773011271E-14}]
[9.7437500953674316E-2,6.2500002968590707E-5,6.2800002098083496,0,0,null,0,null,null,null,null,null,"-",{"$f":"N1560+(L1562-L1560)/2","v":-5.8742583263899651E-11},-6.2388279608365917E-11,0,3.6456963444662655E-12,2.1450993435045383E-11,"-",2.1450993435045383E-11,0,2.1450993435045383E-11,2.1450993435045383E-11,2.0514225626158387E-11,9.3676780888699646E-13,1.2699897317886863E-10,1.2699897317886863E-10,1.2699897317886863E-10,"-",2.1118591954385864E-11,2.1118591954385864E-11,2.1118591954385864E-11,"-",1.4783014368070103E-11,3.0714760789674011E-8,-6.0468607059011287E-11,{"$f":"AJ1561/(2*PI())*60","v":-5.7743266291938735E-10},6.280000209808418,-2.9088820873213997E-4,2.9088820873213997E-4,{"$f":"FI_T-Rechentabelle!AL1561","v":-2.0980841775042336E-7},{"$f":"AP1560","v":-7.9936057773011271E-14}]
[9.7499996423721313E-2,6.2500002968590707E-5,6.2800002098083496,0,0,null,0,null,{"$f":"C1562","v":6.2800002098083496},{"$f":"AL1560","v":6.2800002098084216},{"$f":"I1562-J1562","v":-7.1942451995710144E-14},{"$f":"L1560+KP_LR*(1+2*TA_SIM/TN_LR)*K1562-KP_LR*K1560","v":-5.7100418632718048E-11},"-",{"$f":"L1562","v":-5.7100418632718048E-11},-6.0468607059011287E-11,0,3.3681884262932394E-12,2.1629416297211244E-11,"-",2.1629416297211244E-11,0,2.1629416297211244E-11,2.1629416297211244E-11,2.1118591954385864E-11,5.1082434282538042E-13,9.8056225750926561E-11,9.8056225750926561E-11,9.8056225750926561E-11,"-",2.1448156046446808E-11,2.1448156046446808E-11,2.1448156046446808E-11,"-",1.5013709232512764E-11,3.1194076942681826E-8,-5.851897725009367E-11,-5.5881506964207461E-10,6.2800002098084144,-2.9088820873213997E-4,2.9088820873213997E-4,{"$f":"FI_T-Rechentabelle!AL1562","v":-2.0980841419770968E-7},{"$f":"K1562","v":-7.1942451995710144E-14}]
[9.7562499344348907E-2,6.2500002968590707E-5,6.2800002098083496,0,0,null,0,null,null,null,null,null,"-",{"$f":"N1562+(L1564-L1562)/2","v":-5.5676358944541573E-11},-5.851897725009367E-11,0,2.8426183055520969E-12,2.110518951073759E-11,"-",2.110518951073759E-11,0,2.110518951073759E-11,2.110518951073759E-11,2.1448156046446808E-11,-3.4296653570921791E-13,3.7483935081171065E-11,3.7483935081171065E-11,3.7483935081171065E-11,"-",2.1226887313648913E-11,2.1226887313648913E-11,2.1226887313648913E-11,"-",1.4858821119554238E-11,3.0872264948170036E-8,-5.658946069083304E-11,-5.4038954375103479E-10,6.2800002098084109,-2.9088820873213997E-4,2.9088820873213997E-4,{"$f":"FI_T-Rechentabelle!AL1563","v":-2.09808410644996E-7},{"$f":"AP1562","v":-7.1942451995710144E-14}]
[9.7625002264976501E-2,6.2500002968590707E-5,6.2800002098083496,0,0,null,0,null,{"$f":"C1564","v":6.2800002098083496},{"$f":"AL1562","v":6.2800002098084144},{"$f":"I1564-J1564","v":-6.4837024638109142E-14},{"$f":"L1562+KP_LR*(1+2*TA_SIM/TN_LR)*K1564-KP_LR*K1562","v":-5.4252299256365098E-11},"-",{"$f":"L1564","v":-5.4252299256365098E-11},-5.658946069083304E-11,0,2.3371614344679421E-12,2.0504318950627566E-11,"-",2.0504318950627566E-11,0,2.0504318950627566E-11,2.0504318950627566E-11,2.1226887313648913E-11,-7.2256836302134763E-13,9.4864337493506622E-12,9.4864337493506622E-12,9.4864337493506622E-12,"-",2.0760714176135655E-11,2.0760714176135655E-11,2.0760714176135655E-11,"-",1.4532499923294958E-11,3.0194265371483393E-8,-5.470231910511533E-11,-5.2236866905015977E-10,6.2800002098084073,-2.9088820873213997E-4,2.9088820873213997E-4,{"$f":"FI_T-Rechentabelle!AL1564","v":-2.0980840709228232E-7},{"$f":"K1564","v":-6.4837024638109142E-14}]
[9.7687497735023499E-2,6.2500002968590707E-5,6.2800002098083496,0,0,null,0,null,null,null,null,null,"-",{"$f":"N1564+(L1566-L1564)/2","v":-5.2543101918531196E-11},-5.470231910511533E-11,0,2.1592171865841347E-12,2.0618595977978978E-11,"-",2.0618595977978978E-11,0,2.0618595977978978E-11,2.0618595977978978E-11,2.0760714176135655E-11,-1.4211819815667685E-13,4.9964391918784089E-11,4.9964391918784089E-11,4.9964391918784089E-11,"-",2.0669025015956518E-11,2.0669025015956518E-11,2.0669025015956518E-11,"-",1.4468317511169561E-11,3.006091317508739E-8,-5.2823512031672367E-11,-5.0442738307889186E-10,6.2800002098084038,-2.9088820873213997E-4,2.9088820873213997E-4,{"$f":"FI_T-Rechentabelle!AL1565","v":-2.0980840353956864E-7},{"$f":"AP1564","v":-6.4837024638109142E-14}]
[9.7750000655651093E-2,6.2500002968590707E-5,6.2800002098083496,0,0,null,0,null,{"$f":"C1566","v":6.2800002098083496},{"$f":"AL1564","v":6.2800002098084073},{"$f":"I1566-J1566","v":-5.773159728050814E-14},{"$f":"L1564+KP_LR*(1+2*TA_SIM/TN_LR)*K1566-KP_LR*K1564","v":-5.0833904580697294E-11},"-",{"$f":"L1566","v":-5.0833904580697294E-11},-5.2823512031672367E-11,0,1.9896074509750737E-12,2.0710826381292804E-11,"-",2.0710826381292804E-11,0,2.0710826381292804E-11,2.0710826381292804E-11,2.0669025015956518E-11,4.1801365336285657E-14,6.2952567704274125E-11,6.2952567704274125E-11,6.2952567704274125E-11,"-",2.0695993638678097E-11,2.0695993638678097E-11,2.0695993638678097E-11,"-",1.4487195547074667E-11,3.0100136187564231E-8,-5.0942253519949605E-11,-4.8646268759642912E-10,6.2800002098084002,-2.9088820873213997E-4,2.9088820873213997E-4,{"$f":"FI_T-Rechentabelle!AL1566","v":-2.0980839998685497E-7},{"$f":"K1566","v":-5.773159728050814E-14}]
[9.7812503576278687E-2,6.2500002968590707E-5,6.2800002098083496,0,0,null,0,null,null,null,null,null,"-",{"$f":"N1566+(L1568-L1566)/2","v":-4.8839569593205939E-11},-5.0942253519949605E-11,0,2.1026839267436664E-12,2.1485333764490464E-11,"-",2.1485333764490464E-11,0,2.1485333764490464E-11,2.1485333764490464E-11,2.0695993638678097E-11,7.8934012581236651E-13,1.1690179577179248E-10,1.1690179577179248E-10,1.1690179577179248E-10,"-",2.1205245332676538E-11,2.1205245332676538E-11,2.1205245332676538E-11,"-",1.4843671732873577E-11,3.0840788973350458E-8,-4.9014704209115203E-11,-4.680559475440688E-10,6.2800002098083976,-2.9088820873213997E-4,2.9088820873213997E-4,{"$f":"FI_T-Rechentabelle!AL1567","v":-2.0980839732231971E-7},{"$f":"AP1566","v":-5.773159728050814E-14}]
[9.7874999046325684E-2,6.2500002968590707E-5,6.2800002098083496,0,0,null,0,null,{"$f":"C1568","v":6.2800002098083496},{"$f":"AL1566","v":6.2800002098084002},{"$f":"I1568-J1568","v":-5.0626169922907138E-14},{"$f":"L1566+KP_LR*(1+2*TA_SIM/TN_LR)*K1568-KP_LR*K1566","v":-4.6845234605714584E-11},"-",{"$f":"L1568","v":-4.6845234605714584E-11},-4.9014704209115203E-11,0,2.1694696034006185E-12,2.2168912121133636E-11,"-",2.2168912121133636E-11,0,2.2168912121133636E-11,2.2168912121133636E-11,2.1205245332676538E-11,9.6366678845709789E-13,1.3094139227648431E-10,1.3094139227648431E-10,1.3094139227648431E-10,"-",2.1826965841286407E-11,2.1826965841286407E-11,2.1826965841286407E-11,"-",1.5278876088900485E-11,3.1745015767505678E-8,-4.7030640723646098E-11,-4.4910953687683622E-10,6.2800002098083949,-2.9088820873213997E-4,2.9088820873213997E-4,{"$f":"FI_T-Rechentabelle!AL1568","v":-2.0980839465778445E-7},{"$f":"K1568","v":-5.0626169922907138E-14}]
[9.7937501966953278E-2,6.2500002968590707E-5,6.2800002098083496,0,0,null,0,null,null,null,null,null,"-",{"$f":"N1568+(L1570-L1568)/2","v":-4.5643531566305302E-11},-4.7030640723646098E-11,0,1.3871091573407962E-12,2.0695108801155285E-11,"-",2.0695108801155285E-11,0,2.0695108801155285E-11,2.0695108801155285E-11,2.1826965841286407E-11,-1.1318570401311225E-12,-1.8268528992405127E-11,-1.8268528992405127E-11,-1.8268528992405127E-11,"-",2.1096735492744456E-11,2.1096735492744456E-11,2.1096735492744456E-11,"-",1.4767714844921119E-11,3.0682972875381507E-8,-4.5112954918934755E-11,-4.3079698636981803E-10,6.2800002098083922,-2.9088820873213997E-4,2.9088820873213997E-4,{"$f":"FI_T-Rechentabelle!AL1569","v":-2.0980839199324919E-7},{"$f":"AP1568","v":-5.0626169922907138E-14}]
[9.8000004887580872E-2,6.2500002968590707E-5,6.2800002098083496,0,0,null,0,null,{"$f":"C1570","v":6.2800002098083496},{"$f":"AL1568","v":6.2800002098083949},{"$f":"I1570-J1570","v":-4.5297099404706387E-14},{"$f":"L1568+KP_LR*(1+2*TA_SIM/TN_LR)*K1570-KP_LR*K1568","v":-4.4441828526896019E-11},"-",{"$f":"L1570","v":-4.4441828526896019E-11},-4.5112954918934755E-11,0,6.711263920387357E-13,1.9200486857948311E-11,"-",1.9200486857948311E-11,0,1.9200486857948311E-11,1.9200486857948311E-11,2.1096735492744456E-11,-1.8962486347961446E-12,-7.5471707405607208E-11,-7.5471707405607208E-11,-7.5471707405607208E-11,"-",1.9873349276678508E-11,1.9873349276678508E-11,1.9873349276678508E-11,"-",1.3911344493674955E-11,2.8903686876532211E-8,-4.3306474489151495E-11,-4.135463689698914E-10,6.2800002098083896,-2.9088820873213997E-4,2.9088820873213997E-4,{"$f":"FI_T-Rechentabelle!AL1570","v":-2.0980838932871393E-7},{"$f":"K1570","v":-4.5297099404706387E-14}]
[9.8062500357627869E-2,6.2500002968590707E-5,6.2800002098083496,0,0,null,0,null,null,null,null,null,"-",{"$f":"N1570+(L1572-L1570)/2","v":-4.3026272250243654E-11},-4.3306474489151495E-11,0,2.8020223890784084E-13,1.8363406005595092E-11,"-",1.8363406005595092E-11,0,1.8363406005595092E-11,1.8363406005595092E-11,1.9873349276678508E-11,-1.5099432710834163E-12,-5.1180618317992428E-11,-5.1180618317992428E-11,-5.1180618317992428E-11,"-",1.8899192327525776E-11,1.8899192327525776E-11,1.8899192327525776E-11,"-",1.3229434629268042E-11,2.7486878514996969E-8,-4.1588544581964182E-11,-3.9714134677303572E-10,6.2800002098083869,-2.9088820873213997E-4,2.9088820873213997E-4,{"$f":"FI_T-Rechentabelle!AL1571","v":-2.0980838666417867E-7},{"$f":"AP1570","v":-4.5297099404706387E-14}]
[9.8124995827674866E-2,6.2500002968590707E-5,6.2800002098083496,0,0,null,0,null,{"$f":"C1572","v":6.2800002098083496},{"$f":"AL1570","v":6.2800002098083896},{"$f":"I1572-J1572","v":-3.9968028886505635E-14},{"$f":"L1570+KP_LR*(1+2*TA_SIM/TN_LR)*K1572-KP_LR*K1570","v":-4.1610715973591295E-11},"-",{"$f":"L1572","v":-4.1610715973591295E-11},-4.1588544581964182E-11,0,-2.2171391627113147E-14,1.7657694361246343E-11,"-",1.7657694361246343E-11,0,1.7657694361246343E-11,1.7657694361246343E-11,1.8899192327525776E-11,-1.2414979662794322E-12,-3.4660292472532341E-11,-3.4660292472532341E-11,-3.4660292472532341E-11,"-",1.8098225897603151E-11,1.8098225897603151E-11,1.8098225897603151E-11,"-",1.2668758128322206E-11,2.6321957465867868E-8,-3.9943422240347438E-11,-3.8143158561348256E-10,6.2800002098083842,-2.9088820873213997E-4,2.9088820873213997E-4,{"$f":"FI_T-Rechentabelle!AL1572","v":-2.0980838399964341E-7},{"$f":"K1572","v":-3.9968028886505635E-14}]
[9.818749874830246E-2,6.2500002968590707E-5,6.2800002098083496,0,0,null,0,null,null,null,null,null,"-",{"$f":"N1572+(L1574-L1572)/2","v":-3.9981306459695853E-11},-3.9943422240347438E-11,0,-3.7884219348414331E-14,1.7612067085847465E-11,"-",1.7612067085847465E-11,0,1.7612067085847465E-11,1.7612067085847465E-11,1.8098225897603151E-11,-4.8615881175568623E-13,1.7450055564946407E-11,1.7450055564946407E-11,1.7450055564946407E-11,"-",1.7784575051245917E-11,1.7784575051245917E-11,1.7784575051245917E-11,"-",1.2449202535872141E-11,2.5865785447480034E-8,-3.8326810649879934E-11,-3.6599408207252933E-10,6.2800002098083816,-2.9088820873213997E-4,2.9088820873213997E-4,{"$f":"FI_T-Rechentabelle!AL1573","v":-2.0980838133510815E-7},{"$f":"AP1572","v":-3.9968028886505635E-14}]
[9.8250001668930054E-2,6.2500002968590707E-5,6.2800002098083496,0,0,null,0,null,{"$f":"C1574","v":6.2800002098083496},{"$f":"AL1572","v":6.2800002098083842},{"$f":"I1574-J1574","v":-3.4638958368304884E-14},{"$f":"L1572+KP_LR*(1+2*TA_SIM/TN_LR)*K1574-KP_LR*K1572","v":-3.8351896945800411E-11},"-",{"$f":"L1574","v":-3.8351896945800411E-11},-3.8326810649879934E-11,0,-2.5086295920477022E-14,1.7635591607108953E-11,"-",1.7635591607108953E-11,0,1.7635591607108953E-11,1.7635591607108953E-11,1.7784575051245917E-11,-1.4898344413696362E-13,4.0838847828765644E-11,4.0838847828765644E-11,4.0838847828765644E-11,"-",1.768845670012821E-11,1.768845670012821E-11,1.768845670012821E-11,"-",1.2381919690089746E-11,2.572599146081393E-8,-3.6718936183579066E-11,-3.5064001192154778E-10,6.2800002098083789,-2.9088820873213997E-4,2.9088820873213997E-4,{"$f":"FI_T-Rechentabelle!AL1574","v":-2.0980837867057289E-7},{"$f":"K1574","v":-3.4638958368304884E-14}]
[9.8312497138977051E-2,6.2500002968590707E-5,6.2800002098083496,0,0,null,0,null,null,null,null,null,"-",{"$f":"N1574+(L1576-L1574)/2","v":-3.6508634194661885E-11},-3.6718936183579066E-11,0,2.1030198891718047E-13,1.8232028031108727E-11,"-",1.8232028031108727E-11,0,1.8232028031108727E-11,1.8232028031108727E-11,1.768845670012821E-11,5.4357133098051728E-13,9.0468729372394949E-11,9.0468729372394949E-11,9.0468729372394949E-11,"-",1.8039147881345962E-11,1.8039147881345962E-11,1.8039147881345962E-11,"-",1.2627403516942172E-11,2.6236034732894601E-8,-3.5079184012773152E-11,-3.3498153211578217E-10,6.2800002098083771,-2.9088820873213997E-4,2.9088820873213997E-4,{"$f":"FI_T-Rechentabelle!AL1575","v":-2.0980837689421605E-7},{"$f":"AP1574","v":-3.4638958368304884E-14}]
[9.8375000059604645E-2,6.2500002968590707E-5,6.2800002098083496,0,0,null,0,null,{"$f":"C1576","v":6.2800002098083496},{"$f":"AL1574","v":6.2800002098083789},{"$f":"I1576-J1576","v":-2.9309887850104133E-14},{"$f":"L1574+KP_LR*(1+2*TA_SIM/TN_LR)*K1576-KP_LR*K1574","v":-3.4665371443523354E-11},"-",{"$f":"L1576","v":-3.4665371443523354E-11},-3.5079184012773152E-11,0,4.1381256924979874E-13,1.8804249114291015E-11,"-",1.8804249114291015E-11,0,1.8804249114291015E-11,1.8804249114291015E-11,1.8039147881345962E-11,7.6510123294505316E-13,1.0745017899128667E-10,1.0745017899128667E-10,1.0745017899128667E-10,"-",1.8532761579961744E-11,1.8532761579961744E-11,1.8532761579961744E-11,"-",1.297293310597322E-11,2.6953943706572239E-8,-3.339456253111239E-11,-3.1889458195307595E-10,6.2800002098083754,-2.9088820873213997E-4,2.9088820873213997E-4,{"$f":"FI_T-Rechentabelle!AL1576","v":-2.0980837511785921E-7},{"$f":"K1576","v":-2.9309887850104133E-14}]
[9.8437502980232239E-2,6.2500002968590707E-5,6.2800002098083496,0,0,null,0,null,null,null,null,null,"-",{"$f":"N1576+(L1578-L1576)/2","v":-3.368602505288127E-11},-3.339456253111239E-11,0,-2.9146252176888056E-13,1.7099754374715358E-11,"-",1.7099754374715358E-11,0,1.7099754374715358E-11,1.7099754374715358E-11,1.8532761579961744E-11,-1.4330072052463859E-12,-4.952396227996693E-11,-4.952396227996693E-11,-4.952396227996693E-11,"-",1.7608240802326507E-11,1.7608240802326507E-11,1.7608240802326507E-11,"-",1.2325768561628555E-11,2.5609325912380122E-8,-3.1793979661588635E-11,-3.0361014142230103E-10,6.2800002098083736,-2.9088820873213997E-4,2.9088820873213997E-4,{"$f":"FI_T-Rechentabelle!AL1577","v":-2.0980837334150237E-7},{"$f":"AP1576","v":-2.9309887850104133E-14}]
[9.8499998450279236E-2,6.2500002968590707E-5,6.2800002098083496,0,0,null,0,null,{"$f":"C1578","v":6.2800002098083496},{"$f":"AL1576","v":6.2800002098083754},{"$f":"I1578-J1578","v":-2.5757174171303632E-14},{"$f":"L1576+KP_LR*(1+2*TA_SIM/TN_LR)*K1578-KP_LR*K1576","v":-3.2706678662239187E-11},"-",{"$f":"L1578","v":-3.2706678662239187E-11},-3.1793979661588635E-11,0,-9.1269900065055227E-13,1.5438442707389876E-11,"-",1.5438442707389876E-11,0,1.5438442707389876E-11,1.5438442707389876E-11,1.7608240802326507E-11,-2.1697980949366308E-12,-1.0530155148875071E-10,-1.0530155148875071E-10,-1.0530155148875071E-10,"-",1.6208371063602268E-11,1.6208371063602268E-11,1.6208371063602268E-11,"-",1.1345859744521587E-11,2.3573363275548694E-8,-3.032064445686684E-11,-2.89540826582534E-10,6.2800002098083718,-2.9088820873213997E-4,2.9088820873213997E-4,{"$f":"FI_T-Rechentabelle!AL1578","v":-2.0980837156514553E-7},{"$f":"K1578","v":-2.5757174171303632E-14}]
[9.856250137090683E-2,6.2500002968590707E-5,6.2800002098083496,0,0,null,0,null,null,null,null,null,"-",{"$f":"N1578+(L1580-L1578)/2","v":-3.1584763446768377E-11},-3.032064445686684E-11,0,-1.264118989901537E-12,1.4316360538080443E-11,"-",1.4316360538080443E-11,0,1.4316360538080443E-11,1.4316360538080443E-11,1.6208371063602268E-11,-1.8920105255218242E-12,-8.9342546954352221E-11,-8.9342546954352221E-11,-8.9342546954352221E-11,"-",1.4987719111598694E-11,1.4987719111598694E-11,1.4987719111598694E-11,"-",1.0491403378119085E-11,2.1798053974899408E-8,-2.8958266083435628E-11,-2.7653107143294962E-10,6.28000020980837,-2.9088820873213997E-4,2.9088820873213997E-4,{"$f":"FI_T-Rechentabelle!AL1579","v":-2.098083697887887E-7},{"$f":"AP1578","v":-2.5757174171303632E-14}]
[9.8625004291534424E-2,6.2500002968590707E-5,6.2800002098083496,0,0,null,0,null,{"$f":"C1580","v":6.2800002098083496},{"$f":"AL1578","v":6.2800002098083718},{"$f":"I1580-J1580","v":-2.2204460492503131E-14},{"$f":"L1578+KP_LR*(1+2*TA_SIM/TN_LR)*K1580-KP_LR*K1578","v":-3.0462848231297568E-11},"-",{"$f":"L1580","v":-3.0462848231297568E-11},-2.8958266083435628E-11,0,-1.5045821478619401E-12,1.3392634579107454E-11,"-",1.3392634579107454E-11,0,1.3392634579107454E-11,1.3392634579107454E-11,1.4987719111598694E-11,-1.5950845324912399E-12,-7.148460960112452E-11,-7.148460960112452E-11,-7.148460960112452E-11,"-",1.3958632316390451E-11,1.3958632316390451E-11,1.3958632316390451E-11,"-",9.7710426214733161E-12,2.0301355955689416E-8,-2.7689431336205038E-11,-2.644145921136394E-10,6.2800002098083683,-2.9088820873213997E-4,2.9088820873213997E-4,{"$f":"FI_T-Rechentabelle!AL1580","v":-2.0980836801243186E-7},{"$f":"K1580","v":-2.2204460492503131E-14}]
[9.8687499761581421E-2,6.2500002968590707E-5,6.2800002098083496,0,0,null,0,null,null,null,null,null,"-",{"$f":"N1580+(L1582-L1580)/2","v":-2.9198364190998038E-11},-2.7689431336205038E-11,0,-1.5089328547930005E-12,1.3014691487518384E-11,"-",1.3014691487518384E-11,0,1.3014691487518384E-11,1.3014691487518384E-11,1.3958632316390451E-11,-9.4394082887206777E-13,-2.7544605375294227E-11,-2.7544605375294227E-11,-2.7544605375294227E-11,"-",1.3349638233195943E-11,1.3349638233195943E-11,1.3349638233195943E-11,"-",9.34474676323716E-12,1.9415638402736671E-8,-2.6475953936033996E-11,-2.5282673651958799E-10,6.2800002098083665,-2.9088820873213997E-4,2.9088820873213997E-4,{"$f":"FI_T-Rechentabelle!AL1581","v":-2.0980836623607502E-7},{"$f":"AP1580","v":-2.2204460492503131E-14}]
[9.8749995231628418E-2,6.2500002968590707E-5,6.2800002098083496,0,0,null,0,null,{"$f":"C1582","v":6.2800002098083496},{"$f":"AL1580","v":6.2800002098083683},{"$f":"I1582-J1582","v":-1.865174681370263E-14},{"$f":"L1580+KP_LR*(1+2*TA_SIM/TN_LR)*K1582-KP_LR*K1580","v":-2.7933880150698505E-11},"-",{"$f":"L1582","v":-2.7933880150698505E-11},-2.6475953936033996E-11,0,-1.457926214664509E-12,1.2777392720030473E-11,"-",1.2777392720030473E-11,0,1.2777392720030473E-11,1.2777392720030473E-11,1.3349638233195943E-11,-5.7224551316546957E-13,-2.5246451425858212E-12,-2.5246451425858212E-12,-2.5246451425858212E-12,"-",1.2980447579490892E-11,1.2980447579490892E-11,1.2980447579490892E-11,"-",9.0863133056436245E-12,1.8878689602417667E-8,-2.5296035835882893E-11,-2.4155934863462925E-10,6.2800002098083647,-2.9088820873213997E-4,2.9088820873213997E-4,{"$f":"FI_T-Rechentabelle!AL1582","v":-2.0980836445971818E-7},{"$f":"K1582","v":-1.865174681370263E-14}]
[9.8812505602836609E-2,6.2500002968590707E-5,6.2800002098083496,0,0,null,0,null,null,null,null,null,"-",{"$f":"N1582+(L1584-L1582)/2","v":-2.6526827285570253E-11},-2.5296035835882893E-11,0,-1.2307914496873595E-12,1.3003385770653026E-11,"-",1.3003385770653026E-11,0,1.3003385770653026E-11,1.3003385770653026E-11,1.2980447579490892E-11,2.2938191162134221E-14,3.9296327622068037E-11,3.9296327622068037E-11,3.9296327622068037E-11,"-",1.2995246412450108E-11,1.2995246412450108E-11,1.2995246412450108E-11,"-",9.0966724887150751E-12,1.8900212941440006E-8,-2.4114772527042893E-11,-2.3027911495293078E-10,6.2800002098083629,-2.9088820873213997E-4,2.9088820873213997E-4,{"$f":"FI_T-Rechentabelle!AL1583","v":-2.0980836268336134E-7},{"$f":"AP1582","v":-1.865174681370263E-14}]
[9.8875001072883606E-2,6.2500002968590707E-5,6.2800002098083496,0,0,null,0,null,{"$f":"C1584","v":6.2800002098083496},{"$f":"AL1582","v":6.2800002098083647},{"$f":"I1584-J1584","v":-1.5099033134902129E-14},{"$f":"L1582+KP_LR*(1+2*TA_SIM/TN_LR)*K1584-KP_LR*K1582","v":-2.5119774420442E-11},"-",{"$f":"L1584","v":-2.5119774420442E-11},-2.4114772527042893E-11,0,-1.0050018933991069E-12,1.3281309109392262E-11,"-",1.3281309109392262E-11,0,1.3281309109392262E-11,1.3281309109392262E-11,1.2995246412450108E-11,2.8606269694215404E-13,5.8301184428518622E-11,5.8301184428518622E-11,5.8301184428518622E-11,"-",1.3179802991075116E-11,1.3179802991075116E-11,1.3179802991075116E-11,"-",9.2258620937525803E-12,1.9168630986396382E-8,-2.2916733090393119E-11,-2.1883868105122031E-10,6.2800002098083612,-2.9088820873213997E-4,2.9088820873213997E-4,{"$f":"FI_T-Rechentabelle!AL1584","v":-2.098083609070045E-7},{"$f":"K1584","v":-1.5099033134902129E-14}]
[9.8937496542930603E-2,6.2500002968590707E-5,6.2800002098083496,0,0,null,0,null,null,null,null,null,"-",{"$f":"N1584+(L1586-L1584)/2","v":-2.3570152730485021E-11},-2.2916733090393119E-11,0,-6.5341964009190184E-13,1.3936285283199227E-11,"-",1.3936285283199227E-11,0,1.3936285283199227E-11,1.3936285283199227E-11,1.3179802991075116E-11,7.5648229212411061E-13,9.2736959011071389E-11,9.2736959011071389E-11,9.2736959011071389E-11,"-",1.3667856082721967E-11,1.3667856082721967E-11,1.3667856082721967E-11,"-",9.5674992579053762E-12,1.9878452644723406E-8,-2.1674329800097907E-11,-2.0697460355337322E-10,6.2800002098083594,-2.9088820873213997E-4,2.9088820873213997E-4,{"$f":"FI_T-Rechentabelle!AL1585","v":-2.0980835913064766E-7},{"$f":"AP1584","v":-1.5099033134902129E-14}]
[9.8999999463558197E-2,6.2500002968590707E-5,6.2800002098083496,0,0,null,0,null,{"$f":"C1586","v":6.2800002098083496},{"$f":"AL1584","v":6.2800002098083612},{"$f":"I1586-J1586","v":-1.1546319456101628E-14},{"$f":"L1584+KP_LR*(1+2*TA_SIM/TN_LR)*K1586-KP_LR*K1584","v":-2.2020531040528045E-11},"-",{"$f":"L1586","v":-2.2020531040528045E-11},-2.1674329800097907E-11,0,-3.4620124043013766E-13,1.4563411022266617E-11,"-",1.4563411022266617E-11,0,1.4563411022266617E-11,1.4563411022266617E-11,1.3667856082721967E-11,8.9555493954464969E-13,1.0417451602012569E-10,1.0417451602012569E-10,1.0417451602012569E-10,"-",1.424563346302843E-11,1.424563346302843E-11,1.424563346302843E-11,"-",9.9719434241198996E-12,2.071876880141263E-8,-2.0379406750009619E-11,-1.9460899929266212E-10,6.2800002098083585,-2.9088820873213997E-4,2.9088820873213997E-4,{"$f":"FI_T-Rechentabelle!AL1586","v":-2.0980835824246924E-7},{"$f":"K1586","v":-1.1546319456101628E-14}]
[9.9062502384185791E-2,6.2500002968590707E-5,6.2800002098083496,0,0,null,0,null,null,null,null,null,"-",{"$f":"N1586+(L1588-L1586)/2","v":-2.0867225324612109E-11},-2.0379406750009619E-11,0,-4.8781857460248945E-13,1.4116494439259221E-11,"-",1.4116494439259221E-11,0,1.4116494439259221E-11,1.4116494439259221E-11,1.424563346302843E-11,-1.291390237692088E-13,3.2005995776591173E-11,3.2005995776591173E-11,3.2005995776591173E-11,"-",1.416231796377873E-11,1.416231796377873E-11,1.416231796377873E-11,"-",9.9136225746451098E-12,2.0597595210149821E-8,-1.9092057049375255E-11,-1.8231571519203229E-10,6.2800002098083576,-2.9088820873213997E-4,2.9088820873213997E-4,{"$f":"FI_T-Rechentabelle!AL1587","v":-2.0980835735429082E-7},{"$f":"AP1586","v":-1.1546319456101628E-14}]
[9.9124997854232788E-2,6.2500002968590707E-5,6.2800002098083496,0,0,null,0,null,{"$f":"C1588","v":6.2800002098083496},{"$f":"AL1586","v":6.2800002098083585},{"$f":"I1588-J1588","v":-8.8817841970012523E-15},{"$f":"L1586+KP_LR*(1+2*TA_SIM/TN_LR)*K1588-KP_LR*K1586","v":-1.9713919608696172E-11},"-",{"$f":"L1588","v":-1.9713919608696172E-11},-1.9092057049375255E-11,0,-6.2186255932091772E-13,1.365443902451429E-11,"-",1.365443902451429E-11,0,1.365443902451429E-11,1.365443902451429E-11,1.416231796377873E-11,-5.0787893926443991E-13,4.4706720799795461E-12,4.4706720799795461E-12,4.4706720799795461E-12,"-",1.3834654131952597E-11,1.3834654131952597E-11,1.3834654131952597E-11,"-",9.6842578923668175E-12,2.0121042784888461E-8,-1.7834491875319725E-11,-1.7030685236936284E-10,6.2800002098083567,-2.9088820873213997E-4,2.9088820873213997E-4,{"$f":"FI_T-Rechentabelle!AL1588","v":-2.098083564661124E-7},{"$f":"K1588","v":-8.8817841970012523E-15}]
[9.9187500774860382E-2,6.2500002968590707E-5,6.2800002098083496,0,0,null,0,null,null,null,null,null,"-",{"$f":"N1588+(L1590-L1588)/2","v":-1.8992572073028457E-11},-1.7834491875319725E-11,0,-1.1580801977087315E-12,1.2130211419017309E-11,"-",1.2130211419017309E-11,0,1.2130211419017309E-11,1.2130211419017309E-11,1.3834654131952597E-11,-1.7044427129352875E-12,-8.2709342399311139E-11,-8.2709342399311139E-11,-8.2709342399311139E-11,"-",1.2735013671952832E-11,1.2735013671952832E-11,1.2735013671952832E-11,"-",8.9145095703669819E-12,1.8521731914329899E-8,-1.6676883630674108E-11,-1.5925250791140593E-10,6.2800002098083558,-2.9088820873213997E-4,2.9088820873213997E-4,{"$f":"FI_T-Rechentabelle!AL1589","v":-2.0980835557793398E-7},{"$f":"AP1588","v":-8.8817841970012523E-15}]
[9.9250003695487976E-2,6.2500002968590707E-5,6.2800002098083496,0,0,null,0,null,{"$f":"C1590","v":6.2800002098083496},{"$f":"AL1588","v":6.2800002098083567},{"$f":"I1590-J1590","v":-7.1054273576010019E-15},{"$f":"L1588+KP_LR*(1+2*TA_SIM/TN_LR)*K1590-KP_LR*K1588","v":-1.8271224537360738E-11},"-",{"$f":"L1590","v":-1.8271224537360738E-11},-1.6676883630674108E-11,0,-1.5943409066866304E-12,1.0731129918508117E-11,"-",1.0731129918508117E-11,0,1.0731129918508117E-11,1.0731129918508117E-11,1.2735013671952832E-11,-2.0038837534447152E-12,-1.0747737342667592E-10,-1.0747737342667592E-10,-1.0747737342667592E-10,"-",1.1442185443883547E-11,1.1442185443883547E-11,1.1442185443883547E-11,"-",8.009529810718482E-12,1.6641449845664828E-8,-1.5636793015320054E-11,-1.493203741495806E-10,6.2800002098083549,-2.9088820873213997E-4,2.9088820873213997E-4,{"$f":"FI_T-Rechentabelle!AL1590","v":-2.0980835468975556E-7},{"$f":"K1590","v":-7.1054273576010019E-15}]
[9.9312499165534973E-2,6.2500002968590707E-5,6.2800002098083496,0,0,null,0,null,null,null,null,null,"-",{"$f":"N1590+(L1592-L1590)/2","v":-1.4245283796060089E-11},-1.5636793015320054E-11,0,1.3915092192599651E-12,1.7985688315647129E-11,"-",1.7985688315647129E-11,0,1.7985688315647129E-11,1.7985688315647129E-11,1.1442185443883547E-11,6.5435028717635825E-12,5.0473670602543839E-10,5.0473670602543839E-10,5.0473670602543839E-10,"-",1.5663800199820664E-11,1.5663800199820664E-11,1.5663800199820664E-11,"-",1.0964660139874465E-11,2.2781342488831214E-8,-1.4212959109768104E-11,-1.3572376189695468E-10,6.2800002098083541,-2.9088820873213997E-4,2.9088820873213997E-4,{"$f":"FI_T-Rechentabelle!AL1591","v":-2.0980835380157714E-7},{"$f":"AP1590","v":-7.1054273576010019E-15}]
[9.9375002086162567E-2,6.2500002968590707E-5,6.2800002098083496,0,0,null,0,null,{"$f":"C1592","v":6.2800002098083496},{"$f":"AL1590","v":6.2800002098083549},{"$f":"I1592-J1592","v":0},{"$f":"L1590+KP_LR*(1+2*TA_SIM/TN_LR)*K1592-KP_LR*K1590","v":-1.0219343054759441E-11},"-",{"$f":"L1592","v":-1.0219343054759441E-11},-1.4212959109768104E-11,0,3.9936160550086633E-12,2.4985860205267406E-11,"-",2.4985860205267406E-11,0,2.4985860205267406E-11,2.4985860205267406E-11,1.5663800199820664E-11,9.322060005446742E-12,7.172147641935179E-10,7.172147641935179E-10,7.172147641935179E-10,"-",2.1678032461360841E-11,2.1678032461360841E-11,2.1678032461360841E-11,"-",1.5174622722952589E-11,3.1528407901418217E-8,-1.2242433615929465E-11,-1.1690662952697363E-10,6.2800002098083532,-2.9088820873213997E-4,2.9088820873213997E-4,{"$f":"FI_T-Rechentabelle!AL1592","v":-2.0980835291339872E-7},{"$f":"K1592","v":0}]
[9.9437505006790161E-2,6.2500002968590707E-5,6.2800002098083496,0,0,null,0,null,null,null,null,null,"-",{"$f":"N1592+(L1594-L1592)/2","v":-1.0219343054759441E-11},-1.2242433615929465E-11,0,2.0230905611700244E-12,2.0915278485454448E-11,"-",2.0915278485454448E-11,0,2.0915278485454448E-11,2.0915278485454448E-11,2.1678032461360841E-11,-7.6275397590639288E-13,7.898797934582716E-12,7.898797934582716E-12,7.898797934582716E-12,"-",2.1185933122029026E-11,2.1185933122029026E-11,2.1185933122029026E-11,"-",1.4830153185420318E-11,3.0812701403324988E-8,-1.0316639778221653E-11,-9.8516653008147057E-11,6.2800002098083523,-2.9088820873213997E-4,2.9088820873213997E-4,{"$f":"FI_T-Rechentabelle!AL1593","v":-2.098083520252203E-7},{"$f":"AP1592","v":0}]
[9.9500000476837158E-2,6.2500002968590707E-5,6.2800002098083496,0,0,null,0,null,{"$f":"C1594","v":6.2800002098083496},{"$f":"AL1592","v":6.2800002098083532},{"$f":"I1594-J1594","v":0},{"$f":"L1592+KP_LR*(1+2*TA_SIM/TN_LR)*K1594-KP_LR*K1592","v":-1.0219343054759441E-11},"-",{"$f":"L1594","v":-1.0219343054759441E-11},-1.0316639778221653E-11,0,9.7296723462212401E-14,1.64788022637384E-11,"-",1.64788022637384E-11,0,1.64788022637384E-11,1.64788022637384E-11,2.1185933122029026E-11,-4.7071308582906265E-12,-2.7777790160893174E-10,-2.7777790160893174E-10,-2.7777790160893174E-10,"-",1.814907450374061E-11,1.814907450374061E-11,1.814907450374061E-11,"-",1.2704352152618426E-11,2.6395911391270361E-8,-8.666895316267255E-12,-8.2762753850635758E-11,6.2800002098083514,-2.9088820873213997E-4,2.9088820873213997E-4,{"$f":"FI_T-Rechentabelle!AL1594","v":-2.0980835113704188E-7},{"$f":"K1594","v":0}]
[9.9562495946884155E-2,6.2500002968590707E-5,6.2800002098083496,0,0,null,0,null,null,null,null,null,"-",{"$f":"N1594+(L1596-L1594)/2","v":-1.0219343054759441E-11},-8.666895316267255E-12,0,-1.5524477384921856E-12,1.2279469141634524E-11,"-",1.2279469141634524E-11,0,1.2279469141634524E-11,1.2279469141634524E-11,1.814907450374061E-11,-5.8696053621060853E-12,-3.7035795423166046E-10,-3.7035795423166046E-10,-3.7035795423166046E-10,"-",1.4362232334604455E-11,1.4362232334604455E-11,1.4362232334604455E-11,"-",1.0053562634223118E-11,2.0888349541290499E-8,-7.3613734699365994E-12,-7.0295938541156859E-11,6.2800002098083505,-2.9088820873213997E-4,2.9088820873213997E-4,{"$f":"FI_T-Rechentabelle!AL1595","v":-2.0980835024886346E-7},{"$f":"AP1594","v":0}]
[9.9624998867511749E-2,6.2500002968590707E-5,6.2800002098083496,0,0,null,0,null,{"$f":"C1596","v":6.2800002098083496},{"$f":"AL1594","v":6.2800002098083514},{"$f":"I1596-J1596","v":0},{"$f":"L1594+KP_LR*(1+2*TA_SIM/TN_LR)*K1596-KP_LR*K1594","v":-1.0219343054759441E-11},"-",{"$f":"L1596","v":-1.0219343054759441E-11},-7.3613734699365994E-12,0,-2.8579695848228412E-12,8.5590893330417668E-12,"-",8.5590893330417668E-12,0,8.5590893330417668E-12,8.5590893330417668E-12,1.4362232334604455E-11,-5.8031430015626883E-12,-3.7655021866869929E-10,-3.7655021866869929E-10,-3.7655021866869929E-10,"-",1.0618269107755286E-11,1.0618269107755286E-11,1.0618269107755286E-11,"-",7.4327883754286994E-12,1.544315058264845E-8,-6.396176558521071E-12,-6.1078986970628174E-11,6.2800002098083505,-2.9088820873213997E-4,2.9088820873213997E-4,{"$f":"FI_T-Rechentabelle!AL1596","v":-2.0980835024886346E-7},{"$f":"K1596","v":0}]
[9.9687501788139343E-2,6.2500002968590707E-5,6.2800002098083496,0,0,null,0,null,null,null,null,null,"-",{"$f":"N1596+(L1598-L1596)/2","v":-1.0219343054759441E-11},-6.396176558521071E-12,0,-3.8231664962383697E-12,5.3916044063838947E-12,"-",5.3916044063838947E-12,0,5.3916044063838947E-12,5.3916044063838947E-12,1.0618269107755286E-11,-5.2266647013713909E-12,-3.4586408226428896E-10,-3.4586408226428896E-10,-3.4586408226428896E-10,"-",7.246227364901397E-12,7.246227364901397E-12,7.246227364901397E-12,"-",5.0723591554309778E-12,1.0538872128466605E-8,-5.737497050491908E-12,-5.4789060993657418E-11,6.2800002098083505,-2.9088820873213997E-4,2.9088820873213997E-4,{"$f":"FI_T-Rechentabelle!AL1597","v":-2.0980835024886346E-7},{"$f":"AP1596","v":0}]
[9.974999725818634E-2,6.2500002968590707E-5,6.2800002098083496,0,0,null,0,null,{"$f":"C1598","v":6.2800002098083496},{"$f":"AL1596","v":6.2800002098083505},{"$f":"I1598-J1598","v":0},{"$f":"L1596+KP_LR*(1+2*TA_SIM/TN_LR)*K1598-KP_LR*K1596","v":-1.0219343054759441E-11},"-",{"$f":"L1598","v":-1.0219343054759441E-11},-5.737497050491908E-12,0,-4.4818460042675327E-12,2.7734417886946804E-12,"-",2.7734417886946804E-12,0,2.7734417886946804E-12,2.7734417886946804E-12,7.246227364901397E-12,-4.4727855762067166E-12,-3.013150689436973E-10,-3.013150689436973E-10,-3.013150689436973E-10,"-",4.3605592511868819E-12,4.3605592511868819E-12,4.3605592511868819E-12,"-",3.052391475830817E-12,6.341972731832156E-9,-5.3411237547523985E-12,-5.1003974834063303E-11,6.2800002098083505,-2.9088820873213997E-4,2.9088820873213997E-4,{"$f":"FI_T-Rechentabelle!AL1598","v":-2.0980835024886346E-7},{"$f":"K1598","v":0}]
[9.9812500178813934E-2,6.2500002968590707E-5,6.2800002098083496,0,0,null,0,null,null,null,null,null,"-",{"$f":"N1598+(L1600-L1598)/2","v":-1.0219343054759441E-11},-5.3411237547523985E-12,0,-4.8782193000070421E-12,6.6615535558388414E-13,"-",6.6615535558388414E-13,0,6.6615535558388414E-13,6.6615535558388414E-13,4.3605592511868819E-12,-3.6944038956029978E-12,-2.5358980729696446E-10,-2.5358980729696446E-10,-2.5358980729696446E-10,"-",1.9770728668949716E-12,1.9770728668949716E-12,1.9770728668949716E-12,"-",1.38395100682648E-12,2.8754436044597547E-9,-5.1614085294736636E-12,-4.9287820846944252E-11,6.2800002098083505,-2.9088820873213997E-4,2.9088820873213997E-4,{"$f":"FI_T-Rechentabelle!AL1599","v":-2.0980835024886346E-7},{"$f":"AP1598","v":0}]
[9.9875003099441528E-2,6.2500002968590707E-5,6.2800002098083496,0,0,null,0,null,{"$f":"C1600","v":6.2800002098083496},{"$f":"AL1598","v":6.2800002098083505},{"$f":"I1600-J1600","v":0},{"$f":"L1598+KP_LR*(1+2*TA_SIM/TN_LR)*K1600-KP_LR*K1598","v":-1.0219343054759441E-11},"-",{"$f":"L1600","v":-1.0219343054759441E-11},-5.1614085294736636E-12,0,-5.057934525285777E-12,-9.8315771943542912E-13,"-",-9.8315771943542912E-13,0,-9.8315771943542912E-13,-9.8315771943542912E-13,1.9770728668949716E-12,-2.9602305863304007E-12,-2.0759407352373842E-10,-2.0759407352373842E-10,-2.0759407352373842E-10,"-",6.7246682134596692E-14,6.7246682134596692E-14,6.7246682134596692E-14,"-",4.7072677494217683E-14,9.7803194461287514E-11,-5.1552958298198329E-12,-4.9229448865011652E-11,6.2800002098083505,-2.9088820873213997E-4,2.9088820873213997E-4,{"$f":"FI_T-Rechentabelle!AL1600","v":-2.0980835024886346E-7},{"$f":"K1600","v":0}]
[9.9937498569488525E-2,6.2500002968590707E-5,6.2800002098083496,0,0,null,0,null,null,null,null,null,"-",{"$f":"N1600+(L1602-L1600)/2","v":-1.0219343054759441E-11},-5.1552958298198329E-12,0,-5.0640472249396078E-12,-2.231892355161911E-12,"-",-2.231892355161911E-12,0,-2.231892355161911E-12,-2.231892355161911E-12,6.7246682134596692E-14,-2.2991390372965076E-12,-1.6549132686133347E-10,-1.6549132686133347E-10,-1.6549132686133347E-10,"-",-1.4160688258289109E-12,-1.4160688258289109E-12,-1.4160688258289109E-12,"-",-9.9124817808023763E-13,-2.0595224975695774E-9,-5.2840159859179311E-12,-5.0458635812126016E-11,6.2800002098083505,-2.9088820873213997E-4,2.9088820873213997E-4,{"$f":"FI_T-Rechentabelle!AL1601","v":-2.0980835024886346E-7},{"$f":"AP1600","v":0}]
[0.10000000149011612,0,6.2800002098083496,0,0,null,0,null,{"$f":"C1602","v":6.2800002098083496},{"$f":"AL1600","v":6.2800002098083505},{"$f":"I1602-J1602","v":0},{"$f":"L1600+KP_LR*(1+2*TA_SIM/TN_LR)*K1602-KP_LR*K1600","v":-1.0219343054759441E-11},"-",{"$f":"L1602","v":-1.0219343054759441E-11},-5.2840159859179311E-12,0,-4.9353270688415095E-12,-3.1369690152322773E-12,"-",-3.1369690152322773E-12,0,-3.1369690152322773E-12,{"$f":"IF(V1602<-IM_R,-IM_R,IF(V1602>IM_R,IM_R,V1602))","v":-3.1369690152322773E-12},-1.4160688258289109E-12,-1.7209001894033664E-12,-1.2812243905391156E-10,{"$f":"IF(Z1602<-U_ZWK,-U_ZWK,IF(Z1602>U_ZWK,U_ZWK,Z1602))","v":-1.2812243905391156E-10},-1.2812243905391156E-10,"-",-2.5263270125702511E-12,-2.5263270125702511E-12,-2.5263270125702511E-12,"-",{"$f":"AF1602*KT_M","v":-1.7684289087991757E-12},{"$f":"AH1602/(JM_EMS+JL_EMS)","v":-3.6742757298964792E-9},-5.5136582190364607E-12,-5.2651557604734531E-11,6.2800002098083505,-2.9088820873213997E-4,2.9088820873213997E-4,{"$f":"FI_T-Rechentabelle!AL1602","v":-2.0980835024886346E-7},{"$f":"K1602","v":0}]